{"text_format":"1","workbook":"xlsx","n_sheets":7,"sheets":["Revision History","Cover","Control_Panel","Trust - Frontsheet","Validation","Index","Backsheet"],"not_rendered":{"charts":0,"images":2,"macros":1,"external_links":0,"defined_names":15,"comments":0,"pivot_tables":0},"unopened":[],"bounds":{"document_bytes":16777216,"sheet_cells":100000,"rows_first":2000,"rows_last":500,"rows_between":2000,"halvings":0,"cell_chars":16384,"cell_head_chars":4096},"cells_cut":0,"cells_raw":0,"read":"whole","date_system":"1900"}

{"sheet":"Revision History","index":0,"n_rows":23,"n_cols":8,"rows_kept":23,"cut":false,"hidden":true,"merged":[]}
[]
[null,"Revision History"]
[null,null,"NStf-Fil"]
[null,"Version","Date","Change",null,null,null,"Notes"]
[null,0.1,"2017-08-30","Rebranding",null,null,null,"Finish question status sheet"]
[null,0.2,"2018-01-15","Updates after meeting with AW",null,null,null,"Insert appropriate email hyperlink into cover "]
[null,0.3,"2018-01-25","Created backsheet, works with automation tool ",null,null,null,"Row 12-41 in control panel contains validations specific to questions"]
[null,0.4,"2018-01-29","updated formulas in backsheet to accommodate for \"0\" defaults in site code",null,null,null,"Unsure if site summary needs to be visible to user or not i.e coloured blue or white"]
[null,4,"2018-01-31","final lockdown and version number updates"]
[null,5,"repaired broken image"]
[]
[]
[]
[null,null,null,null,null,null,null,"To DO"]
[]
[null,null,null,null,null,null,null,"get correct email address for Cover sheet"]
[null,null,null,null,null,null,null,"Check if Site summary is required - and if it need to be visible. - if so, is this better to be included in the frontsheet?"]
[null,null,null,null,null,null,null,"Move validations to column AA"]
[null,null,null,null,null,null,null,"set validations to appear in control panel"]
[null,null,null,null,null,null,null,"check ref data is up to date - Org code, site code, site speciality"]
[null,null,null,null,null,null,null,"check with Alun as to which validations he requires."]
[null,null,null,null,null,null,null,"New Backsheet"]
[null,null,null,null,null,null,null,"Remove redudant VBA"]

{"sheet":"Cover","index":1,"n_rows":0,"n_cols":0,"rows_kept":0,"cut":false,"hidden":false,"merged":[]}

{"sheet":"Control_Panel","index":2,"n_rows":31,"n_cols":13,"rows_kept":31,"cut":false,"hidden":false,"merged":[[1,2,2,8],[28,2,28,8],[29,2,29,8],[30,2,30,8],[18,2,18,8],[26,2,26,8],[27,2,27,8],[25,2,25,8],[5,2,5,3],[3,2,3,8],[7,2,7,8],[8,2,10,8],[12,2,12,8],[13,2,13,8],[15,2,15,8],[22,2,22,8],[24,2,24,8],[16,2,16,8],[17,2,17,8],[19,2,19,8],[20,2,20,8],[21,2,21,8],[23,2,23,8]]}
[]
[null,null,"Safe Staffing (Rota Fill Rates and CHPPD) Collection"]
[]
[null,null,"Please check that the data on this upload template is accurate before being submitted to SDCS.  You are reminded that these figures will be published, and it is the responsibility of your organisation that these submitted figures are accurate and in line with national guidance.  We will undertake basic validation checks on these figures post submission, and may come back to you with any queries we may have."]
[]
[null,null,null,null,"RWG",{"$f":"VLOOKUP(OrgCodeSelection,Orgs,2,FALSE)","v":"West Hertfordshire Hospitals NHS Trust"}]
[]
[null,null,"Validations"]
[null,null,"Please correct all issues listed within the tables below. If the issues are not corrected then the pro forma will fail the validation stage in SDCS. "]
[]
[]
[]
[null,null,"Control Panel"]
[null,null,{"$f":"M14","v":""},null,null,null,null,null,null,null,null,null,{"$f":"IF(OrgCodeSelection=\"\",\"No 'Organisation Code' has been selected. Please choose an organisation\",\"\")","v":""}]
[]
[null,null,"Trust - Frontsheet"]
[null,null,{"$f":"IF('Trust - Frontsheet'!AB2=\"\",\"\",'Trust - Frontsheet'!AB2)","v":""}]
[null,null,{"$f":"IF('Trust - Frontsheet'!AB3=\"\",\"\",'Trust - Frontsheet'!AB3)","v":""}]
[null,null,{"$f":"IF('Trust - Frontsheet'!AB4=\"\",\"\",'Trust - Frontsheet'!AB4)","v":""}]
[null,null,{"$f":"IF('Trust - Frontsheet'!AB5=\"\",\"\",'Trust - Frontsheet'!AB5)","v":""}]
[null,null,{"$f":"IF('Trust - Frontsheet'!AB6=\"\",\"\",'Trust - Frontsheet'!AB6)","v":""}]
[null,null,{"$f":"IF('Trust - Frontsheet'!AB7=\"\",\"\",'Trust - Frontsheet'!AB7)","v":""}]
[null,null,{"$f":"IF('Trust - Frontsheet'!AB8=\"\",\"\",'Trust - Frontsheet'!AB8)","v":""}]
[null,null,{"$f":"IF('Trust - Frontsheet'!AB9=\"\",\"\",'Trust - Frontsheet'!AB9)","v":""}]
[null,null,{"$f":"IF('Trust - Frontsheet'!AD2=\"\",\"\",'Trust - Frontsheet'!AD2)","v":"Day Nurse Fill Rate must not exceed 100%"}]
[null,null,{"$f":"IF('Trust - Frontsheet'!AD3=\"\",\"\",'Trust - Frontsheet'!AD3)","v":"Day Staff Fill Rate must not exceed 100%"}]
[null,null,{"$f":"IF('Trust - Frontsheet'!AD4=\"\",\"\",'Trust - Frontsheet'!AD4)","v":"Night Nurse Fill Rate must not exceed 100%"}]
[null,null,{"$f":"IF('Trust - Frontsheet'!AD5=\"\",\"\",'Trust - Frontsheet'!AD5)","v":"Night Staff Fill Rate must not exceed 100%"}]
[null,null,{"$f":"IF('Trust - Frontsheet'!AD6=\"\",\"\",'Trust - Frontsheet'!AD6)","v":""}]
[null,null,{"$f":"IF('Trust - Frontsheet'!AD7=\"\",\"\",'Trust - Frontsheet'!AD7)","v":""}]
[null,null,{"$f":"IF('Trust - Frontsheet'!AD8=\"\",\"\",'Trust - Frontsheet'!AD8)","v":""}]

{"sheet":"Trust - Frontsheet","index":3,"n_rows":5210,"n_cols":54,"rows_kept":1125,"cut":true,"hidden":false,"merged":[[1,3,2,23],[10,3,10,4],[9,3,9,4],[6,5,6,13],[10,8,10,11],[10,12,10,15],[8,5,8,13],[7,5,7,13],[4,5,4,9],[12,0,12,1],[11,3,11,4],[11,5,12,5],[11,8,11,9],[11,12,11,13],[11,6,11,7],[11,10,11,11],[11,35,11,43],[11,14,11,15],[10,16,10,17],[10,18,10,19],[11,17,12,17],[11,18,12,18],[11,19,12,19],[11,16,12,16],[10,20,10,23],[11,20,12,20],[11,21,12,21],[11,22,12,22],[11,23,12,23]],"bounds":{"rows_first":500,"rows_last":125,"rows_between":500,"halvings":2}}
[null,null,null,null,null,null,null,null,null,null,null,null,null,null,null,null,null,null,null,null,null,null,null,null,null,null,null,null,"ERRORS",null,"WARNINGS",null,null,null,null,null,null,null,null,null,null,null,null,null,null,null,null,{"$f":"CONCATENATE(LEFT(AW1, 3),AX1)","v":"AXGWILTSHIRE HEALTH & CARE (CHIPPENHAM COMMUNITY HOSPITAL)"},"AXG01","WILTSHIRE HEALTH & CARE (CHIPPENHAM COMMUNITY HOSPITAL)","AXG01","WILTSHIRE HEALTH & CARE (CHIPPENHAM COMMUNITY HOSPITAL)",{"$f":"LEFT(AY1,3)","v":"AXG"}]
[null,null,null,"Safe Staffing (Rota Fill Rates and CHPPD) Collection",null,null,null,null,null,null,null,null,null,null,null,null,null,null,null,null,null,null,null,null,null,null,null,{"$f":"IF(AK214=0,\"\",\"Select Site Name in Column E\")","v":""},"SELECT SITE CODE",{"$f":"IF(AD$417>0,\"Day Nurse Fill Rate must not exceed 100%\",\"\")","v":"Day Nurse Fill Rate must not exceed 100%"},null,null,null,null,null,null,null,null,null,null,null,null,null,null,null,null,null,{"$f":"CONCATENATE(LEFT(AW2, 3),AX2)","v":"AXGSAVERNAKE COMMUNITY HOSPITAL"},"AXG02","SAVERNAKE COMMUNITY HOSPITAL","AXG02","SAVERNAKE COMMUNITY HOSPITAL",{"$f":"LEFT(AY2,3)","v":"AXG"}]
[null,null,null,null,null,null,null,null,null,null,null,null,null,null,null,null,null,null,null,null,null,null,null,null,null,null,null,{"$f":"IF(AL214=0,\"\",\"Select Ward Name in Column F\")","v":""},"Select Ward Name",{"$f":"IF(AE$417>0,\"Day Staff Fill Rate must not exceed 100%\",\"\")","v":"Day Staff Fill Rate must not exceed 100%"},null,null,null,null,null,null,null,null,null,null,null,null,null,null,null,null,null,{"$f":"CONCATENATE(LEFT(AW3, 3),AX3)","v":"AXGWARMINSTER COMMUNITY HOSPITAL"},"AXG03","WARMINSTER COMMUNITY HOSPITAL","AXG03","WARMINSTER COMMUNITY HOSPITAL",{"$f":"LEFT(AY3,3)","v":"AXG"}]
[null,null,null,null,null,null,null,null,null,null,null,null,null,null,null,null,null,null,null,null,null,null,null,null,null,null,null,{"$f":"IF(E415=0,\"\",\"At least one specialty must be selected (Specialty 1) for each row\")","v":""},"Select speciality",{"$f":"IF(AF$417>0,\"Night Nurse Fill Rate must not exceed 100%\",\"\")","v":"Night Nurse Fill Rate must not exceed 100%"},null,null,null,null,null,null,null,null,null,null,null,null,null,null,null,null,null,{"$f":"CONCATENATE(LEFT(AW4, 3),AX4)","v":"NHMALDEBURGH COMMUNITY HOSPITAL"},"NHM02","ALDEBURGH COMMUNITY HOSPITAL","NHM02","ALDEBURGH COMMUNITY HOSPITAL",{"$f":"LEFT(AY4,3)","v":"NHM"}]
[null,null,null,"Organisation:",{"$f":"IF(ISBLANK(Control_Panel!OrgCodeSelection),\"\",Control_Panel!OrgCodeSelection)","v":"RWG"},{"$f":"IF(Control_Panel!OrgNameSelection=\"\",\"\",Control_Panel!OrgNameSelection)","v":"West Hertfordshire Hospitals NHS Trust"},null,null,null,null,null,null,null,null,null,null,null,null,null,null,null,null,null,null,null,null,null,{"$f":"IF(F415=0,\"\",\"Total number of planned hours must be greater than 0\")","v":""},"Total planned hours > 0",{"$f":"IF(AG$417>0,\"Night Staff Fill Rate must not exceed 100%\",\"\")","v":"Night Staff Fill Rate must not exceed 100%"},null,null,null,null,null,null,null,null,null,null,null,null,null,null,null,null,null,"NHMBLUEBIRD LODGE ","NHM03","BLUEBIRD LODGE ","NHM03","BLUEBIRD LODGE ","NHM"]
[null,null,null,null,null,null,null,null,null,null,null,null,null,null,null,null,null,null,null,null,null,null,null,null,null,null,null,{"$f":"IF(G415=0,\"\",\"Total number of actual hours must be greater than 0\")","v":""},"Total actual hours > 0",{"$f":"IF(H415>0,\"One or more wards has less than 1448 actual hours (approx. 2 full time staff)\",\"\")","v":""},null,null,null,null,null,null,null,null,null,null,null,null,null,null,null,null,null,"NHMFELIXSTOWE COMMUNITY HOSPITAL","NHM05","FELIXSTOWE COMMUNITY HOSPITAL","NHM05","FELIXSTOWE COMMUNITY HOSPITAL","NHM"]
[null,null,null,null,null,"Please provide the URL to the page on your trust website where your staffing information is available",null,null,null,null,null,null,null,null,null,null,null,null,null,null,null,null,null,null,null,null,null,{"$f":"IF(E5=\"\",\"\",IF(AM416>0,\"Duplicate Ward entry within site\",\"\"))","v":""},"duplicate ward/hospital and spec codes",{"$f":"IF(I415>0,\"One or more wards has greater than 30000 actual hours (approx. 40 full time staff)\",\"\")","v":""},null,null,null,null,null,null,null,null,null,null,null,null,null,null,null,null,null,"NHMGLASTONBURY COURT","NHM26","GLASTONBURY COURT","NHM26","GLASTONBURY COURT","NHM"]
[null,null,null,null,null,"(Please can you ensure that the URL you attach to the spreadsheet is correct and links to the correct web page and include 'http://' in your URL)",null,null,null,null,null,null,null,null,null,null,null,null,null,null,null,null,null,null,null,null,null,{"$f":"IF(AO416>0,\"Please do not leave gaps between rows of data.\",\"\")","v":""},"Avoid gaps in between data rows",{"$f":"IF(U415>0,\"One or more wards has submitted actual hours but zero CHPPD patients.\",\"\")","v":""},null,null,null,null,null,null,null,null,null,null,null,null,null,null,null,null,null,"NHMNEWMARKET COMMUNITY HOSPITAL","NHM04","NEWMARKET COMMUNITY HOSPITAL","NHM04","NEWMARKET COMMUNITY HOSPITAL","NHM"]
[null,null,null,null,null,null,null,null,null,null,null,null,null,null,null,null,null,null,null,null,null,null,null,null,null,null,null,{"$f":"IF(AP416>0,\"Duplicate speciality codes entered\",\"\")","v":""},"duplicate speciality codes",null,null,null,null,null,null,null,null,null,null,null,null,null,null,null,null,null,null,"NLXCHIPPENHAM COMMUNITY HOSPITAL","NLX17","CHIPPENHAM COMMUNITY HOSPITAL","NLX17","CHIPPENHAM COMMUNITY HOSPITAL","NLX"]
[{"$f":"IF(E14=\"\",1,0)","v":0},null,null,null,null,null,null,null,null,null,null,null,null,null,null,null,null,null,null,null,null,null,null,null,null,null,null,{"$f":"Control_Panel!M14","v":""},null,null,null,null,null,null,null,null,null,null,null,null,null,null,null,null,null,null,null,"NLXCOSSHAM HOSPITAL","NLX23","COSSHAM HOSPITAL","NLX23","COSSHAM HOSPITAL","NLX"]
[null,null,null,null,null,"Only complete sites your organisation is accountable for ",null,null,"Day",null,null,null,"Night",null,null,null,"Day",null,"Night",null,"Care Hours Per Patient Day (CHPPD)",null,null,null,null,null,null,null,null,null,null,null,null,null,null,null,null,null,null,null,null,null,null,null,null,null,null,"NLXDEVIZES COMMUNITY HOSPITAL","NLX18","DEVIZES COMMUNITY HOSPITAL","NLX18","DEVIZES COMMUNITY HOSPITAL","NLX"]
[null,null,null,"Hospital Site Details",null,"Ward name","Main 2 Specialties on each ward",null,"Registered midwives/nurses",null,"Care Staff",null,"Registered midwives/nurses",null,"Care Staff",null,"Average fill rate - registered nurses/ midwives  (%)","Average fill rate - care staff (%)","Average fill rate - registered nurses/ midwives  (%)","Average fill rate - care staff (%)","Cumulative count over the month of patients at 23:59 each day","Registered midwives/ nurses","Care Staff","Overall",null,null,null,null,null,null,null,null,null,null,null,"VALIDATIONS",null,null,null,null,null,null,null,null,null,null,null,"NLXGREYSTONES","NLX12","GREYSTONES","NLX12","GREYSTONES","NLX"]
[null,null,null,"Site code *The Site code is automatically populated when a Site name is selected","Hospital Site name",null,"Specialty 1","Specialty 2","Total monthly planned staff hours","Total monthly actual staff hours","Total monthly planned staff hours","Total monthly actual staff hours","Total monthly planned staff hours","Total monthly actual staff hours","Total monthly planned staff hours","Total monthly actual staff hours",null,null,null,null,null,null,null,null,null,"Specialties",null,null,null,null,null,null,null,null,null,null,"SITE CODE","WARD NAME",null,null,null,null,null,null,null,null,null,"NLXHANHAM HEALTH","NLX27","HANHAM HEALTH","NLX27","HANHAM HEALTH","NLX"]
[{"$f":"IF(M215=1,\"No Site Selected\",IF(N215=1,\"No Ward Name\",\"\"))","v":""},{"$f":"IF(SUM(E215:G215,M215:N215)>0,1,IF(Y215>0,2,0))","v":2},null,{"$f":"IF(ISNA(VLOOKUP($E$5&E14,$AV:$AW,2,FALSE)),\"\",VLOOKUP($E$5&E14,$AV:$AW,2,FALSE))","v":"RWG02"},"WATFORD GENERAL HOSPITAL - RWG02","AAU Blue Level 1","326 - ACUTE INTERNAL MEDICINE",null,1242,793.5,713,920,1069.5,874,713,805,{"$f":"IF(ISERROR(IF($I14=\"\",\"\",J14/I14)),\"-\",(IF($I14=\"\",\"\",J14/I14)))","v":0.63888888888888884},{"$f":"IF(ISERROR(IF(K14=\"\",\"\",L14/K14)),\"-\",(IF(K14=\"\",\"\",L14/K14)))","v":1.2903225806451613},{"$f":"IF(ISERROR(IF(M14=\"\",\"\",N14/M14)),\"-\",(IF(M14=\"\",\"\",N14/M14)))","v":0.81720430107526887},{"$f":"IF(ISERROR(IF(O14=\"\",\"\",P14/O14)),\"-\",IF(O14=\"\",\"\",P14/O14))","v":1.1290322580645162},431,{"$f":"IF(ISERROR(IF($U14=\"\",\"\",SUM(J14,N14)/$U14)),\"-\",(IF($U14=\"\",\"\",SUM(J14,N14)/$U14)))","v":3.8689095127610207},{"$f":"IF(ISERROR(IF($U14=\"\",\"\",SUM(L14,P14)/$U14)),\"-\",(IF($U14=\"\",\"\",SUM(L14,P14)/$U14)))","v":4.0023201856148489},{"$f":"IF(ISERROR(IF($U14=\"\",\"\",SUM(J14,L14,N14,P14)/$U14)),\"-\",(IF($U14=\"\",\"\",SUM(J14,L14,N14,P14)/$U14)))","v":7.8712296983758705},null,"100 - GENERAL SURGERY",null,null,null,null,null,null,null,null,null,null,{"$f":"IF(M215=1,\"No Site Selected\",\"\")","v":""},{"$f":"IF(N215=1,\"No Ward Name\",\"\")","v":""},null,null,null,null,null,null,null,null,null,"NLXHOMELINK & COMMUNITY OPTIONS","NLX14","HOMELINK & COMMUNITY OPTIONS","NLX14","HOMELINK & COMMUNITY OPTIONS","NLX"]
[{"$f":"IF(M216=1,\"No Site Selected\",IF(N216=1,\"No Ward Name\",\"\"))","v":""},{"$f":"IF(SUM(E216:G216,M216:N216)>0,1,IF(Y216>0,2,0))","v":0},null,{"$f":"IF(ISNA(VLOOKUP($E$5&E15,$AV:$AW,2,FALSE)),\"\",VLOOKUP($E$5&E15,$AV:$AW,2,FALSE))","v":"RWG02"},"WATFORD GENERAL HOSPITAL - RWG02","AAU Green Level 1","326 - ACUTE INTERNAL MEDICINE",null,1242,1200,713,655.5,1069.5,1046.5,713,701.5,{"$f":"IF(ISERROR(IF($I15=\"\",\"\",J15/I15)),\"-\",(IF($I15=\"\",\"\",J15/I15)))","v":0.96618357487922701},{"$f":"IF(ISERROR(IF(K15=\"\",\"\",L15/K15)),\"-\",(IF(K15=\"\",\"\",L15/K15)))","v":0.91935483870967738},{"$f":"IF(ISERROR(IF(M15=\"\",\"\",N15/M15)),\"-\",(IF(M15=\"\",\"\",N15/M15)))","v":0.978494623655914},{"$f":"IF(ISERROR(IF(O15=\"\",\"\",P15/O15)),\"-\",IF(O15=\"\",\"\",P15/O15))","v":0.9838709677419355},412,{"$f":"IF(ISERROR(IF($U15=\"\",\"\",SUM(J15,N15)/$U15)),\"-\",(IF($U15=\"\",\"\",SUM(J15,N15)/$U15)))","v":5.4526699029126213},{"$f":"IF(ISERROR(IF($U15=\"\",\"\",SUM(L15,P15)/$U15)),\"-\",(IF($U15=\"\",\"\",SUM(L15,P15)/$U15)))","v":3.2936893203883497},{"$f":"IF(ISERROR(IF($U15=\"\",\"\",SUM(J15,L15,N15,P15)/$U15)),\"-\",(IF($U15=\"\",\"\",SUM(J15,L15,N15,P15)/$U15)))","v":8.7463592233009706},null,"101 - UROLOGY",null,null,null,null,null,null,null,null,null,null,{"$f":"IF(M216=1,\"No Site Selected\",\"\")","v":""},{"$f":"IF(N216=1,\"No Ward Name\",\"\")","v":""},null,null,null,null,null,null,null,null,null,"NLXMELKSHAM COMMUNITY HOSPITAL","NLX19","MELKSHAM COMMUNITY HOSPITAL","NLX19","MELKSHAM COMMUNITY HOSPITAL","NLX"]
[{"$f":"IF(M217=1,\"No Site Selected\",IF(N217=1,\"No Ward Name\",\"\"))","v":""},{"$f":"IF(SUM(E217:G217,M217:N217)>0,1,IF(Y217>0,2,0))","v":0},null,{"$f":"IF(ISNA(VLOOKUP($E$5&E16,$AV:$AW,2,FALSE)),\"\",VLOOKUP($E$5&E16,$AV:$AW,2,FALSE))","v":"RWG02"},"WATFORD GENERAL HOSPITAL - RWG02","AAU Yellow Level 1","326 - ACUTE INTERNAL MEDICINE",null,1242,920,713,644,1069.5,954.5,713,701.5,0.7407407407407407,0.90322580645161288,0.89247311827956988,0.9838709677419355,434,4.3191244239631335,3.1002304147465436,7.419354838709677,null,"103-BREAST SURGERY ",null,null,null,null,null,null,null,null,null,null,"","",null,null,null,null,null,null,null,null,null,"NLXPAULTON MEMORIAL HOSPITAL","NLX02","PAULTON MEMORIAL HOSPITAL","NLX02","PAULTON MEMORIAL HOSPITAL","NLX"]
[{"$f":"IF(M218=1,\"No Site Selected\",IF(N218=1,\"No Ward Name\",\"\"))","v":""},0,null,"RWG02","WATFORD GENERAL HOSPITAL - RWG02","AAU Triage Level 1","326 - ACUTE INTERNAL MEDICINE",null,1242,989,713,701.5,1069.5,977.5,713,667,0.79629629629629628,0.9838709677419355,0.91397849462365588,0.93548387096774188,419,4.6933174224343679,3.2661097852028638,7.9594272076372317,null,"110 - TRAUMA & ORTHOPAEDICS",null,null,null,null,null,null,null,null,null,null,"","",null,null,null,null,null,null,null,null,null,"NLXST MARTINS HOSPITAL","NLX01","ST MARTINS HOSPITAL","NLX01","ST MARTINS HOSPITAL","NLX","Selected Org:"]
["",2,null,{"$f":"IF(ISNA(VLOOKUP($E$5&E18,$AV:$AW,2,FALSE)),\"\",VLOOKUP($E$5&E18,$AV:$AW,2,FALSE))","v":"RWG02"},"WATFORD GENERAL HOSPITAL - RWG02","AAU Blue & Yellow Level 3","326 - ACUTE INTERNAL MEDICINE",null,2668,2005.5,2495.5,2265.5,2495.5,2357.5,1069.5,1150,0.75168665667166412,0.90783410138248843,0.9447004608294931,1.075268817204301,1076,4.0548327137546467,3.1742565055762082,7.2290892193308549,null,"120 - ENT",null,null,null,null,null,null,null,null,null,null,"","",null,null,null,null,null,null,null,null,null,"NLXTHORNBURY HOSPITAL","NLX22","THORNBURY HOSPITAL","NLX22","THORNBURY HOSPITAL","NLX",{"$f":"$E$5","v":"RWG"}]
["",2,null,"RWG02","WATFORD GENERAL HOSPITAL - RWG02","AAU Red Suite","430 - GERIATRIC MEDICINE",null,1242,970,713,874,1069.5,1023.5,356.5,483,0.78099838969404189,1.2258064516129032,0.956989247311828,1.3548387096774193,533,3.7401500938086305,2.5459662288930582,6.2861163227016883,null,"130 - OPHTHALMOLOGY",null,null,null,null,null,null,null,null,null,null,"","",null,null,null,null,null,null,null,null,null,"NLXTROWBRIDGE COMMUNITY HOSPITAL","NLX20","TROWBRIDGE COMMUNITY HOSPITAL","NLX20","TROWBRIDGE COMMUNITY HOSPITAL","NLX"]
["",2,null,"RWG02","WATFORD GENERAL HOSPITAL - RWG02","Acute Stroke Unit","328-STROKE MEDICINE",null,2544,2221.5,1426,1518,2139,2035.5,1426,1472,0.87323113207547165,1.064516129032258,0.95161290322580649,1.032258064516129,986,4.3174442190669371,3.032454361054767,7.3498985801217041,null,"140 - ORAL SURGERY",null,null,null,null,null,null,null,null,null,null,"","",null,null,null,null,null,null,null,null,null,"NQ1ACE (THE CRESCENT, COLCHESTER)","NQ114","ACE (THE CRESCENT, COLCHESTER)","NQ114","ACE (THE CRESCENT, COLCHESTER)","NQ1","Match:"]
["",2,null,"RWG02","WATFORD GENERAL HOSPITAL - RWG02","Aldenham","340 - RESPIRATORY MEDICINE",null,2311.5,1805,1069.5,1219,1782.5,1587,356.5,529,0.78087821760761411,1.1397849462365592,0.89032258064516134,1.4838709677419355,790,4.2936708860759492,2.2126582278481011,6.5063291139240507,null,"141 - RESTORATIVE DENTISTRY",null,null,null,null,null,null,null,null,null,null,"","",null,null,null,null,null,null,null,null,null,"NQ1ACE CIC (CLACTON ON SEA)","NQ101","ACE CIC (CLACTON ON SEA)","NQ101","ACE CIC (CLACTON ON SEA)","NQ1",{"$f":"MATCH($BB$18,$BA$1:$BA$5095,0)","v":3169}]
["",0,null,"RWG02","WATFORD GENERAL HOSPITAL - RWG02","Bluebell","430 - GERIATRIC MEDICINE",null,1242,986.5,1782.5,1667.5,1069.5,1046.5,1782.5,1771,0.79428341384863121,0.93548387096774188,0.978494623655914,0.99354838709677418,519,3.9171483622350673,6.6252408477842,10.542389210019268,null,"142 - PAEDIATRIC DENTISTRY",null,null,null,null,null,null,null,null,null,null,"","",null,null,null,null,null,null,null,null,null,"NQ1CLACTON HOSPITAL","NQ108","CLACTON HOSPITAL","NQ108","CLACTON HOSPITAL","NQ1","Countif:"]
["",2,null,"RWG02","WATFORD GENERAL HOSPITAL - RWG02","Cardiac Care","320 - CARDIOLOGY",null,2311.5,1869,713,690,1782.5,1748,356.5,425.5,0.80856586632057104,0.967741935483871,0.98064516129032253,1.1935483870967742,747,4.8420348058902274,1.4933065595716197,6.3353413654618471,null,"143 - ORTHODONTICS",null,null,null,null,null,null,null,null,null,null,"","",null,null,null,null,null,null,null,null,null,"NQ1COLCHESTER GENERAL HOSPITAL","NQ107","COLCHESTER GENERAL HOSPITAL","NQ107","COLCHESTER GENERAL HOSPITAL","NQ1",{"$f":"SUM(COUNTIF($AZ$1:$BA$5095,$BB$18)+$BB$21-1)","v":3173}]
["",2,null,{"$f":"IF(ISNA(VLOOKUP($E$5&E24,$AV:$AW,2,FALSE)),\"\",VLOOKUP($E$5&E24,$AV:$AW,2,FALSE))","v":"RWG02"},"WATFORD GENERAL HOSPITAL - RWG02","Cassio","301 - GASTROENTEROLOGY",null,1212,1078.5,713,739.5,1069.5,908.5,356.5,598,0.88985148514851486,1.0371669004207573,0.84946236559139787,1.6774193548387097,548,3.6259124087591239,2.4406934306569341,6.0666058394160585,null,"145 - ORAL & MAXILLO FACIAL SURGERY",null,null,null,null,null,null,null,null,null,null,"","",null,null,null,null,null,null,null,null,null,"NQ1CONNAUGHT MEWS SUITES 6-10","NQ126","CONNAUGHT MEWS SUITES 6-10","NQ126","CONNAUGHT MEWS SUITES 6-10","NQ1","Concat Items:"]
["",2,null,"RWG02","WATFORD GENERAL HOSPITAL - RWG02","Croxley","430 - GERIATRIC MEDICINE",null,1598.5,1300,1426,1449,1426,1334,1069.5,1104,0.81326243353143568,1.0161290322580645,0.93548387096774188,1.032258064516129,841,3.131985731272295,3.0356718192627823,6.1676575505350772,null,"150 - NEUROSURGERY",null,null,null,null,null,null,null,null,null,null,"","",null,null,null,null,null,null,null,null,null,"NQ1CORNERSTONE","NQ123","CORNERSTONE","NQ123","CORNERSTONE","NQ1","$Ax"]
["",0,null,"RWG02","WATFORD GENERAL HOSPITAL - RWG02","Heronsgate & Gade","302 - ENDOCRINOLOGY",null,2576,1920,1426,1322.5,2139,2070,713,701.5,0.74534161490683226,0.92741935483870963,0.967741935483871,0.9838709677419355,1115,3.5784753363228701,1.8152466367713005,5.3937219730941708,null,"160 - PLASTIC SURGERY",null,null,null,null,null,null,null,null,null,null,"","",null,null,null,null,null,null,null,null,null,"NQ1FRYATT HOSPITAL","NQ106","FRYATT HOSPITAL","NQ106","FRYATT HOSPITAL","NQ1",":$Ax"]
["",0,null,"RWG02","WATFORD GENERAL HOSPITAL - RWG02","Oxhey","326 - ACUTE INTERNAL MEDICINE",null,885.5,836.5,483,448.5,713,701.5,483,471.5,0.94466403162055335,0.9285714285714286,0.9838709677419355,0.97619047619047616,350,4.3942857142857141,2.6285714285714286,7.0228571428571431,null,"170 - CARDIOTHORACIC SURGERY",null,null,null,null,null,null,null,null,null,null,"","",null,null,null,null,null,null,null,null,null,"NVCASHTEAD HOSPITAL","NVC01","ASHTEAD HOSPITAL","NVC01","ASHTEAD HOSPITAL","NVC"]
["",2,null,"RWG02","WATFORD GENERAL HOSPITAL - RWG02","Sarratt","430 - GERIATRIC MEDICINE",null,2127.5,1530,2495.5,2177,1782.5,1495,1426,1564,0.71915393654524085,0.87237026647966343,0.83870967741935487,1.096774193548387,1045,2.8947368421052633,3.5799043062200955,6.4746411483253592,null,"171 - PAEDIATRIC SURGERY",null,null,null,null,null,null,null,null,null,null,"","",null,null,null,null,null,null,null,null,null,"NVCBLAKELANDS HOSPITAL","NVC31","BLAKELANDS HOSPITAL","NVC31","BLAKELANDS HOSPITAL","NVC","Concat Final:"]
["",0,null,"RWG02","WATFORD GENERAL HOSPITAL - RWG02","Tudor","430 - GERIATRIC MEDICINE",null,1414.5,1009.5,1426,1414.5,1069.5,1035,1426,1368.5,0.71367974549310709,0.99193548387096775,0.967741935483871,0.95967741935483875,748,2.733288770053476,3.7205882352941178,6.4538770053475938,null,"180 - ACCIDENT & EMERGENCY",null,null,null,null,null,null,null,null,null,null,"","",null,null,null,null,null,null,null,null,null,"NVCBODMIN NHS TREATMENT CENTRE","NVC24","BODMIN NHS TREATMENT CENTRE","NVC24","BODMIN NHS TREATMENT CENTRE","NVC",{"$f":"CONCATENATE($BB$25,$BB$21,$BB$26,$BB$23)","v":"$Ax3169:$Ax3173"}]
["",2,null,"RWG02","WATFORD GENERAL HOSPITAL - RWG02","Winyard","430 - GERIATRIC MEDICINE",null,1242,932,713,801,1069.5,1012,356.5,425.5,0.75040257648953301,1.123422159887798,0.94623655913978499,1.1935483870967742,560,3.4714285714285715,2.1901785714285715,5.6616071428571431,null,"190 - ANAESTHETICS",null,null,null,null,null,null,null,null,null,null,"","",null,null,null,null,null,null,null,null,null,"NVCBOSTON WEST HOSPITAL","NVC27","BOSTON WEST HOSPITAL","NVC27","BOSTON WEST HOSPITAL","NVC"]
["",2,null,"RWG02","WATFORD GENERAL HOSPITAL - RWG02","Combined ITU","192 - CRITICAL CARE MEDICINE",null,4841.5,4914,391,414,5209.5,5014,368,356.5,1.0149746979241971,1.0588235294117647,0.96247240618101548,0.96875,478,20.769874476987447,1.6119246861924685,22.381799163179917,null,"192 - CRITICAL CARE MEDICINE",null,null,null,null,null,null,null,null,null,null,"","",null,null,null,null,null,null,null,null,null,"NVCCLIFTON PARK HOSPITAL","NVC28","CLIFTON PARK HOSPITAL","NVC28","CLIFTON PARK HOSPITAL","NVC"]
["",2,null,"RWG02","WATFORD GENERAL HOSPITAL - RWG02","Cleves","110 - TRAUMA & ORTHOPAEDICS",null,1242,1018,713,862.5,1069.5,1023.5,356.5,494.5,0.81964573268921093,1.2096774193548387,0.956989247311828,1.3870967741935485,648,3.1504629629629628,2.0941358024691357,5.2445987654320989,null,"300 - GENERAL MEDICINE",null,null,null,null,null,null,null,null,null,null,"","",null,null,null,null,null,null,null,null,null,"NVCCOBALT HOSPITAL","NVC29","COBALT HOSPITAL","NVC29","COBALT HOSPITAL","NVC"]
["",0,null,"RWG03","ST ALBANS CITY HOSPITAL - RWG03","De La Mare","100 - GENERAL SURGERY",null,1690.5,1123,1069.5,730.5,1035,736,345,310.5,0.66430050280981956,0.68302945301542772,0.71111111111111114,0.9,447,4.1588366890380311,2.3288590604026846,6.4876957494407161,null,"301 - GASTROENTEROLOGY",null,null,null,null,null,null,null,null,null,null,"","",null,null,null,null,null,null,null,null,null,"NVCDUCHY HOSPITAL","NVC04","DUCHY HOSPITAL","NVC04","DUCHY HOSPITAL","NVC"]
["",0,null,"RWG02","WATFORD GENERAL HOSPITAL - RWG02","Beckett","100 - GENERAL SURGERY",null,897,654.5,598,463.5,575,563.5,287.5,184,0.72965440356744704,0.77508361204013376,0.98,0.64,168,7.25,3.8541666666666665,11.104166666666666,null,"302 - ENDOCRINOLOGY",null,null,null,null,null,null,null,null,null,null,"","",null,null,null,null,null,null,null,null,null,"NVCEUXTON HALL HOSPITAL","NVC05","EUXTON HALL HOSPITAL","NVC05","EUXTON HALL HOSPITAL","NVC"]
["",0,null,"RWG02","WATFORD GENERAL HOSPITAL - RWG02","Elizabeth","502 - GYNAECOLOGY",null,1598.5,1345.5,1426,1276.5,1426,1380,1069.5,1046.5,0.84172661870503596,0.89516129032258063,0.967741935483871,0.978494623655914,927,2.9401294498381878,2.505933117583603,5.4460625674217908,null,"303 - CLINICAL HAEMATOLOGY",null,null,null,null,null,null,null,null,null,null,"","",null,null,null,null,null,null,null,null,null,"NVCFITZWILLIAM HOSPITAL","NVC06","FITZWILLIAM HOSPITAL","NVC06","FITZWILLIAM HOSPITAL","NVC"]
["",2,null,"RWG02","WATFORD GENERAL HOSPITAL - RWG02","Flaunden","100 - GENERAL SURGERY",null,885.5,1077.5,713,874,713,943,356.5,494.5,1.2168266516092603,1.2258064516129032,1.3225806451612903,1.3870967741935485,633,3.1919431279620851,2.1619273301737758,5.3538704581358614,null,"304 - CLINICAL PHYSIOLOGY",null,null,null,null,null,null,null,null,null,null,"","",null,null,null,null,null,null,null,null,null,"NVCFULWOOD HALL HOSPITAL","NVC07","FULWOOD HALL HOSPITAL","NVC07","FULWOOD HALL HOSPITAL","NVC"]
["",2,null,"RWG02","WATFORD GENERAL HOSPITAL - RWG02","Langley","100 - GENERAL SURGERY",null,885.5,750,713,724.5,713,713,356.5,368,0.84697910784867303,1.0161290322580645,1,1.032258064516129,478,3.0606694560669454,2.2855648535564854,5.3462343096234308,null,"305 - CLINICAL PHARMACOLOGY",null,null,null,null,null,null,null,null,null,null,"","",null,null,null,null,null,null,null,null,null,"NVCHORTON NHS TREATMENT CENTRE","NVC25","HORTON NHS TREATMENT CENTRE","NVC25","HORTON NHS TREATMENT CENTRE","NVC"]
["",0,null,"RWG02","WATFORD GENERAL HOSPITAL - RWG02","Letchmore","100 - GENERAL SURGERY",null,2219.5,1242.5,1426,1253.5,1782.5,1265,1069.5,839.5,0.55981076819103404,0.87903225806451613,0.70967741935483875,0.78494623655913975,863,2.9055619930475087,2.4252607184241022,5.3308227114716109,null,"307-DIABETIC MEDICINE",null,null,null,null,null,null,null,null,null,null,"","",null,null,null,null,null,null,null,null,null,"NVCMOUNT STUART HOSPITAL","NVC08","MOUNT STUART HOSPITAL","NVC08","MOUNT STUART HOSPITAL","NVC"]
["",2,null,"RWG02","WATFORD GENERAL HOSPITAL - RWG02","Ridge","110 - TRAUMA & ORTHOPAEDICS",null,1598.5,1173.5,1426,1656,1426,1276.5,1069.5,1069.5,0.73412574288395371,1.1612903225806452,0.89516129032258063,1,872,2.8096330275229358,3.1255733944954129,5.9352064220183482,null,"310 - AUDIOLOGICAL MEDICINE",null,null,null,null,null,null,null,null,null,null,"","",null,null,null,null,null,null,null,null,null,"NVCNEW HALL HOSPITAL","NVC09","NEW HALL HOSPITAL","NVC09","NEW HALL HOSPITAL","NVC"]
["",2,null,"RWG02","WATFORD GENERAL HOSPITAL - RWG02","ABC","501 - OBSTETRICS",null,713,726.5,356.5,309.5,713,713,356.5,345,1.0189340813464236,0.86816269284712477,1,0.967741935483871,117,12.303418803418804,5.5940170940170937,17.897435897435898,null,"313 - CLINICAL IMMUNOLOGY and ALLERGY",null,null,null,null,null,null,null,null,null,null,"","",null,null,null,null,null,null,null,null,null,"NVCNORTH DOWNS HOSPITAL","NVC11","NORTH DOWNS HOSPITAL","NVC11","NORTH DOWNS HOSPITAL","NVC"]
["",2,null,"RWG02","WATFORD GENERAL HOSPITAL - RWG02","Delivery Suite","501 - OBSTETRICS",null,3116.5,2980.5,713,632.5,3208.5,3461.5,713,621,0.9563613027434622,0.88709677419354838,1.0788530465949822,0.87096774193548387,271,23.771217712177123,4.6254612546125458,28.396678966789668,null,"314 - REHABILITATION",null,null,null,null,null,null,null,null,null,null,"","",null,null,null,null,null,null,null,null,null,"NVCNOTTINGHAM WOODTHORPE HOSPITAL","NVC40","NOTTINGHAM WOODTHORPE HOSPITAL","NVC40","NOTTINGHAM WOODTHORPE HOSPITAL","NVC"]
["",0,null,"RWG02","WATFORD GENERAL HOSPITAL - RWG02","Katherine","501 - OBSTETRICS",null,1782.5,1591.5,1426,1095,1426,1368.5,1426,1299.5,0.89284712482468442,0.76788218793828888,0.95967741935483875,0.91129032258064513,946,3.1289640591966172,2.5311839323467229,5.6601479915433401,null,"315 - PALLIATIVE MEDICINE",null,null,null,null,null,null,null,null,null,null,"","",null,null,null,null,null,null,null,null,null,"NVCOAKLANDS HOSPITAL","NVC12","OAKLANDS HOSPITAL","NVC12","OAKLANDS HOSPITAL","NVC"]
["",0,null,"RWG02","WATFORD GENERAL HOSPITAL - RWG02","Victoria","501 - OBSTETRICS",null,713,705,356.5,356.5,713,713,356.5,333.5,0.98877980364656382,1,1,0.93548387096774188,251,5.6494023904382473,2.7490039840637448,8.3984063745019917,null,"318- INTERMEDIATE CARE ",null,null,null,null,null,null,null,null,null,null,"","",null,null,null,null,null,null,null,null,null,"NVCOAKS HOSPITAL","NVC13","OAKS HOSPITAL","NVC13","OAKS HOSPITAL","NVC"]
["",0,null,"RWG02","WATFORD GENERAL HOSPITAL - RWG02","SCBU","420 - PAEDIATRICS",null,2852,2127,1069.5,843,2852,1805.5,1069.5,747.5,0.74579242636746146,0.78821879382889204,0.63306451612903225,0.69892473118279574,249,15.793172690763052,6.3875502008032132,22.180722891566266,null,"320 - CARDIOLOGY",null,null,null,null,null,null,null,null,null,null,"","",null,null,null,null,null,null,null,null,null,"NVCPARK HILL HOSPITAL","NVC14","PARK HILL HOSPITAL","NVC14","PARK HILL HOSPITAL","NVC"]
["",0,null,"RWG02","WATFORD GENERAL HOSPITAL - RWG02","Starfish","420 - PAEDIATRICS",null,1644.5,1180,356.5,253,1069.5,920,356.5,218.5,0.71754332623897843,0.70967741935483875,0.86021505376344087,0.61290322580645162,334,6.2874251497005984,1.4116766467065869,7.6991017964071853,null,"321 - PAEDIATRIC CARDIOLOGY",null,null,null,null,null,null,null,null,null,null,"","",null,null,null,null,null,null,null,null,null,"NVCPINEHILL HOSPITAL","NVC15","PINEHILL HOSPITAL","NVC15","PINEHILL HOSPITAL","NVC"]
["",0,null,"",null,null,null,null,null,null,null,null,null,null,null,null,"","","","",null,"","","",null,"323- SPINAL INJURIES",null,null,null,null,null,null,null,null,null,null,"","",null,null,null,null,null,null,null,null,null,"NVCRENACRES HOSPITAL","NVC16","RENACRES HOSPITAL","NVC16","RENACRES HOSPITAL","NVC"]
["",0,null,"",null,null,null,null,null,null,null,null,null,null,null,null,"","","","",null,"","","",null,"325 - SPORTS AND EXERCISE MEDICINE",null,null,null,null,null,null,null,null,null,null,"","",null,null,null,null,null,null,null,null,null,"NVCRIVERS HOSPITAL","NVC19","RIVERS HOSPITAL","NVC19","RIVERS HOSPITAL","NVC"]
["",0,null,"",null,null,null,null,null,null,null,null,null,null,null,null,"","","","",null,"","","",null,"326 - ACUTE INTERNAL MEDICINE",null,null,null,null,null,null,null,null,null,null,"","",null,null,null,null,null,null,null,null,null,"NVCROWLEY HALL HOSPITAL","NVC17","ROWLEY HALL HOSPITAL","NVC17","ROWLEY HALL HOSPITAL","NVC"]
["",0,null,"",null,null,null,null,null,null,null,null,null,null,null,null,"","","","",null,"","","",null,"328-STROKE MEDICINE",null,null,null,null,null,null,null,null,null,null,"","",null,null,null,null,null,null,null,null,null,"NVCSPRINGFIELD HOSPITAL","NVC18","SPRINGFIELD HOSPITAL","NVC18","SPRINGFIELD HOSPITAL","NVC"]
["",0,null,"",null,null,null,null,null,null,null,null,null,null,null,null,"","","","",null,"","","",null,"330 - DERMATOLOGY",null,null,null,null,null,null,null,null,null,null,"","",null,null,null,null,null,null,null,null,null,"NVCTEES VALLEY TREATMENT CENTRE","NVC35","TEES VALLEY TREATMENT CENTRE","NVC35","TEES VALLEY TREATMENT CENTRE","NVC"]
["",0,null,"",null,null,null,null,null,null,null,null,null,null,null,null,"","","","",null,"","","",null,"340 - RESPIRATORY MEDICINE",null,null,null,null,null,null,null,null,null,null,"","",null,null,null,null,null,null,null,null,null,"NVCTHE BERKSHIRE INDEPENDENT HOSPITAL","NVC02","THE BERKSHIRE INDEPENDENT HOSPITAL","NVC02","THE BERKSHIRE INDEPENDENT HOSPITAL","NVC"]
["",0,null,"",null,null,null,null,null,null,null,null,null,null,null,null,"","","","",null,"","","",null,"350 - INFECTIOUS DISEASES",null,null,null,null,null,null,null,null,null,null,"","",null,null,null,null,null,null,null,null,null,"NVCTHE WESTBOURNE CENTRE","NVC44","THE WESTBOURNE CENTRE","NVC44","THE WESTBOURNE CENTRE","NVC"]
["",0,null,"",null,null,null,null,null,null,null,null,null,null,null,null,"","","","",null,"","","",null,"352 - TROPICAL MEDICINE",null,null,null,null,null,null,null,null,null,null,"","",null,null,null,null,null,null,null,null,null,"NVCTHE YORKSHIRE CLINIC","NVC20","THE YORKSHIRE CLINIC","NVC20","THE YORKSHIRE CLINIC","NVC"]
["",0,null,"",null,null,null,null,null,null,null,null,null,null,null,null,"","","","",null,"","","",null,"360 - GENITOURINARY MEDICINE",null,null,null,null,null,null,null,null,null,null,"","",null,null,null,null,null,null,null,null,null,"NVCWEST MIDLANDS HOSPITAL","NVC21","WEST MIDLANDS HOSPITAL","NVC21","WEST MIDLANDS HOSPITAL","NVC"]
["",0,null,"",null,null,null,null,null,null,null,null,null,null,null,null,"","","","",null,"","","",null,"361 - NEPHROLOGY",null,null,null,null,null,null,null,null,null,null,"","",null,null,null,null,null,null,null,null,null,"NVCWINFIELD HOSPITAL","NVC22","WINFIELD HOSPITAL","NVC22","WINFIELD HOSPITAL","NVC"]
["",0,null,{"$f":"IF(ISNA(VLOOKUP($E$5&E56,$AV:$AW,2,FALSE)),\"\",VLOOKUP($E$5&E56,$AV:$AW,2,FALSE))","v":""},null,null,null,null,null,null,null,null,null,null,null,null,"","","","",null,"","","",null,"370 - MEDICAL ONCOLOGY",null,null,null,null,null,null,null,null,null,null,"","",null,null,null,null,null,null,null,null,null,"NVCWOODLAND HOSPITAL","NVC23","WOODLAND HOSPITAL","NVC23","WOODLAND HOSPITAL","NVC"]
["",0,null,"",null,null,null,null,null,null,null,null,null,null,null,null,"","","","",null,"","","",null,"399-PSYCHIATRY SERVICES",null,null,null,null,null,null,null,null,null,null,"","",null,null,null,null,null,null,null,null,null,"R0AMANCHESTER ROYAL EYE HOSPITAL","R0A04","MANCHESTER ROYAL EYE HOSPITAL","R0A04","MANCHESTER ROYAL EYE HOSPITAL","R0A"]
["",0,null,"",null,null,null,null,null,null,null,null,null,null,null,null,"","","","",null,"","","",null,"400 - NEUROLOGY",null,null,null,null,null,null,null,null,null,null,"","",null,null,null,null,null,null,null,null,null,"R0AMANCHESTER ROYAL INFIRMARY","R0A02","MANCHESTER ROYAL INFIRMARY","R0A02","MANCHESTER ROYAL INFIRMARY","R0A"]
["",0,null,"",null,null,null,null,null,null,null,null,null,null,null,null,"","","","",null,"","","",null,"401 - CLINICAL NEURO-PHYSIOLOGY",null,null,null,null,null,null,null,null,null,null,"","",null,null,null,null,null,null,null,null,null,"R0AROYAL MANCHESTER CHILDREN'S HOSPITAL","R0A03","ROYAL MANCHESTER CHILDREN'S HOSPITAL","R0A03","ROYAL MANCHESTER CHILDREN'S HOSPITAL","R0A"]
["",0,null,"",null,null,null,null,null,null,null,null,null,null,null,null,"","","","",null,"","","",null,"410 - RHEUMATOLOGY",null,null,null,null,null,null,null,null,null,null,"","",null,null,null,null,null,null,null,null,null,"R0AST MARY'S HOSPITAL","R0A05","ST MARY'S HOSPITAL","R0A05","ST MARY'S HOSPITAL","R0A"]
["",0,null,"",null,null,null,null,null,null,null,null,null,null,null,null,"","","","",null,"","","",null,"420 - PAEDIATRICS",null,null,null,null,null,null,null,null,null,null,"","",null,null,null,null,null,null,null,null,null,"R0ATRAFFORD GENERAL HOSPITAL","R0A09","TRAFFORD GENERAL HOSPITAL","R0A09","TRAFFORD GENERAL HOSPITAL","R0A"]
["",0,null,"",null,null,null,null,null,null,null,null,null,null,null,null,"","","","",null,"","","",null,"421 - PAEDIATRIC NEUROLOGY",null,null,null,null,null,null,null,null,null,null,"","",null,null,null,null,null,null,null,null,null,"R0AUNIVERSITY DENTAL HOSPITAL","R0A06","UNIVERSITY DENTAL HOSPITAL","R0A06","UNIVERSITY DENTAL HOSPITAL","R0A"]
["",0,null,"",null,null,null,null,null,null,null,null,null,null,null,null,"","","","",null,"","","",null,"422- NEONATOLOGY",null,null,null,null,null,null,null,null,null,null,"","",null,null,null,null,null,null,null,null,null,"R0AWYTHENSHAWE HOSPITAL","R0A07","WYTHENSHAWE HOSPITAL","R0A07","WYTHENSHAWE HOSPITAL","R0A"]
["",0,null,"",null,null,null,null,null,null,null,null,null,null,null,null,"","","","",null,"","","",null,"424- WELL BABIES",null,null,null,null,null,null,null,null,null,null,"","",null,null,null,null,null,null,null,null,null,"R1AACONBURY UNIT","R1ADY","ACONBURY UNIT","R1ADY","ACONBURY UNIT","R1A"]
["",0,null,"",null,null,null,null,null,null,null,null,null,null,null,null,"","","","",null,"","","",null,"430 - GERIATRIC MEDICINE",null,null,null,null,null,null,null,null,null,null,"","",null,null,null,null,null,null,null,null,null,"R1AALEXANDRA HOSPITAL","R1AAL","ALEXANDRA HOSPITAL","R1AAL","ALEXANDRA HOSPITAL","R1A"]
["",0,null,"",null,null,null,null,null,null,null,null,null,null,null,null,"","","","",null,"","","",null,"450 - DENTAL MEDICINE SPECIALTIES",null,null,null,null,null,null,null,null,null,null,"","",null,null,null,null,null,null,null,null,null,"R1AARROWSIDE UNIT (ALEXANDRA HOSPITAL)","R1A1X","ARROWSIDE UNIT (ALEXANDRA HOSPITAL)","R1A1X","ARROWSIDE UNIT (ALEXANDRA HOSPITAL)","R1A"]
["",0,null,"",null,null,null,null,null,null,null,null,null,null,null,null,"","","","",null,"","","",null,"460 - MEDICAL OPHTHALMOLOGY",null,null,null,null,null,null,null,null,null,null,"","",null,null,null,null,null,null,null,null,null,"R1ABATCHLEY FIRST NURSERY PLUS","R1AHC","BATCHLEY FIRST NURSERY PLUS","R1AHC","BATCHLEY FIRST NURSERY PLUS","R1A"]
["",0,null,"",null,null,null,null,null,null,null,null,null,null,null,null,"","","","",null,"","","",null,"501 - OBSTETRICS",null,null,null,null,null,null,null,null,null,null,"","",null,null,null,null,null,null,null,null,null,"R1ABEACONSIDE AUTISM BASE","R1A05","BEACONSIDE AUTISM BASE","R1A05","BEACONSIDE AUTISM BASE","R1A"]
["",0,null,"",null,null,null,null,null,null,null,null,null,null,null,null,"","","","",null,"","","",null,"502 - GYNAECOLOGY",null,null,null,null,null,null,null,null,null,null,"","",null,null,null,null,null,null,null,null,null,"R1ABIRMINGHAM CHILDREN'S HOSPITAL","R1A03","BIRMINGHAM CHILDREN'S HOSPITAL","R1A03","BIRMINGHAM CHILDREN'S HOSPITAL","R1A"]
["",0,null,"",null,null,null,null,null,null,null,null,null,null,null,null,"","","","",null,"","","",null,"560- MIDWIFE LED CARE",null,null,null,null,null,null,null,null,null,null,"","",null,null,null,null,null,null,null,null,null,"R1ACHURCHVIEW HOUSE","R1ACD","CHURCHVIEW HOUSE","R1ACD","CHURCHVIEW HOUSE","R1A"]
["",0,null,"",null,null,null,null,null,null,null,null,null,null,null,null,"","","","",null,"","","",null,"700- LEARNING DISABILITY",null,null,null,null,null,null,null,null,null,null,"","",null,null,null,null,null,null,null,null,null,"R1ACOMM HOSP WARDS (EVESHAM)","R1ARE","COMM HOSP WARDS (EVESHAM)","R1ARE","COMM HOSP WARDS (EVESHAM)","R1A"]
["",0,null,"",null,null,null,null,null,null,null,null,null,null,null,null,"","","","",null,"","","",null,"710 - ADULT MENTAL ILLNESS",null,null,null,null,null,null,null,null,null,null,"","",null,null,null,null,null,null,null,null,null,"R1ACOMM HOSP WARDS (MALVERN)","R1ARG","COMM HOSP WARDS (MALVERN)","R1ARG","COMM HOSP WARDS (MALVERN)","R1A"]
["",0,null,"",null,null,null,null,null,null,null,null,null,null,null,null,"","","","",null,"","","",null,"711- CHILD and ADOLESCENT PSYCHIATRY",null,null,null,null,null,null,null,null,null,null,"","",null,null,null,null,null,null,null,null,null,"R1ACOMM HOSP WARDS (PERSHORE)","R1ARJ","COMM HOSP WARDS (PERSHORE)","R1ARJ","COMM HOSP WARDS (PERSHORE)","R1A"]
["",0,null,"",null,null,null,null,null,null,null,null,null,null,null,null,"","","","",null,"","","",null,"712 - FORENSIC PSYCHIATRY",null,null,null,null,null,null,null,null,null,null,"","",null,null,null,null,null,null,null,null,null,"R1ACOMM HOSP WARDS (TENBURY)","R1ARL","COMM HOSP WARDS (TENBURY)","R1ARL","COMM HOSP WARDS (TENBURY)","R1A"]
["",0,null,"",null,null,null,null,null,null,null,null,null,null,null,null,"","","","",null,"","","",null,"713- PSYCHOTHERAPY",null,null,null,null,null,null,null,null,null,null,"","",null,null,null,null,null,null,null,null,null,"R1ACOMM HOSP WARDS (WF GP UNIT)","R1ARN","COMM HOSP WARDS (WF GP UNIT)","R1ARN","COMM HOSP WARDS (WF GP UNIT)","R1A"]
["",0,null,"",null,null,null,null,null,null,null,null,null,null,null,null,"","","","",null,"","","",null,"715 - OLD AGE PSYCHIATRY",null,null,null,null,null,null,null,null,null,null,"","",null,null,null,null,null,null,null,null,null,{"$f":"CONCATENATE(LEFT(AW76, 3),AX76)","v":"R1ACOMMUNITY FIRST"},"R1A94","COMMUNITY FIRST","R1A94","COMMUNITY FIRST",{"$f":"LEFT(AY76,3)","v":"R1A"}]
["",0,null,"",null,null,null,null,null,null,null,null,null,null,null,null,"","","","",null,"","","",null,"800 - CLINICAL ONCOLOGY",null,null,null,null,null,null,null,null,null,null,"","",null,null,null,null,null,null,null,null,null,"R1ACOMMUNITY HOSP WARDS (POWCH)","R1ARK","COMMUNITY HOSP WARDS (POWCH)","R1ARK","COMMUNITY HOSP WARDS (POWCH)","R1A"]
["",0,null,"",null,null,null,null,null,null,null,null,null,null,null,null,"","","","",null,"","","",null,"810 - RADIOLOGY",null,null,null,null,null,null,null,null,null,null,"","",null,null,null,null,null,null,null,null,null,"R1ACOMMUNITY INREACH EVESHAM","R1AJX","COMMUNITY INREACH EVESHAM","R1AJX","COMMUNITY INREACH EVESHAM","R1A"]
["",0,null,{"$f":"IF(ISNA(VLOOKUP($E$5&E79,$AV:$AW,2,FALSE)),\"\",VLOOKUP($E$5&E79,$AV:$AW,2,FALSE))","v":""},null,null,null,null,null,null,null,null,null,null,null,null,{"$f":"IF(ISERROR(IF($I79=\"\",\"\",J79/I79)),\"-\",(IF($I79=\"\",\"\",J79/I79)))","v":""},{"$f":"IF(ISERROR(IF(K79=\"\",\"\",L79/K79)),\"-\",(IF(K79=\"\",\"\",L79/K79)))","v":""},{"$f":"IF(ISERROR(IF(M79=\"\",\"\",N79/M79)),\"-\",(IF(M79=\"\",\"\",N79/M79)))","v":""},{"$f":"IF(ISERROR(IF(O79=\"\",\"\",P79/O79)),\"-\",IF(O79=\"\",\"\",P79/O79))","v":""},null,{"$f":"IF(ISERROR(IF($U79=\"\",\"\",SUM(J79,N79)/$U79)),\"-\",(IF($U79=\"\",\"\",SUM(J79,N79)/$U79)))","v":""},{"$f":"IF(ISERROR(IF($U79=\"\",\"\",SUM(L79,P79)/$U79)),\"-\",(IF($U79=\"\",\"\",SUM(L79,P79)/$U79)))","v":""},{"$f":"IF(ISERROR(IF($U79=\"\",\"\",SUM(J79,L79,N79,P79)/$U79)),\"-\",(IF($U79=\"\",\"\",SUM(J79,L79,N79,P79)/$U79)))","v":""},null,"822 - CHEMICAL PATHOLOGY",null,null,null,null,null,null,null,null,null,null,{"$f":"IF(M280=1,\"No Site Selected\",\"\")","v":""},{"$f":"IF(N280=1,\"No Ward Name\",\"\")","v":""},null,null,null,null,null,null,null,null,null,"R1ACOMMUNITY INREACH REDDITCH 6","R1AJV","COMMUNITY INREACH REDDITCH 6","R1AJV","COMMUNITY INREACH REDDITCH 6","R1A"]
["",{"$f":"IF(SUM(E281:G281,M281:N281)>0,1,IF(Y281>0,2,0))","v":0},null,"",null,null,null,null,null,null,null,null,null,null,null,null,"","","","",null,"","","",null,"823 - HAEMATOLOGY",null,null,null,null,null,null,null,null,null,null,"","",null,null,null,null,null,null,null,null,null,"R1ACOMMUNITY INREACH REDDITCH 8","R1AJY","COMMUNITY INREACH REDDITCH 8","R1AJY","COMMUNITY INREACH REDDITCH 8","R1A"]
[{"$f":"IF(M282=1,\"No Site Selected\",IF(N282=1,\"No Ward Name\",\"\"))","v":""},0,null,"",null,null,null,null,null,null,null,null,null,null,null,null,"","","","",null,"","","",null,"879-COMMUNITY NURSING",null,null,null,null,null,null,null,null,null,null,"","",null,null,null,null,null,null,null,null,null,"R1ACOMMUNITY PAEDESTRICIANS-1","R1AQQ","COMMUNITY PAEDESTRICIANS-1","R1AQQ","COMMUNITY PAEDESTRICIANS-1","R1A"]
["",0,null,"",null,null,null,null,null,null,null,null,null,null,null,null,"","","","",null,"","","",null,"901 - OCCUPATIONAL MEDICINE",null,null,null,null,null,null,null,null,null,null,"","",null,null,null,null,null,null,null,null,null,"R1ACOMMUNITY UNIT","R1ADV","COMMUNITY UNIT","R1ADV","COMMUNITY UNIT","R1A"]
["",0,null,"",null,null,null,null,null,null,null,null,null,null,null,null,"","","","",null,"","","",null,"903- PUBLIC HEALTH MEDICINE",null,null,null,null,null,null,null,null,null,null,"","",null,null,null,null,null,null,null,null,null,"R1ACOMMUNITY VENUE","R1A76","COMMUNITY VENUE","R1A76","COMMUNITY VENUE","R1A"]
["",0,null,"",null,null,null,null,null,null,null,null,null,null,null,null,"","","","",null,"","","",null,"920 - ORTHOTICS AND PROSTHETICS",null,null,null,null,null,null,null,null,null,null,"","",null,null,null,null,null,null,null,null,null,"R1ACOVERCROFT","R1APF","COVERCROFT","R1APF","COVERCROFT","R1A"]
["",0,null,"",null,null,null,null,null,null,null,null,null,null,null,null,"","","","",null,"","","",null,"921 - GENETICS",null,null,null,null,null,null,null,null,null,null,"","",null,null,null,null,null,null,null,null,null,"R1ACROMWELL HOUSE","R1AAV","CROMWELL HOUSE","R1AAV","CROMWELL HOUSE","R1A"]
["",0,null,"",null,null,null,null,null,null,null,null,null,null,null,null,"","","","",null,"","","",null,"922 - SEXUAL HEALTH SERVICES",null,null,null,null,null,null,null,null,null,null,"","",null,null,null,null,null,null,null,null,null,"R1ACROWNGATE PHYSIOTHERAPY","R1A82","CROWNGATE PHYSIOTHERAPY","R1A82","CROWNGATE PHYSIOTHERAPY","R1A"]
["",0,null,"",null,null,null,null,null,null,null,null,null,null,null,null,"","","","",null,"","","",null,"923 - DIAGNOSTIC PATHOLOGY",null,null,null,null,null,null,null,null,null,null,"","",null,null,null,null,null,null,null,null,null,"R1ADROITWICH SPA PRIVATE HOSPITAL","R1AFT","DROITWICH SPA PRIVATE HOSPITAL","R1AFT","DROITWICH SPA PRIVATE HOSPITAL","R1A"]
["",0,null,"",null,null,null,null,null,null,null,null,null,null,null,null,"","","","",null,"","","",null,"924 - BLOOD DONOR CENTRES",null,null,null,null,null,null,null,null,null,null,"","",null,null,null,null,null,null,null,null,null,"R1AELGAR UNIT","R1ADW","ELGAR UNIT","R1ADW","ELGAR UNIT","R1A"]
["",0,null,"",null,null,null,null,null,null,null,null,null,null,null,null,"","","","",null,"","","",null,"925 - COMMUNITY CARE SERVICES",null,null,null,null,null,null,null,null,null,null,"","",null,null,null,null,null,null,null,null,null,"R1AESTATES BUILDING","R1ACE","ESTATES BUILDING","R1ACE","ESTATES BUILDING","R1A"]
["",0,null,"",null,null,null,null,null,null,null,null,null,null,null,null,"","","","",null,"","","",null,"926 - THERAPY SERVICES",null,null,null,null,null,null,null,null,null,null,"","",null,null,null,null,null,null,null,null,null,"R1AEVESHAM COMMUNITY HOSPITAL","R1A1P","EVESHAM COMMUNITY HOSPITAL","R1A1P","EVESHAM COMMUNITY HOSPITAL","R1A"]
["",0,null,"",null,null,null,null,null,null,null,null,null,null,null,null,"","","","",null,"","","",null,"996 - PSYCHIATRIC INTENSIVE CARE UNIT",null,null,null,null,null,null,null,null,null,null,"","",null,null,null,null,null,null,null,null,null,"R1AGOLD HILL CARE HOME","R1AKK","GOLD HILL CARE HOME","R1AKK","GOLD HILL CARE HOME","R1A"]
["",0,null,"",null,null,null,null,null,null,null,null,null,null,null,null,"","","","",null,"","","",null,null,null,null,null,null,null,null,null,null,null,null,"","",null,null,null,null,null,null,null,null,null,"R1AHASTINGS CARE HOME","R1AKG","HASTINGS CARE HOME","R1AKG","HASTINGS CARE HOME","R1A"]
["",0,null,"",null,null,null,null,null,null,null,null,null,null,null,null,"","","","",null,"","","",null,null,null,null,null,null,null,null,null,null,null,null,"","",null,null,null,null,null,null,null,null,null,"R1AHILL CREST 1","R1APM","HILL CREST 1","R1APM","HILL CREST 1","R1A"]
["",0,null,"",null,null,null,null,null,null,null,null,null,null,null,null,"","","","",null,"","","",null,null,null,null,null,null,null,null,null,null,null,null,"","",null,null,null,null,null,null,null,null,null,"R1AHILL CREST 2","R1APQ","HILL CREST 2","R1APQ","HILL CREST 2","R1A"]
["",0,null,"",null,null,null,null,null,null,null,null,null,null,null,null,"","","","",null,"","","",null,null,null,null,null,null,null,null,null,null,null,null,"","",null,null,null,null,null,null,null,null,null,"R1AHILL CREST MENTAL HEALTH UNIT","R1A49","HILL CREST MENTAL HEALTH UNIT","R1A49","HILL CREST MENTAL HEALTH UNIT","R1A"]
["",0,null,"",null,null,null,null,null,null,null,null,null,null,null,null,"","","","",null,"","","",null,null,null,null,null,null,null,null,null,null,null,null,"","",null,null,null,null,null,null,null,null,null,"R1AHOME FARM TRUST","R1A89","HOME FARM TRUST","R1A89","HOME FARM TRUST","R1A"]
["",0,null,"",null,null,null,null,null,null,null,null,null,null,null,null,"","","","",null,"","","",null,null,null,null,null,null,null,null,null,null,null,null,"","",null,null,null,null,null,null,null,null,null,"R1AHOME TREATMENT 1","R1APL","HOME TREATMENT 1","R1APL","HOME TREATMENT 1","R1A"]
["",0,null,"",null,null,null,null,null,null,null,null,null,null,null,null,"","","","",null,"","","",null,null,null,null,null,null,null,null,null,null,null,null,"","",null,null,null,null,null,null,null,null,null,"R1AHOME TREATMENT 2","R1APN","HOME TREATMENT 2","R1APN","HOME TREATMENT 2","R1A"]
["",0,null,"",null,null,null,null,null,null,null,null,null,null,null,null,"","","","",null,"","","",null,null,null,null,null,null,null,null,null,null,null,null,"","",null,null,null,null,null,null,null,null,null,"R1AHOMEWARD BOUND UNIT","R1ADE","HOMEWARD BOUND UNIT","R1ADE","HOMEWARD BOUND UNIT","R1A"]
["",0,null,"",null,null,null,null,null,null,null,null,null,null,null,null,"","","","",null,"","","",null,null,null,null,null,null,null,null,null,null,null,null,"","",null,null,null,null,null,null,null,null,null,"R1AKEITH WINTER CLOSE MENTAL HEALTH UNIT","R1A22","KEITH WINTER CLOSE MENTAL HEALTH UNIT","R1A22","KEITH WINTER CLOSE MENTAL HEALTH UNIT","R1A"]
["",0,null,"",null,null,null,null,null,null,null,null,null,null,null,null,"","","","",null,"","","",null,null,null,null,null,null,null,null,null,null,null,null,"","",null,null,null,null,null,null,null,null,null,"R1AKEMPSEY PARISH HALL","R1AHL","KEMPSEY PARISH HALL","R1AHL","KEMPSEY PARISH HALL","R1A"]
["",0,null,"",null,null,null,null,null,null,null,null,null,null,null,null,"","","","",null,"","","",null,null,null,null,null,null,null,null,null,null,null,null,"","",null,null,null,null,null,null,null,null,null,"R1ALICKEY LANGUAGE UNIT","R1AHV","LICKEY LANGUAGE UNIT","R1AHV","LICKEY LANGUAGE UNIT","R1A"]
["",0,null,"",null,null,null,null,null,null,null,null,null,null,null,null,"","","","",null,"","","",null,null,null,null,null,null,null,null,null,null,null,null,"","",null,null,null,null,null,null,null,null,null,"R1ALINK HORTICULTURIAL NURSERIES - SHELTERED EMPLOYMENT","R1AAE","LINK HORTICULTURIAL NURSERIES - SHELTERED EMPLOYMENT","R1AAE","LINK HORTICULTURIAL NURSERIES - SHELTERED EMPLOYMENT","R1A"]
["",0,null,"",null,null,null,null,null,null,null,null,null,null,null,null,"","","","",null,"","","",null,null,null,null,null,null,null,null,null,null,null,null,"","",null,null,null,null,null,null,null,null,null,"R1ALUDLOW ROAD","R1A58","LUDLOW ROAD","R1A58","LUDLOW ROAD","R1A"]
["",0,null,"",null,null,null,null,null,null,null,null,null,null,null,null,"","","","",null,"","","",null,null,null,null,null,null,null,null,null,null,null,null,"","",null,null,null,null,null,null,null,null,null,"R1AMALVERN COMMUNITY HOSPITAL","R1ADC","MALVERN COMMUNITY HOSPITAL","R1ADC","MALVERN COMMUNITY HOSPITAL","R1A"]
["",0,null,"",null,null,null,null,null,null,null,null,null,null,null,null,"","","","",null,"","","",null,null,null,null,null,null,null,null,null,null,null,null,"","",null,null,null,null,null,null,null,null,null,"R1AMATCHBOROUGH FIRST NURSERY PLUS","R1AHF","MATCHBOROUGH FIRST NURSERY PLUS","R1AHF","MATCHBOROUGH FIRST NURSERY PLUS","R1A"]
["",0,null,"",null,null,null,null,null,null,null,null,null,null,null,null,"","","","",null,"","","",null,null,null,null,null,null,null,null,null,null,null,null,"","",null,null,null,null,null,null,null,null,null,"R1ANEW BROOK","R1ACF","NEW BROOK","R1ACF","NEW BROOK","R1A"]
["",0,null,"",null,null,null,null,null,null,null,null,null,null,null,null,"","","","",null,"","","",null,null,null,null,null,null,null,null,null,null,null,null,"","",null,null,null,null,null,null,null,null,null,"R1ANEW BROOK UNIT 1","R1APK","NEW BROOK UNIT 1","R1APK","NEW BROOK UNIT 1","R1A"]
["",0,null,"",null,null,null,null,null,null,null,null,null,null,null,null,"","","","",null,"","","",null,null,null,null,null,null,null,null,null,null,null,null,"","",null,null,null,null,null,null,null,null,null,"R1ANEW BROOK UNIT 2","R1APP","NEW BROOK UNIT 2","R1APP","NEW BROOK UNIT 2","R1A"]
["",0,null,"",null,null,null,null,null,null,null,null,null,null,null,null,"","","","",null,"","","",null,null,null,null,null,null,null,null,null,null,null,null,"","",null,null,null,null,null,null,null,null,null,"R1ANEW CROSS HOSPITAL","R1A1N","NEW CROSS HOSPITAL","R1A1N","NEW CROSS HOSPITAL","R1A"]
["",0,null,"",null,null,null,null,null,null,null,null,null,null,null,null,"","","","",null,"","","",null,null,null,null,null,null,null,null,null,null,null,null,"","",null,null,null,null,null,null,null,null,null,"R1ANEW HAVEN (MENTAL HEALTH UNIT)","R1ACC","NEW HAVEN (MENTAL HEALTH UNIT)","R1ACC","NEW HAVEN (MENTAL HEALTH UNIT)","R1A"]
["",0,null,"",null,null,null,null,null,null,null,null,null,null,null,null,"","","","",null,"","","",null,null,null,null,null,null,null,null,null,null,null,null,"","",null,null,null,null,null,null,null,null,null,"R1ANEWTOWN HOSPITAL ","R1A07","NEWTOWN HOSPITAL ","R1A07","NEWTOWN HOSPITAL ","R1A"]
["",0,null,"",null,null,null,null,null,null,null,null,null,null,null,null,"","","","",null,"","","",null,null,null,null,null,null,null,null,null,null,null,null,"","",null,null,null,null,null,null,null,null,null,"R1AORCHARD PLACE","R1A37","ORCHARD PLACE","R1A37","ORCHARD PLACE","R1A"]
["",0,null,"",null,null,null,null,null,null,null,null,null,null,null,null,"","","","",null,"","","",null,null,null,null,null,null,null,null,null,null,null,null,"","",null,null,null,null,null,null,null,null,null,"R1AOSBORNE COURT","R1ACY","OSBORNE COURT","R1ACY","OSBORNE COURT","R1A"]
["",0,null,"",null,null,null,null,null,null,null,null,null,null,null,null,"","","","",null,"","","",null,null,null,null,null,null,null,null,null,null,null,null,"","",null,null,null,null,null,null,null,null,null,"R1AOT STORES","R1AGK","OT STORES","R1AGK","OT STORES","R1A"]
["",0,null,"",null,null,null,null,null,null,null,null,null,null,null,null,"","","","",null,"","","",null,null,null,null,null,null,null,null,null,null,null,null,"","",null,null,null,null,null,null,null,null,null,"R1APALLIATIVE CARE (R&B)","R1AQP","PALLIATIVE CARE (R&B)","R1AQP","PALLIATIVE CARE (R&B)","R1A"]
["",0,null,"",null,null,null,null,null,null,null,null,null,null,null,null,"","","","",null,"","","",null,null,null,null,null,null,null,null,null,null,null,null,"","",null,null,null,null,null,null,null,null,null,"R1APALLIATIVE CARE (SW)","R1ART","PALLIATIVE CARE (SW)","R1ART","PALLIATIVE CARE (SW)","R1A"]
["",0,null,"",null,null,null,null,null,null,null,null,null,null,null,null,"","","","",null,"","","",null,null,null,null,null,null,null,null,null,null,null,null,"","",null,null,null,null,null,null,null,null,null,"R1APALLIATIVE CARE (WF)","R1ARR","PALLIATIVE CARE (WF)","R1ARR","PALLIATIVE CARE (WF)","R1A"]
["",0,null,"",null,null,null,null,null,null,null,null,null,null,null,null,"","","","",null,"","","",null,null,null,null,null,null,null,null,null,null,null,null,"","",null,null,null,null,null,null,null,null,null,"R1APARKSIDE MIDDLE AUTISM BASE","R1AEM","PARKSIDE MIDDLE AUTISM BASE","R1AEM","PARKSIDE MIDDLE AUTISM BASE","R1A"]
["",0,null,"",null,null,null,null,null,null,null,null,null,null,null,null,"","","","",null,"","","",null,null,null,null,null,null,null,null,null,null,null,null,"","",null,null,null,null,null,null,null,null,null,"R1APERSHORE HOSPITAL","R1ACW","PERSHORE HOSPITAL","R1ACW","PERSHORE HOSPITAL","R1A"]
["",0,null,"",null,null,null,null,null,null,null,null,null,null,null,null,"","","","",null,"","","",null,null,null,null,null,null,null,null,null,null,null,null,"","",null,null,null,null,null,null,null,null,null,"R1APHYSIO UNIT ROSEHILL","R1AA6","PHYSIO UNIT ROSEHILL","R1AA6","PHYSIO UNIT ROSEHILL","R1A"]
["",0,null,"",null,null,null,null,null,null,null,null,null,null,null,null,"","","","",null,"","","",null,null,null,null,null,null,null,null,null,null,null,null,"","",null,null,null,null,null,null,null,null,null,"R1APHYSIO UNIT THORNTON","R1A1A","PHYSIO UNIT THORNTON","R1A1A","PHYSIO UNIT THORNTON","R1A"]
["",0,null,"",null,null,null,null,null,null,null,null,null,null,null,null,"","","","",null,"","","",null,null,null,null,null,null,null,null,null,null,null,null,"","",null,null,null,null,null,null,null,null,null,"R1APOSTNATAL UNIT","R1ADM","POSTNATAL UNIT","R1ADM","POSTNATAL UNIT","R1A"]
["",0,null,"",null,null,null,null,null,null,null,null,null,null,null,null,"","","","",null,"","","",null,null,null,null,null,null,null,null,null,null,null,null,"","",null,null,null,null,null,null,null,null,null,"R1APRINCESS OF WALES HOSPITAL","R1ACG","PRINCESS OF WALES HOSPITAL","R1ACG","PRINCESS OF WALES HOSPITAL","R1A"]
["",0,null,"",null,null,null,null,null,null,null,null,null,null,null,null,"","","","",null,"","","",null,null,null,null,null,null,null,null,null,null,null,null,"","",null,null,null,null,null,null,null,null,null,"R1APUPIL REFERRAL UNIT","R1A60","PUPIL REFERRAL UNIT","R1A60","PUPIL REFERRAL UNIT","R1A"]
["",0,null,"",null,null,null,null,null,null,null,null,null,null,null,null,"","","","",null,"","","",null,null,null,null,null,null,null,null,null,null,null,null,"","",null,null,null,null,null,null,null,null,null,"R1AQUEEN ELIZABETH HOSPITAL","R1A02","QUEEN ELIZABETH HOSPITAL","R1A02","QUEEN ELIZABETH HOSPITAL","R1A"]
["",0,null,"",null,null,null,null,null,null,null,null,null,null,null,null,"","","","",null,"","","",null,null,null,null,null,null,null,null,null,null,null,null,"","",null,null,null,null,null,null,null,null,null,"R1ARIVENDELL","R1A14","RIVENDELL","R1A14","RIVENDELL","R1A"]
["",0,null,"",null,null,null,null,null,null,null,null,null,null,null,null,"","","","",null,"","","",null,null,null,null,null,null,null,null,null,null,null,null,"","",null,null,null,null,null,null,null,null,null,"R1ARIVERBANK NEONATAL UNIT","R1ADN","RIVERBANK NEONATAL UNIT","R1ADN","RIVERBANK NEONATAL UNIT","R1A"]
["",0,null,"",null,null,null,null,null,null,null,null,null,null,null,null,"","","","",null,"","","",null,null,null,null,null,null,null,null,null,null,null,null,"","",null,null,null,null,null,null,null,null,null,"R1ARUSSELLS HALL HOSPITAL","R1A56","RUSSELLS HALL HOSPITAL","R1A56","RUSSELLS HALL HOSPITAL","R1A"]
["",0,null,"",null,null,null,null,null,null,null,null,null,null,null,null,"","","","",null,"","","",null,null,null,null,null,null,null,null,null,null,null,null,"","",null,null,null,null,null,null,null,null,null,"R1ASILVERBIRCH","R1ACH","SILVERBIRCH","R1ACH","SILVERBIRCH","R1A"]
["",0,null,"",null,null,null,null,null,null,null,null,null,null,null,null,"","","","",null,"","","",null,null,null,null,null,null,null,null,null,null,null,null,"","",null,null,null,null,null,null,null,null,null,"R1ASTUDDERT KENNEDY OA","R1APG","STUDDERT KENNEDY OA","R1APG","STUDDERT KENNEDY OA","R1A"]
["",0,null,"",null,null,null,null,null,null,null,null,null,null,null,null,"","","","",null,"","","",null,null,null,null,null,null,null,null,null,null,null,null,"","",null,null,null,null,null,null,null,null,null,"R1ATENBURY COMMUNITY HOSPITAL","R1AAN","TENBURY COMMUNITY HOSPITAL","R1AAN","TENBURY COMMUNITY HOSPITAL","R1A"]
["",0,null,"",null,null,null,null,null,null,null,null,null,null,null,null,"","","","",null,"","","",null,null,null,null,null,null,null,null,null,null,null,null,"","",null,null,null,null,null,null,null,null,null,"R1ATESCO KIDDERMINSTER","R1A67","TESCO KIDDERMINSTER","R1A67","TESCO KIDDERMINSTER","R1A"]
["",0,null,"",null,null,null,null,null,null,null,null,null,null,null,null,"","","","",null,"","","",null,null,null,null,null,null,null,null,null,null,null,null,"","",null,null,null,null,null,null,null,null,null,"R1ATESCO REDDITCH","R1A43","TESCO REDDITCH","R1A43","TESCO REDDITCH","R1A"]
["",0,null,"",null,null,null,null,null,null,null,null,null,null,null,null,"","","","",null,"","","",null,null,null,null,null,null,null,null,null,null,null,null,"","",null,null,null,null,null,null,null,null,null,"R1ATESCO ST PETERS","R1A1G","TESCO ST PETERS","R1A1G","TESCO ST PETERS","R1A"]
["",0,null,"",null,null,null,null,null,null,null,null,null,null,null,null,"","","","",null,"","","",null,null,null,null,null,null,null,null,null,null,null,null,"","",null,null,null,null,null,null,null,null,null,"R1ATESCO WARNDON","R1AA1","TESCO WARNDON","R1AA1","TESCO WARNDON","R1A"]
["",0,null,"",null,null,null,null,null,null,null,null,null,null,null,null,"","","","",null,"","","",null,null,null,null,null,null,null,null,null,null,null,null,"","",null,null,null,null,null,null,null,null,null,"R1ATHE FIRS REST HOME","R1A1F","THE FIRS REST HOME","R1A1F","THE FIRS REST HOME","R1A"]
["",0,null,"",null,null,null,null,null,null,null,null,null,null,null,null,"","","","",null,"","","",null,null,null,null,null,null,null,null,null,null,null,null,"","",null,null,null,null,null,null,null,null,null,"R1ATHE GRANGE","R1A66","THE GRANGE","R1A66","THE GRANGE","R1A"]
["",0,null,"",null,null,null,null,null,null,null,null,null,null,null,null,"","","","",null,"","","",null,null,null,null,null,null,null,null,null,null,null,null,"","",null,null,null,null,null,null,null,null,null,"R1ATHE HIVE","R1AKX","THE HIVE","R1AKX","THE HIVE","R1A"]
["",0,null,"",null,null,null,null,null,null,null,null,null,null,null,null,"","","","",null,"","","",null,null,null,null,null,null,null,null,null,null,null,null,"","",null,null,null,null,null,null,null,null,null,{"$f":"CONCATENATE(LEFT(AW140, 3),AX140)","v":"R1ATHE OLD VICARAGE"},"R1AKL","THE OLD VICARAGE","R1AKL","THE OLD VICARAGE",{"$f":"LEFT(AY140,3)","v":"R1A"}]
["",0,null,"",null,null,null,null,null,null,null,null,null,null,null,null,"","","","",null,"","","",null,null,null,null,null,null,null,null,null,null,null,null,"","",null,null,null,null,null,null,null,null,null,"R1ATHE PINES","R1AHX","THE PINES","R1AHX","THE PINES","R1A"]
["",0,null,"",null,null,null,null,null,null,null,null,null,null,null,null,"","","","",null,"","","",null,null,null,null,null,null,null,null,null,null,null,null,"","",null,null,null,null,null,null,null,null,null,"R1ATHE ROBERTSON CENTRE (D BLOCK)","R1ACN","THE ROBERTSON CENTRE (D BLOCK)","R1ACN","THE ROBERTSON CENTRE (D BLOCK)","R1A"]
["",0,null,{"$f":"IF(ISNA(VLOOKUP($E$5&E143,$AV:$AW,2,FALSE)),\"\",VLOOKUP($E$5&E143,$AV:$AW,2,FALSE))","v":""},null,null,null,null,null,null,null,null,null,null,null,null,{"$f":"IF(ISERROR(IF($I143=\"\",\"\",J143/I143)),\"-\",(IF($I143=\"\",\"\",J143/I143)))","v":""},{"$f":"IF(ISERROR(IF(K143=\"\",\"\",L143/K143)),\"-\",(IF(K143=\"\",\"\",L143/K143)))","v":""},{"$f":"IF(ISERROR(IF(M143=\"\",\"\",N143/M143)),\"-\",(IF(M143=\"\",\"\",N143/M143)))","v":""},{"$f":"IF(ISERROR(IF(O143=\"\",\"\",P143/O143)),\"-\",IF(O143=\"\",\"\",P143/O143))","v":""},null,{"$f":"IF(ISERROR(IF($U143=\"\",\"\",SUM(J143,N143)/$U143)),\"-\",(IF($U143=\"\",\"\",SUM(J143,N143)/$U143)))","v":""},{"$f":"IF(ISERROR(IF($U143=\"\",\"\",SUM(L143,P143)/$U143)),\"-\",(IF($U143=\"\",\"\",SUM(L143,P143)/$U143)))","v":""},{"$f":"IF(ISERROR(IF($U143=\"\",\"\",SUM(J143,L143,N143,P143)/$U143)),\"-\",(IF($U143=\"\",\"\",SUM(J143,L143,N143,P143)/$U143)))","v":""},null,null,null,null,null,null,null,null,null,null,null,null,{"$f":"IF(M344=1,\"No Site Selected\",\"\")","v":""},{"$f":"IF(N344=1,\"No Ward Name\",\"\")","v":""},null,null,null,null,null,null,null,null,null,"R1ATHE WOODLANDS","R1A44","THE WOODLANDS","R1A44","THE WOODLANDS","R1A"]
["",{"$f":"IF(SUM(E345:G345,M345:N345)>0,1,IF(Y345>0,2,0))","v":0},null,"",null,null,null,null,null,null,null,null,null,null,null,null,"","","","",null,"","","",null,null,null,null,null,null,null,null,null,null,null,null,"","",null,null,null,null,null,null,null,null,null,"R1ATIMBERDINE HOME RESIDENTIAL CARE","R1AHM","TIMBERDINE HOME RESIDENTIAL CARE","R1AHM","TIMBERDINE HOME RESIDENTIAL CARE","R1A"]
[{"$f":"IF(M346=1,\"No Site Selected\",IF(N346=1,\"No Ward Name\",\"\"))","v":""},0,null,"",null,null,null,null,null,null,null,null,null,null,null,null,"","","","",null,"","","",null,null,null,null,null,null,null,null,null,null,null,null,"","",null,null,null,null,null,null,null,null,null,"R1ATOUCHSTONE UNIT","R1AAD","TOUCHSTONE UNIT","R1AAD","TOUCHSTONE UNIT","R1A"]
["",0,null,"",null,null,null,null,null,null,null,null,null,null,null,null,"","","","",null,"","","",null,null,null,null,null,null,null,null,null,null,null,null,"","",null,null,null,null,null,null,null,null,null,"R1AWALKWOOD MIDDLE AUTISM BASE","R1A31","WALKWOOD MIDDLE AUTISM BASE","R1A31","WALKWOOD MIDDLE AUTISM BASE","R1A"]
["",0,null,"",null,null,null,null,null,null,null,null,null,null,null,null,"","","","",null,"","","",null,null,null,null,null,null,null,null,null,null,null,null,"","",null,null,null,null,null,null,null,null,null,"R1AWALSGRAVE HOSPITAL","R1A55","WALSGRAVE HOSPITAL","R1A55","WALSGRAVE HOSPITAL","R1A"]
["",0,null,"",null,null,null,null,null,null,null,null,null,null,null,null,"","","","",null,"","","",null,null,null,null,null,null,null,null,null,null,null,null,"","",null,null,null,null,null,null,null,null,null,"R1AWASELY HIGH AUTISM BASE","R1A06","WASELY HIGH AUTISM BASE","R1A06","WASELY HIGH AUTISM BASE","R1A"]
["",0,null,"",null,null,null,null,null,null,null,null,null,null,null,null,"","","","",null,"","","",null,null,null,null,null,null,null,null,null,null,null,null,"","",null,null,null,null,null,null,null,null,null,"R1AWATERSIDE","R1AQG","WATERSIDE","R1AQG","WATERSIDE","R1A"]
["",0,null,"",null,null,null,null,null,null,null,null,null,null,null,null,"","","","",null,"","","",null,null,null,null,null,null,null,null,null,null,null,null,"","",null,null,null,null,null,null,null,null,null,"R1AWATERSIDE CARE HOME","R1AKR","WATERSIDE CARE HOME","R1AKR","WATERSIDE CARE HOME","R1A"]
["",0,null,"",null,null,null,null,null,null,null,null,null,null,null,null,"","","","",null,"","","",null,null,null,null,null,null,null,null,null,null,null,null,"","",null,null,null,null,null,null,null,null,null,"R1AWATERSIDE MENTAL HEALTH DAY HOSPITAL","R1A1V","WATERSIDE MENTAL HEALTH DAY HOSPITAL","R1A1V","WATERSIDE MENTAL HEALTH DAY HOSPITAL","R1A"]
["",0,null,"",null,null,null,null,null,null,null,null,null,null,null,null,"","","","",null,"","","",null,null,null,null,null,null,null,null,null,null,null,null,"","",null,null,null,null,null,null,null,null,null,"R1AWHCT HEALTHCARE FEATHERSTONE","R1AHY","WHCT HEALTHCARE FEATHERSTONE","R1AHY","WHCT HEALTHCARE FEATHERSTONE","R1A"]
["",0,null,"",null,null,null,null,null,null,null,null,null,null,null,null,"","","","",null,"","","",null,null,null,null,null,null,null,null,null,null,null,null,"","",null,null,null,null,null,null,null,null,null,"R1AWILDMOOR MILL FARM","R1A21","WILDMOOR MILL FARM","R1A21","WILDMOOR MILL FARM","R1A"]
["",0,null,"",null,null,null,null,null,null,null,null,null,null,null,null,"","","","",null,"","","",null,null,null,null,null,null,null,null,null,null,null,null,"","",null,null,null,null,null,null,null,null,null,"R1AWISHMOOR REST HOME","R1AKN","WISHMOOR REST HOME","R1AKN","WISHMOOR REST HOME","R1A"]
["",0,null,"",null,null,null,null,null,null,null,null,null,null,null,null,"","","","",null,"","","",null,null,null,null,null,null,null,null,null,null,null,null,"","",null,null,null,null,null,null,null,null,null,"R1AWOODSIDE","R1A1C","WOODSIDE","R1A1C","WOODSIDE","R1A"]
["",0,null,"",null,null,null,null,null,null,null,null,null,null,null,null,"","","","",null,"","","",null,null,null,null,null,null,null,null,null,null,null,null,"","",null,null,null,null,null,null,null,null,null,"R1AWORCESTER CITY MH 1","R1AQF","WORCESTER CITY MH 1","R1AQF","WORCESTER CITY MH 1","R1A"]
["",0,null,"",null,null,null,null,null,null,null,null,null,null,null,null,"","","","",null,"","","",null,null,null,null,null,null,null,null,null,null,null,null,"","",null,null,null,null,null,null,null,null,null,"R1AWORCESTER CITY MH 2","R1AQH","WORCESTER CITY MH 2","R1AQH","WORCESTER CITY MH 2","R1A"]
["",0,null,"",null,null,null,null,null,null,null,null,null,null,null,null,"","","","",null,"","","",null,null,null,null,null,null,null,null,null,null,null,null,"","",null,null,null,null,null,null,null,null,null,"R1AWORCESTER CITY MH 3","R1AQK","WORCESTER CITY MH 3","R1AQK","WORCESTER CITY MH 3","R1A"]
["",0,null,"",null,null,null,null,null,null,null,null,null,null,null,null,"","","","",null,"","","",null,null,null,null,null,null,null,null,null,null,null,null,"","",null,null,null,null,null,null,null,null,null,"R1AWORCESTER INTERMEDIATE CARE UNIT (WICU)","R1A1Q","WORCESTER INTERMEDIATE CARE UNIT (WICU)","R1A1Q","WORCESTER INTERMEDIATE CARE UNIT (WICU)","R1A"]
["",0,null,"",null,null,null,null,null,null,null,null,null,null,null,null,"","","","",null,"","","",null,null,null,null,null,null,null,null,null,null,null,null,"","",null,null,null,null,null,null,null,null,null,"R1AWORCESTERSHIRE ROYAL HOSPITAL","R1ADP","WORCESTERSHIRE ROYAL HOSPITAL","R1ADP","WORCESTERSHIRE ROYAL HOSPITAL","R1A"]
["",0,null,"",null,null,null,null,null,null,null,null,null,null,null,null,"","","","",null,"","","",null,null,null,null,null,null,null,null,null,null,null,null,"","",null,null,null,null,null,null,null,null,null,"R1AWULSTAN UNIT","R1AEC","WULSTAN UNIT","R1AEC","WULSTAN UNIT","R1A"]
["",0,null,"",null,null,null,null,null,null,null,null,null,null,null,null,"","","","",null,"","","",null,null,null,null,null,null,null,null,null,null,null,null,"","",null,null,null,null,null,null,null,null,null,"R1AWULSTAN UNIT REHABILITATION","R1AED","WULSTAN UNIT REHABILITATION","R1AED","WULSTAN UNIT REHABILITATION","R1A"]
["",0,null,"",null,null,null,null,null,null,null,null,null,null,null,null,"","","","",null,"","","",null,null,null,null,null,null,null,null,null,null,null,null,"","",null,null,null,null,null,null,null,null,null,"R1AWYCHAVON OA","R1AQJ","WYCHAVON OA","R1AQJ","WYCHAVON OA","R1A"]
["",0,null,"",null,null,null,null,null,null,null,null,null,null,null,null,"","","","",null,"","","",null,null,null,null,null,null,null,null,null,null,null,null,"","",null,null,null,null,null,null,null,null,null,"R1CADULT MENTAL HEALTH","R1C19","ADULT MENTAL HEALTH","R1C19","ADULT MENTAL HEALTH","R1C"]
["",0,null,"",null,null,null,null,null,null,null,null,null,null,null,null,"","","","",null,"","","",null,null,null,null,null,null,null,null,null,null,null,null,"","",null,null,null,null,null,null,null,null,null,"R1CAMULREE DAY HOSPITAL","R1C14","AMULREE DAY HOSPITAL","R1C14","AMULREE DAY HOSPITAL","R1C"]
["",0,null,"",null,null,null,null,null,null,null,null,null,null,null,null,"","","","",null,"","","",null,null,null,null,null,null,null,null,null,null,null,null,"","",null,null,null,null,null,null,null,null,null,"R1CASHURST HOSPITAL","R1C07","ASHURST HOSPITAL","R1C07","ASHURST HOSPITAL","R1C"]
["",0,null,"",null,null,null,null,null,null,null,null,null,null,null,null,"","","","",null,"","","",null,null,null,null,null,null,null,null,null,null,null,null,"","",null,null,null,null,null,null,null,null,null,"R1CBEHAVIOUR RESOURCE (BRS)","R1C54","BEHAVIOUR RESOURCE (BRS)","R1C54","BEHAVIOUR RESOURCE (BRS)","R1C"]
["",0,null,"",null,null,null,null,null,null,null,null,null,null,null,null,"","","","",null,"","","",null,null,null,null,null,null,null,null,null,null,null,null,"","",null,null,null,null,null,null,null,null,null,"R1CBRAMBLES WARD","R1C48","BRAMBLES WARD","R1C48","BRAMBLES WARD","R1C"]
["",0,null,"",null,null,null,null,null,null,null,null,null,null,null,null,"","","","",null,"","","",null,null,null,null,null,null,null,null,null,null,null,null,"","",null,null,null,null,null,null,null,null,null,"R1CC&SH ANDOVER","R1C62","C&SH ANDOVER","R1C62","C&SH ANDOVER","R1C"]
["",0,null,"",null,null,null,null,null,null,null,null,null,null,null,null,"","","","",null,"","","",null,null,null,null,null,null,null,null,null,null,null,null,"","",null,null,null,null,null,null,null,null,null,"R1CC&SH BASINGSTOKE","R1C45","C&SH BASINGSTOKE","R1C45","C&SH BASINGSTOKE","R1C"]
["",0,null,"",null,null,null,null,null,null,null,null,null,null,null,null,"","","","",null,"","","",null,null,null,null,null,null,null,null,null,null,null,null,"","",null,null,null,null,null,null,null,null,null,"R1CC&SH PORTSMOUTH","R1C17","C&SH PORTSMOUTH","R1C17","C&SH PORTSMOUTH","R1C"]
["",0,null,"",null,null,null,null,null,null,null,null,null,null,null,null,"","","","",null,"","","",null,null,null,null,null,null,null,null,null,null,null,null,"","",null,null,null,null,null,null,null,null,null,"R1CC&SH SOUTHAMPTON","R1C51","C&SH SOUTHAMPTON","R1C51","C&SH SOUTHAMPTON","R1C"]
["",0,null,"",null,null,null,null,null,null,null,null,null,null,null,null,"","","","",null,"","","",null,null,null,null,null,null,null,null,null,null,null,null,"","",null,null,null,null,null,null,null,null,null,"R1CC&SH WINCHESTER","R1C58","C&SH WINCHESTER","R1C58","C&SH WINCHESTER","R1C"]
["",0,null,"",null,null,null,null,null,null,null,null,null,null,null,null,"","","","",null,"","","",null,null,null,null,null,null,null,null,null,null,null,null,"","",null,null,null,null,null,null,null,null,null,"R1CCAMPION PLACE","R1C90","CAMPION PLACE","R1C90","CAMPION PLACE","R1C"]
["",0,null,"",null,null,null,null,null,null,null,null,null,null,null,null,"","","","",null,"","","",null,null,null,null,null,null,null,null,null,null,null,null,"","",null,null,null,null,null,null,null,null,null,"R1CCHASE COMMUNITY HOSPITAL","R1CG1","CHASE COMMUNITY HOSPITAL","R1CG1","CHASE COMMUNITY HOSPITAL","R1C"]
["",0,null,"",null,null,null,null,null,null,null,null,null,null,null,null,"","","","",null,"","","",null,null,null,null,null,null,null,null,null,null,null,null,"","",null,null,null,null,null,null,null,null,null,"R1CCOMMUNITY PAEDIATRICS - EAST","R1C22","COMMUNITY PAEDIATRICS - EAST","R1C22","COMMUNITY PAEDIATRICS - EAST","R1C"]
["",0,null,"",null,null,null,null,null,null,null,null,null,null,null,null,"","","","",null,"","","",null,null,null,null,null,null,null,null,null,null,null,null,"","",null,null,null,null,null,null,null,null,null,"R1CCOMMUNITY PAEDIATRICS - WEST","R1C55","COMMUNITY PAEDIATRICS - WEST","R1C55","COMMUNITY PAEDIATRICS - WEST","R1C"]
["",0,null,"",null,null,null,null,null,null,null,null,null,null,null,null,"","","","",null,"","","",null,null,null,null,null,null,null,null,null,null,null,null,"","",null,null,null,null,null,null,null,null,null,"R1CCOMMUNITY PAEDS N.FOREST","R1CA6","COMMUNITY PAEDS N.FOREST","R1CA6","COMMUNITY PAEDS N.FOREST","R1C"]
["",0,null,"",null,null,null,null,null,null,null,null,null,null,null,null,"","","","",null,"","","",null,null,null,null,null,null,null,null,null,null,null,null,"","",null,null,null,null,null,null,null,null,null,"R1CCROWN HEIGHTS","R1CH3","CROWN HEIGHTS","R1CH3","CROWN HEIGHTS","R1C"]
["",0,null,"",null,null,null,null,null,null,null,null,null,null,null,null,"","","","",null,"","","",null,null,null,null,null,null,null,null,null,null,null,null,"","",null,null,null,null,null,null,null,null,null,"R1CEASTLEIGH DAS","R1CR3","EASTLEIGH DAS","R1CR3","EASTLEIGH DAS","R1C"]
["",0,null,"",null,null,null,null,null,null,null,null,null,null,null,null,"","","","",null,"","","",null,null,null,null,null,null,null,null,null,null,null,null,"","",null,null,null,null,null,null,null,null,null,"R1CELMLEIGH HOSPITAL","R1CM8","ELMLEIGH HOSPITAL","R1CM8","ELMLEIGH HOSPITAL","R1C"]
["",0,null,"",null,null,null,null,null,null,null,null,null,null,null,null,"","","","",null,"","","",null,null,null,null,null,null,null,null,null,null,null,null,"","",null,null,null,null,null,null,null,null,null,"R1CFANSHAWE WARD","R1C49","FANSHAWE WARD","R1C49","FANSHAWE WARD","R1C"]
["",0,null,"",null,null,null,null,null,null,null,null,null,null,null,null,"","","","",null,"","","",null,null,null,null,null,null,null,null,null,null,null,null,"","",null,null,null,null,null,null,null,null,null,"R1CFAREHAM COMMUNITY HOSPITAL","R1CF4","FAREHAM COMMUNITY HOSPITAL","R1CF4","FAREHAM COMMUNITY HOSPITAL","R1C"]
["",0,null,"",null,null,null,null,null,null,null,null,null,null,null,null,"","","","",null,"","","",null,null,null,null,null,null,null,null,null,null,null,null,"","",null,null,null,null,null,null,null,null,null,"R1CFAREHAM REACH UNIT","R1C89","FAREHAM REACH UNIT","R1C89","FAREHAM REACH UNIT","R1C"]
["",0,null,"",null,null,null,null,null,null,null,null,null,null,null,null,"","","","",null,"","","",null,null,null,null,null,null,null,null,null,null,null,null,"","",null,null,null,null,null,null,null,null,null,"R1CFENWICK HOSPITAL","R1CT7","FENWICK HOSPITAL","R1CT7","FENWICK HOSPITAL","R1C"]
["",0,null,"",null,null,null,null,null,null,null,null,null,null,null,null,"","","","",null,"","","",null,null,null,null,null,null,null,null,null,null,null,null,"","",null,null,null,null,null,null,null,null,null,"R1CFLEET COMMUNITY HOSPITAL","R1CG3","FLEET COMMUNITY HOSPITAL","R1CG3","FLEET COMMUNITY HOSPITAL","R1C"]
["",0,null,"",null,null,null,null,null,null,null,null,null,null,null,null,"","","","",null,"","","",null,null,null,null,null,null,null,null,null,null,null,null,"","",null,null,null,null,null,null,null,null,null,"R1CFRITH COTTAGE DAS","R1C09","FRITH COTTAGE DAS","R1C09","FRITH COTTAGE DAS","R1C"]
["",0,null,"",null,null,null,null,null,null,null,null,null,null,null,null,"","","","",null,"","","",null,null,null,null,null,null,null,null,null,null,null,null,"","",null,null,null,null,null,null,null,null,null,"R1CGOSPORT WAR MEMORIAL HOSPITAL","R1C70","GOSPORT WAR MEMORIAL HOSPITAL","R1C70","GOSPORT WAR MEMORIAL HOSPITAL","R1C"]
["",0,null,"",null,null,null,null,null,null,null,null,null,null,null,null,"","","","",null,"","","",null,null,null,null,null,null,null,null,null,null,null,null,"","",null,null,null,null,null,null,null,null,null,"R1CHAVANT WAR MEMORIAL HOSPITAL","R1CJ2","HAVANT WAR MEMORIAL HOSPITAL","R1CJ2","HAVANT WAR MEMORIAL HOSPITAL","R1C"]
["",0,null,"",null,null,null,null,null,null,null,null,null,null,null,null,"","","","",null,"","","",null,null,null,null,null,null,null,null,null,null,null,null,"","",null,null,null,null,null,null,null,null,null,"R1CHOOK SHADIE AT THE BASE","R1CE8","HOOK SHADIE AT THE BASE","R1CE8","HOOK SHADIE AT THE BASE","R1C"]
["",0,null,"",null,null,null,null,null,null,null,null,null,null,null,null,"","","","",null,"","","",null,null,null,null,null,null,null,null,null,null,null,null,"","",null,null,null,null,null,null,null,null,null,"R1CHUNTERCOMBE MANOR HOSPITAL","R1CA9","HUNTERCOMBE MANOR HOSPITAL","R1CA9","HUNTERCOMBE MANOR HOSPITAL","R1C"]
["",0,null,"",null,null,null,null,null,null,null,null,null,null,null,null,"","","","",null,"","","",null,null,null,null,null,null,null,null,null,null,null,null,"","",null,null,null,null,null,null,null,null,null,"R1CHYTHE HOSPITAL","R1CG7","HYTHE HOSPITAL","R1CG7","HYTHE HOSPITAL","R1C"]
["",0,null,"",null,null,null,null,null,null,null,null,null,null,null,null,"","","","",null,"","","",null,null,null,null,null,null,null,null,null,null,null,null,"","",null,null,null,null,null,null,null,null,null,"R1CINSCAPE","R1C95","INSCAPE","R1C95","INSCAPE","R1C"]
["",0,null,"",null,null,null,null,null,null,null,null,null,null,null,null,"","","","",null,"","","",null,null,null,null,null,null,null,null,null,null,null,null,"","",null,null,null,null,null,null,null,null,null,"R1CINTEGRATED DRUG TREATMENT","R1C59","INTEGRATED DRUG TREATMENT","R1C59","INTEGRATED DRUG TREATMENT","R1C"]
["",0,null,"",null,null,null,null,null,null,null,null,null,null,null,null,"","","","",null,"","","",null,null,null,null,null,null,null,null,null,null,null,null,"","",null,null,null,null,null,null,null,null,null,"R1CLOWER MOUNTBATTON GALLERY","R1C12","LOWER MOUNTBATTON GALLERY","R1C12","LOWER MOUNTBATTON GALLERY","R1C"]
["",0,null,"",null,null,null,null,null,null,null,null,null,null,null,null,"","","","",null,"","","",null,null,null,null,null,null,null,null,null,null,null,null,"","",null,null,null,null,null,null,null,null,null,"R1CLYMINGTON NEW FOREST HOSPITAL","R1CG4","LYMINGTON NEW FOREST HOSPITAL","R1CG4","LYMINGTON NEW FOREST HOSPITAL","R1C"]
["",0,null,"",null,null,null,null,null,null,null,null,null,null,null,null,"","","","",null,"","","",null,null,null,null,null,null,null,null,null,null,null,null,"","",null,null,null,null,null,null,null,null,null,"R1CMILFORD WAR MEMORIAL HOSPITAL","R1CG5","MILFORD WAR MEMORIAL HOSPITAL","R1CG5","MILFORD WAR MEMORIAL HOSPITAL","R1C"]
["",0,null,"",null,null,null,null,null,null,null,null,null,null,null,null,"","","","",null,"","","",null,null,null,null,null,null,null,null,null,null,null,null,"","",null,null,null,null,null,null,null,null,null,"R1CMINOR INJURIES UNIT","R1CH0","MINOR INJURIES UNIT","R1CH0","MINOR INJURIES UNIT","R1C"]
["",0,null,"",null,null,null,null,null,null,null,null,null,null,null,null,"","","","",null,"","","",null,null,null,null,null,null,null,null,null,null,null,null,"","",null,null,null,null,null,null,null,null,null,"R1CMOORGREEN HOSPITAL","R1C02","MOORGREEN HOSPITAL","R1C02","MOORGREEN HOSPITAL","R1C"]
["",0,null,"",null,null,null,null,null,null,null,null,null,null,null,null,"","","","",null,"","","",null,null,null,null,null,null,null,null,null,null,null,null,"","",null,null,null,null,null,null,null,null,null,"R1CNEW FOREST DAS","R1C65","NEW FOREST DAS","R1C65","NEW FOREST DAS","R1C"]
["",0,null,"",null,null,null,null,null,null,null,null,null,null,null,null,"","","","",null,"","","",null,null,null,null,null,null,null,null,null,null,null,null,"","",null,null,null,null,null,null,null,null,null,"R1CNO LIMITS","R1CG6","NO LIMITS","R1CG6","NO LIMITS","R1C"]
["",0,null,"",null,null,null,null,null,null,null,null,null,null,null,null,"","","","",null,"","","",null,null,null,null,null,null,null,null,null,null,null,null,"","",null,null,null,null,null,null,null,null,null,"R1CNO LIMITS - SHIRLEY","R1CL2","NO LIMITS - SHIRLEY","R1CL2","NO LIMITS - SHIRLEY","R1C"]
["",0,null,"",null,null,null,null,null,null,null,null,null,null,null,null,"","","","",null,"","","",null,null,null,null,null,null,null,null,null,null,null,null,"","",null,null,null,null,null,null,null,null,null,"R1CNO LIMITS - SHOLING","R1CL3","NO LIMITS - SHOLING","R1CL3","NO LIMITS - SHOLING","R1C"]
["",0,null,"",null,null,null,null,null,null,null,null,null,null,null,null,"","","","",null,"","","",null,null,null,null,null,null,null,null,null,null,null,null,"","",null,null,null,null,null,null,null,null,null,{"$f":"CONCATENATE(LEFT(AW204, 3),AX204)","v":"R1COAKRIDGE HALL FOR ALL"},"R1CL5","OAKRIDGE HALL FOR ALL","R1CL5","OAKRIDGE HALL FOR ALL",{"$f":"LEFT(AY204,3)","v":"R1C"}]
["",0,null,"",null,null,null,null,null,null,null,null,null,null,null,null,"","","","",null,"","","",null,null,null,null,null,null,null,null,null,null,null,null,"","",null,null,null,null,null,null,null,null,null,"R1COLDER PERS MENTAL HEALTH","R1C26","OLDER PERS MENTAL HEALTH","R1C26","OLDER PERS MENTAL HEALTH","R1C"]
["",0,null,"",null,null,null,null,null,null,null,null,null,null,null,null,"","","","",null,"","","",null,null,null,null,null,null,null,null,null,null,null,null,"","",null,null,null,null,null,null,null,null,null,"R1CPETERSFIELD HOSPITAL","R1CD8","PETERSFIELD HOSPITAL","R1CD8","PETERSFIELD HOSPITAL","R1C"]
["",0,null,{"$f":"IF(ISNA(VLOOKUP($E$5&E207,$AV:$AW,2,FALSE)),\"\",VLOOKUP($E$5&E207,$AV:$AW,2,FALSE))","v":""},null,null,null,null,null,null,null,null,null,null,null,null,{"$f":"IF(ISERROR(IF($I207=\"\",\"\",J207/I207)),\"-\",(IF($I207=\"\",\"\",J207/I207)))","v":""},{"$f":"IF(ISERROR(IF(K207=\"\",\"\",L207/K207)),\"-\",(IF(K207=\"\",\"\",L207/K207)))","v":""},{"$f":"IF(ISERROR(IF(M207=\"\",\"\",N207/M207)),\"-\",(IF(M207=\"\",\"\",N207/M207)))","v":""},{"$f":"IF(ISERROR(IF(O207=\"\",\"\",P207/O207)),\"-\",IF(O207=\"\",\"\",P207/O207))","v":""},null,{"$f":"IF(ISERROR(IF($U207=\"\",\"\",SUM(J207,N207)/$U207)),\"-\",(IF($U207=\"\",\"\",SUM(J207,N207)/$U207)))","v":""},{"$f":"IF(ISERROR(IF($U207=\"\",\"\",SUM(L207,P207)/$U207)),\"-\",(IF($U207=\"\",\"\",SUM(L207,P207)/$U207)))","v":""},{"$f":"IF(ISERROR(IF($U207=\"\",\"\",SUM(J207,L207,N207,P207)/$U207)),\"-\",(IF($U207=\"\",\"\",SUM(J207,L207,N207,P207)/$U207)))","v":""},null,null,null,null,null,null,null,null,null,null,null,null,{"$f":"IF(M408=1,\"No Site Selected\",\"\")","v":""},{"$f":"IF(N408=1,\"No Ward Name\",\"\")","v":""},null,null,null,null,null,null,null,null,null,"R1CPICKLES COPPICE","R1C44","PICKLES COPPICE","R1C44","PICKLES COPPICE","R1C"]
["",{"$f":"IF(SUM(E409:G409,M409:N409)>0,1,IF(Y409>0,2,0))","v":0},null,"",null,null,null,null,null,null,null,null,null,null,null,null,"","","","",null,"","","",null,null,null,null,null,null,null,null,null,null,null,null,"","",null,null,null,null,null,null,null,null,null,"R1CPRINCESS ANNE HOSPITAL","R1C36","PRINCESS ANNE HOSPITAL","R1C36","PRINCESS ANNE HOSPITAL","R1C"]
[{"$f":"IF(M410=1,\"No Site Selected\",IF(N410=1,\"No Ward Name\",\"\"))","v":""},0,null,"",null,null,null,null,null,null,null,null,null,null,null,null,"","","","",null,"","","",null,null,null,null,null,null,null,null,null,null,null,null,"","",null,null,null,null,null,null,null,null,null,"R1CQUEEN ALEXANDRA HOSPITAL","R1CJ7","QUEEN ALEXANDRA HOSPITAL","R1CJ7","QUEEN ALEXANDRA HOSPITAL","R1C"]
[{"$f":"IF(M411=1,\"No Site Selected\",IF(N411=1,\"No Ward Name\",\"\"))","v":""},0,null,"",null,null,null,null,null,null,null,null,null,null,null,null,"","","","",null,"","","",null,null,null,null,null,null,null,null,null,null,null,null,"","",null,null,null,null,null,null,null,null,null,"R1CROMSEY HOSPITAL","R1C46","ROMSEY HOSPITAL","R1C46","ROMSEY HOSPITAL","R1C"]
[{"$f":"IF(M412=1,\"No Site Selected\",IF(N412=1,\"No Ward Name\",\"\"))","v":""},0,null,"",null,null,null,null,null,null,null,null,null,null,null,null,"","","","",null,"","","",null,null,null,null,null,null,null,null,null,null,null,null,"","",null,null,null,null,null,null,null,null,null,"R1CSAINSBURYS","R1CV7","SAINSBURYS","R1CV7","SAINSBURYS","R1C"]
[{"$f":"IF(M413=1,\"No Site Selected\",IF(N413=1,\"No Ward Name\",\"\"))","v":""},0,null,"",null,null,null,null,null,null,null,null,null,null,null,null,"","","","",null,"","","",null,null,null,null,null,null,null,null,null,null,null,null,"","",null,null,null,null,null,null,null,null,null,"R1CSNOWDON NEURO REHAB UNIT","R1C52","SNOWDON NEURO REHAB UNIT","R1C52","SNOWDON NEURO REHAB UNIT","R1C"]
[{"$f":"IF(M414=1,\"No Site Selected\",IF(N414=1,\"No Ward Name\",\"\"))","v":""},0,null,"",null,null,null,null,null,null,null,null,null,null,null,null,"","","","",null,"","","",null,null,null,null,null,null,null,null,null,null,null,null,"","",null,null,null,null,null,null,null,null,null,"R1CSOUTHAMPTON GENERAL HOSPITAL","R1C40","SOUTHAMPTON GENERAL HOSPITAL","R1C40","SOUTHAMPTON GENERAL HOSPITAL","R1C"]
[null,null,null,null,null,"Total",null,null,{"$f":"SUM(I14:I213)","v":55023},44975.5,32487.5,31251.5,47817,44102.5,23586.5,{"$f":"SUM(P14:P213)","v":23667},null,null,null,null,{"$f":"SUM(U14:U213)","v":19236},null,null,null,null,null,null,null,null,null,null,null,null,null,null,null,{"$f":"COUNTIF(AK14:AK213,\"No Site Selected\")","v":0},{"$f":"COUNTIF(AL14:AL213,\"No Ward Name\")","v":0},null,null,null,null,null,null,null,null,null,"R1CSPINNAKER WARD","R1CC3","SPINNAKER WARD","R1CC3","SPINNAKER WARD","R1C"]
[{"$f":"VLOOKUP($D14,$AW:$AW,1,0)","v":"RWG02"},{"$f":"VLOOKUP($E14,$AX:$AX,1,0)","v":"WATFORD GENERAL HOSPITAL - RWG02"},null,{"$f":"IF(D14=\"\",0,IF(ISERROR(VLOOKUP(D14,$AW$3:$AW$249,1,0)),0,IF(VLOOKUP(D14,$AW$3:$BA$249,5,0)=$B$8,0,1)))","v":0},{"$f":"IF(E14=\"\",0,IF(G14=\"\",1,0))","v":0},{"$f":"IF(E14=\"\",\"\",IF(SUM(I14,K14,M14,O14)=0,1,0))","v":0},{"$f":"IF(E14=\"\",\"\",IF(SUM(J14,L14,N14,P14)=0,1,0))","v":0},{"$f":"IF(E14=\"\",0,IF(SUM(I14:P14)<1448,1,0))","v":0},{"$f":"IF(E14=\"\",0,IF(SUM(I14:P14)>30000,1,0))","v":0},{"$f":"IF(G14=\"\",0,IF(ISERROR(VLOOKUP(G14,$Z$14:$Z$98,1,FALSE)),1,0))","v":0},{"$f":"IF(H14=\"\",0,IF(ISERROR(VLOOKUP(H14,$Z$14:$Z$98,1,FALSE)),1,0))","v":0},{"$f":"IF(E14=\"\",0,IF(D14=\"\",1,0))","v":0},{"$f":"IF(OR(I14<>\"\",K14<>\"\",J14<>\"\",L14<>\"\",M14<>\"\",N14<>\"\",O14<>\"\",P14<>\"\",F14<>\"\",G14<>\"\",H14<>\"\"),IF(E14=\"\",1,0),0)","v":0},{"$f":"IF(E14=\"\",0,IF(F14=\"\",1,0))","v":0},null,null,{"$f":"IF(Q14=\"\",0,IF(Q14>100%,1,0))","v":0},1,0,1,{"$f":"IF(AND(SUM(J14,L14,N14,P14)>0,U14=0),1,0)","v":0},null,null,null,{"$f":"SUM(H215:T215)","v":2},null,null,null,null,null,null,null,null,null,null,null,null,null,null,null,null,null,null,null,null,null,null,"R1CST JAMES' HOSPITAL","R1CF2","ST JAMES' HOSPITAL","R1CF2","ST JAMES' HOSPITAL","R1C"]
["RWG02","WATFORD GENERAL HOSPITAL - RWG02",null,0,{"$f":"IF(E15=\"\",0,IF(G15=\"\",1,0))","v":0},{"$f":"IF(E15=\"\",\"\",IF(SUM(I15,K15,M15,O15)=0,1,0))","v":0},{"$f":"IF(E15=\"\",\"\",IF(SUM(J15,L15,N15,P15)=0,1,0))","v":0},{"$f":"IF(E15=\"\",0,IF(SUM(I15:P15)<1448,1,0))","v":0},{"$f":"IF(E15=\"\",0,IF(SUM(I15:P15)>30000,1,0))","v":0},0,0,{"$f":"IF(E15=\"\",0,IF(D15=\"\",1,0))","v":0},{"$f":"IF(OR(I15<>\"\",K15<>\"\",J15<>\"\",L15<>\"\",M15<>\"\",N15<>\"\",O15<>\"\",P15<>\"\",F15<>\"\",G15<>\"\",H15<>\"\"),IF(E15=\"\",1,0),0)","v":0},{"$f":"IF(E15=\"\",0,IF(F15=\"\",1,0))","v":0},null,null,0,0,0,0,{"$f":"IF(AND(SUM(J15,L15,N15,P15)>0,U15=0),1,0)","v":0},null,null,null,{"$f":"SUM(H216:T216)","v":0},null,null,null,null,{"$f":"IF(Q14=\"\",0, IF(Q14=\"-\",0,IF(Q14>100%,1,0)))","v":0},{"$f":"IF(R14=\"\",0, IF(R14=\"-\",0,IF(R14>100%,1,0)))","v":1},0,1,null,null,null,{"$f":"CONCATENATE(D14,E14,F14)","v":"RWG02WATFORD GENERAL HOSPITAL - RWG02AAU Blue Level 1"},{"$f":"IF(AK216=\"\",\"\",(IF(COUNTIF($AK$216:$AK$414,AK216)>1,1,0))=1)","v":false},{"$f":"IF(AL216=TRUE,1,0)","v":0},{"$f":"IF(E14=\"\",(COUNTA(E15)=1),\"Complete\")","v":"Complete"},{"$f":"IF(AN216=\"Complete\",0, IF(AN216=TRUE, 1, IF(AN216=FALSE,0,0)))","v":0},{"$f":"IF(G14=\"\",0,IF(G14=H14,1,0))","v":0},null,null,null,null,null,"R1CST MARY'S HEALTH CAMPUS","R1CD4","ST MARY'S HEALTH CAMPUS","R1CD4","ST MARY'S HEALTH CAMPUS","R1C"]
["RWG02","WATFORD GENERAL HOSPITAL - RWG02",null,0,0,0,0,0,0,0,0,0,0,0,null,null,0,0,0,0,0,null,null,null,0,null,null,null,null,{"$f":"IF(Q15=\"\",0, IF(Q15=\"-\",0,IF(Q15>100%,1,0)))","v":0},{"$f":"IF(R15=\"\",0, IF(R15=\"-\",0,IF(R15>100%,1,0)))","v":0},{"$f":"IF(S15=\"\",0, IF(S15=\"-\",0,IF(S15>100%,1,0)))","v":0},{"$f":"IF(T15=\"\",0, IF(T15=\"-\",0,IF(T15>100%,1,0)))","v":0},null,null,null,{"$f":"CONCATENATE(D15,E15,F15)","v":"RWG02WATFORD GENERAL HOSPITAL - RWG02AAU Green Level 1"},false,{"$f":"IF(AL217=TRUE,1,0)","v":0},"Complete",{"$f":"IF(AN217=\"Complete\",0, IF(AN217=TRUE, 1, IF(AN217=FALSE,0,0)))","v":0},0,null,null,null,null,null,"R1CSTONEHAM MUSCULOSKELETAL","R1C60","STONEHAM MUSCULOSKELETAL","R1C60","STONEHAM MUSCULOSKELETAL","R1C"]
["RWG02","WATFORD GENERAL HOSPITAL - RWG02",null,0,{"$f":"IF(E17=\"\",0,IF(G17=\"\",1,0))","v":0},0,0,0,0,0,0,0,0,0,null,null,0,0,0,0,0,null,null,null,0,null,null,null,null,0,0,0,0,null,null,null,"RWG02WATFORD GENERAL HOSPITAL - RWG02AAU Yellow Level 1",false,0,"Complete",0,0,null,null,null,null,null,"R1CTHE ORIGINAL PLACE","R1C79","THE ORIGINAL PLACE","R1C79","THE ORIGINAL PLACE","R1C"]
["RWG02","WATFORD GENERAL HOSPITAL - RWG02",null,0,0,0,0,0,0,0,0,0,0,0,null,null,0,0,0,1,0,null,null,null,1,null,null,null,null,0,0,0,0,null,null,null,"RWG02WATFORD GENERAL HOSPITAL - RWG02AAU Triage Level 1",false,0,"Complete",0,{"$f":"IF(G17=\"\",0,IF(G17=H17,1,0))","v":0},null,null,null,null,null,"R1CTHE POTTERIES","R1CP5","THE POTTERIES","R1CP5","THE POTTERIES","R1C"]
["RWG02","WATFORD GENERAL HOSPITAL - RWG02",null,0,0,0,0,0,0,0,0,0,0,0,null,null,0,1,0,1,0,null,null,null,2,null,null,null,null,0,0,0,1,null,null,null,"RWG02WATFORD GENERAL HOSPITAL - RWG02AAU Blue & Yellow Level 3",false,0,"Complete",0,0,null,null,null,null,null,"R1CTHE ROYAL SOUTH HANTS HOSPITAL","R1C34","THE ROYAL SOUTH HANTS HOSPITAL","R1C34","THE ROYAL SOUTH HANTS HOSPITAL","R1C"]
["RWG02","WATFORD GENERAL HOSPITAL - RWG02",null,0,0,0,0,0,0,0,0,0,0,0,null,null,0,1,0,1,0,null,null,null,2,null,null,null,null,0,1,0,1,null,null,null,"RWG02WATFORD GENERAL HOSPITAL - RWG02AAU Red Suite",false,0,"Complete",0,0,null,null,null,null,null,"R1CVICTORY UNIT","R1CD3","VICTORY UNIT","R1CD3","VICTORY UNIT","R1C"]
["RWG02","WATFORD GENERAL HOSPITAL - RWG02",null,0,0,0,0,0,0,0,0,0,0,0,null,null,0,1,0,1,0,null,null,null,2,null,null,null,null,0,1,0,1,null,null,null,"RWG02WATFORD GENERAL HOSPITAL - RWG02Acute Stroke Unit",false,0,"Complete",0,0,null,null,null,null,null,"R1CWESTERN COMMUNITY HOSPITAL","R1C03","WESTERN COMMUNITY HOSPITAL","R1C03","WESTERN COMMUNITY HOSPITAL","R1C"]
["RWG02","WATFORD GENERAL HOSPITAL - RWG02",null,0,0,0,0,0,0,0,0,0,0,0,null,null,0,0,0,0,0,null,null,null,0,null,null,null,null,0,1,0,1,null,null,null,"RWG02WATFORD GENERAL HOSPITAL - RWG02Aldenham",false,0,"Complete",0,0,null,null,null,null,null,"R1DAPCS SHREWSBURY","R1DD3","APCS SHREWSBURY","R1DD3","APCS SHREWSBURY","R1D"]
["RWG02","WATFORD GENERAL HOSPITAL - RWG02",null,0,0,0,0,0,0,0,0,0,0,0,null,null,0,0,0,1,0,null,null,null,1,null,null,null,null,0,0,0,0,null,null,null,"RWG02WATFORD GENERAL HOSPITAL - RWG02Bluebell",false,0,"Complete",0,0,null,null,null,null,null,"R1DBEECHES HOSPITAL","R1DAM","BEECHES HOSPITAL","R1DAM","BEECHES HOSPITAL","R1D"]
["RWG02","WATFORD GENERAL HOSPITAL - RWG02",null,0,0,0,0,0,0,0,0,0,0,0,null,null,0,1,0,1,0,null,null,null,2,null,null,null,null,0,0,0,1,null,null,null,"RWG02WATFORD GENERAL HOSPITAL - RWG02Cardiac Care",false,0,"Complete",0,0,null,null,null,null,null,"R1DBELLE VUE (GP)","R1D53","BELLE VUE (GP)","R1D53","BELLE VUE (GP)","R1D"]
["RWG02","WATFORD GENERAL HOSPITAL - RWG02",null,0,0,0,0,0,0,0,0,0,0,0,null,null,0,1,0,1,0,null,null,null,2,null,null,null,null,0,1,0,1,null,null,null,"RWG02WATFORD GENERAL HOSPITAL - RWG02Cassio",false,0,"Complete",0,0,null,null,null,null,null,"R1DBISHOPS CASTLE COMMUNITY HOSPITAL","R1DG4","BISHOPS CASTLE COMMUNITY HOSPITAL","R1DG4","BISHOPS CASTLE COMMUNITY HOSPITAL","R1D"]
["RWG02","WATFORD GENERAL HOSPITAL - RWG02",null,0,0,0,0,0,0,0,0,0,0,0,null,null,0,0,0,0,0,null,null,null,0,null,null,null,null,{"$f":"IF(Q25=\"\",0, IF(Q25=\"-\",0,IF(Q25>100%,1,0)))","v":0},{"$f":"IF(R25=\"\",0, IF(R25=\"-\",0,IF(R25>100%,1,0)))","v":1},{"$f":"IF(S25=\"\",0, IF(S25=\"-\",0,IF(S25>100%,1,0)))","v":0},{"$f":"IF(T25=\"\",0, IF(T25=\"-\",0,IF(T25>100%,1,0)))","v":1},null,null,null,"RWG02WATFORD GENERAL HOSPITAL - RWG02Croxley",false,0,"Complete",0,0,null,null,null,null,null,"R1DBISHOPS CASTLE HOSP OPD1","R1DJ3","BISHOPS CASTLE HOSP OPD1","R1DJ3","BISHOPS CASTLE HOSP OPD1","R1D"]
["RWG02","WATFORD GENERAL HOSPITAL - RWG02",null,0,0,0,0,0,0,0,0,0,0,0,null,null,0,0,0,0,0,null,null,null,0,null,null,null,null,0,0,0,0,null,null,null,"RWG02WATFORD GENERAL HOSPITAL - RWG02Heronsgate & Gade",false,0,"Complete",0,0,null,null,null,null,null,"R1DBISHOPS CASTLE HOSPITAL","R1D25","BISHOPS CASTLE HOSPITAL","R1D25","BISHOPS CASTLE HOSPITAL","R1D"]
["RWG02","WATFORD GENERAL HOSPITAL - RWG02",null,0,0,0,0,0,0,0,0,0,0,0,null,null,0,0,0,1,0,null,null,null,1,null,null,null,null,0,0,0,0,null,null,null,"RWG02WATFORD GENERAL HOSPITAL - RWG02Oxhey",false,0,"Complete",0,0,null,null,null,null,null,"R1DBRIDGNORTH COMMUNITY HOSPITAL","R1DG2","BRIDGNORTH COMMUNITY HOSPITAL","R1DG2","BRIDGNORTH COMMUNITY HOSPITAL","R1D"]
["RWG02","WATFORD GENERAL HOSPITAL - RWG02",null,0,0,0,0,0,0,0,0,0,0,0,null,null,0,0,0,0,0,null,null,null,0,null,null,null,null,0,0,0,1,null,null,null,"RWG02WATFORD GENERAL HOSPITAL - RWG02Sarratt",false,0,"Complete",0,0,null,null,null,null,null,"R1DBRIDGNORTH HOSP OPD1","R1DJ1","BRIDGNORTH HOSP OPD1","R1DJ1","BRIDGNORTH HOSP OPD1","R1D"]
["RWG02","WATFORD GENERAL HOSPITAL - RWG02",null,0,0,0,0,0,0,0,0,0,0,0,null,null,{"$f":"IF(Q30=\"\",0,IF(Q30>100%,1,0))","v":0},1,0,1,0,null,null,null,2,null,null,null,null,0,0,0,0,null,null,null,"RWG02WATFORD GENERAL HOSPITAL - RWG02Tudor",false,0,"Complete",0,0,null,null,null,null,null,"R1DBRIDGNORTH HOSPITAL","R1D22","BRIDGNORTH HOSPITAL","R1D22","BRIDGNORTH HOSPITAL","R1D"]
["RWG02","WATFORD GENERAL HOSPITAL - RWG02",null,0,0,0,0,0,0,0,0,0,0,0,null,null,1,1,0,0,0,null,null,null,2,null,null,null,null,0,1,0,1,null,null,null,"RWG02WATFORD GENERAL HOSPITAL - RWG02Winyard",false,0,"Complete",0,0,null,null,null,null,null,"R1DBUTCHER ROW (GP)","R1D55","BUTCHER ROW (GP)","R1D55","BUTCHER ROW (GP)","R1D"]
["RWG02","WATFORD GENERAL HOSPITAL - RWG02",null,0,0,0,0,0,0,0,0,0,0,0,null,null,0,1,0,1,0,null,null,null,2,null,null,null,null,1,1,0,0,null,null,null,"RWG02WATFORD GENERAL HOSPITAL - RWG02Combined ITU",false,0,"Complete",0,0,null,null,null,null,null,"R1DCASTLE CARE CASTLEHAVEN","R1D88","CASTLE CARE CASTLEHAVEN","R1D88","CASTLE CARE CASTLEHAVEN","R1D"]
["RWG03","ST ALBANS CITY HOSPITAL - RWG03",null,0,0,0,0,0,0,0,0,0,0,0,null,null,0,0,0,0,0,null,null,null,0,null,null,null,null,0,1,0,1,null,null,null,"RWG02WATFORD GENERAL HOSPITAL - RWG02Cleves",false,0,"Complete",0,0,null,null,null,null,null,"R1DCLAREMONT BANK SITE (GP)","R1D56","CLAREMONT BANK SITE (GP)","R1D56","CLAREMONT BANK SITE (GP)","R1D"]
["RWG02","WATFORD GENERAL HOSPITAL - RWG02",null,0,0,0,0,0,0,0,0,0,0,0,null,null,0,0,0,0,0,null,null,null,0,null,null,null,null,0,0,0,0,null,null,null,"RWG03ST ALBANS CITY HOSPITAL - RWG03De La Mare",false,0,"Complete",0,0,null,null,null,null,null,"R1DCLEE HILL (GP)","R1D67","CLEE HILL (GP)","R1D67","CLEE HILL (GP)","R1D"]
["RWG02","WATFORD GENERAL HOSPITAL - RWG02",null,0,0,0,0,0,0,0,0,0,0,0,null,null,0,0,0,0,0,null,null,null,0,null,null,null,null,0,0,0,0,null,null,null,"RWG02WATFORD GENERAL HOSPITAL - RWG02Beckett",false,0,"Complete",0,0,null,null,null,null,null,"R1DCRAVEN ARMS (GP)","R1D69","CRAVEN ARMS (GP)","R1D69","CRAVEN ARMS (GP)","R1D"]
["RWG02","WATFORD GENERAL HOSPITAL - RWG02",null,0,0,0,0,0,0,0,0,0,0,0,null,null,1,1,1,1,0,null,null,null,4,null,null,null,null,0,0,0,0,null,null,null,"RWG02WATFORD GENERAL HOSPITAL - RWG02Elizabeth",false,0,"Complete",0,0,null,null,null,null,null,"R1DCSMS 1","R1D97","CSMS 1","R1D97","CSMS 1","R1D"]
["RWG02","WATFORD GENERAL HOSPITAL - RWG02",null,0,0,0,0,0,0,0,0,0,0,0,null,null,0,1,0,1,0,null,null,null,2,null,null,null,null,1,1,1,1,null,null,null,"RWG02WATFORD GENERAL HOSPITAL - RWG02Flaunden",false,0,"Complete",0,0,null,null,null,null,null,"R1DCSMS 2","R1DAK","CSMS 2","R1DAK","CSMS 2","R1D"]
["RWG02","WATFORD GENERAL HOSPITAL - RWG02",null,0,0,0,0,0,0,0,0,0,0,0,null,null,0,0,0,0,0,null,null,null,0,null,null,null,null,0,1,0,1,null,null,null,"RWG02WATFORD GENERAL HOSPITAL - RWG02Langley",false,0,"Complete",0,0,null,null,null,null,null,"R1DDALE ACRE - SHROPSHIRE COMMUNITY HEALTH","R1DF9","DALE ACRE - SHROPSHIRE COMMUNITY HEALTH","R1DF9","DALE ACRE - SHROPSHIRE COMMUNITY HEALTH","R1D"]
["RWG02","WATFORD GENERAL HOSPITAL - RWG02",null,0,0,0,0,0,0,0,0,0,0,0,null,null,0,1,0,0,0,null,null,null,1,null,null,null,null,0,0,0,0,null,null,null,"RWG02WATFORD GENERAL HOSPITAL - RWG02Letchmore",false,0,"Complete",0,0,null,null,null,null,null,"R1DDIMENSIONS (NSO) RESIDENTIAL HOME","R1D78","DIMENSIONS (NSO) RESIDENTIAL HOME","R1D78","DIMENSIONS (NSO) RESIDENTIAL HOME","R1D"]
["RWG02","WATFORD GENERAL HOSPITAL - RWG02",null,0,0,0,0,0,0,0,0,0,0,0,null,null,1,0,0,0,0,null,null,null,1,null,null,null,null,0,1,0,0,null,null,null,"RWG02WATFORD GENERAL HOSPITAL - RWG02Ridge",false,0,"Complete",0,0,null,null,null,null,null,"R1DFAMILY CONNECT","R1DHY","FAMILY CONNECT","R1DHY","FAMILY CONNECT","R1D"]
["RWG02","WATFORD GENERAL HOSPITAL - RWG02",null,0,0,0,0,0,0,0,0,0,0,0,null,null,0,0,1,0,0,null,null,null,1,null,null,null,null,1,0,0,0,null,null,null,"RWG02WATFORD GENERAL HOSPITAL - RWG02ABC",false,0,"Complete",0,0,null,null,null,null,null,"R1DGLENVIEW","R1D89","GLENVIEW","R1D89","GLENVIEW","R1D"]
["RWG02","WATFORD GENERAL HOSPITAL - RWG02",null,0,0,0,0,0,0,0,0,0,0,0,null,null,0,0,0,0,0,null,null,null,0,null,null,null,null,0,0,1,0,null,null,null,"RWG02WATFORD GENERAL HOSPITAL - RWG02Delivery Suite",false,0,"Complete",0,0,null,null,null,null,null,"R1DHADLEY LEARNING COMMUNITY","R1DEG","HADLEY LEARNING COMMUNITY","R1DEG","HADLEY LEARNING COMMUNITY","R1D"]
["RWG02","WATFORD GENERAL HOSPITAL - RWG02",null,0,0,0,0,0,0,0,0,0,0,0,null,null,0,0,0,0,0,null,null,null,0,null,null,null,null,0,0,0,0,null,null,null,"RWG02WATFORD GENERAL HOSPITAL - RWG02Katherine",false,0,"Complete",0,0,null,null,null,null,null,"R1DHIGHLEY (GP)","R1D70","HIGHLEY (GP)","R1D70","HIGHLEY (GP)","R1D"]
["RWG02","WATFORD GENERAL HOSPITAL - RWG02",null,0,0,0,0,0,0,0,0,0,0,0,null,null,0,0,0,0,0,null,null,null,0,null,null,null,null,0,0,0,0,null,null,null,"RWG02WATFORD GENERAL HOSPITAL - RWG02Victoria",false,0,"Complete",0,0,null,null,null,null,null,"R1DHINSTOCK MANOR","R1DA8","HINSTOCK MANOR","R1DA8","HINSTOCK MANOR","R1D"]
["RWG02","WATFORD GENERAL HOSPITAL - RWG02",null,0,0,0,0,0,0,0,0,0,0,0,null,null,0,0,0,0,0,null,null,null,0,null,null,null,null,0,0,0,0,null,null,null,"RWG02WATFORD GENERAL HOSPITAL - RWG02SCBU",false,0,"Complete",0,0,null,null,null,null,null,"R1DHODNET (GP)","R1D75","HODNET (GP)","R1D75","HODNET (GP)","R1D"]
[{"$f":"VLOOKUP($D46,$AW:$AW,1,0)","v":{"$error":"#N/A"}},{"$f":"VLOOKUP($E46,$AX:$AX,1,0)","v":{"$error":"#N/A"}},null,{"$f":"IF(D46=\"\",0,IF(ISERROR(VLOOKUP(D46,$AW$3:$AW$249,1,0)),0,IF(VLOOKUP(D46,$AW$3:$BA$249,5,0)=$B$8,0,1)))","v":0},0,"","",0,0,{"$f":"IF(G46=\"\",0,IF(ISERROR(VLOOKUP(G46,$Z$14:$Z$98,1,FALSE)),1,0))","v":0},{"$f":"IF(H46=\"\",0,IF(ISERROR(VLOOKUP(H46,$Z$14:$Z$98,1,FALSE)),1,0))","v":0},0,0,0,null,null,{"$f":"IF(Q46=\"\",0,IF(Q46>100%,1,0))","v":0},0,0,0,0,null,null,null,0,null,null,null,null,0,0,0,0,null,null,null,"RWG02WATFORD GENERAL HOSPITAL - RWG02Starfish",false,0,"Complete",0,0,null,null,null,null,null,"R1DIRONBRIDGE (GP)","R1D64","IRONBRIDGE (GP)","R1D64","IRONBRIDGE (GP)","R1D"]
[{"$error":"#N/A"},{"$error":"#N/A"},null,0,0,"","",0,0,0,0,0,0,0,null,null,0,0,0,0,0,null,null,null,0,null,null,null,null,0,0,0,0,null,null,null,"",{"$f":"IF(AK248=\"\",\"\",(IF(COUNTIF($AK$216:$AK$414,AK248)>1,1,0))=1)","v":""},0,{"$f":"IF(E46=\"\",(COUNTA(E47)=1),\"Complete\")","v":false},0,0,null,null,null,null,null,"R1DKEEPER'S CRESCENT","R1D91","KEEPER'S CRESCENT","R1D91","KEEPER'S CRESCENT","R1D"]
[{"$error":"#N/A"},{"$error":"#N/A"},null,0,0,"","",0,0,0,0,0,0,0,null,null,0,0,0,0,0,null,null,null,0,null,null,null,null,0,0,0,0,null,null,null,"","",0,false,0,0,null,null,null,null,null,"R1DLABURNHAMS","R1D82","LABURNHAMS","R1D82","LABURNHAMS","R1D"]
[{"$error":"#N/A"},{"$error":"#N/A"},null,0,0,"","",0,0,0,0,0,0,0,null,null,0,0,0,0,0,null,null,null,0,null,null,null,null,0,0,0,0,null,null,null,"","",0,false,0,0,null,null,null,null,null,"R1DLIFESOURCE COLLABORATIVE PROCUREMENT HUB","R1DD8","LIFESOURCE COLLABORATIVE PROCUREMENT HUB","R1DD8","LIFESOURCE COLLABORATIVE PROCUREMENT HUB","R1D"]
[{"$error":"#N/A"},{"$error":"#N/A"},null,0,0,"","",0,0,0,0,0,0,0,null,null,0,0,0,0,0,null,null,null,0,null,null,null,null,0,0,0,0,null,null,null,"","",0,false,0,0,null,null,null,null,null,"R1DLUDLOW COMMUNITY HOSPITAL","R1DG3","LUDLOW COMMUNITY HOSPITAL","R1DG3","LUDLOW COMMUNITY HOSPITAL","R1D"]
[{"$error":"#N/A"},{"$error":"#N/A"},null,0,0,"","",0,0,0,0,0,0,0,null,null,0,0,0,0,0,null,null,null,0,null,null,null,null,0,0,0,0,null,null,null,"","",0,false,0,0,null,null,null,null,null,"R1DLUDLOW HOSP OPD1","R1DJ2","LUDLOW HOSP OPD1","R1DJ2","LUDLOW HOSP OPD1","R1D"]
[{"$error":"#N/A"},{"$error":"#N/A"},null,0,0,"","",0,0,0,0,0,0,0,null,null,0,0,0,0,0,null,null,null,0,null,null,null,null,0,0,0,0,null,null,null,"","",0,false,0,0,null,null,null,null,null,"R1DLUDLOW HOSPITAL","R1D21","LUDLOW HOSPITAL","R1D21","LUDLOW HOSPITAL","R1D"]
[{"$error":"#N/A"},{"$error":"#N/A"},null,0,0,"","",0,0,0,0,0,0,0,null,null,0,0,0,0,0,null,null,null,0,null,null,null,null,0,0,0,0,null,null,null,"","",0,false,0,0,null,null,null,null,null,"R1DMARKET DRAYTON COTTAGE HOSPITAL","R1D07","MARKET DRAYTON COTTAGE HOSPITAL","R1D07","MARKET DRAYTON COTTAGE HOSPITAL","R1D"]
[{"$error":"#N/A"},{"$error":"#N/A"},null,0,0,"","",0,0,0,0,0,0,0,null,null,0,0,0,0,0,null,null,null,0,null,null,null,null,0,0,0,0,null,null,null,"","",0,false,0,0,null,null,null,null,null,"R1DNEWPORT (GP)","R1D63","NEWPORT (GP)","R1D63","NEWPORT (GP)","R1D"]
[{"$error":"#N/A"},{"$error":"#N/A"},null,0,0,"","",0,0,0,0,0,0,0,null,null,0,0,0,0,0,null,null,null,0,null,null,null,null,0,0,0,0,null,null,null,"","",0,false,0,0,null,null,null,null,null,"R1DNEWPORT HOSPITAL","R1DAF","NEWPORT HOSPITAL","R1DAF","NEWPORT HOSPITAL","R1D"]
[{"$error":"#N/A"},{"$error":"#N/A"},null,0,0,"","",0,0,0,0,0,0,0,null,null,0,0,0,0,0,null,null,null,0,null,null,null,null,0,0,0,0,null,null,null,"","",0,false,0,0,null,null,null,null,null,"R1DOCCUPATIONAL HEALTH DEPARTMENT - FENTON","R1DEK","OCCUPATIONAL HEALTH DEPARTMENT - FENTON","R1DEK","OCCUPATIONAL HEALTH DEPARTMENT - FENTON","R1D"]
[{"$error":"#N/A"},{"$error":"#N/A"},null,0,0,"","",0,0,0,0,0,0,0,null,null,0,0,0,0,0,null,null,null,0,null,null,null,null,0,0,0,0,null,null,null,"","",0,false,0,0,null,null,null,null,null,"R1DOCCUPATIONAL HEALTH FENTON","R1DG7","OCCUPATIONAL HEALTH FENTON","R1DG7","OCCUPATIONAL HEALTH FENTON","R1D"]
[{"$error":"#N/A"},{"$error":"#N/A"},null,0,0,"","",0,0,0,0,0,0,0,null,null,0,0,0,0,0,null,null,null,0,null,null,null,null,0,0,0,0,null,null,null,"","",0,false,0,0,null,null,null,null,null,"R1DOCCUPATIONAL HEALTH GAINS PARK","R1DD9","OCCUPATIONAL HEALTH GAINS PARK","R1DD9","OCCUPATIONAL HEALTH GAINS PARK","R1D"]
[{"$error":"#N/A"},{"$error":"#N/A"},null,0,0,"","",0,0,0,0,0,0,0,null,null,0,0,0,0,0,null,null,null,0,null,null,null,null,0,0,0,0,null,null,null,"","",0,false,0,0,null,null,null,null,null,"R1DOLDFIELD RESIDENTIAL HOME","R1D92","OLDFIELD RESIDENTIAL HOME","R1D92","OLDFIELD RESIDENTIAL HOME","R1D"]
[{"$error":"#N/A"},{"$error":"#N/A"},null,0,0,"","",0,0,0,0,0,0,0,null,null,0,0,0,0,0,null,null,null,0,null,null,null,null,0,0,0,0,null,null,null,"","",0,false,0,0,null,null,null,null,null,"R1DOSWESTRY SOCIAL & HEALTH CARE","R1DDC","OSWESTRY SOCIAL & HEALTH CARE","R1DDC","OSWESTRY SOCIAL & HEALTH CARE","R1D"]
[{"$error":"#N/A"},{"$error":"#N/A"},null,0,0,"","",0,0,0,0,0,0,0,null,null,0,0,0,0,0,null,null,null,0,null,null,null,null,0,0,0,0,null,null,null,"","",0,false,0,0,null,null,null,null,null,"R1DPLAS NEWYDD","R1DA6","PLAS NEWYDD","R1DA6","PLAS NEWYDD","R1D"]
[{"$error":"#N/A"},{"$error":"#N/A"},null,0,0,"","",0,0,0,0,0,0,0,null,null,{"$f":"IF(Q62=\"\",0,IF(Q62>100%,1,0))","v":0},0,0,0,0,null,null,null,0,null,null,null,null,0,0,0,0,null,null,null,"","",0,false,0,0,null,null,null,null,null,"R1DPRINCESS ROYAL HOSPITAL","R1D03","PRINCESS ROYAL HOSPITAL","R1D03","PRINCESS ROYAL HOSPITAL","R1D"]
[{"$error":"#N/A"},{"$error":"#N/A"},null,0,0,"","",0,0,0,0,0,0,0,null,null,0,0,0,0,0,null,null,null,0,null,null,null,null,0,0,0,0,null,null,null,"","",0,false,0,0,null,null,null,null,null,"R1DROBERT JONES & AGNES HUNT ORTHOPAEDIC HOSPITAL","R1DAC","ROBERT JONES & AGNES HUNT ORTHOPAEDIC HOSPITAL","R1DAC","ROBERT JONES & AGNES HUNT ORTHOPAEDIC HOSPITAL","R1D"]
[{"$error":"#N/A"},{"$error":"#N/A"},null,0,0,"","",0,0,0,0,0,0,0,null,null,0,0,0,0,0,null,null,null,0,null,null,null,null,0,0,0,0,null,null,null,"","",0,false,0,0,null,null,null,null,null,"R1DROYAL SHREWSBURY HOSPITAL","R1D16","ROYAL SHREWSBURY HOSPITAL","R1D16","ROYAL SHREWSBURY HOSPITAL","R1D"]
[{"$error":"#N/A"},{"$error":"#N/A"},null,0,0,"","",0,0,0,0,0,0,0,null,null,0,0,0,0,0,null,null,null,0,null,null,null,null,0,0,0,0,null,null,null,"","",0,false,0,0,null,null,null,null,null,"R1DSEVERN FIELDS HEALTH VILLAGE","R1DFC","SEVERN FIELDS HEALTH VILLAGE","R1DFC","SEVERN FIELDS HEALTH VILLAGE","R1D"]
[{"$error":"#N/A"},{"$error":"#N/A"},null,0,0,"","",0,0,0,0,0,0,0,null,null,0,0,0,0,0,null,null,null,0,null,null,null,null,0,0,0,0,null,null,null,"","",0,false,0,0,null,null,null,null,null,"R1DSHELTON HOSPITAL","R1D01","SHELTON HOSPITAL","R1D01","SHELTON HOSPITAL","R1D"]
[{"$error":"#N/A"},{"$error":"#N/A"},null,0,0,"","",0,0,0,0,0,0,0,null,null,0,0,0,0,0,null,null,null,0,null,null,null,null,0,0,0,0,null,null,null,"","",0,false,0,0,null,null,null,null,null,{"$f":"CONCATENATE(LEFT(AW268, 3),AX268)","v":"R1DSHERBOURNE"},"R1D90","SHERBOURNE","R1D90","SHERBOURNE",{"$f":"LEFT(AY268,3)","v":"R1D"}]
[{"$error":"#N/A"},{"$error":"#N/A"},null,0,0,"","",0,0,0,0,0,0,0,null,null,0,0,0,0,0,null,null,null,0,null,null,null,null,0,0,0,0,null,null,null,"","",0,false,0,0,null,null,null,null,null,"R1DSINGLE POINT OF ACCESS","R1DJ5","SINGLE POINT OF ACCESS","R1DJ5","SINGLE POINT OF ACCESS","R1D"]
[{"$error":"#N/A"},{"$error":"#N/A"},null,0,0,"","",0,0,0,0,0,0,0,null,null,0,0,0,0,0,null,null,null,0,null,null,null,null,0,0,0,0,null,null,null,"","",0,false,0,0,null,null,null,null,null,"R1DTELFORD AND WREKIN PCT COMMISSIONERS","R1DEJ","TELFORD AND WREKIN PCT COMMISSIONERS","R1DEJ","TELFORD AND WREKIN PCT COMMISSIONERS","R1D"]
[{"$error":"#N/A"},{"$error":"#N/A"},null,0,0,"","",0,0,0,0,0,0,0,null,null,0,0,0,0,0,null,null,null,0,null,null,null,null,0,0,0,0,null,null,null,"","",0,false,0,0,null,null,null,null,null,"R1DTERRENCE HIGGINS TRUST WELLINGTON","R1DFL","TERRENCE HIGGINS TRUST WELLINGTON","R1DFL","TERRENCE HIGGINS TRUST WELLINGTON","R1D"]
[{"$error":"#N/A"},{"$error":"#N/A"},null,0,0,"","",0,0,0,0,0,0,0,null,null,0,0,0,0,0,null,null,null,0,null,null,null,null,0,0,0,0,null,null,null,"","",0,false,0,0,null,null,null,null,null,"R1DTHE HEATHERS","R1D80","THE HEATHERS","R1D80","THE HEATHERS","R1D"]
[{"$error":"#N/A"},{"$error":"#N/A"},null,0,0,"","",0,0,0,0,0,0,0,null,null,0,0,0,0,0,null,null,null,0,null,null,null,null,0,0,0,0,null,null,null,"","",0,false,0,0,null,null,null,null,null,"R1DTHE LAUREL'S","R1DC1","THE LAUREL'S","R1DC1","THE LAUREL'S","R1D"]
[{"$error":"#N/A"},{"$error":"#N/A"},null,0,0,"","",0,0,0,0,0,0,0,null,null,0,0,0,0,0,null,null,null,0,null,null,null,null,0,0,0,0,null,null,null,"","",0,false,0,0,null,null,null,null,null,"R1DTHE MEWS","R1DDD","THE MEWS","R1DDD","THE MEWS","R1D"]
[{"$error":"#N/A"},{"$error":"#N/A"},null,0,0,"","",0,0,0,0,0,0,0,null,null,0,0,0,0,0,null,null,null,0,null,null,null,null,0,0,0,0,null,null,null,"","",0,false,0,0,null,null,null,null,null,"R1DTHE MOUNT","R1D02","THE MOUNT","R1D02","THE MOUNT","R1D"]
[{"$error":"#N/A"},{"$error":"#N/A"},null,0,0,"","",0,0,0,0,0,0,0,null,null,0,0,0,0,0,null,null,null,0,null,null,null,null,0,0,0,0,null,null,null,"","",0,false,0,0,null,null,null,null,null,"R1DTHE OLD BARN","R1D93","THE OLD BARN","R1D93","THE OLD BARN","R1D"]
[{"$error":"#N/A"},{"$error":"#N/A"},null,0,0,"","",0,0,0,0,0,0,0,null,null,0,0,0,0,0,null,null,null,0,null,null,null,null,0,0,0,0,null,null,null,"","",0,false,0,0,null,null,null,null,null,"R1DVISION HOMES (1A)","R1D84","VISION HOMES (1A)","R1D84","VISION HOMES (1A)","R1D"]
[{"$error":"#N/A"},{"$error":"#N/A"},null,0,0,"","",0,0,0,0,0,0,0,null,null,0,0,0,0,0,null,null,null,0,null,null,null,null,0,0,0,0,null,null,null,"","",0,false,0,0,null,null,null,null,null,"R1DWEST BANK","R1D11","WEST BANK","R1D11","WEST BANK","R1D"]
[{"$f":"VLOOKUP($D78,$AW:$AW,1,0)","v":{"$error":"#N/A"}},{"$f":"VLOOKUP($E78,$AX:$AX,1,0)","v":{"$error":"#N/A"}},null,{"$f":"IF(D78=\"\",0,IF(ISERROR(VLOOKUP(D78,$AW$3:$AW$249,1,0)),0,IF(VLOOKUP(D78,$AW$3:$BA$249,5,0)=$B$8,0,1)))","v":0},0,"","",0,0,{"$f":"IF(G78=\"\",0,IF(ISERROR(VLOOKUP(G78,$Z$14:$Z$98,1,FALSE)),1,0))","v":0},{"$f":"IF(H78=\"\",0,IF(ISERROR(VLOOKUP(H78,$Z$14:$Z$98,1,FALSE)),1,0))","v":0},0,0,0,null,null,{"$f":"IF(Q78=\"\",0,IF(Q78>100%,1,0))","v":0},0,0,0,0,null,null,null,0,null,null,null,null,0,0,0,0,null,null,null,"","",0,false,0,0,null,null,null,null,null,"R1DWHITCHURCH COMMUNITY HOSPITAL","R1DG5","WHITCHURCH COMMUNITY HOSPITAL","R1DG5","WHITCHURCH COMMUNITY HOSPITAL","R1D"]
[{"$error":"#N/A"},{"$error":"#N/A"},null,0,{"$f":"IF(E79=\"\",0,IF(G79=\"\",1,0))","v":0},{"$f":"IF(E79=\"\",\"\",IF(SUM(I79,K79,M79,O79)=0,1,0))","v":""},{"$f":"IF(E79=\"\",\"\",IF(SUM(J79,L79,N79,P79)=0,1,0))","v":""},{"$f":"IF(E79=\"\",0,IF(SUM(I79:P79)<1448,1,0))","v":0},{"$f":"IF(E79=\"\",0,IF(SUM(I79:P79)>30000,1,0))","v":0},0,0,{"$f":"IF(E79=\"\",0,IF(D79=\"\",1,0))","v":0},{"$f":"IF(OR(I79<>\"\",K79<>\"\",J79<>\"\",L79<>\"\",M79<>\"\",N79<>\"\",O79<>\"\",P79<>\"\",F79<>\"\",G79<>\"\",H79<>\"\"),IF(E79=\"\",1,0),0)","v":0},{"$f":"IF(E79=\"\",0,IF(F79=\"\",1,0))","v":0},null,null,0,0,0,0,{"$f":"IF(AND(SUM(J79,L79,N79,P79)>0,U79=0),1,0)","v":0},null,null,null,{"$f":"SUM(H280:T280)","v":0},null,null,null,null,0,0,0,0,null,null,null,"",{"$f":"IF(AK280=\"\",\"\",(IF(COUNTIF($AK$216:$AK$414,AK280)>1,1,0))=1)","v":""},0,{"$f":"IF(E78=\"\",(COUNTA(E79)=1),\"Complete\")","v":false},0,{"$f":"IF(G78=\"\",0,IF(G78=H78,1,0))","v":0},null,null,null,null,null,"R1DWHITCHURCH HOSP OPD1","R1DJ4","WHITCHURCH HOSP OPD1","R1DJ4","WHITCHURCH HOSP OPD1","R1D"]
[{"$error":"#N/A"},{"$error":"#N/A"},null,0,0,"","",0,0,0,0,0,0,0,null,null,0,0,0,0,0,null,null,null,0,null,null,null,null,0,0,0,0,null,null,null,{"$f":"CONCATENATE(D79,E79,F79)","v":""},"",{"$f":"IF(AL281=TRUE,1,0)","v":0},false,{"$f":"IF(AN281=\"Complete\",0, IF(AN281=TRUE, 1, IF(AN281=FALSE,0,0)))","v":0},0,null,null,null,null,null,"R1DWHITCHURCH HOSPITAL ","R1D34","WHITCHURCH HOSPITAL ","R1D34","WHITCHURCH HOSPITAL ","R1D"]
[{"$error":"#N/A"},{"$error":"#N/A"},null,0,0,"","",0,0,0,0,0,0,0,null,null,0,0,0,0,0,null,null,null,0,null,null,null,null,0,0,0,0,null,null,null,"","",0,false,0,0,null,null,null,null,null,"R1DWREXHAM MAELOR HOSPITAL","R1DD4","WREXHAM MAELOR HOSPITAL","R1DD4","WREXHAM MAELOR HOSPITAL","R1D"]
[{"$error":"#N/A"},{"$error":"#N/A"},null,0,0,"","",0,0,0,0,0,0,0,null,null,0,0,0,0,0,null,null,null,0,null,null,null,null,0,0,0,0,null,null,null,"","",0,false,0,0,null,null,null,null,null,"R1EAIRS - CHEADLE HOSPITAL","R1EL7","AIRS - CHEADLE HOSPITAL","R1EL7","AIRS - CHEADLE HOSPITAL","R1E"]
[{"$error":"#N/A"},{"$error":"#N/A"},null,0,0,"","",0,0,0,0,0,0,0,null,null,0,0,0,0,0,null,null,null,0,null,null,null,null,0,0,0,0,null,null,null,"","",0,false,0,0,null,null,null,null,null,"R1EAIRS - HAYWOOD HOSPTIAL","R1EK8","AIRS - HAYWOOD HOSPTIAL","R1EK8","AIRS - HAYWOOD HOSPTIAL","R1E"]
[{"$error":"#N/A"},{"$error":"#N/A"},null,0,0,"","",0,0,0,0,0,0,0,null,null,0,0,0,0,0,null,null,null,0,null,null,null,null,0,0,0,0,null,null,null,"","",0,false,0,0,null,null,null,null,null,"R1EAIRS - LEEK MOORLANDS HOSPITAL","R1EL8","AIRS - LEEK MOORLANDS HOSPITAL","R1EL8","AIRS - LEEK MOORLANDS HOSPITAL","R1E"]
[{"$error":"#N/A"},{"$error":"#N/A"},null,0,0,"","",0,0,0,0,0,0,0,null,null,0,0,0,0,0,null,null,null,0,null,null,null,null,0,0,0,0,null,null,null,"","",0,false,0,0,null,null,null,null,null,"R1EAIRS - LONGTON COTTAGE HOSPTIAL","R1EK7","AIRS - LONGTON COTTAGE HOSPTIAL","R1EK7","AIRS - LONGTON COTTAGE HOSPTIAL","R1E"]
[{"$error":"#N/A"},{"$error":"#N/A"},null,0,0,"","",0,0,0,0,0,0,0,null,null,0,0,0,0,0,null,null,null,0,null,null,null,null,0,0,0,0,null,null,null,"","",0,false,0,0,null,null,null,null,null,"R1EAIRS -BRADWELL HOSPITAL","R1EL6","AIRS -BRADWELL HOSPITAL","R1EL6","AIRS -BRADWELL HOSPITAL","R1E"]
[{"$error":"#N/A"},{"$error":"#N/A"},null,0,0,"","",0,0,0,0,0,0,0,null,null,0,0,0,0,0,null,null,null,0,null,null,null,null,0,0,0,0,null,null,null,"","",0,false,0,0,null,null,null,null,null,"R1EAQUEDUCT","R1EM1","AQUEDUCT","R1EM1","AQUEDUCT","R1E"]
[{"$error":"#N/A"},{"$error":"#N/A"},null,0,0,"","",0,0,0,0,0,0,0,null,null,0,0,0,0,0,null,null,null,0,null,null,null,null,0,0,0,0,null,null,null,"","",0,false,0,0,null,null,null,null,null,"R1EBARTON UNDER NEEDWOOD COTTAGE HOSPITAL","R1E04","BARTON UNDER NEEDWOOD COTTAGE HOSPITAL","R1E04","BARTON UNDER NEEDWOOD COTTAGE HOSPITAL","R1E"]
[{"$error":"#N/A"},{"$error":"#N/A"},null,0,0,"","",0,0,0,0,0,0,0,null,null,0,0,0,0,0,null,null,null,0,null,null,null,null,0,0,0,0,null,null,null,"","",0,false,0,0,null,null,null,null,null,"R1EBRADWELL HOSPITAL","R1EE5","BRADWELL HOSPITAL","R1EE5","BRADWELL HOSPITAL","R1E"]
[{"$error":"#N/A"},{"$error":"#N/A"},null,0,0,"","",0,0,0,0,0,0,0,null,null,0,0,0,0,0,null,null,null,0,null,null,null,null,{"$f":"IF(Q89=\"\",0, IF(Q89=\"-\",0,IF(Q89>100%,1,0)))","v":0},{"$f":"IF(R89=\"\",0, IF(R89=\"-\",0,IF(R89>100%,1,0)))","v":0},{"$f":"IF(S89=\"\",0, IF(S89=\"-\",0,IF(S89>100%,1,0)))","v":0},{"$f":"IF(T89=\"\",0, IF(T89=\"-\",0,IF(T89>100%,1,0)))","v":0},null,null,null,"","",0,false,0,0,null,null,null,null,null,"R1EBUCKNALL HOSPITAL","R1E74","BUCKNALL HOSPITAL","R1E74","BUCKNALL HOSPITAL","R1E"]
[{"$error":"#N/A"},{"$error":"#N/A"},null,0,0,"","",0,0,0,0,0,0,0,null,null,0,0,0,0,0,null,null,null,0,null,null,null,null,0,0,0,0,null,null,null,"","",0,false,0,0,null,null,null,null,null,"R1ECANNOCK CHASE HOSPITAL","R1E07","CANNOCK CHASE HOSPITAL","R1E07","CANNOCK CHASE HOSPITAL","R1E"]
[{"$error":"#N/A"},{"$error":"#N/A"},null,0,0,"","",0,0,0,0,0,0,0,null,null,0,0,0,0,0,null,null,null,0,null,null,null,null,0,0,0,0,null,null,null,"","",0,false,0,0,null,null,null,null,null,"R1ECHEADLE HOSPITAL","R1EE4","CHEADLE HOSPITAL","R1EE4","CHEADLE HOSPITAL","R1E"]
[{"$error":"#N/A"},{"$error":"#N/A"},null,0,0,"","",0,0,0,0,0,0,0,null,null,0,0,0,0,0,null,null,null,0,null,null,null,null,0,0,0,0,null,null,null,"","",0,false,0,0,null,null,null,null,null,"R1EDR PARIKH AND PARTNER","R1E97","DR PARIKH AND PARTNER","R1E97","DR PARIKH AND PARTNER","R1E"]
[{"$error":"#N/A"},{"$error":"#N/A"},null,0,0,"","",0,0,0,0,0,0,0,null,null,{"$f":"IF(Q94=\"\",0,IF(Q94>100%,1,0))","v":0},0,0,0,0,null,null,null,0,null,null,null,null,0,0,0,0,null,null,null,"","",0,false,0,0,null,null,null,null,null,"R1EDRUG LINK","R1EA2","DRUG LINK","R1EA2","DRUG LINK","R1E"]
[{"$error":"#N/A"},{"$error":"#N/A"},null,0,0,"","",0,0,0,0,0,0,0,null,null,0,0,0,0,0,null,null,null,0,null,null,null,null,0,0,0,0,null,null,null,"","",0,false,0,0,null,null,null,null,null,"R1EHAYWOOD HOSPITAL","R1E56","HAYWOOD HOSPITAL","R1E56","HAYWOOD HOSPITAL","R1E"]
[{"$error":"#N/A"},{"$error":"#N/A"},null,0,0,"","",0,0,0,0,0,0,0,null,null,0,0,0,0,0,null,null,null,0,null,null,null,null,0,0,0,0,null,null,null,"","",0,false,0,0,null,null,null,null,null,"R1EHILLTOP / ST MICHAELS","R1EA4","HILLTOP / ST MICHAELS","R1EA4","HILLTOP / ST MICHAELS","R1E"]
[{"$error":"#N/A"},{"$error":"#N/A"},null,0,0,"","",0,0,0,0,0,0,0,null,null,0,0,0,0,0,null,null,null,0,null,null,null,null,0,0,0,0,null,null,null,"","",0,false,0,0,null,null,null,null,null,"R1EKEELE UNIVERSITY","R1ED4","KEELE UNIVERSITY","R1ED4","KEELE UNIVERSITY","R1E"]
[{"$error":"#N/A"},{"$error":"#N/A"},null,0,0,"","",0,0,0,0,0,0,0,null,null,0,0,0,0,0,null,null,null,0,null,null,null,null,0,0,0,0,null,null,null,"","",0,false,0,0,null,null,null,null,null,"R1ELEEK MOORLANDS HOSPITAL","R1EE3","LEEK MOORLANDS HOSPITAL","R1EE3","LEEK MOORLANDS HOSPITAL","R1E"]
[{"$error":"#N/A"},{"$error":"#N/A"},null,0,0,"","",0,0,0,0,0,0,0,null,null,0,0,0,0,0,null,null,null,0,null,null,null,null,0,0,0,0,null,null,null,"","",0,false,0,0,null,null,null,null,null,"R1ELONGTON HOSPITAL","R1E75","LONGTON HOSPITAL","R1E75","LONGTON HOSPITAL","R1E"]
[{"$error":"#N/A"},{"$error":"#N/A"},null,0,0,"","",0,0,0,0,0,0,0,null,null,0,0,0,0,0,null,null,null,0,null,null,null,null,0,0,0,0,null,null,null,"","",0,false,0,0,null,null,null,null,null,"R1EMAIN BUILDING CITY GENERAL HOSPITAL","R1EH2","MAIN BUILDING CITY GENERAL HOSPITAL","R1EH2","MAIN BUILDING CITY GENERAL HOSPITAL","R1E"]
[{"$error":"#N/A"},{"$error":"#N/A"},null,0,0,"","",0,0,0,0,0,0,0,null,null,0,0,0,0,0,null,null,null,0,null,null,null,null,0,0,0,0,null,null,null,"","",0,false,0,0,null,null,null,null,null,"R1ENORTH STAFFS URGENT CARE","R1E89","NORTH STAFFS URGENT CARE","R1E89","NORTH STAFFS URGENT CARE","R1E"]
[{"$error":"#N/A"},{"$error":"#N/A"},null,0,0,"","",0,0,0,0,0,0,0,null,null,0,0,0,0,0,null,null,null,0,null,null,null,null,0,0,0,0,null,null,null,"","",0,false,0,0,null,null,null,null,null,"R1EOAKWOOD","R1EH1","OAKWOOD","R1EH1","OAKWOOD","R1E"]
[{"$error":"#N/A"},{"$error":"#N/A"},null,0,0,"","",0,0,0,0,0,0,0,null,null,0,0,0,0,0,null,null,null,0,null,null,null,null,0,0,0,0,null,null,null,"","",0,false,0,0,null,null,null,null,null,"R1EREHABILITATION MEDICINE","R1EL9","REHABILITATION MEDICINE","R1EL9","REHABILITATION MEDICINE","R1E"]
[{"$error":"#N/A"},{"$error":"#N/A"},null,0,0,"","",0,0,0,0,0,0,0,null,null,0,0,0,0,0,null,null,null,0,null,null,null,null,0,0,0,0,null,null,null,"","",0,false,0,0,null,null,null,null,null,"R1ESAMUEL JOHNSON COMMUNITY HOSPITAL","R1E28","SAMUEL JOHNSON COMMUNITY HOSPITAL","R1E28","SAMUEL JOHNSON COMMUNITY HOSPITAL","R1E"]
[{"$error":"#N/A"},{"$error":"#N/A"},null,0,0,"","",0,0,0,0,0,0,0,null,null,0,0,0,0,0,null,null,null,0,null,null,null,null,0,0,0,0,null,null,null,"","",0,false,0,0,null,null,null,null,null,"R1ESIR ROBERT PEEL HOSPITAL","R1E30","SIR ROBERT PEEL HOSPITAL","R1E30","SIR ROBERT PEEL HOSPITAL","R1E"]
[{"$error":"#N/A"},{"$error":"#N/A"},null,0,0,"","",0,0,0,0,0,0,0,null,null,0,0,0,0,0,null,null,null,0,null,null,null,null,0,0,0,0,null,null,null,"","",0,false,0,0,null,null,null,null,null,"R1EST MICHAEL'S HOSPITAL","R1E33","ST MICHAEL'S HOSPITAL","R1E33","ST MICHAEL'S HOSPITAL","R1E"]
[{"$error":"#N/A"},{"$error":"#N/A"},null,0,0,"","",0,0,0,0,0,0,0,null,null,0,0,0,0,0,null,null,null,0,null,null,null,null,0,0,0,0,null,null,null,"","",0,false,0,0,null,null,null,null,null,"R1ESTOKE SPEAKS OUT","R1EC4","STOKE SPEAKS OUT","R1EC4","STOKE SPEAKS OUT","R1E"]
[{"$error":"#N/A"},{"$error":"#N/A"},null,0,0,"","",0,0,0,0,0,0,0,null,null,0,0,0,0,0,null,null,null,0,null,null,null,null,0,0,0,0,null,null,null,"","",0,false,0,0,null,null,null,null,null,"R1ETHE MEADOWS RETIREMENT HOME","R1ED5","THE MEADOWS RETIREMENT HOME","R1ED5","THE MEADOWS RETIREMENT HOME","R1E"]
[{"$error":"#N/A"},{"$error":"#N/A"},null,0,0,"","",0,0,0,0,0,0,0,null,null,0,0,0,0,0,null,null,null,0,null,null,null,null,0,0,0,0,null,null,null,"","",0,false,0,0,null,null,null,null,null,"R1EUNIVERSITY HOSPITAL OF NORTH STAFFS","R1E58","UNIVERSITY HOSPITAL OF NORTH STAFFS","R1E58","UNIVERSITY HOSPITAL OF NORTH STAFFS","R1E"]
[{"$f":"VLOOKUP($D110,$AW:$AW,1,0)","v":{"$error":"#N/A"}},{"$f":"VLOOKUP($E110,$AX:$AX,1,0)","v":{"$error":"#N/A"}},null,{"$f":"IF(D110=\"\",0,IF(ISERROR(VLOOKUP(D110,$AW$3:$AW$249,1,0)),0,IF(VLOOKUP(D110,$AW$3:$BA$249,5,0)=$B$8,0,1)))","v":0},0,"","",0,0,{"$f":"IF(G110=\"\",0,IF(ISERROR(VLOOKUP(G110,$Z$14:$Z$98,1,FALSE)),1,0))","v":0},{"$f":"IF(H110=\"\",0,IF(ISERROR(VLOOKUP(H110,$Z$14:$Z$98,1,FALSE)),1,0))","v":0},0,0,0,null,null,{"$f":"IF(Q110=\"\",0,IF(Q110>100%,1,0))","v":0},0,0,0,0,null,null,null,0,null,null,null,null,0,0,0,0,null,null,null,"","",0,false,0,0,null,null,null,null,null,"R1EWHITFIELD UNIT","R1EL4","WHITFIELD UNIT","R1EL4","WHITFIELD UNIT","R1E"]
[{"$error":"#N/A"},{"$error":"#N/A"},null,0,0,"","",0,0,0,0,0,0,0,null,null,0,0,0,0,0,null,null,null,0,null,null,null,null,0,0,0,0,null,null,null,"",{"$f":"IF(AK312=\"\",\"\",(IF(COUNTIF($AK$216:$AK$414,AK312)>1,1,0))=1)","v":""},0,{"$f":"IF(E110=\"\",(COUNTA(E111)=1),\"Complete\")","v":false},0,0,null,null,null,null,null,"R1FST MARY'S HOSPITAL - R1F01","R1F01","ST MARY'S HOSPITAL - R1F01","R1F01","ST MARY'S HOSPITAL","R1F"]
[{"$error":"#N/A"},{"$error":"#N/A"},null,0,0,"","",0,0,0,0,0,0,0,null,null,0,0,0,0,0,null,null,null,0,null,null,null,null,0,0,0,0,null,null,null,"","",0,false,0,0,null,null,null,null,null,"R1GASHBURTON AND BUCKFASTLEIGH HOSPITAL","R1G09","ASHBURTON AND BUCKFASTLEIGH HOSPITAL","R1G09","ASHBURTON AND BUCKFASTLEIGH HOSPITAL","R1G"]
[{"$error":"#N/A"},{"$error":"#N/A"},null,0,0,"","",0,0,0,0,0,0,0,null,null,0,0,0,0,0,null,null,null,0,null,null,null,null,0,0,0,0,null,null,null,"","",0,false,0,0,null,null,null,null,null,"R1GBOVEY TRACEY HOSPITAL","R1G54","BOVEY TRACEY HOSPITAL","R1G54","BOVEY TRACEY HOSPITAL","R1G"]
[{"$error":"#N/A"},{"$error":"#N/A"},null,0,0,"","",0,0,0,0,0,0,0,null,null,0,0,0,0,0,null,null,null,0,null,null,null,null,0,0,0,0,null,null,null,"","",0,false,0,0,null,null,null,null,null,"R1GBRISEHAM UNIT","R1G06","BRISEHAM UNIT","R1G06","BRISEHAM UNIT","R1G"]
[{"$error":"#N/A"},{"$error":"#N/A"},null,0,0,"","",0,0,0,0,0,0,0,null,null,0,0,0,0,0,null,null,null,0,null,null,null,null,0,0,0,0,null,null,null,"","",0,false,0,0,null,null,null,null,null,"R1GBRIXHAM CARERS","R1G65","BRIXHAM CARERS","R1G65","BRIXHAM CARERS","R1G"]
[{"$error":"#N/A"},{"$error":"#N/A"},null,0,0,"","",0,0,0,0,0,0,0,null,null,0,0,0,0,0,null,null,null,0,null,null,null,null,0,0,0,0,null,null,null,"","",0,false,0,0,null,null,null,null,null,"R1GBRIXHAM HOSPITAL","R1G02","BRIXHAM HOSPITAL","R1G02","BRIXHAM HOSPITAL","R1G"]
[{"$error":"#N/A"},{"$error":"#N/A"},null,0,0,"","",0,0,0,0,0,0,0,null,null,0,0,0,0,0,null,null,null,0,null,null,null,null,0,0,0,0,null,null,null,"","",0,false,0,0,null,null,null,null,null,"R1GBRIXHAM MIU","R1G66","BRIXHAM MIU","R1G66","BRIXHAM MIU","R1G"]
[{"$error":"#N/A"},{"$error":"#N/A"},null,0,0,"","",0,0,0,0,0,0,0,null,null,0,0,0,0,0,null,null,null,0,null,null,null,null,0,0,0,0,null,null,null,"","",0,false,0,0,null,null,null,null,null,"R1GCHADWELL OPMH","R1G68","CHADWELL OPMH","R1G68","CHADWELL OPMH","R1G"]
[{"$error":"#N/A"},{"$error":"#N/A"},null,0,0,"","",0,0,0,0,0,0,0,null,null,0,0,0,0,0,null,null,null,0,null,null,null,null,0,0,0,0,null,null,null,"","",0,false,0,0,null,null,null,null,null,"R1GDARTMOUTH HOSPITAL","R1G10","DARTMOUTH HOSPITAL","R1G10","DARTMOUTH HOSPITAL","R1G"]
[{"$error":"#N/A"},{"$error":"#N/A"},null,0,0,"","",0,0,0,0,0,0,0,null,null,0,0,0,0,0,null,null,null,0,null,null,null,null,0,0,0,0,null,null,null,"","",0,false,0,0,null,null,null,null,null,"R1GDAWLISH HOSPITAL","R1G11","DAWLISH HOSPITAL","R1G11","DAWLISH HOSPITAL","R1G"]
[{"$error":"#N/A"},{"$error":"#N/A"},null,0,0,"","",0,0,0,0,0,0,0,null,null,0,0,0,0,0,null,null,null,0,null,null,null,null,0,0,0,0,null,null,null,"","",0,false,0,0,null,null,null,null,null,"R1GNEWTON ABBOT HOSPITAL","R1G12","NEWTON ABBOT HOSPITAL","R1G12","NEWTON ABBOT HOSPITAL","R1G"]
[{"$error":"#N/A"},{"$error":"#N/A"},null,0,0,"","",0,0,0,0,0,0,0,null,null,0,0,0,0,0,null,null,null,0,null,null,null,null,0,0,0,0,null,null,null,"","",0,false,0,0,null,null,null,null,null,"R1GNHS CONTINUING CARE RETROSPECTIVE REVIEW","R1G48","NHS CONTINUING CARE RETROSPECTIVE REVIEW","R1G48","NHS CONTINUING CARE RETROSPECTIVE REVIEW","R1G"]
[{"$error":"#N/A"},{"$error":"#N/A"},null,0,0,"","",0,0,0,0,0,0,0,null,null,0,0,0,0,0,null,null,null,0,null,null,null,null,0,0,0,0,null,null,null,"","",0,false,0,0,null,null,null,null,null,"R1GPAIGNTON HOSPITAL","R1G01","PAIGNTON HOSPITAL","R1G01","PAIGNTON HOSPITAL","R1G"]
[{"$error":"#N/A"},{"$error":"#N/A"},null,0,0,"","",0,0,0,0,0,0,0,null,null,0,0,0,0,0,null,null,null,0,null,null,null,null,0,0,0,0,null,null,null,"","",0,false,0,0,null,null,null,null,null,"R1GSAFER COMMUNITIES TORBAY","R1G51","SAFER COMMUNITIES TORBAY","R1G51","SAFER COMMUNITIES TORBAY","R1G"]
[{"$error":"#N/A"},{"$error":"#N/A"},null,0,0,"","",0,0,0,0,0,0,0,null,null,0,0,0,0,0,null,null,null,0,null,null,null,null,0,0,0,0,null,null,null,"","",0,false,0,0,null,null,null,null,null,"R1GSOUTH HAMS (KINGSBRIDGE) HOSPITAL","R1G55","SOUTH HAMS (KINGSBRIDGE) HOSPITAL","R1G55","SOUTH HAMS (KINGSBRIDGE) HOSPITAL","R1G"]
[{"$error":"#N/A"},{"$error":"#N/A"},null,0,0,"","",0,0,0,0,0,0,0,null,null,{"$f":"IF(Q126=\"\",0,IF(Q126>100%,1,0))","v":0},0,0,0,0,null,null,null,0,null,null,null,null,0,0,0,0,null,null,null,"","",0,false,0,0,null,null,null,null,null,"R1GST EDMUNDS","R1G08","ST EDMUNDS","R1G08","ST EDMUNDS","R1G"]
[{"$error":"#N/A"},{"$error":"#N/A"},null,0,0,"","",0,0,0,0,0,0,0,null,null,0,0,0,0,0,null,null,null,0,null,null,null,null,0,0,0,0,null,null,null,"","",0,false,0,0,null,null,null,null,null,"R1GTAVISTOCK HOSPITAL","R1G56","TAVISTOCK HOSPITAL","R1G56","TAVISTOCK HOSPITAL","R1G"]
[{"$error":"#N/A"},{"$error":"#N/A"},null,0,0,"","",0,0,0,0,0,0,0,null,null,0,0,0,0,0,null,null,null,0,null,null,null,null,0,0,0,0,null,null,null,"","",0,false,0,0,null,null,null,null,null,"R1GTEIGNMOUTH HOSPITAL","R1G13","TEIGNMOUTH HOSPITAL","R1G13","TEIGNMOUTH HOSPITAL","R1G"]
[{"$error":"#N/A"},{"$error":"#N/A"},null,0,0,"","",0,0,0,0,0,0,0,null,null,0,0,0,0,0,null,null,null,0,null,null,null,null,0,0,0,0,null,null,null,"","",0,false,0,0,null,null,null,null,null,"R1GTOTNES HOSPITAL","R1G14","TOTNES HOSPITAL","R1G14","TOTNES HOSPITAL","R1G"]
[{"$error":"#N/A"},{"$error":"#N/A"},null,0,0,"","",0,0,0,0,0,0,0,null,null,0,0,0,0,0,null,null,null,0,null,null,null,null,0,0,0,0,null,null,null,"","",0,false,0,0,null,null,null,null,null,"R1GUNIT 3","R1G64","UNIT 3","R1G64","UNIT 3","R1G"]
[{"$error":"#N/A"},{"$error":"#N/A"},null,0,0,"","",0,0,0,0,0,0,0,null,null,0,0,0,0,0,null,null,null,0,null,null,null,null,0,0,0,0,null,null,null,"","",0,false,0,0,null,null,null,null,null,{"$f":"CONCATENATE(LEFT(AW332, 3),AX332)","v":"R1HAINSLEY UNIT"},"R1H42","AINSLEY UNIT","R1H42","AINSLEY UNIT",{"$f":"LEFT(AY332,3)","v":"R1H"}]
[{"$error":"#N/A"},{"$error":"#N/A"},null,0,0,"","",0,0,0,0,0,0,0,null,null,0,0,0,0,0,null,null,null,0,null,null,null,null,0,0,0,0,null,null,null,"","",0,false,0,0,null,null,null,null,null,"R1HBLT BIRTH CENTRE - R1H90","R1H90","BLT BIRTH CENTRE - R1H90","R1H90","BLT BIRTH CENTRE","R1H"]
[{"$error":"#N/A"},{"$error":"#N/A"},null,0,0,"","",0,0,0,0,0,0,0,null,null,0,0,0,0,0,null,null,null,0,null,null,null,null,0,0,0,0,null,null,null,"","",0,false,0,0,null,null,null,null,null,"R1HBLT PRIVATE HOSPITALS - R1H86","R1H86","BLT PRIVATE HOSPITALS - R1H86","R1H86","BLT PRIVATE HOSPITALS","R1H"]
[{"$error":"#N/A"},{"$error":"#N/A"},null,0,0,"","",0,0,0,0,0,0,0,null,null,0,0,0,0,0,null,null,null,0,null,null,null,null,0,0,0,0,null,null,null,"","",0,false,0,0,null,null,null,null,null,"R1HGATEWAY SURGICAL CENTRE - R1H11","R1H11","GATEWAY SURGICAL CENTRE - R1H11","R1H11","GATEWAY SURGICAL CENTRE","R1H"]
[{"$error":"#N/A"},{"$error":"#N/A"},null,0,0,"","",0,0,0,0,0,0,0,null,null,0,0,0,0,0,null,null,null,0,null,null,null,null,0,0,0,0,null,null,null,"","",0,false,0,0,null,null,null,null,null,"R1HMILE END HOSPITAL - R1H13","R1H13","MILE END HOSPITAL - R1H13","R1H13","MILE END HOSPITAL","R1H"]
[{"$error":"#N/A"},{"$error":"#N/A"},null,0,0,"","",0,0,0,0,0,0,0,null,null,0,0,0,0,0,null,null,null,0,null,null,null,null,0,0,0,0,null,null,null,"","",0,false,0,0,null,null,null,null,null,"R1HNEWHAM GENERAL HOSPITAL - R1HNH","R1HNH","NEWHAM GENERAL HOSPITAL - R1HNH","R1HNH","NEWHAM GENERAL HOSPITAL","R1H"]
[{"$error":"#N/A"},{"$error":"#N/A"},null,0,0,"","",0,0,0,0,0,0,0,null,null,0,0,0,0,0,null,null,null,0,null,null,null,null,0,0,0,0,null,null,null,"","",0,false,0,0,null,null,null,null,null,"R1HST BARTHOLOMEW'S HOSPITAL - R1HM0","R1HM0","ST BARTHOLOMEW'S HOSPITAL - R1HM0","R1HM0","ST BARTHOLOMEW'S HOSPITAL","R1H"]
[{"$error":"#N/A"},{"$error":"#N/A"},null,0,0,"","",0,0,0,0,0,0,0,null,null,0,0,0,0,0,null,null,null,0,null,null,null,null,0,0,0,0,null,null,null,"","",0,false,0,0,null,null,null,null,null,"R1HTHE LONDON CHEST HOSPITAL - R1H83","R1H83","THE LONDON CHEST HOSPITAL - R1H83","R1H83","THE LONDON CHEST HOSPITAL","R1H"]
[{"$error":"#N/A"},{"$error":"#N/A"},null,0,0,"","",0,0,0,0,0,0,0,null,null,0,0,0,0,0,null,null,null,0,null,null,null,null,0,0,0,0,null,null,null,"","",0,false,0,0,null,null,null,null,null,"R1HTHE ROYAL LONDON HOSPITAL - R1H12","R1H12","THE ROYAL LONDON HOSPITAL - R1H12","R1H12","THE ROYAL LONDON HOSPITAL","R1H"]
[{"$error":"#N/A"},{"$error":"#N/A"},null,0,0,"","",0,0,0,0,0,0,0,null,null,0,0,0,0,0,null,null,null,0,null,null,null,null,0,0,0,0,null,null,null,"","",0,false,0,0,null,null,null,null,null,"R1HWHIPPS CROSS AT SILVERTHORN MEDICAL - R1HCMC","R1HMC","WHIPPS CROSS AT SILVERTHORN MEDICAL - R1HCMC","R1HMC","WHIPPS CROSS AT SILVERTHORN MEDICAL","R1H"]
[{"$error":"#N/A"},{"$error":"#N/A"},null,0,0,"","",0,0,0,0,0,0,0,null,null,0,0,0,0,0,null,null,null,0,null,null,null,null,0,0,0,0,null,null,null,"","",0,false,0,0,null,null,null,null,null,"R1HWHIPPS CROSS UNIVERSITY HOSPITAL - R1HKH","R1HKH","WHIPPS CROSS UNIVERSITY HOSPITAL - R1HKH","R1HKH","WHIPPS CROSS UNIVERSITY HOSPITAL","R1H"]
[{"$f":"VLOOKUP($D142,$AW:$AW,1,0)","v":{"$error":"#N/A"}},{"$f":"VLOOKUP($E142,$AX:$AX,1,0)","v":{"$error":"#N/A"}},null,{"$f":"IF(D142=\"\",0,IF(ISERROR(VLOOKUP(D142,$AW$3:$AW$249,1,0)),0,IF(VLOOKUP(D142,$AW$3:$BA$249,5,0)=$B$8,0,1)))","v":0},0,"","",0,0,{"$f":"IF(G142=\"\",0,IF(ISERROR(VLOOKUP(G142,$Z$14:$Z$98,1,FALSE)),1,0))","v":0},{"$f":"IF(H142=\"\",0,IF(ISERROR(VLOOKUP(H142,$Z$14:$Z$98,1,FALSE)),1,0))","v":0},0,0,0,null,null,{"$f":"IF(Q142=\"\",0,IF(Q142>100%,1,0))","v":0},0,0,0,0,null,null,null,0,null,null,null,null,0,0,0,0,null,null,null,"","",0,false,0,0,null,null,null,null,null,"R1JBADGERS CROFT","R1J51","BADGERS CROFT","R1J51","BADGERS CROFT","R1J"]
[{"$error":"#N/A"},{"$error":"#N/A"},null,0,{"$f":"IF(E143=\"\",0,IF(G143=\"\",1,0))","v":0},{"$f":"IF(E143=\"\",\"\",IF(SUM(I143,K143,M143,O143)=0,1,0))","v":""},{"$f":"IF(E143=\"\",\"\",IF(SUM(J143,L143,N143,P143)=0,1,0))","v":""},{"$f":"IF(E143=\"\",0,IF(SUM(I143:P143)<1448,1,0))","v":0},{"$f":"IF(E143=\"\",0,IF(SUM(I143:P143)>30000,1,0))","v":0},0,0,{"$f":"IF(E143=\"\",0,IF(D143=\"\",1,0))","v":0},{"$f":"IF(OR(I143<>\"\",K143<>\"\",J143<>\"\",L143<>\"\",M143<>\"\",N143<>\"\",O143<>\"\",P143<>\"\",F143<>\"\",G143<>\"\",H143<>\"\"),IF(E143=\"\",1,0),0)","v":0},{"$f":"IF(E143=\"\",0,IF(F143=\"\",1,0))","v":0},null,null,0,0,0,0,{"$f":"IF(AND(SUM(J143,L143,N143,P143)>0,U143=0),1,0)","v":0},null,null,null,{"$f":"SUM(H344:T344)","v":0},null,null,null,null,0,0,0,0,null,null,null,"",{"$f":"IF(AK344=\"\",\"\",(IF(COUNTIF($AK$216:$AK$414,AK344)>1,1,0))=1)","v":""},0,{"$f":"IF(E142=\"\",(COUNTA(E143)=1),\"Complete\")","v":false},0,{"$f":"IF(G142=\"\",0,IF(G142=H142,1,0))","v":0},null,null,null,null,null,"R1JBVALE ASSESS & TREAT (ICATS)","R1J90","BVALE ASSESS & TREAT (ICATS)","R1J90","BVALE ASSESS & TREAT (ICATS)","R1J"]
[{"$error":"#N/A"},{"$error":"#N/A"},null,0,0,"","",0,0,0,0,0,0,0,null,null,0,0,0,0,0,null,null,null,0,null,null,null,null,0,0,0,0,null,null,null,{"$f":"CONCATENATE(D143,E143,F143)","v":""},"",{"$f":"IF(AL345=TRUE,1,0)","v":0},false,{"$f":"IF(AN345=\"Complete\",0, IF(AN345=TRUE, 1, IF(AN345=FALSE,0,0)))","v":0},0,null,null,null,null,null,"R1JCHELTENHAM GENERAL HOSPITAL","R1J05","CHELTENHAM GENERAL HOSPITAL","R1J05","CHELTENHAM GENERAL HOSPITAL","R1J"]
[{"$error":"#N/A"},{"$error":"#N/A"},null,0,0,"","",0,0,0,0,0,0,0,null,null,0,0,0,0,0,null,null,null,0,null,null,null,null,0,0,0,0,null,null,null,"","",0,false,0,0,null,null,null,null,null,"R1JCIRENCESTER HOSPITAL","R1J06","CIRENCESTER HOSPITAL","R1J06","CIRENCESTER HOSPITAL","R1J"]
[{"$error":"#N/A"},{"$error":"#N/A"},null,0,0,"","",0,0,0,0,0,0,0,null,null,0,0,0,0,0,null,null,null,0,null,null,null,null,0,0,0,0,null,null,null,"","",0,false,0,0,null,null,null,null,null,"R1JDERMATOLOGY GPSI-TEWKESBURY","R1J92","DERMATOLOGY GPSI-TEWKESBURY","R1J92","DERMATOLOGY GPSI-TEWKESBURY","R1J"]
[{"$error":"#N/A"},{"$error":"#N/A"},null,0,0,"","",0,0,0,0,0,0,0,null,null,0,0,0,0,0,null,null,null,0,null,null,null,null,0,0,0,0,null,null,null,"","",0,false,0,0,null,null,null,null,null,"R1JDILKE MEMORIAL HOSPITAL","R1J10","DILKE MEMORIAL HOSPITAL","R1J10","DILKE MEMORIAL HOSPITAL","R1J"]
[{"$error":"#N/A"},{"$error":"#N/A"},null,0,0,"","",0,0,0,0,0,0,0,null,null,0,0,0,0,0,null,null,null,0,null,null,null,null,0,0,0,0,null,null,null,"","",0,false,0,0,null,null,null,null,null,"R1JFAIRFORD HOSPITAL","R1J12","FAIRFORD HOSPITAL","R1J12","FAIRFORD HOSPITAL","R1J"]
[{"$error":"#N/A"},{"$error":"#N/A"},null,0,0,"","",0,0,0,0,0,0,0,null,null,0,0,0,0,0,null,null,null,0,null,null,null,null,0,0,0,0,null,null,null,"","",0,false,0,0,null,null,null,null,null,"R1JGLOUCESTER EAPC","R1J64","GLOUCESTER EAPC","R1J64","GLOUCESTER EAPC","R1J"]
[{"$error":"#N/A"},{"$error":"#N/A"},null,0,0,"","",0,0,0,0,0,0,0,null,null,0,0,0,0,0,null,null,null,0,null,null,null,null,0,0,0,0,null,null,null,"","",0,false,0,0,null,null,null,null,null,"R1JGLOUCESTERSHIRE ROYAL HOSPITAL","R1J04","GLOUCESTERSHIRE ROYAL HOSPITAL","R1J04","GLOUCESTERSHIRE ROYAL HOSPITAL","R1J"]
[{"$error":"#N/A"},{"$error":"#N/A"},null,0,0,"","",0,0,0,0,0,0,0,null,null,0,0,0,0,0,null,null,null,0,null,null,null,null,0,0,0,0,null,null,null,"","",0,false,0,0,null,null,null,null,null,"R1JGWC INTERMEDIATE CARE","R1J84","GWC INTERMEDIATE CARE","R1J84","GWC INTERMEDIATE CARE","R1J"]
[{"$error":"#N/A"},{"$error":"#N/A"},null,0,0,"","",0,0,0,0,0,0,0,null,null,0,0,0,0,0,null,null,null,0,null,null,null,null,0,0,0,0,null,null,null,"","",0,false,0,0,null,null,null,null,null,"R1JLYDNEY & DISTRICT HOSPITAL SITE","R1J11","LYDNEY & DISTRICT HOSPITAL SITE","R1J11","LYDNEY & DISTRICT HOSPITAL SITE","R1J"]
[{"$error":"#N/A"},{"$error":"#N/A"},null,0,0,"","",0,0,0,0,0,0,0,null,null,0,0,0,0,0,null,null,null,0,null,null,null,null,0,0,0,0,null,null,null,"","",0,false,0,0,null,null,null,null,null,"R1JMOORE COTTAGE HOSPITAL","R1J14","MOORE COTTAGE HOSPITAL","R1J14","MOORE COTTAGE HOSPITAL","R1J"]
[{"$error":"#N/A"},{"$error":"#N/A"},null,0,0,"","",0,0,0,0,0,0,0,null,null,0,0,0,0,0,null,null,null,0,null,null,null,null,{"$f":"IF(Q153=\"\",0, IF(Q153=\"-\",0,IF(Q153>100%,1,0)))","v":0},{"$f":"IF(R153=\"\",0, IF(R153=\"-\",0,IF(R153>100%,1,0)))","v":0},{"$f":"IF(S153=\"\",0, IF(S153=\"-\",0,IF(S153>100%,1,0)))","v":0},{"$f":"IF(T153=\"\",0, IF(T153=\"-\",0,IF(T153>100%,1,0)))","v":0},null,null,null,"","",0,false,0,0,null,null,null,null,null,"R1JNEW TEWKESBURY COMMUNITY HOSPITAL","R1J18","NEW TEWKESBURY COMMUNITY HOSPITAL","R1J18","NEW TEWKESBURY COMMUNITY HOSPITAL","R1J"]
[{"$error":"#N/A"},{"$error":"#N/A"},null,0,0,"","",0,0,0,0,0,0,0,null,null,0,0,0,0,0,null,null,null,0,null,null,null,null,0,0,0,0,null,null,null,"","",0,false,0,0,null,null,null,null,null,"R1JNORTH COTSWOLD HOSPITAL","R1J21","NORTH COTSWOLD HOSPITAL","R1J21","NORTH COTSWOLD HOSPITAL","R1J"]
[{"$error":"#N/A"},{"$error":"#N/A"},null,0,0,"","",0,0,0,0,0,0,0,null,null,0,0,0,0,0,null,null,null,0,null,null,null,null,0,0,0,0,null,null,null,"","",0,false,0,0,null,null,null,null,null,"R1JNORTH COTSWOLDS INTERMEDIATE CARE UNIT","R1J94","NORTH COTSWOLDS INTERMEDIATE CARE UNIT","R1J94","NORTH COTSWOLDS INTERMEDIATE CARE UNIT","R1J"]
[{"$error":"#N/A"},{"$error":"#N/A"},null,0,0,"","",0,0,0,0,0,0,0,null,null,0,0,0,0,0,null,null,null,0,null,null,null,null,0,0,0,0,null,null,null,"","",0,false,0,0,null,null,null,null,null,"R1JREDWOOD","R1JAT","REDWOOD","R1JAT","REDWOOD","R1J"]
[{"$error":"#N/A"},{"$error":"#N/A"},null,0,0,"","",0,0,0,0,0,0,0,null,null,{"$f":"IF(Q158=\"\",0,IF(Q158>100%,1,0))","v":0},0,0,0,0,null,null,null,0,null,null,null,null,0,0,0,0,null,null,null,"","",0,false,0,0,null,null,null,null,null,"R1JSOUTHGATE MOORINGS","R1J58","SOUTHGATE MOORINGS","R1J58","SOUTHGATE MOORINGS","R1J"]
[{"$error":"#N/A"},{"$error":"#N/A"},null,0,0,"","",0,0,0,0,0,0,0,null,null,0,0,0,0,0,null,null,null,0,null,null,null,null,0,0,0,0,null,null,null,"","",0,false,0,0,null,null,null,null,null,"R1JSTROUD GENERAL HOSPITAL","R1J13","STROUD GENERAL HOSPITAL","R1J13","STROUD GENERAL HOSPITAL","R1J"]
[{"$error":"#N/A"},{"$error":"#N/A"},null,0,0,"","",0,0,0,0,0,0,0,null,null,0,0,0,0,0,null,null,null,0,null,null,null,null,0,0,0,0,null,null,null,"","",0,false,0,0,null,null,null,null,null,"R1JSUE RYDER CARE HOME","R1J17","SUE RYDER CARE HOME","R1J17","SUE RYDER CARE HOME","R1J"]
[{"$error":"#N/A"},{"$error":"#N/A"},null,0,0,"","",0,0,0,0,0,0,0,null,null,0,0,0,0,0,null,null,null,0,null,null,null,null,0,0,0,0,null,null,null,"","",0,false,0,0,null,null,null,null,null,"R1JTETBURY HOSPITAL","R1J16","TETBURY HOSPITAL","R1J16","TETBURY HOSPITAL","R1J"]
[{"$error":"#N/A"},{"$error":"#N/A"},null,0,0,"","",0,0,0,0,0,0,0,null,null,0,0,0,0,0,null,null,null,0,null,null,null,null,0,0,0,0,null,null,null,"","",0,false,0,0,null,null,null,null,null,"R1JTEWKESBURY HOSPITAL","R1J08","TEWKESBURY HOSPITAL","R1J08","TEWKESBURY HOSPITAL","R1J"]
[{"$error":"#N/A"},{"$error":"#N/A"},null,0,0,"","",0,0,0,0,0,0,0,null,null,0,0,0,0,0,null,null,null,0,null,null,null,null,0,0,0,0,null,null,null,"","",0,false,0,0,null,null,null,null,null,"R1JTHE WINCHCOMBE UNIT","R1J15","THE WINCHCOMBE UNIT","R1J15","THE WINCHCOMBE UNIT","R1J"]
[{"$error":"#N/A"},{"$error":"#N/A"},null,0,0,"","",0,0,0,0,0,0,0,null,null,0,0,0,0,0,null,null,null,0,null,null,null,null,0,0,0,0,null,null,null,"","",0,false,0,0,null,null,null,null,null,"R1JTHE WINCHCOMBE UNIT","R1J86","THE WINCHCOMBE UNIT","R1J86","THE WINCHCOMBE UNIT","R1J"]
[{"$error":"#N/A"},{"$error":"#N/A"},null,0,0,"","",0,0,0,0,0,0,0,null,null,0,0,0,0,0,null,null,null,0,null,null,null,null,0,0,0,0,null,null,null,"","",0,false,0,0,null,null,null,null,null,"R1JVALE COMMUNITY HOSPITAL","R1J07","VALE COMMUNITY HOSPITAL","R1J07","VALE COMMUNITY HOSPITAL","R1J"]
[{"$error":"#N/A"},{"$error":"#N/A"},null,0,0,"","",0,0,0,0,0,0,0,null,null,0,0,0,0,0,null,null,null,0,null,null,null,null,0,0,0,0,null,null,null,"","",0,false,0,0,null,null,null,null,null,"R1K EDGWARE COMMUNITY HOSPITAL","R1K21"," EDGWARE COMMUNITY HOSPITAL","R1K21"," EDGWARE COMMUNITY HOSPITAL","R1K"]
[{"$error":"#N/A"},{"$error":"#N/A"},null,0,0,"","",0,0,0,0,0,0,0,null,null,0,0,0,0,0,null,null,null,0,null,null,null,null,0,0,0,0,null,null,null,"","",0,false,0,0,null,null,null,null,null,"R1KCENTRAL MIDDLESEX HOSPITAL","R1K02","CENTRAL MIDDLESEX HOSPITAL","R1K02","CENTRAL MIDDLESEX HOSPITAL","R1K"]
[{"$error":"#N/A"},{"$error":"#N/A"},null,0,0,"","",0,0,0,0,0,0,0,null,null,0,0,0,0,0,null,null,null,0,null,null,null,null,0,0,0,0,null,null,null,"","",0,false,0,0,null,null,null,null,null,"R1KEALING HOSPITAL","R1K04","EALING HOSPITAL","R1K04","EALING HOSPITAL","R1K"]
[{"$error":"#N/A"},{"$error":"#N/A"},null,0,0,"","",0,0,0,0,0,0,0,null,null,0,0,0,0,0,null,null,null,0,null,null,null,null,0,0,0,0,null,null,null,"","",0,false,0,0,null,null,null,null,null,"R1KNORTHWICK PARK HOSPITAL","R1K01","NORTHWICK PARK HOSPITAL","R1K01","NORTHWICK PARK HOSPITAL","R1K"]
[{"$error":"#N/A"},{"$error":"#N/A"},null,0,0,"","",0,0,0,0,0,0,0,null,null,0,0,0,0,0,null,null,null,0,null,null,null,null,0,0,0,0,null,null,null,"","",0,false,0,0,null,null,null,null,null,"R1KNORTHWICK PARK HOSPITAL  STARRS HARROW","R1K46","NORTHWICK PARK HOSPITAL  STARRS HARROW","R1K46","NORTHWICK PARK HOSPITAL  STARRS HARROW","R1K"]
[{"$error":"#N/A"},{"$error":"#N/A"},null,0,0,"","",0,0,0,0,0,0,0,null,null,0,0,0,0,0,null,null,null,0,null,null,null,null,0,0,0,0,null,null,null,"","",0,false,0,0,null,null,null,null,null,"R1KNORTHWICK PARK HOSPITAL ELCO COMMUNITY","R1K59","NORTHWICK PARK HOSPITAL ELCO COMMUNITY","R1K59","NORTHWICK PARK HOSPITAL ELCO COMMUNITY","R1K"]
[{"$error":"#N/A"},{"$error":"#N/A"},null,0,0,"","",0,0,0,0,0,0,0,null,null,0,0,0,0,0,null,null,null,0,null,null,null,null,0,0,0,0,null,null,null,"","",0,false,0,0,null,null,null,null,null,"R1KST MARKS HOSPITAL ","R1K03","ST MARKS HOSPITAL ","R1K03","ST MARKS HOSPITAL ","R1K"]
[{"$error":"#N/A"},{"$error":"#N/A"},null,0,0,"","",0,0,0,0,0,0,0,null,null,0,0,0,0,0,null,null,null,0,null,null,null,null,0,0,0,0,null,null,null,"","",0,false,0,0,null,null,null,null,null,"R1KURGENT CARE CENTRE CENTAL MIDDLESEX HOSPITAL","R1K12","URGENT CARE CENTRE CENTAL MIDDLESEX HOSPITAL","R1K12","URGENT CARE CENTRE CENTAL MIDDLESEX HOSPITAL","R1K"]
[{"$f":"VLOOKUP($D174,$AW:$AW,1,0)","v":{"$error":"#N/A"}},{"$f":"VLOOKUP($E174,$AX:$AX,1,0)","v":{"$error":"#N/A"}},null,{"$f":"IF(D174=\"\",0,IF(ISERROR(VLOOKUP(D174,$AW$3:$AW$249,1,0)),0,IF(VLOOKUP(D174,$AW$3:$BA$249,5,0)=$B$8,0,1)))","v":0},0,"","",0,0,{"$f":"IF(G174=\"\",0,IF(ISERROR(VLOOKUP(G174,$Z$14:$Z$98,1,FALSE)),1,0))","v":0},{"$f":"IF(H174=\"\",0,IF(ISERROR(VLOOKUP(H174,$Z$14:$Z$98,1,FALSE)),1,0))","v":0},0,0,0,null,null,{"$f":"IF(Q174=\"\",0,IF(Q174>100%,1,0))","v":0},0,0,0,0,null,null,null,0,null,null,null,null,0,0,0,0,null,null,null,"","",0,false,0,0,null,null,null,null,null,"R1KURGENT CARE CENTRE EALING HOSPITAL","R1K14","URGENT CARE CENTRE EALING HOSPITAL","R1K14","URGENT CARE CENTRE EALING HOSPITAL","R1K"]
[{"$error":"#N/A"},{"$error":"#N/A"},null,0,0,"","",0,0,0,0,0,0,0,null,null,0,0,0,0,0,null,null,null,0,null,null,null,null,0,0,0,0,null,null,null,"",{"$f":"IF(AK376=\"\",\"\",(IF(COUNTIF($AK$216:$AK$414,AK376)>1,1,0))=1)","v":""},0,{"$f":"IF(E174=\"\",(COUNTA(E175)=1),\"Complete\")","v":false},0,0,null,null,null,null,null,"R1LARCHER UNIT","R1L92","ARCHER UNIT","R1L92","ARCHER UNIT","R1L"]
[{"$error":"#N/A"},{"$error":"#N/A"},null,0,0,"","",0,0,0,0,0,0,0,null,null,0,0,0,0,0,null,null,null,0,null,null,null,null,0,0,0,0,null,null,null,"","",0,false,0,0,null,null,null,null,null,"R1LBRAINTREE - THE GABLES","R1LD1","BRAINTREE - THE GABLES","R1LD1","BRAINTREE - THE GABLES","R1L"]
[{"$error":"#N/A"},{"$error":"#N/A"},null,0,0,"","",0,0,0,0,0,0,0,null,null,0,0,0,0,0,null,null,null,0,null,null,null,null,0,0,0,0,null,null,null,"","",0,false,0,0,null,null,null,null,null,"R1LBROCKFIELD HOUSE","R1LK9","BROCKFIELD HOUSE","R1LK9","BROCKFIELD HOUSE","R1L"]
[{"$error":"#N/A"},{"$error":"#N/A"},null,0,0,"","",0,0,0,0,0,0,0,null,null,0,0,0,0,0,null,null,null,0,null,null,null,null,0,0,0,0,null,null,null,"","",0,false,0,0,null,null,null,null,null,"R1LCHELMSFORD - THE LINDEN CENTRE","R1LAH","CHELMSFORD - THE LINDEN CENTRE","R1LAH","CHELMSFORD - THE LINDEN CENTRE","R1L"]
[{"$error":"#N/A"},{"$error":"#N/A"},null,0,0,"","",0,0,0,0,0,0,0,null,null,0,0,0,0,0,null,null,null,0,null,null,null,null,0,0,0,0,null,null,null,"","",0,false,0,0,null,null,null,null,null,"R1LCLACTON - MENTAL HEALTH SERVICES - CLACTON HOSPITAL","R1LE2","CLACTON - MENTAL HEALTH SERVICES - CLACTON HOSPITAL","R1LE2","CLACTON - MENTAL HEALTH SERVICES - CLACTON HOSPITAL","R1L"]
[{"$error":"#N/A"},{"$error":"#N/A"},null,0,0,"","",0,0,0,0,0,0,0,null,null,0,0,0,0,0,null,null,null,0,null,null,null,null,0,0,0,0,null,null,null,"","",0,false,0,0,null,null,null,null,null,"R1LCLIFTON LODGE","R1LJ3","CLIFTON LODGE","R1LJ3","CLIFTON LODGE","R1L"]
[{"$error":"#N/A"},{"$error":"#N/A"},null,0,0,"","",0,0,0,0,0,0,0,null,null,0,0,0,0,0,null,null,null,0,null,null,null,null,0,0,0,0,null,null,null,"","",0,false,0,0,null,null,null,null,null,"R1LCOLCHESTER - KING'S WOOD CENTRE","R1LD6","COLCHESTER - KING'S WOOD CENTRE","R1LD6","COLCHESTER - KING'S WOOD CENTRE","R1L"]
[{"$error":"#N/A"},{"$error":"#N/A"},null,0,0,"","",0,0,0,0,0,0,0,null,null,0,0,0,0,0,null,null,null,0,null,null,null,null,0,0,0,0,null,null,null,"","",0,false,0,0,null,null,null,null,null,"R1LCOLCHESTER - THE BRAMBLES","R1LAT","COLCHESTER - THE BRAMBLES","R1LAT","COLCHESTER - THE BRAMBLES","R1L"]
[{"$error":"#N/A"},{"$error":"#N/A"},null,0,0,"","",0,0,0,0,0,0,0,null,null,0,0,0,0,0,null,null,null,0,null,null,null,null,0,0,0,0,null,null,null,"","",0,false,0,0,null,null,null,null,null,"R1LCOLCHESTER - THE LAKES","R1LE1","COLCHESTER - THE LAKES","R1LE1","COLCHESTER - THE LAKES","R1L"]
[{"$error":"#N/A"},{"$error":"#N/A"},null,0,0,"","",0,0,0,0,0,0,0,null,null,0,0,0,0,0,null,null,null,0,null,null,null,null,0,0,0,0,null,null,null,"","",0,false,0,0,null,null,null,null,null,"R1LCUMBERLEDGE CENTRE","R1L90","CUMBERLEDGE CENTRE","R1L90","CUMBERLEDGE CENTRE","R1L"]
[{"$error":"#N/A"},{"$error":"#N/A"},null,0,0,"","",0,0,0,0,0,0,0,null,null,0,0,0,0,0,null,null,null,0,null,null,null,null,0,0,0,0,null,null,null,"","",0,false,0,0,null,null,null,null,null,"R1LHARLOW - DERWENT CENTRE","R1LPA","HARLOW - DERWENT CENTRE","R1LPA","HARLOW - DERWENT CENTRE","R1L"]
[{"$error":"#N/A"},{"$error":"#N/A"},null,0,0,"","",0,0,0,0,0,0,0,null,null,0,0,0,0,0,null,null,null,0,null,null,null,null,0,0,0,0,null,null,null,"","",0,false,0,0,null,null,null,null,null,"R1LHARLOW - SYDENHAM HOUSE","R1LHF","HARLOW - SYDENHAM HOUSE","R1LHF","HARLOW - SYDENHAM HOUSE","R1L"]
[{"$error":"#N/A"},{"$error":"#N/A"},null,0,0,"","",0,0,0,0,0,0,0,null,null,0,0,0,0,0,null,null,null,0,null,null,null,null,0,0,0,0,null,null,null,"","",0,false,0,0,null,null,null,null,null,"R1LHEATH CLOSE","R1LA9","HEATH CLOSE","R1LA9","HEATH CLOSE","R1L"]
[{"$error":"#N/A"},{"$error":"#N/A"},null,0,0,"","",0,0,0,0,0,0,0,null,null,0,0,0,0,0,null,null,null,0,null,null,null,null,0,0,0,0,null,null,null,"","",0,false,0,0,null,null,null,null,null,"R1LMENTAL HEALTH UNIT (BASILDON)","R1L40","MENTAL HEALTH UNIT (BASILDON)","R1L40","MENTAL HEALTH UNIT (BASILDON)","R1L"]
[{"$error":"#N/A"},{"$error":"#N/A"},null,0,0,"","",0,0,0,0,0,0,0,null,null,0,0,0,0,0,null,null,null,0,null,null,null,null,0,0,0,0,null,null,null,"","",0,false,0,0,null,null,null,null,null,"R1LMOUNTNESSING COURT","R1L65","MOUNTNESSING COURT","R1L65","MOUNTNESSING COURT","R1L"]
[{"$error":"#N/A"},{"$error":"#N/A"},null,0,0,"","",0,0,0,0,0,0,0,null,null,{"$f":"IF(Q190=\"\",0,IF(Q190>100%,1,0))","v":0},0,0,0,0,null,null,null,0,null,null,null,null,0,0,0,0,null,null,null,"","",0,false,0,0,null,null,null,null,null,"R1LNEW ST AUBYN CENTRE","R1L22","NEW ST AUBYN CENTRE","R1LL","NEW ST AUBYN CENTRE","R1L"]
[{"$error":"#N/A"},{"$error":"#N/A"},null,0,0,"","",0,0,0,0,0,0,0,null,null,0,0,0,0,0,null,null,null,0,null,null,null,null,0,0,0,0,null,null,null,"","",0,false,0,0,null,null,null,null,null,"R1LROBIN PINTO UNIT","R1L31","ROBIN PINTO UNIT","R1L31","ROBIN PINTO UNIT","R1L"]
[{"$error":"#N/A"},{"$error":"#N/A"},null,0,0,"","",0,0,0,0,0,0,0,null,null,0,0,0,0,0,null,null,null,0,null,null,null,null,0,0,0,0,null,null,null,"","",0,false,0,0,null,null,null,null,null,"R1LROCHFORD COMMUNITY HOSPITAL","R1L10","ROCHFORD COMMUNITY HOSPITAL","R1L10","ROCHFORD COMMUNITY HOSPITAL","R1L"]
[{"$error":"#N/A"},{"$error":"#N/A"},null,0,0,"","",0,0,0,0,0,0,0,null,null,0,0,0,0,0,null,null,null,0,null,null,null,null,0,0,0,0,null,null,null,"","",0,false,0,0,null,null,null,null,null,"R1LSAFFRON WALDEN COMMUNITY HOSPITAL","R1LTH","SAFFRON WALDEN COMMUNITY HOSPITAL","R1LTH","SAFFRON WALDEN COMMUNITY HOSPITAL","R1L"]
[{"$error":"#N/A"},{"$error":"#N/A"},null,0,0,"","",0,0,0,0,0,0,0,null,null,0,0,0,0,0,null,null,null,0,null,null,null,null,0,0,0,0,null,null,null,"","",0,false,0,0,null,null,null,null,null,"R1LST MARGARET'S HOSPITAL","R1LT1","ST MARGARET'S HOSPITAL","R1LT1","ST MARGARET'S HOSPITAL","R1L"]
[{"$error":"#N/A"},{"$error":"#N/A"},null,0,0,"","",0,0,0,0,0,0,0,null,null,0,0,0,0,0,null,null,null,0,null,null,null,null,0,0,0,0,null,null,null,"","",0,false,0,0,null,null,null,null,null,"R1LTHE CRYSTAL CENTRE","R1L14","THE CRYSTAL CENTRE","R1L14","THE CRYSTAL CENTRE","R1L"]
[{"$error":"#N/A"},{"$error":"#N/A"},null,0,0,"","",0,0,0,0,0,0,0,null,null,0,0,0,0,0,null,null,null,0,null,null,null,null,0,0,0,0,null,null,null,"","",0,false,0,0,null,null,null,null,null,"R1LTHURROCK COMMUNITY HOSPITAL","R1L50","THURROCK COMMUNITY HOSPITAL","R1L50","THURROCK COMMUNITY HOSPITAL","R1L"]
[{"$error":"#N/A"},{"$error":"#N/A"},null,0,0,"","",0,0,0,0,0,0,0,null,null,0,0,0,0,0,null,null,null,0,null,null,null,null,0,0,0,0,null,null,null,"","",0,false,0,0,null,null,null,null,null,"R1LWOODLEA CLINIC (LEARNING DISABILITY SERVICE)","R1LL8","WOODLEA CLINIC (LEARNING DISABILITY SERVICE)","R1LL8","WOODLEA CLINIC (LEARNING DISABILITY SERVICE)","R1L"]
[{"$error":"#N/A"},{"$error":"#N/A"},null,0,0,"","",0,0,0,0,0,0,0,null,null,0,0,0,0,0,null,null,null,0,null,null,null,null,0,0,0,0,null,null,null,"","",0,false,0,0,null,null,null,null,null,"RA2FARNHAM HOSPITAL - RA215","RA215","FARNHAM HOSPITAL - RA215","RA215","FARNHAM HOSPITAL","RA2"]
[{"$error":"#N/A"},{"$error":"#N/A"},null,0,0,"","",0,0,0,0,0,0,0,null,null,0,0,0,0,0,null,null,null,0,null,null,null,null,0,0,0,0,null,null,null,"","",0,false,0,0,null,null,null,null,null,"RA2FRIMLEY PARK HOSPITAL - RA245","RA245","FRIMLEY PARK HOSPITAL - RA245","RA245","FRIMLEY PARK HOSPITAL","RA2"]
[{"$error":"#N/A"},{"$error":"#N/A"},null,0,0,"","",0,0,0,0,0,0,0,null,null,0,0,0,0,0,null,null,null,0,null,null,null,null,0,0,0,0,null,null,null,"","",0,false,0,0,null,null,null,null,null,"RA2HASLEMERE HOSPITAL - RA219","RA219","HASLEMERE HOSPITAL - RA219","RA219","HASLEMERE HOSPITAL","RA2"]
[{"$error":"#N/A"},{"$error":"#N/A"},null,0,0,"","",0,0,0,0,0,0,0,null,null,0,0,0,0,0,null,null,null,0,null,null,null,null,0,0,0,0,null,null,null,"","",0,false,0,0,null,null,null,null,null,"RA2ROYAL SURREY COUNTY HOSPITAL - RA201","RA201","ROYAL SURREY COUNTY HOSPITAL - RA201","RA201","ROYAL SURREY COUNTY HOSPITAL","RA2"]
[{"$error":"#N/A"},{"$error":"#N/A"},null,0,0,"","",0,0,0,0,0,0,0,null,null,0,0,0,0,0,null,null,null,0,null,null,null,null,0,0,0,0,null,null,null,"","",0,false,0,0,null,null,null,null,null,"RA3CHILDREN'S SERVICES SOUTH - RA305","RA305","CHILDREN'S SERVICES SOUTH - RA305","RA305","CHILDREN'S SERVICES SOUTH","RA3"]
[{"$error":"#N/A"},{"$error":"#N/A"},null,0,0,"","",0,0,0,0,0,0,0,null,null,0,0,0,0,0,null,null,null,0,null,null,null,null,0,0,0,0,null,null,null,"","",0,false,0,0,null,null,null,null,null,"RA3WESTON GENERAL HOSPITAL - RA301","RA301","WESTON GENERAL HOSPITAL - RA301","RA301","WESTON GENERAL HOSPITAL","RA3"]
[{"$error":"#N/A"},{"$error":"#N/A"},null,0,0,"","",0,0,0,0,0,0,0,null,null,0,0,0,0,0,null,null,null,0,null,null,null,null,0,0,0,0,null,null,null,"","",0,false,0,0,null,null,null,null,null,"RA4YEOVIL DISTRICT HOSPITAL - RA430","RA430","YEOVIL DISTRICT HOSPITAL - RA430","RA430","YEOVIL DISTRICT HOSPITAL","RA4"]
[{"$error":"#N/A"},{"$error":"#N/A"},null,0,0,"","",0,0,0,0,0,0,0,null,null,0,0,0,0,0,null,null,null,0,null,null,null,null,0,0,0,0,null,null,null,"","",0,false,0,0,null,null,null,null,null,"RA7BRISTOL EYE HOSPITAL - RA708","RA708","BRISTOL EYE HOSPITAL - RA708","RA708","BRISTOL EYE HOSPITAL","RA7"]
[{"$f":"VLOOKUP($D206,$AW:$AW,1,0)","v":{"$error":"#N/A"}},{"$f":"VLOOKUP($E206,$AX:$AX,1,0)","v":{"$error":"#N/A"}},null,{"$f":"IF(D206=\"\",0,IF(ISERROR(VLOOKUP(D206,$AW$3:$AW$249,1,0)),0,IF(VLOOKUP(D206,$AW$3:$BA$249,5,0)=$B$8,0,1)))","v":0},0,"","",0,0,{"$f":"IF(G206=\"\",0,IF(ISERROR(VLOOKUP(G206,$Z$14:$Z$98,1,FALSE)),1,0))","v":0},0,0,0,0,null,null,{"$f":"IF(Q206=\"\",0,IF(Q206>100%,1,0))","v":0},0,0,0,0,null,null,null,0,null,null,null,null,0,0,0,0,null,null,null,"","",0,false,0,0,null,null,null,null,null,"RA7BRISTOL GENERAL HOSPITAL - RA702","RA702","BRISTOL GENERAL HOSPITAL - RA702","RA702","BRISTOL GENERAL HOSPITAL","RA7"]
[{"$error":"#N/A"},{"$error":"#N/A"},null,0,{"$f":"IF(E207=\"\",0,IF(G207=\"\",1,0))","v":0},{"$f":"IF(E207=\"\",\"\",IF(SUM(I207,K207,M207,O207)=0,1,0))","v":""},{"$f":"IF(E207=\"\",\"\",IF(SUM(J207,L207,N207,P207)=0,1,0))","v":""},{"$f":"IF(E207=\"\",0,IF(SUM(I207:P207)<1448,1,0))","v":0},{"$f":"IF(E207=\"\",0,IF(SUM(I207:P207)>30000,1,0))","v":0},0,0,{"$f":"IF(E207=\"\",0,IF(D207=\"\",1,0))","v":0},{"$f":"IF(OR(I207<>\"\",K207<>\"\",J207<>\"\",L207<>\"\",M207<>\"\",N207<>\"\",O207<>\"\",P207<>\"\",F207<>\"\",G207<>\"\",H207<>\"\"),IF(E207=\"\",1,0),0)","v":0},{"$f":"IF(E207=\"\",0,IF(F207=\"\",1,0))","v":0},null,null,0,0,0,0,{"$f":"IF(AND(SUM(J207,L207,N207,P207)>0,U207=0),1,0)","v":0},null,null,null,{"$f":"SUM(H408:T408)","v":0},null,null,null,null,0,0,0,0,null,null,null,"",{"$f":"IF(AK408=\"\",\"\",(IF(COUNTIF($AK$216:$AK$414,AK408)>1,1,0))=1)","v":""},0,{"$f":"IF(E206=\"\",(COUNTA(E207)=1),\"Complete\")","v":false},0,{"$f":"IF(G206=\"\",0,IF(G206=H206,1,0))","v":0},null,null,null,null,null,"RA7BRISTOL HAEMATOLOGY AND ONCOLOGY CENTRE - RA710","RA710","BRISTOL HAEMATOLOGY AND ONCOLOGY CENTRE - RA710","RA710","BRISTOL HAEMATOLOGY AND ONCOLOGY CENTRE","RA7"]
[{"$error":"#N/A"},{"$error":"#N/A"},null,0,0,"","",0,0,0,0,0,0,0,null,null,0,0,0,0,0,null,null,null,0,null,null,null,null,0,0,0,0,null,null,null,{"$f":"CONCATENATE(D207,E207,F207)","v":""},"",{"$f":"IF(AL409=TRUE,1,0)","v":0},false,{"$f":"IF(AN409=\"Complete\",0, IF(AN409=TRUE, 1, IF(AN409=FALSE,0,0)))","v":0},0,null,null,null,null,null,"RA7BRISTOL HOMEOPATHIC HOSPITAL - RA703","RA703","BRISTOL HOMEOPATHIC HOSPITAL - RA703","RA703","BRISTOL HOMEOPATHIC HOSPITAL","RA7"]
[{"$error":"#N/A"},{"$error":"#N/A"},null,0,0,"","",0,0,0,0,0,0,0,null,null,0,0,0,0,0,null,null,null,0,null,null,null,null,0,0,0,0,null,null,null,"","",0,false,0,0,null,null,null,null,null,"RA7BRISTOL ROYAL HOSPITAL FOR CHILDREN - RA723","RA723","BRISTOL ROYAL HOSPITAL FOR CHILDREN - RA723","RA723","BRISTOL ROYAL HOSPITAL FOR CHILDREN","RA7"]
[{"$error":"#N/A"},{"$error":"#N/A"},null,0,0,"","",0,0,0,0,0,0,0,null,null,0,0,0,0,0,null,null,null,0,null,null,null,null,0,0,0,0,null,null,null,"","",0,false,0,0,null,null,null,null,null,"RA7BRISTOL ROYAL INFIRMARY - RA701","RA701","BRISTOL ROYAL INFIRMARY - RA701","RA701","BRISTOL ROYAL INFIRMARY","RA7"]
[{"$error":"#N/A"},{"$error":"#N/A"},null,0,0,"","",0,0,0,0,0,0,0,null,null,0,0,0,0,0,null,null,null,0,null,null,null,null,0,0,0,0,null,null,null,"","",0,false,0,0,null,null,null,null,null,"RA7KEYNSHAM HOSPITAL - RA705","RA705","KEYNSHAM HOSPITAL - RA705","RA705","KEYNSHAM HOSPITAL","RA7"]
[{"$error":"#N/A"},{"$error":"#N/A"},null,0,0,"","",0,0,0,0,0,0,0,null,null,0,0,0,0,0,null,null,null,0,null,null,null,null,0,0,0,0,null,null,null,"","",0,false,0,0,null,null,null,null,null,"RA7SOUTH BRISTOL COMMUNITY HOSPITAL - RA773","RA773","SOUTH BRISTOL COMMUNITY HOSPITAL - RA773","RA773","SOUTH BRISTOL COMMUNITY HOSPITAL","RA7"]
[{"$error":"#N/A"},{"$error":"#N/A"},null,0,0,"","",0,0,0,0,0,0,0,null,null,0,0,0,0,0,null,null,null,0,null,null,null,null,0,0,0,0,null,null,null,"","",0,false,0,0,null,null,null,null,null,"RA7ST MICHAEL'S HOSPITAL - RA707","RA707","ST MICHAEL'S HOSPITAL - RA707","RA707","ST MICHAEL'S HOSPITAL","RA7"]
[{"$f":"IF((COUNTIF(D14:D213,\"\")=400),2,IF((COUNTIF(A215:A414,ERROR.TYPE(7)))=(COUNTIF(D14:D213,\"\")),0,1))","v":0},{"$f":"IF((COUNTIF(E14:E213,\"\")=400),2,IF((COUNTIF(B215:B414,ERROR.TYPE(7)))=(COUNTIF(E14:E213,\"\")),0,1))","v":0},null,{"$f":"IF(COUNTIF(D215:D414,1)>0,1,0)","v":0},{"$f":"IF(COUNTIF(E215:E414,1)>0,1,0)","v":0},{"$f":"IF(COUNTIF(F215:F414,1)>0,1,0)","v":0},{"$f":"IF(COUNTIF(G215:G414,1)>0,1,0)","v":0},{"$f":"IF(COUNTIF(H215:H414,1)>0,1,0)","v":0},{"$f":"IF(COUNTIF(I215:I414,1)>0,1,0)","v":0},0,0,0,0,0,0,{"$f":"IF(COUNTIF(P215:P414,1)>0,1,0)","v":0},1,1,1,1,0,{"$f":"IF(AND(#REF!=\"N\",$U$214>0),1,0)","v":{"$error":"#REF!"}},null,null,4,null,null,null,null,0,0,0,0,null,null,null,null,null,null,false,0,0,null,null,null,null,null,"RA7UNIVERSITY OF BRISTOL DENTAL HOSPITAL - RA709","RA709","UNIVERSITY OF BRISTOL DENTAL HOSPITAL - RA709","RA709","UNIVERSITY OF BRISTOL DENTAL HOSPITAL","RA7"]
["got to equal 0","got to equal 0",null,"got to equal 0","got to equal 0","got to equal 0","got to equal 0","got to equal 0","got to equal 1",null,null,null,null,null,null,null,null,null,null,null,"Care hours, no patients","Should not submit CHPPD",null,null,null,null,null,null,null,null,null,null,null,null,null,null,null,null,{"$f":"SUM(AM216:AM414)","v":0},null,{"$f":"SUM(AO216:AO415)","v":0},{"$f":"SUM(AP216:AP415)","v":0},null,null,null,null,null,"RA9ASHBURTON AND BUCKFASTLEIGH HOSPITAL","RA952","ASHBURTON AND BUCKFASTLEIGH HOSPITAL","RA952","ASHBURTON AND BUCKFASTLEIGH HOSPITAL","RA9"]
[null,null,null,null,"List one specialty","Total planned hrs >0","Total actual hrs >0","Total hrs <1448","Total hrs >30000","Check Spec 1 name","Check Spec 2 Name","Missing site code",null,null,null,null,null,null,null,null,null,null,null,null,null,null,null,null,null,{"$f":"SUM(AD216:AD415)","v":3},{"$f":"SUM(AE216:AE415)","v":12},2,13,null,null,null,null,null,null,null,"shows gap in rows of data. Must be 0.","shows duplicate specialitiy codes. Must be 0",null,null,null,null,null,"RA9BOVEY TRACEY HOSPITAL","RA953","BOVEY TRACEY HOSPITAL","RA953","BOVEY TRACEY HOSPITAL","RA9"]
["code in list","name in list",null,"does site belong to trust",null,null,null,null,null,null,null,null,null,null,null,null,null,null,null,null,null,null,null,null,null,null,null,null,null,null,null,null,null,null,null,null,null,null,null,null,null,null,null,null,null,null,null,"RA9BRIXHAM HOSPITAL","RA954","BRIXHAM HOSPITAL","RA954","BRIXHAM HOSPITAL ","RA9"]
[null,null,null,null,null,null,null,null,null,null,null,null,null,null,null,null,null,null,null,null,null,null,null,null,null,null,null,null,null,"Day nurse fill rate. Must be 0","Day staff fill rate. Must be 0","Night nurse fill rate. Must be 0","Night staff fill rate. Must be 0",null,null,null,null,null,null,null,null,null,null,null,null,null,null,{"$f":"CONCATENATE(LEFT(AW419, 3),AX419)","v":"RA9DARTMOUTH HOSPITAL"},"RA955","DARTMOUTH HOSPITAL","RA955","DARTMOUTH HOSPITAL",{"$f":"LEFT(AY419,3)","v":"RA9"}]
["2- all blank","2- all blank",null,null,null,null,null,null,null,null,null,null,null,null,null,null,null,null,null,null,null,null,null,null,null,null,null,null,null,null,null,null,null,null,null,null,null,null,null,null,null,null,null,null,null,null,null,"RA9DAWLISH HOSPITAL","RA956","DAWLISH HOSPITAL","RA956","DAWLISH HOSPITAL","RA9"]
[null,null,null,null,null,null,null,null,null,null,null,null,null,null,null,null,null,null,null,null,null,null,null,null,null,null,null,null,null,null,null,null,null,null,null,null,null,null,null,null,null,null,null,null,null,null,null,"RA9NEWTON ABBOT HOSPITAL","RA957","NEWTON ABBOT HOSPITAL","RA957","NEWTON ABBOT HOSPITAL","RA9"]
[null,null,null,null,null,null,null,null,null,null,null,null,null,null,null,null,null,null,null,null,null,null,null,null,null,null,null,null,null,null,null,null,null,null,null,null,null,null,null,null,null,null,null,null,null,null,null,"RA9PAIGNTON HOSPITAL","RA958","PAIGNTON HOSPITAL","RA958","PAIGNTON HOSPITAL","RA9"]
[null,null,null,null,null,null,null,null,null,null,null,null,null,null,null,null,null,null,null,null,null,null,null,null,null,null,null,null,null,{"$f":"IF(AD417>0,\"Day Nurse Fill Rate must not exceed 100%\",\"\")","v":"Day Nurse Fill Rate must not exceed 100%"},{"$f":"IF(AE417>0,\"Day Staff Fill Rate must not exceed 100%\",\"\")","v":"Day Staff Fill Rate must not exceed 100%"},{"$f":"IF(AF417>0,\"Night Nurse Fill Rate must not exceed 100%\",\"\")","v":"Night Nurse Fill Rate must not exceed 100%"},{"$f":"IF(AG417>0,\"Night Staff Fill Rate must not exceed 100%\",\"\")","v":"Night Staff Fill Rate must not exceed 100%"},null,null,null,null,null,null,null,null,null,null,null,null,null,null,"RA9TEIGNMOUTH HOSPITAL","RA959","TEIGNMOUTH HOSPITAL","RA959","TEIGNMOUTH HOSPITAL","RA9"]
[null,null,null,null,null,null,null,null,null,null,null,null,null,null,null,null,null,null,null,null,null,null,null,null,null,null,null,null,null,null,null,null,null,null,null,null,null,null,null,null,null,null,null,null,null,null,null,"RA9TORBAY HOSPITAL - RA901","RA901","TORBAY HOSPITAL - RA901","RA901","TORBAY HOSPITAL","RA9"]
[null,null,null,null,null,null,null,null,null,null,null,null,null,null,null,null,null,null,null,null,null,null,null,null,null,null,null,null,null,null,null,null,null,null,null,null,null,null,null,null,null,null,null,null,null,null,null,"RA9TOTNES HOSPITAL","RA979","TOTNES HOSPITAL","RA979","TOTNES HOSPITAL","RA9"]
[null,null,null,null,null,null,null,null,null,null,null,null,null,null,null,null,null,null,null,null,null,null,null,null,null,null,null,null,null,null,null,null,null,null,null,null,null,null,null,null,null,null,null,null,null,null,null,"RAEBRADFORD ROYAL INFIRMARY - RAE01","RAE01","BRADFORD ROYAL INFIRMARY - RAE01","RAE01","BRADFORD ROYAL INFIRMARY","RAE"]
[null,null,null,null,null,null,null,null,null,null,null,null,null,null,null,null,null,null,null,null,null,null,null,null,null,null,null,null,null,null,null,null,null,null,null,null,null,null,null,null,null,null,null,null,null,null,null,"RAEST LUKES HOSPITAL - RAE05","RAE05","ST LUKES HOSPITAL - RAE05","RAE05","ST LUKES HOSPITAL","RAE"]
[null,null,null,null,null,null,null,null,null,null,null,null,null,null,null,null,null,null,null,null,null,null,null,null,null,null,null,null,null,null,null,null,null,null,null,null,null,null,null,null,null,null,null,null,null,null,null,"RAJBASILDON HOSPITAL","RAJ12","BASILDON HOSPITAL","RAJ12","BASILDON HOSPITAL","RAJ"]
[null,null,null,null,null,null,null,null,null,null,null,null,null,null,null,null,null,null,null,null,null,null,null,null,null,null,null,null,null,null,null,null,null,null,null,null,null,null,null,null,null,null,null,null,null,null,null,"RAJBRENTWOOD COMMUNITY HOSPITAL - RAJ25","RAJ25","BRENTWOOD COMMUNITY HOSPITAL - RAJ25","RAJ25","BRENTWOOD COMMUNITY HOSPITAL","RAJ"]
[null,null,null,null,null,null,null,null,null,null,null,null,null,null,null,null,null,null,null,null,null,null,null,null,null,null,null,null,null,null,null,null,null,null,null,null,null,null,null,null,null,null,null,null,null,null,null,"RAJSOUTHEND HOSPITAL - RAJ01","RAJ01","SOUTHEND HOSPITAL - RAJ01","RAJ01","SOUTHEND HOSPITAL","RAJ"]
[null,null,null,null,null,null,null,null,null,null,null,null,null,null,null,null,null,null,null,null,null,null,null,null,null,null,null,null,null,null,null,null,null,null,null,null,null,null,null,null,null,null,null,null,null,null,null,"RALBARNET HOSPITAL","RAL26","BARNET HOSPITAL","RAL26","BARNET HOSPITAL","RAL"]
[null,null,null,null,null,null,null,null,null,null,null,null,null,null,null,null,null,null,null,null,null,null,null,null,null,null,null,null,null,null,null,null,null,null,null,null,null,null,null,null,null,null,null,null,null,null,null,"RALCHASE FARM HOSPITAL","RALC7 ","CHASE FARM HOSPITAL","RALC7 ","CHASE FARM HOSPITAL","RAL"]
[null,null,null,null,null,null,null,null,null,null,null,null,null,null,null,null,null,null,null,null,null,null,null,null,null,null,null,null,null,null,null,null,null,null,null,null,null,null,null,null,null,null,null,null,null,null,null,"RALEDGWARE COMMUNITY HOSPITAL - RALRA","RALRA","EDGWARE COMMUNITY HOSPITAL - RALRA","RALRA","EDGWARE COMMUNITY HOSPITAL","RAL"]
[null,null,null,null,null,null,null,null,null,null,null,null,null,null,null,null,null,null,null,null,null,null,null,null,null,null,null,null,null,null,null,null,null,null,null,null,null,null,null,null,null,null,null,null,null,null,null,"RALFINCHLEY MEMORIAL HOSPITAL - RAL22","RAL22","FINCHLEY MEMORIAL HOSPITAL - RAL22","RAL22","FINCHLEY MEMORIAL HOSPITAL","RAL"]
[null,null,null,null,null,null,null,null,null,null,null,null,null,null,null,null,null,null,null,null,null,null,null,null,null,null,null,null,null,null,null,null,null,null,null,null,null,null,null,null,null,null,null,null,null,null,null,"RALHARPENDEN MEMORIAL HOSPITAL - RALHA","RALHA","HARPENDEN MEMORIAL HOSPITAL - RALHA","RALHA","HARPENDEN MEMORIAL HOSPITAL","RAL"]
[null,null,null,null,null,null,null,null,null,null,null,null,null,null,null,null,null,null,null,null,null,null,null,null,null,null,null,null,null,null,null,null,null,null,null,null,null,null,null,null,null,null,null,null,null,null,null,"RALMOUNT VERNON HOSPITAL - RALMV","RALMV","MOUNT VERNON HOSPITAL - RALMV","RALMV","MOUNT VERNON HOSPITAL","RAL"]
[null,null,null,null,null,null,null,null,null,null,null,null,null,null,null,null,null,null,null,null,null,null,null,null,null,null,null,null,null,null,null,null,null,null,null,null,null,null,null,null,null,null,null,null,null,null,null,"RALQUEEN MARY'S HOUSE - RAL02","RAL02","QUEEN MARY'S HOUSE - RAL02","RAL02","QUEEN MARY'S HOUSE","RAL"]
[null,null,null,null,null,null,null,null,null,null,null,null,null,null,null,null,null,null,null,null,null,null,null,null,null,null,null,null,null,null,null,null,null,null,null,null,null,null,null,null,null,null,null,null,null,null,null,"RALROYAL FREE HOSPITAL - RAL01","RAL01","ROYAL FREE HOSPITAL - RAL01","RAL01","ROYAL FREE HOSPITAL","RAL"]
[null,null,null,null,null,null,null,null,null,null,null,null,null,null,null,null,null,null,null,null,null,null,null,null,null,null,null,null,null,null,null,null,null,null,null,null,null,null,null,null,null,null,null,null,null,null,null,"RALST. ALBANS CITY HOSPITAL - RALAL","RALAL","ST. ALBANS CITY HOSPITAL - RALAL","RALAL","ST. ALBANS CITY HOSPITAL","RAL"]
[null,null,null,null,null,null,null,null,null,null,null,null,null,null,null,null,null,null,null,null,null,null,null,null,null,null,null,null,null,null,null,null,null,null,null,null,null,null,null,null,null,null,null,null,null,null,null,"RALWATFORD GENERAL HOSPITAL - RALWA","RALWA","WATFORD GENERAL HOSPITAL - RALWA","RALWA","WATFORD GENERAL HOSPITAL","RAL"]
[null,null,null,null,null,null,null,null,null,null,null,null,null,null,null,null,null,null,null,null,null,null,null,null,null,null,null,null,null,null,null,null,null,null,null,null,null,null,null,null,null,null,null,null,null,null,null,"RANROYAL NATIONAL ORTHOPAEDIC HOSPITAL (BOLSOVER STREET) - RAN02","RAN02","ROYAL NATIONAL ORTHOPAEDIC HOSPITAL (BOLSOVER STREET) - RAN02","RAN02","ROYAL NATIONAL ORTHOPAEDIC HOSPITAL (BOLSOVER STREET)","RAN"]
[null,null,null,null,null,null,null,null,null,null,null,null,null,null,null,null,null,null,null,null,null,null,null,null,null,null,null,null,null,null,null,null,null,null,null,null,null,null,null,null,null,null,null,null,null,null,null,"RANTHE ROYAL NATIONAL ORTHOPAEDIC HOSPITAL (STANMORE) - RAN01","RAN01","THE ROYAL NATIONAL ORTHOPAEDIC HOSPITAL (STANMORE) - RAN01","RAN01","THE ROYAL NATIONAL ORTHOPAEDIC HOSPITAL (STANMORE)","RAN"]
[null,null,null,null,null,null,null,null,null,null,null,null,null,null,null,null,null,null,null,null,null,null,null,null,null,null,null,null,null,null,null,null,null,null,null,null,null,null,null,null,null,null,null,null,null,null,null,"RAPNORTH MIDDLESEX HOSPITAL - RAPNM","RAPNM","NORTH MIDDLESEX HOSPITAL - RAPNM","RAPNM","NORTH MIDDLESEX HOSPITAL","RAP"]
[null,null,null,null,null,null,null,null,null,null,null,null,null,null,null,null,null,null,null,null,null,null,null,null,null,null,null,null,null,null,null,null,null,null,null,null,null,null,null,null,null,null,null,null,null,null,null,"RAPST ANNS HOSPITAL (ACUTE WARDS) - RAPST","RAPST","ST ANNS HOSPITAL (ACUTE WARDS) - RAPST","RAPST","ST ANNS HOSPITAL (ACUTE WARDS)","RAP"]
[null,null,null,null,null,null,null,null,null,null,null,null,null,null,null,null,null,null,null,null,null,null,null,null,null,null,null,null,null,null,null,null,null,null,null,null,null,null,null,null,null,null,null,null,null,null,null,"RASHILLINGDON HOSPITAL - RAS01","RAS01","HILLINGDON HOSPITAL - RAS01","RAS01","HILLINGDON HOSPITAL","RAS"]
[null,null,null,null,null,null,null,null,null,null,null,null,null,null,null,null,null,null,null,null,null,null,null,null,null,null,null,null,null,null,null,null,null,null,null,null,null,null,null,null,null,null,null,null,null,null,null,"RASMOUNT VERNON HOSPITAL SITE - RAS02","RAS02","MOUNT VERNON HOSPITAL SITE - RAS02","RAS02","MOUNT VERNON HOSPITAL SITE","RAS"]
[null,null,null,null,null,null,null,null,null,null,null,null,null,null,null,null,null,null,null,null,null,null,null,null,null,null,null,null,null,null,null,null,null,null,null,null,null,null,null,null,null,null,null,null,null,null,null,"RATBARKING HOSPITAL","RATAP","BARKING HOSPITAL","RATAP","BARKING HOSPITAL","RAT"]
[null,null,null,null,null,null,null,null,null,null,null,null,null,null,null,null,null,null,null,null,null,null,null,null,null,null,null,null,null,null,null,null,null,null,null,null,null,null,null,null,null,null,null,null,null,null,null,"RATBASILDON HOSPITAL","RATJC","BASILDON HOSPITAL","RATJC","BASILDON HOSPITAL","RAT"]
[null,null,null,null,null,null,null,null,null,null,null,null,null,null,null,null,null,null,null,null,null,null,null,null,null,null,null,null,null,null,null,null,null,null,null,null,null,null,null,null,null,null,null,null,null,null,null,"RATBILLERICAY COMMUNITY HOSPITAL","RATDK","BILLERICAY COMMUNITY HOSPITAL","RATDK","BILLERICAY COMMUNITY HOSPITAL","RAT"]
[null,null,null,null,null,null,null,null,null,null,null,null,null,null,null,null,null,null,null,null,null,null,null,null,null,null,null,null,null,null,null,null,null,null,null,null,null,null,null,null,null,null,null,null,null,null,null,"RATBRENTWOOD COMMUNITY HOSPITAL","RATRM","BRENTWOOD COMMUNITY HOSPITAL","RATRM","BRENTWOOD COMMUNITY HOSPITAL","RAT"]
[null,null,null,null,null,null,null,null,null,null,null,null,null,null,null,null,null,null,null,null,null,null,null,null,null,null,null,null,null,null,null,null,null,null,null,null,null,null,null,null,null,null,null,null,null,null,null,"RATBROOKSIDE","RATRY","BROOKSIDE","RATRY","BROOKSIDE","RAT"]
[null,null,null,null,null,null,null,null,null,null,null,null,null,null,null,null,null,null,null,null,null,null,null,null,null,null,null,null,null,null,null,null,null,null,null,null,null,null,null,null,null,null,null,null,null,null,null,"RATCHADWELL HEATH (CHS)","RATCS","CHADWELL HEATH (CHS)","RATCS","CHADWELL HEATH (CHS)","RAT"]
[null,null,null,null,null,null,null,null,null,null,null,null,null,null,null,null,null,null,null,null,null,null,null,null,null,null,null,null,null,null,null,null,null,null,null,null,null,null,null,null,null,null,null,null,null,null,null,"RATCHILD & FAMILY FOREST","RATWC","CHILD & FAMILY FOREST","RATWC","CHILD & FAMILY FOREST","RAT"]
[null,null,null,null,null,null,null,null,null,null,null,null,null,null,null,null,null,null,null,null,null,null,null,null,null,null,null,null,null,null,null,null,null,null,null,null,null,null,null,null,null,null,null,null,null,null,null,"RATCOMMUNITY PAEDIATRICS - CDC","RATE3","COMMUNITY PAEDIATRICS - CDC","RATE3","COMMUNITY PAEDIATRICS - CDC","RAT"]
[null,null,null,null,null,null,null,null,null,null,null,null,null,null,null,null,null,null,null,null,null,null,null,null,null,null,null,null,null,null,null,null,null,null,null,null,null,null,null,null,null,null,null,null,null,null,null,"RATDRUG & ALCOHOL ILFORD","RATRD","DRUG & ALCOHOL ILFORD","RATRD","DRUG & ALCOHOL ILFORD","RAT"]
[null,null,null,null,null,null,null,null,null,null,null,null,null,null,null,null,null,null,null,null,null,null,null,null,null,null,null,null,null,null,null,null,null,null,null,null,null,null,null,null,null,null,null,null,null,null,null,"RATFACE TO FACE","RATFF","FACE TO FACE","RATFF","FACE TO FACE","RAT"]
[null,null,null,null,null,null,null,null,null,null,null,null,null,null,null,null,null,null,null,null,null,null,null,null,null,null,null,null,null,null,null,null,null,null,null,null,null,null,null,null,null,null,null,null,null,null,null,"RATFIVE ELMS (CHS)","RATFG","FIVE ELMS (CHS)","RATFG","FIVE ELMS (CHS)","RAT"]
[null,null,null,null,null,null,null,null,null,null,null,null,null,null,null,null,null,null,null,null,null,null,null,null,null,null,null,null,null,null,null,null,null,null,null,null,null,null,null,null,null,null,null,null,null,null,null,"RATFOXGLOVE WARD","RATKG","FOXGLOVE WARD","RATKG","FOXGLOVE WARD","RAT"]
[null,null,null,null,null,null,null,null,null,null,null,null,null,null,null,null,null,null,null,null,null,null,null,null,null,null,null,null,null,null,null,null,null,null,null,null,null,null,null,null,null,null,null,null,null,null,null,"RATGALLEON AND HERONWOOD","RATGF","GALLEON AND HERONWOOD","RATGF","GALLEON AND HERONWOOD","RAT"]
[null,null,null,null,null,null,null,null,null,null,null,null,null,null,null,null,null,null,null,null,null,null,null,null,null,null,null,null,null,null,null,null,null,null,null,null,null,null,null,null,null,null,null,null,null,null,null,"RATGOODMAYES HOSPITAL","RATGM","GOODMAYES HOSPITAL","RATGM","GOODMAYES HOSPITAL","RAT"]
[null,null,null,null,null,null,null,null,null,null,null,null,null,null,null,null,null,null,null,null,null,null,null,null,null,null,null,null,null,null,null,null,null,null,null,null,null,null,null,null,null,null,null,null,null,null,null,"RATGREENTHORNE","RATGT","GREENTHORNE","RATGT","GREENTHORNE","RAT"]
[null,null,null,null,null,null,null,null,null,null,null,null,null,null,null,null,null,null,null,null,null,null,null,null,null,null,null,null,null,null,null,null,null,null,null,null,null,null,null,null,null,null,null,null,null,null,null,"RATGREENTHORNE","RATWF","GREENTHORNE","RATWF","GREENTHORNE","RAT"]
[null,null,null,null,null,null,null,null,null,null,null,null,null,null,null,null,null,null,null,null,null,null,null,null,null,null,null,null,null,null,null,null,null,null,null,null,null,null,null,null,null,null,null,null,null,null,null,"RATGROVELANDS DAY HOSPITAL","RATRJ","GROVELANDS DAY HOSPITAL","RATRJ","GROVELANDS DAY HOSPITAL","RAT"]
[null,null,null,null,null,null,null,null,null,null,null,null,null,null,null,null,null,null,null,null,null,null,null,null,null,null,null,null,null,null,null,null,null,null,null,null,null,null,null,null,null,null,null,null,null,null,null,"RATHAWKWELL COURT","RATHC","HAWKWELL COURT","RATHC","HAWKWELL COURT","RAT"]
[null,null,null,null,null,null,null,null,null,null,null,null,null,null,null,null,null,null,null,null,null,null,null,null,null,null,null,null,null,null,null,null,null,null,null,null,null,null,null,null,null,null,null,null,null,null,null,"RATHERONWOOD AND GALLEON","RATC5","HERONWOOD AND GALLEON","RATC5","HERONWOOD AND GALLEON","RAT"]
[null,null,null,null,null,null,null,null,null,null,null,null,null,null,null,null,null,null,null,null,null,null,null,null,null,null,null,null,null,null,null,null,null,null,null,null,null,null,null,null,null,null,null,null,null,null,null,"RATICAT","RATC2","ICAT","RATC2","ICAT","RAT"]
[null,null,null,null,null,null,null,null,null,null,null,null,null,null,null,null,null,null,null,null,null,null,null,null,null,null,null,null,null,null,null,null,null,null,null,null,null,null,null,null,null,null,null,null,null,null,null,"RATINITIAL ASSESSMENT (HAV)","RATHA","INITIAL ASSESSMENT (HAV)","RATHA","INITIAL ASSESSMENT (HAV)","RAT"]
[null,null,null,null,null,null,null,null,null,null,null,null,null,null,null,null,null,null,null,null,null,null,null,null,null,null,null,null,null,null,null,null,null,null,null,null,null,null,null,null,null,null,null,null,null,null,null,"RATJONES UNIT - RIVERSIDE","RATRV","JONES UNIT - RIVERSIDE","RATRV","JONES UNIT - RIVERSIDE","RAT"]
[null,null,null,null,null,null,null,null,null,null,null,null,null,null,null,null,null,null,null,null,null,null,null,null,null,null,null,null,null,null,null,null,null,null,null,null,null,null,null,null,null,null,null,null,null,null,null,"RATJULIA ENGWELL (CHS)","RATJE","JULIA ENGWELL (CHS)","RATJE","JULIA ENGWELL (CHS)","RAT"]
[null,null,null,null,null,null,null,null,null,null,null,null,null,null,null,null,null,null,null,null,null,null,null,null,null,null,null,null,null,null,null,null,null,null,null,null,null,null,null,null,null,null,null,null,null,null,null,"RATKING GEORGES HOSPITAL","RATDG","KING GEORGES HOSPITAL","RATDG","KING GEORGES HOSPITAL","RAT"]
[null,null,null,null,null,null,null,null,null,null,null,null,null,null,null,null,null,null,null,null,null,null,null,null,null,null,null,null,null,null,null,null,null,null,null,null,null,null,null,null,null,null,null,null,null,null,null,"RATLITTLE HIGHWOOD","RATLH","LITTLE HIGHWOOD","RATLH","LITTLE HIGHWOOD","RAT"]
[null,null,null,null,null,null,null,null,null,null,null,null,null,null,null,null,null,null,null,null,null,null,null,null,null,null,null,null,null,null,null,null,null,null,null,null,null,null,null,null,null,null,null,null,null,null,null,"RATLOXFORD HALL","RATLX","LOXFORD HALL","RATLX","LOXFORD HALL","RAT"]
[null,null,null,null,null,null,null,null,null,null,null,null,null,null,null,null,null,null,null,null,null,null,null,null,null,null,null,null,null,null,null,null,null,null,null,null,null,null,null,null,null,null,null,null,null,null,null,"RATLOXFORD HALL","RATRQ","LOXFORD HALL","RATRQ","LOXFORD HALL","RAT"]
[null,null,null,null,null,null,null,null,null,null,null,null,null,null,null,null,null,null,null,null,null,null,null,null,null,null,null,null,null,null,null,null,null,null,null,null,null,null,null,null,null,null,null,null,null,null,null,"RATMARKS GATE (CHS)","RATMG","MARKS GATE (CHS)","RATMG","MARKS GATE (CHS)","RAT"]
[null,null,null,null,null,null,null,null,null,null,null,null,null,null,null,null,null,null,null,null,null,null,null,null,null,null,null,null,null,null,null,null,null,null,null,null,null,null,null,null,null,null,null,null,null,null,null,"RATMASCALLS OLDER PEOPLE HAV","RATHG","MASCALLS OLDER PEOPLE HAV","RATHG","MASCALLS OLDER PEOPLE HAV","RAT"]
[null,null,null,null,null,null,null,null,null,null,null,null,null,null,null,null,null,null,null,null,null,null,null,null,null,null,null,null,null,null,null,null,null,null,null,null,null,null,null,null,null,null,null,null,null,null,null,"RATMAYFIELD CENTRE","RATAF","MAYFIELD CENTRE","RATAF","MAYFIELD CENTRE","RAT"]
[null,null,null,null,null,null,null,null,null,null,null,null,null,null,null,null,null,null,null,null,null,null,null,null,null,null,null,null,null,null,null,null,null,null,null,null,null,null,null,null,null,null,null,null,null,null,null,"RATNEW DIRECTIONS","RATHP","NEW DIRECTIONS","RATHP","NEW DIRECTIONS","RAT"]
[null,null,null,null,null,null,null,null,null,null,null,null,null,null,null,null,null,null,null,null,null,null,null,null,null,null,null,null,null,null,null,null,null,null,null,null,null,null,null,null,null,null,null,null,null,null,null,"RATOAHTT (BARKING HOSPITAL)","RATT3","OAHTT (BARKING HOSPITAL)","RATT3","OAHTT (BARKING HOSPITAL)","RAT"]
[null,null,null,null,null,null,null,null,null,null,null,null,null,null,null,null,null,null,null,null,null,null,null,null,null,null,null,null,null,null,null,null,null,null,null,null,null,null,null,null,null,null,null,null,null,null,null,"RATORSETT HOSPITAL","RATPH","ORSETT HOSPITAL","RATPH","ORSETT HOSPITAL","RAT"]
[null,null,null,null,null,null,null,null,null,null,null,null,null,null,null,null,null,null,null,null,null,null,null,null,null,null,null,null,null,null,null,null,null,null,null,null,null,null,null,null,null,null,null,null,null,null,null,"RATQUEENS HOSPITAL","RATQH","QUEENS HOSPITAL","RATQH","QUEENS HOSPITAL","RAT"]
[null,null,null,null,null,null,null,null,null,null,null,null,null,null,null,null,null,null,null,null,null,null,null,null,null,null,null,null,null,null,null,null,null,null,null,null,null,null,null,null,null,null,null,null,null,null,null,"RATREDBRIDGE HTT","RATRN","REDBRIDGE HTT","RATRN","REDBRIDGE HTT","RAT"]
[null,null,null,null,null,null,null,null,null,null,null,null,null,null,null,null,null,null,null,null,null,null,null,null,null,null,null,null,null,null,null,null,null,null,null,null,null,null,null,null,null,null,null,null,null,null,null,"RATROMFORD CRT","RATH3","ROMFORD CRT","RATH3","ROMFORD CRT","RAT"]
[null,null,null,null,null,null,null,null,null,null,null,null,null,null,null,null,null,null,null,null,null,null,null,null,null,null,null,null,null,null,null,null,null,null,null,null,null,null,null,null,null,null,null,null,null,null,null,{"$f":"CONCATENATE(LEFT(AW483, 3),AX483)","v":"RATST GEORGES"},"RATGK","ST GEORGES","RATGK","ST GEORGES",{"$f":"LEFT(AY483,3)","v":"RAT"}]
[null,null,null,null,null,null,null,null,null,null,null,null,null,null,null,null,null,null,null,null,null,null,null,null,null,null,null,null,null,null,null,null,null,null,null,null,null,null,null,null,null,null,null,null,null,null,null,"RATST GEORGES DAY HOSPITAL","RATC3","ST GEORGES DAY HOSPITAL","RATC3","ST GEORGES DAY HOSPITAL","RAT"]
[null,null,null,null,null,null,null,null,null,null,null,null,null,null,null,null,null,null,null,null,null,null,null,null,null,null,null,null,null,null,null,null,null,null,null,null,null,null,null,null,null,null,null,null,null,null,null,"RATSTONELEA","RATTL","STONELEA","RATTL","STONELEA","RAT"]
[null,null,null,null,null,null,null,null,null,null,null,null,null,null,null,null,null,null,null,null,null,null,null,null,null,null,null,null,null,null,null,null,null,null,null,null,null,null,null,null,null,null,null,null,null,null,null,"RATTHAMES VIEW (CHS)","RATTV","THAMES VIEW (CHS)","RATTV","THAMES VIEW (CHS)","RAT"]
[null,null,null,null,null,null,null,null,null,null,null,null,null,null,null,null,null,null,null,null,null,null,null,null,null,null,null,null,null,null,null,null,null,null,null,null,null,null,null,null,null,null,null,null,null,null,null,"RATTHE AINSLIE REHAB UNIT","RAT42","THE AINSLIE REHAB UNIT","RAT42","THE AINSLIE REHAB UNIT","RAT"]
[null,null,null,null,null,null,null,null,null,null,null,null,null,null,null,null,null,null,null,null,null,null,null,null,null,null,null,null,null,null,null,null,null,null,null,null,null,null,null,null,null,null,null,null,null,null,null,"RATTHORNEBURY UNIT","RATHN","THORNEBURY UNIT","RATHN","THORNEBURY UNIT","RAT"]
[null,null,null,null,null,null,null,null,null,null,null,null,null,null,null,null,null,null,null,null,null,null,null,null,null,null,null,null,null,null,null,null,null,null,null,null,null,null,null,null,null,null,null,null,null,null,null,"RATTHORPE COOMBE","RATTH","THORPE COOMBE","RATTH","THORPE COOMBE","RAT"]
[null,null,null,null,null,null,null,null,null,null,null,null,null,null,null,null,null,null,null,null,null,null,null,null,null,null,null,null,null,null,null,null,null,null,null,null,null,null,null,null,null,null,null,null,null,null,null,"RATTHURROCK COMMUNITY HOSPITAL","RATH7","THURROCK COMMUNITY HOSPITAL","RATH7","THURROCK COMMUNITY HOSPITAL","RAT"]
[null,null,null,null,null,null,null,null,null,null,null,null,null,null,null,null,null,null,null,null,null,null,null,null,null,null,null,null,null,null,null,null,null,null,null,null,null,null,null,null,null,null,null,null,null,null,null,"RATTOMSWOOD REHAB. UNIT","RATWT","TOMSWOOD REHAB. UNIT","RATWT","TOMSWOOD REHAB. UNIT","RAT"]
[null,null,null,null,null,null,null,null,null,null,null,null,null,null,null,null,null,null,null,null,null,null,null,null,null,null,null,null,null,null,null,null,null,null,null,null,null,null,null,null,null,null,null,null,null,null,null,"RATUPMINSTER CRT1","RATH5","UPMINSTER CRT1","RATH5","UPMINSTER CRT1","RAT"]
[null,null,null,null,null,null,null,null,null,null,null,null,null,null,null,null,null,null,null,null,null,null,null,null,null,null,null,null,null,null,null,null,null,null,null,null,null,null,null,null,null,null,null,null,null,null,null,"RATVICARAGE FIELDS (CHS)","RATVF","VICARAGE FIELDS (CHS)","RATVF","VICARAGE FIELDS (CHS)","RAT"]
[null,null,null,null,null,null,null,null,null,null,null,null,null,null,null,null,null,null,null,null,null,null,null,null,null,null,null,null,null,null,null,null,null,null,null,null,null,null,null,null,null,null,null,null,null,null,null,"RATWOODBURY UNIT","RATWD","WOODBURY UNIT","RATWD","WOODBURY UNIT","RAT"]
[null,null,null,null,null,null,null,null,null,null,null,null,null,null,null,null,null,null,null,null,null,null,null,null,null,null,null,null,null,null,null,null,null,null,null,null,null,null,null,null,null,null,null,null,null,null,null,"RAXKINGSTON HOSPITAL - RAX01","RAX01","KINGSTON HOSPITAL - RAX01","RAX01","KINGSTON HOSPITAL","RAX"]
[null,null,null,null,null,null,null,null,null,null,null,null,null,null,null,null,null,null,null,null,null,null,null,null,null,null,null,null,null,null,null,null,null,null,null,null,null,null,null,null,null,null,null,null,null,null,null,"RBAFROME VICTORIA HOSPITAL - RBAD1","RBAD1","FROME VICTORIA HOSPITAL - RBAD1","RBAD1","FROME VICTORIA HOSPITAL","RBA"]
[null,null,null,null,null,null,null,null,null,null,null,null,null,null,null,null,null,null,null,null,null,null,null,null,null,null,null,null,null,null,null,null,null,null,null,null,null,null,null,null,null,null,null,null,null,null,null,"RBAMUSGROVE PARK HOSPITAL - RBA11","RBA11","MUSGROVE PARK HOSPITAL - RBA11","RBA11","MUSGROVE PARK HOSPITAL","RBA"]
[null,null,null,null,null,null,null,null,null,null,null,null,null,null,null,null,null,null,null,null,null,null,null,null,null,null,null,null,null,null,null,null,null,null,null,null,null,null,null,null,null,null,null,null,null,null,null,"RBASHEPTON MALLET COMMUNITY HOSPITAL - RBAD2","RBAD2","SHEPTON MALLET COMMUNITY HOSPITAL - RBAD2","RBAD2","SHEPTON MALLET COMMUNITY HOSPITAL","RBA"]
[null,null,null,null,null,null,null,null,null,null,null,null,null,null,null,null,null,null,null,null,null,null,null,null,null,null,null,null,null,null,null,null,null,null,null,null,null,null,null,null,null,null,null,null,null,null,null,"RBBCHIPPENHAM HOSPITAL - RBBP1","RBBP1","CHIPPENHAM HOSPITAL - RBBP1","RBBP1","CHIPPENHAM HOSPITAL","RBB"]
[null,null,null,null,null,null,null,null,null,null,null,null,null,null,null,null,null,null,null,null,null,null,null,null,null,null,null,null,null,null,null,null,null,null,null,null,null,null,null,null,null,null,null,null,null,null,null,"RBBDEVIZES HOSPITAL - RBBP2","RBBP2","DEVIZES HOSPITAL - RBBP2","RBBP2","DEVIZES HOSPITAL","RBB"]
[null,null,null,null,null,null,null,null,null,null,null,null,null,null,null,null,null,null,null,null,null,null,null,null,null,null,null,null,null,null,null,null,null,null,null,null,null,null,null,null,null,null,null,null,null,null,null,"RBDPORTLAND HOSPITAL - RBD08","RBD08","PORTLAND HOSPITAL - RBD08","RBD08","PORTLAND HOSPITAL","RBD"]
[null,null,null,null,null,null,null,null,null,null,null,null,null,null,null,null,null,null,null,null,null,null,null,null,null,null,null,null,null,null,null,null,null,null,null,null,null,null,null,null,null,null,null,null,null,null,null,"RBLOUTPATIENTS DEPARTMENT (ST JOHN'S HOSPICE) - RBL25","RBL25","OUTPATIENTS DEPARTMENT (ST JOHN'S HOSPICE) - RBL25","RBL25","OUTPATIENTS DEPARTMENT (ST JOHN'S HOSPICE)","RBL"]
[null,null,null,null,null,null,null,null,null,null,null,null,null,null,null,null,null,null,null,null,null,null,null,null,null,null,null,null,null,null,null,null,null,null,null,null,null,null,null,null,null,null,null,null,null,null,null,"RBTVICTORIA INFIRMARY (NORTHWICH) - RBT21","RBT21","VICTORIA INFIRMARY (NORTHWICH) - RBT21","RBT21","VICTORIA INFIRMARY (NORTHWICH)","RBT"]
[null,null,null,null,null,null,null,null,null,null,null,null,null,null,null,null,null,null,null,null,null,null,null,null,null,null,null,null,null,null,null,null,null,null,null,null,null,null,null,null,null,null,null,null,null,null,null,"RBZHOLSWORTHY HOSPITAL - RBZ92","RBZ92","HOLSWORTHY HOSPITAL - RBZ92","RBZ92","HOLSWORTHY HOSPITAL","RBZ"]
[null,null,null,null,null,null,null,null,null,null,null,null,null,null,null,null,null,null,null,null,null,null,null,null,null,null,null,null,null,null,null,null,null,null,null,null,null,null,null,null,null,null,null,null,null,null,null,"RC1BEDFORD HOSPITAL NORTH WING - RC111","RC111","BEDFORD HOSPITAL NORTH WING - RC111","RC111","BEDFORD HOSPITAL NORTH WING","RC1"]
[null,null,null,null,null,null,null,null,null,null,null,null,null,null,null,null,null,null,null,null,null,null,null,null,null,null,null,null,null,null,null,null,null,null,null,null,null,null,null,null,null,null,null,null,null,null,null,"RC3EALING HOSPITAL - RC368","RC368","EALING HOSPITAL - RC368","RC368","EALING HOSPITAL","RC3"]
[null,null,null,null,null,null,null,null,null,null,null,null,null,null,null,null,null,null,null,null,null,null,null,null,null,null,null,null,null,null,null,null,null,null,null,null,null,null,null,null,null,null,null,null,null,null,null,"RCBBRIDLINGTON AND DISTRICT HOSPITAL - RCBNH","RCBNH","BRIDLINGTON AND DISTRICT HOSPITAL - RCBNH","RCBNH","BRIDLINGTON AND DISTRICT HOSPITAL","RCB"]
[null,null,null,null,null,null,null,null,null,null,null,null,null,null,null,null,null,null,null,null,null,null,null,null,null,null,null,null,null,null,null,null,null,null,null,null,null,null,null,null,null,null,null,null,null,null,null,"RCDLANCASTER PARK ROAD (SITE 2) - RCD22","RCD22","LANCASTER PARK ROAD (SITE 2) - RCD22","RCD22","LANCASTER PARK ROAD (SITE 2)","RCD"]
[null,null,null,null,null,null,null,null,null,null,null,null,null,null,null,null,null,null,null,null,null,null,null,null,null,null,null,null,null,null,null,null,null,null,null,null,null,null,null,null,null,null,null,null,null,null,null,"RCFCORONATION HOSPITAL - RCF26","RCF26","CORONATION HOSPITAL - RCF26","RCF26","CORONATION HOSPITAL","RCF"]
[null,null,null,null,null,null,null,null,null,null,null,null,null,null,null,null,null,null,null,null,null,null,null,null,null,null,null,null,null,null,null,null,null,null,null,null,null,null,null,null,null,null,null,null,null,null,null,"RD1DEVIZES HOSPITAL - RD107","RD107","DEVIZES HOSPITAL - RD107","RD107","DEVIZES HOSPITAL","RD1"]
[null,null,null,null,null,null,null,null,null,null,null,null,null,null,null,null,null,null,null,null,null,null,null,null,null,null,null,null,null,null,null,null,null,null,null,null,null,null,null,null,null,null,null,null,null,null,null,"RD1WESTBURY HOSPITAL - RD106","RD106","WESTBURY HOSPITAL - RD106","RD106","WESTBURY HOSPITAL","RD1"]
[null,null,null,null,null,null,null,null,null,null,null,null,null,null,null,null,null,null,null,null,null,null,null,null,null,null,null,null,null,null,null,null,null,null,null,null,null,null,null,null,null,null,null,null,null,null,null,"RD7CHALFONT'S AND GERRARDS CROSS HOSPITAL - RD766","RD766","CHALFONT'S AND GERRARDS CROSS HOSPITAL - RD766","RD766","CHALFONT'S AND GERRARDS CROSS HOSPITAL","RD7"]
[null,null,null,null,null,null,null,null,null,null,null,null,null,null,null,null,null,null,null,null,null,null,null,null,null,null,null,null,null,null,null,null,null,null,null,null,null,null,null,null,null,null,null,null,null,null,null,"RDECAPIO OAKS HOSPITAL","RDEP1","CAPIO OAKS HOSPITAL","RDEP1","CAPIO OAKS HOSPITAL","RDE"]
[null,null,null,null,null,null,null,null,null,null,null,null,null,null,null,null,null,null,null,null,null,null,null,null,null,null,null,null,null,null,null,null,null,null,null,null,null,null,null,null,null,null,null,null,null,null,null,"RDECOLCHESTER GENERAL HOSPITAL - RDEE4","RDEE4","COLCHESTER GENERAL HOSPITAL - RDEE4","RDEE4","COLCHESTER GENERAL HOSPITAL","RDE"]
[null,null,null,null,null,null,null,null,null,null,null,null,null,null,null,null,null,null,null,null,null,null,null,null,null,null,null,null,null,null,null,null,null,null,null,null,null,null,null,null,null,null,null,null,null,null,null,"RDRBATTLE SCA","RDR53","BATTLE SCA","RDR53","BATTLE SCA","RDR"]
[null,null,null,null,null,null,null,null,null,null,null,null,null,null,null,null,null,null,null,null,null,null,null,null,null,null,null,null,null,null,null,null,null,null,null,null,null,null,null,null,null,null,null,null,null,null,null,"RDRGATWICK HEALTH CONTROL","RDR4R","GATWICK HEALTH CONTROL","RDR4R","GATWICK HEALTH CONTROL","RDR"]
[null,null,null,null,null,null,null,null,null,null,null,null,null,null,null,null,null,null,null,null,null,null,null,null,null,null,null,null,null,null,null,null,null,null,null,null,null,null,null,null,null,null,null,null,null,null,null,"RDRICS QUEENS PARK VILLAS","RDRQP","ICS QUEENS PARK VILLAS","RDRQP","ICS QUEENS PARK VILLAS","RDR"]
[null,null,null,null,null,null,null,null,null,null,null,null,null,null,null,null,null,null,null,null,null,null,null,null,null,null,null,null,null,null,null,null,null,null,null,null,null,null,null,null,null,null,null,null,null,null,null,"RDRPRINCESS ROYAL HOSPITAL","RDR4E","PRINCESS ROYAL HOSPITAL","RDR4E","PRINCESS ROYAL HOSPITAL","RDR"]
[null,null,null,null,null,null,null,null,null,null,null,null,null,null,null,null,null,null,null,null,null,null,null,null,null,null,null,null,null,null,null,null,null,null,null,null,null,null,null,null,null,null,null,null,null,null,null,"RDRTHE OLD MARKET","RDR25","THE OLD MARKET","RDR25","THE OLD MARKET","RDR"]
[null,null,null,null,null,null,null,null,null,null,null,null,null,null,null,null,null,null,null,null,null,null,null,null,null,null,null,null,null,null,null,null,null,null,null,null,null,null,null,null,null,null,null,null,null,null,null,"RDU PAUL BEVAN HOUSE (THAMES HOSPICE CARE)","RDU58"," PAUL BEVAN HOUSE (THAMES HOSPICE CARE)","RDU58"," PAUL BEVAN HOUSE (THAMES HOSPICE CARE)","RDU"]
[null,null,null,null,null,null,null,null,null,null,null,null,null,null,null,null,null,null,null,null,null,null,null,null,null,null,null,null,null,null,null,null,null,null,null,null,null,null,null,null,null,null,null,null,null,null,null,"RDUHEATHERWOOD HOSPITAL","RDU52","HEATHERWOOD HOSPITAL","RDU52","HEATHERWOOD HOSPITAL","RDU"]
[null,null,null,null,null,null,null,null,null,null,null,null,null,null,null,null,null,null,null,null,null,null,null,null,null,null,null,null,null,null,null,null,null,null,null,null,null,null,null,null,null,null,null,null,null,null,null,"RDYADDINGTON UNIT","RDY17","ADDINGTON UNIT","RDY17","ADDINGTON UNIT","RDY"]
[null,null,null,null,null,null,null,null,null,null,null,null,null,null,null,null,null,null,null,null,null,null,null,null,null,null,null,null,null,null,null,null,null,null,null,null,null,null,null,null,null,null,null,null,null,null,null,"RDYBELLE VUE","RDYEP","BELLE VUE","RDYEP","BELLE VUE","RDY"]
[null,null,null,null,null,null,null,null,null,null,null,null,null,null,null,null,null,null,null,null,null,null,null,null,null,null,null,null,null,null,null,null,null,null,null,null,null,null,null,null,null,null,null,null,null,null,null,"RDYBRIDPORT HOSPITAL THEATRE","RDYKQ","BRIDPORT HOSPITAL THEATRE","RDYKQ","BRIDPORT HOSPITAL THEATRE","RDY"]
[null,null,null,null,null,null,null,null,null,null,null,null,null,null,null,null,null,null,null,null,null,null,null,null,null,null,null,null,null,null,null,null,null,null,null,null,null,null,null,null,null,null,null,null,null,null,null,"RDYCHAT","RDYND","CHAT","RDYND","CHAT","RDY"]
[null,null,null,null,null,null,null,null,null,null,null,null,null,null,null,null,null,null,null,null,null,null,null,null,null,null,null,null,null,null,null,null,null,null,null,null,null,null,null,null,null,null,null,null,null,null,null,"RDYHERBERT HOSPITAL","RDY12","HERBERT HOSPITAL","RDY12","HERBERT HOSPITAL","RDY"]
[null,null,null,null,null,null,null,null,null,null,null,null,null,null,null,null,null,null,null,null,null,null,null,null,null,null,null,null,null,null,null,null,null,null,null,null,null,null,null,null,null,null,null,null,null,null,null,"RDYLANGDON WARD B'PORT","RDYHR","LANGDON WARD B'PORT","RDYHR","LANGDON WARD B'PORT","RDY"]
[null,null,null,null,null,null,null,null,null,null,null,null,null,null,null,null,null,null,null,null,null,null,null,null,null,null,null,null,null,null,null,null,null,null,null,null,null,null,null,null,null,null,null,null,null,null,null,"RDYPEBBLE LODGE","RDYMR","PEBBLE LODGE","RDYMR","PEBBLE LODGE","RDY"]
[null,null,null,null,null,null,null,null,null,null,null,null,null,null,null,null,null,null,null,null,null,null,null,null,null,null,null,null,null,null,null,null,null,null,null,null,null,null,null,null,null,null,null,null,null,null,null,"RDYSHERBORNE DERMATOLOGY","RDYHP","SHERBORNE DERMATOLOGY","RDYHP","SHERBORNE DERMATOLOGY","RDY"]
[null,null,null,null,null,null,null,null,null,null,null,null,null,null,null,null,null,null,null,null,null,null,null,null,null,null,null,null,null,null,null,null,null,null,null,null,null,null,null,null,null,null,null,null,null,null,null,"RDYST ANN'S HOSPITAL","RDY10","ST ANN'S HOSPITAL","RDY10","ST ANN'S HOSPITAL","RDY"]
[null,null,null,null,null,null,null,null,null,null,null,null,null,null,null,null,null,null,null,null,null,null,null,null,null,null,null,null,null,null,null,null,null,null,null,null,null,null,null,null,null,null,null,null,null,null,null,"RDYSWANAGE STANLEY PURSER","RDYJV","SWANAGE STANLEY PURSER","RDYJV","SWANAGE STANLEY PURSER","RDY"]
[null,null,null,null,null,null,null,null,null,null,null,null,null,null,null,null,null,null,null,null,null,null,null,null,null,null,null,null,null,null,null,null,null,null,null,null,null,null,null,null,null,null,null,null,null,null,null,"RDYWEST DORSET ISCR","RDY73","WEST DORSET ISCR","RDY73","WEST DORSET ISCR","RDY"]
[null,null,null,null,null,null,null,null,null,null,null,null,null,null,null,null,null,null,null,null,null,null,null,null,null,null,null,null,null,null,null,null,null,null,null,null,null,null,null,null,null,null,null,null,null,null,null,"RDYWEYMOUTH MIU","RDYFQ","WEYMOUTH MIU","RDYFQ","WEYMOUTH MIU","RDY"]
[null,null,null,null,null,null,null,null,null,null,null,null,null,null,null,null,null,null,null,null,null,null,null,null,null,null,null,null,null,null,null,null,null,null,null,null,null,null,null,null,null,null,null,null,null,null,null,"RE9HEBBURN HEALTH CENTRE - RE903","RE903","HEBBURN HEALTH CENTRE - RE903","RE903","HEBBURN HEALTH CENTRE","RE9"]
[null,null,null,null,null,null,null,null,null,null,null,null,null,null,null,null,null,null,null,null,null,null,null,null,null,null,null,null,null,null,null,null,null,null,null,null,null,null,null,null,null,null,null,null,null,null,null,"RE9WESTOE ROAD - RE911","RE911","WESTOE ROAD - RE911","RE911","WESTOE ROAD","RE9"]
[null,null,null,null,null,null,null,null,null,null,null,null,null,null,null,null,null,null,null,null,null,null,null,null,null,null,null,null,null,null,null,null,null,null,null,null,null,null,null,null,null,null,null,null,null,null,null,"REMUNIVERSITY HOSPITAL AINTREE - REM21","REM21","UNIVERSITY HOSPITAL AINTREE - REM21","REM21","UNIVERSITY HOSPITAL AINTREE","REM"]
[null,null,null,null,null,null,null,null,null,null,null,null,null,null,null,null,null,null,null,null,null,null,null,null,null,null,null,null,null,null,null,null,null,null,null,null,null,null,null,null,null,null,null,null,null,null,null,"RFRBARNSLEY HOSPITALS - RFRAA","RFRAA","BARNSLEY HOSPITALS - RFRAA","RFRAA","BARNSLEY HOSPITALS","RFR"]
[null,null,null,null,null,null,null,null,null,null,null,null,null,null,null,null,null,null,null,null,null,null,null,null,null,null,null,null,null,null,null,null,null,null,null,null,null,null,null,null,null,null,null,null,null,null,null,"RFSWHITWORTH HOSPITAL - RFSAB","RFSAB","WHITWORTH HOSPITAL - RFSAB","RFSAB","WHITWORTH HOSPITAL","RFS"]
[null,null,null,null,null,null,null,null,null,null,null,null,null,null,null,null,null,null,null,null,null,null,null,null,null,null,null,null,null,null,null,null,null,null,null,null,null,null,null,null,null,null,null,null,null,null,null,"RGDARMLEY GRANGE","RGDA0","ARMLEY GRANGE","RGDA0","ARMLEY GRANGE","RGD"]
[null,null,null,null,null,null,null,null,null,null,null,null,null,null,null,null,null,null,null,null,null,null,null,null,null,null,null,null,null,null,null,null,null,null,null,null,null,null,null,null,null,null,null,null,null,null,null,"RGDCYGNET HOSPITAL WYKE","RGDCW","CYGNET HOSPITAL WYKE","RGDCW","CYGNET HOSPITAL WYKE","RGD"]
[null,null,null,null,null,null,null,null,null,null,null,null,null,null,null,null,null,null,null,null,null,null,null,null,null,null,null,null,null,null,null,null,null,null,null,null,null,null,null,null,null,null,null,null,null,null,null,{"$f":"CONCATENATE(LEFT(AW868, 3),AX868)","v":"RGDMAWCROFT GRANGE"},"RGDDD","MAWCROFT GRANGE","RGDDD","MAWCROFT GRANGE",{"$f":"LEFT(AY868,3)","v":"RGD"}]
[null,null,null,null,null,null,null,null,null,null,null,null,null,null,null,null,null,null,null,null,null,null,null,null,null,null,null,null,null,null,null,null,null,null,null,null,null,null,null,null,null,null,null,null,null,null,null,"RGDPONTEFRACT GENERAL INFIRMARY","RGD08","PONTEFRACT GENERAL INFIRMARY","RGD08","PONTEFRACT GENERAL INFIRMARY","RGD"]
[null,null,null,null,null,null,null,null,null,null,null,null,null,null,null,null,null,null,null,null,null,null,null,null,null,null,null,null,null,null,null,null,null,null,null,null,null,null,null,null,null,null,null,null,null,null,null,"RGDSEACROFT ONE STOP SHOP","RGDHB","SEACROFT ONE STOP SHOP","RGDHB","SEACROFT ONE STOP SHOP","RGD"]
[null,null,null,null,null,null,null,null,null,null,null,null,null,null,null,null,null,null,null,null,null,null,null,null,null,null,null,null,null,null,null,null,null,null,null,null,null,null,null,null,null,null,null,null,null,null,null,"RGDWHITBY HOSPITAL","RGDVW","WHITBY HOSPITAL","RGDVW","WHITBY HOSPITAL","RGD"]
[null,null,null,null,null,null,null,null,null,null,null,null,null,null,null,null,null,null,null,null,null,null,null,null,null,null,null,null,null,null,null,null,null,null,null,null,null,null,null,null,null,null,null,null,null,null,null,"RGPLOWESTOFT HOSPITAL - RGP72","RGP72","LOWESTOFT HOSPITAL - RGP72","RGP72","LOWESTOFT HOSPITAL","RGP"]
[null,null,null,null,null,null,null,null,null,null,null,null,null,null,null,null,null,null,null,null,null,null,null,null,null,null,null,null,null,null,null,null,null,null,null,null,null,null,null,null,null,null,null,null,null,null,null,"RGQTHE IPSWICH HOSPITAL NHS TRUST - RGQ02","RGQ02","THE IPSWICH HOSPITAL NHS TRUST - RGQ02","RGQ02","THE IPSWICH HOSPITAL NHS TRUST","RGQ"]
[null,null,null,null,null,null,null,null,null,null,null,null,null,null,null,null,null,null,null,null,null,null,null,null,null,null,null,null,null,null,null,null,null,null,null,null,null,null,null,null,null,null,null,null,null,null,null,"RGRWEST SUFFOLK HOSPITAL - RGR50","RGR50","WEST SUFFOLK HOSPITAL - RGR50","RGR50","WEST SUFFOLK HOSPITAL","RGR"]
[null,null,null,null,null,null,null,null,null,null,null,null,null,null,null,null,null,null,null,null,null,null,null,null,null,null,null,null,null,null,null,null,null,null,null,null,null,null,null,null,null,null,null,null,null,null,null,"RH5CREWKERNE HOSPITAL","RH5F9","CREWKERNE HOSPITAL","RH5F9","CREWKERNE HOSPITAL","RH5"]
[null,null,null,null,null,null,null,null,null,null,null,null,null,null,null,null,null,null,null,null,null,null,null,null,null,null,null,null,null,null,null,null,null,null,null,null,null,null,null,null,null,null,null,null,null,null,null,"RH5GLASTONBURY PCDS","RH5H3","GLASTONBURY PCDS","RH5H3","GLASTONBURY PCDS","RH5"]
[null,null,null,null,null,null,null,null,null,null,null,null,null,null,null,null,null,null,null,null,null,null,null,null,null,null,null,null,null,null,null,null,null,null,null,null,null,null,null,null,null,null,null,null,null,null,null,"RH5ST ANDREWS","RH5H5","ST ANDREWS","RH5H5","ST ANDREWS","RH5"]
[null,null,null,null,null,null,null,null,null,null,null,null,null,null,null,null,null,null,null,null,null,null,null,null,null,null,null,null,null,null,null,null,null,null,null,null,null,null,null,null,null,null,null,null,null,null,null,"RH5WESSEX HOUSE","RH5D8","WESSEX HOUSE","RH5D8","WESSEX HOUSE","RH5"]
[null,null,null,null,null,null,null,null,null,null,null,null,null,null,null,null,null,null,null,null,null,null,null,null,null,null,null,null,null,null,null,null,null,null,null,null,null,null,null,null,null,null,null,null,null,null,null,"RH8ROYAL DEVON AND EXETER HOSPITAL (WONFORD) - RH801","RH801","ROYAL DEVON AND EXETER HOSPITAL (WONFORD) - RH801","RH801","ROYAL DEVON AND EXETER HOSPITAL (WONFORD)","RH8"]
[null,null,null,null,null,null,null,null,null,null,null,null,null,null,null,null,null,null,null,null,null,null,null,null,null,null,null,null,null,null,null,null,null,null,null,null,null,null,null,null,null,null,null,null,null,null,null,"RHAASHFIELD/MANSFIELD CLDT","RHACX","ASHFIELD/MANSFIELD CLDT","RHACX","ASHFIELD/MANSFIELD CLDT","RHA"]
[null,null,null,null,null,null,null,null,null,null,null,null,null,null,null,null,null,null,null,null,null,null,null,null,null,null,null,null,null,null,null,null,null,null,null,null,null,null,null,null,null,null,null,null,null,null,null,"RHACENTRAL NOTTINGHAMSHIRE MIND","RHAMD","CENTRAL NOTTINGHAMSHIRE MIND","RHAMD","CENTRAL NOTTINGHAMSHIRE MIND","RHA"]
[null,null,null,null,null,null,null,null,null,null,null,null,null,null,null,null,null,null,null,null,null,null,null,null,null,null,null,null,null,null,null,null,null,null,null,null,null,null,null,null,null,null,null,null,null,null,null,"RHACOAL AUTHORITY BUILDING","RHAPL","COAL AUTHORITY BUILDING","RHAPL","COAL AUTHORITY BUILDING","RHA"]
[null,null,null,null,null,null,null,null,null,null,null,null,null,null,null,null,null,null,null,null,null,null,null,null,null,null,null,null,null,null,null,null,null,null,null,null,null,null,null,null,null,null,null,null,null,null,null,"RHAMANSFIELD COMMUNITY HOSPITAL","RHABL","MANSFIELD COMMUNITY HOSPITAL","RHABL","MANSFIELD COMMUNITY HOSPITAL","RHA"]
[null,null,null,null,null,null,null,null,null,null,null,null,null,null,null,null,null,null,null,null,null,null,null,null,null,null,null,null,null,null,null,null,null,null,null,null,null,null,null,null,null,null,null,null,null,null,null,"RHAMILLBROOK MENTAL HEALTH UNIT","RHABW","MILLBROOK MENTAL HEALTH UNIT","RHABW","MILLBROOK MENTAL HEALTH UNIT","RHA"]
[null,null,null,null,null,null,null,null,null,null,null,null,null,null,null,null,null,null,null,null,null,null,null,null,null,null,null,null,null,null,null,null,null,null,null,null,null,null,null,null,null,null,null,null,null,null,null,"RHANORTH NOTTS LD YP - RX","RHAYP","NORTH NOTTS LD YP - RX","RHAYP","NORTH NOTTS LD YP - RX","RHA"]
[null,null,null,null,null,null,null,null,null,null,null,null,null,null,null,null,null,null,null,null,null,null,null,null,null,null,null,null,null,null,null,null,null,null,null,null,null,null,null,null,null,null,null,null,null,null,null,"RHANORTH NOTTS MHSOP XQ-RX","RHAXQ","NORTH NOTTS MHSOP XQ-RX","RHAXQ","NORTH NOTTS MHSOP XQ-RX","RHA"]
[null,null,null,null,null,null,null,null,null,null,null,null,null,null,null,null,null,null,null,null,null,null,null,null,null,null,null,null,null,null,null,null,null,null,null,null,null,null,null,null,null,null,null,null,null,null,null,"RHANORTH NOTTS NEWARK-RX","RHAXH","NORTH NOTTS NEWARK-RX","RHAXH","NORTH NOTTS NEWARK-RX","RHA"]
[null,null,null,null,null,null,null,null,null,null,null,null,null,null,null,null,null,null,null,null,null,null,null,null,null,null,null,null,null,null,null,null,null,null,null,null,null,null,null,null,null,null,null,null,null,null,null,"RHARETFORD HOSPITAL","RHAAC","RETFORD HOSPITAL","RHAAC","RETFORD HOSPITAL","RHA"]
[null,null,null,null,null,null,null,null,null,null,null,null,null,null,null,null,null,null,null,null,null,null,null,null,null,null,null,null,null,null,null,null,null,null,null,null,null,null,null,null,null,null,null,null,null,null,null,"RHATHE LEYLANDS","RHARJ","THE LEYLANDS","RHARJ","THE LEYLANDS","RHA"]
[null,null,null,null,null,null,null,null,null,null,null,null,null,null,null,null,null,null,null,null,null,null,null,null,null,null,null,null,null,null,null,null,null,null,null,null,null,null,null,null,null,null,null,null,null,null,null,"RHATHE NEWLANDS","RHAGW","THE NEWLANDS","RHAGW","THE NEWLANDS","RHA"]
[null,null,null,null,null,null,null,null,null,null,null,null,null,null,null,null,null,null,null,null,null,null,null,null,null,null,null,null,null,null,null,null,null,null,null,null,null,null,null,null,null,null,null,null,null,null,null,"RHMSOUTHAMPTON GENERAL HOSPITAL - RHM01","RHM01","SOUTHAMPTON GENERAL HOSPITAL - RHM01","RHM01","SOUTHAMPTON GENERAL HOSPITAL","RHM"]
[null,null,null,null,null,null,null,null,null,null,null,null,null,null,null,null,null,null,null,null,null,null,null,null,null,null,null,null,null,null,null,null,null,null,null,null,null,null,null,null,null,null,null,null,null,null,null,"RHQNORTHERN GENERAL HOSPITAL - RHQNG","RHQNG","NORTHERN GENERAL HOSPITAL - RHQNG","RHQNG","NORTHERN GENERAL HOSPITAL","RHQ"]
[null,null,null,null,null,null,null,null,null,null,null,null,null,null,null,null,null,null,null,null,null,null,null,null,null,null,null,null,null,null,null,null,null,null,null,null,null,null,null,null,null,null,null,null,null,null,null,"RHUST MARY'S HOSPITAL - RHU02","RHU02","ST MARY'S HOSPITAL - RHU02","RHU02","ST MARY'S HOSPITAL","RHU"]
[null,null,null,null,null,null,null,null,null,null,null,null,null,null,null,null,null,null,null,null,null,null,null,null,null,null,null,null,null,null,null,null,null,null,null,null,null,null,null,null,null,null,null,null,null,null,null,"RHWDUCHESS OF KENT HOUSE - RHW27","RHW27","DUCHESS OF KENT HOUSE - RHW27","RHW27","DUCHESS OF KENT HOUSE","RHW"]
[null,null,null,null,null,null,null,null,null,null,null,null,null,null,null,null,null,null,null,null,null,null,null,null,null,null,null,null,null,null,null,null,null,null,null,null,null,null,null,null,null,null,null,null,null,null,null,"RHWTHE CASTLE SCHOOL - RHW18","RHW18","THE CASTLE SCHOOL - RHW18","RHW18","THE CASTLE SCHOOL","RHW"]
[null,null,null,null,null,null,null,null,null,null,null,null,null,null,null,null,null,null,null,null,null,null,null,null,null,null,null,null,null,null,null,null,null,null,null,null,null,null,null,null,null,null,null,null,null,null,null,"RJ1KING'S COLLEGE HOSPITAL (DENMARK HILL)","RJ128","KING'S COLLEGE HOSPITAL (DENMARK HILL)","RJ128","KING'S COLLEGE HOSPITAL (DENMARK HILL)","RJ1"]
[null,null,null,null,null,null,null,null,null,null,null,null,null,null,null,null,null,null,null,null,null,null,null,null,null,null,null,null,null,null,null,null,null,null,null,null,null,null,null,null,null,null,null,null,null,null,null,"RJ7BOLINGBROKE HOSPITAL - RJ706","RJ706","BOLINGBROKE HOSPITAL - RJ706","RJ706","BOLINGBROKE HOSPITAL","RJ7"]
[null,null,null,null,null,null,null,null,null,null,null,null,null,null,null,null,null,null,null,null,null,null,null,null,null,null,null,null,null,null,null,null,null,null,null,null,null,null,null,null,null,null,null,null,null,null,null,"RJ8AOS NMP THREE","RJ86G","AOS NMP THREE","RJ86G","AOS NMP THREE","RJ8"]
[null,null,null,null,null,null,null,null,null,null,null,null,null,null,null,null,null,null,null,null,null,null,null,null,null,null,null,null,null,null,null,null,null,null,null,null,null,null,null,null,null,null,null,null,null,null,null,"RJ8FAIR VIEW","RJ8CN","FAIR VIEW","RJ8CN","FAIR VIEW","RJ8"]
[null,null,null,null,null,null,null,null,null,null,null,null,null,null,null,null,null,null,null,null,null,null,null,null,null,null,null,null,null,null,null,null,null,null,null,null,null,null,null,null,null,null,null,null,null,null,null,"RJ8GARNER INPATIENTS","RJ84J","GARNER INPATIENTS","RJ84J","GARNER INPATIENTS","RJ8"]
[null,null,null,null,null,null,null,null,null,null,null,null,null,null,null,null,null,null,null,null,null,null,null,null,null,null,null,null,null,null,null,null,null,null,null,null,null,null,null,null,null,null,null,null,null,null,null,"RJ8MANOR VILLAS","RJ8AW","MANOR VILLAS","RJ8AW","MANOR VILLAS","RJ8"]
[null,null,null,null,null,null,null,null,null,null,null,null,null,null,null,null,null,null,null,null,null,null,null,null,null,null,null,null,null,null,null,null,null,null,null,null,null,null,null,null,null,null,null,null,null,null,null,"RJ8ROSWYTH","RJ8DT","ROSWYTH","RJ8DT","ROSWYTH","RJ8"]
[null,null,null,null,null,null,null,null,null,null,null,null,null,null,null,null,null,null,null,null,null,null,null,null,null,null,null,null,null,null,null,null,null,null,null,null,null,null,null,null,null,null,null,null,null,null,null,"RJ8TRENGWEATH","RJ827","TRENGWEATH","RJ827","TRENGWEATH","RJ8"]
[null,null,null,null,null,null,null,null,null,null,null,null,null,null,null,null,null,null,null,null,null,null,null,null,null,null,null,null,null,null,null,null,null,null,null,null,null,null,null,null,null,null,null,null,null,null,null,"RJCWARWICK HOSPITAL - RJC02","RJC02","WARWICK HOSPITAL - RJC02","RJC02","WARWICK HOSPITAL","RJC"]
[null,null,null,null,null,null,null,null,null,null,null,null,null,null,null,null,null,null,null,null,null,null,null,null,null,null,null,null,null,null,null,null,null,null,null,null,null,null,null,null,null,null,null,null,null,null,null,"RJFQUEEN'S HOSPITAL, BURTON UPON TRENT - RJF02","RJF02","QUEEN'S HOSPITAL, BURTON UPON TRENT - RJF02","RJF02","QUEEN'S HOSPITAL, BURTON UPON TRENT","RJF"]
[null,null,null,null,null,null,null,null,null,null,null,null,null,null,null,null,null,null,null,null,null,null,null,null,null,null,null,null,null,null,null,null,null,null,null,null,null,null,null,null,null,null,null,null,null,null,null,"RJLDIANA, PRINCESS OF WALES HOSPITAL - RJL30","RJL30","DIANA, PRINCESS OF WALES HOSPITAL - RJL30","RJL30","DIANA, PRINCESS OF WALES HOSPITAL","RJL"]
[null,null,null,null,null,null,null,null,null,null,null,null,null,null,null,null,null,null,null,null,null,null,null,null,null,null,null,null,null,null,null,null,null,null,null,null,null,null,null,null,null,null,null,null,null,null,null,"RJXPENDLE VIEW","RJX07","PENDLE VIEW","RJX07","PENDLE VIEW","RJX"]
[null,null,null,null,null,null,null,null,null,null,null,null,null,null,null,null,null,null,null,null,null,null,null,null,null,null,null,null,null,null,null,null,null,null,null,null,null,null,null,null,null,null,null,null,null,null,null,"RJXTHE VICARAGE","RJX06","THE VICARAGE","RJX06","THE VICARAGE","RJX"]
[null,null,null,null,null,null,null,null,null,null,null,null,null,null,null,null,null,null,null,null,null,null,null,null,null,null,null,null,null,null,null,null,null,null,null,null,null,null,null,null,null,null,null,null,null,null,null,"RK5NEWARK HOSPITAL - RK5HP","RK5HP","NEWARK HOSPITAL - RK5HP","RK5HP","NEWARK HOSPITAL","RK5"]
[null,null,null,null,null,null,null,null,null,null,null,null,null,null,null,null,null,null,null,null,null,null,null,null,null,null,null,null,null,null,null,null,null,null,null,null,null,null,null,null,null,null,null,null,null,null,null,"RKLADTS EALING","RKL1V","ADTS EALING","RKL1V","ADTS EALING","RKL"]
[null,null,null,null,null,null,null,null,null,null,null,null,null,null,null,null,null,null,null,null,null,null,null,null,null,null,null,null,null,null,null,null,null,null,null,null,null,null,null,null,null,null,null,null,null,null,null,"RKLCRT H & F (NORTH)","RKL2J","CRT H & F (NORTH)","RKL2J","CRT H & F (NORTH)","RKL"]
[null,null,null,null,null,null,null,null,null,null,null,null,null,null,null,null,null,null,null,null,null,null,null,null,null,null,null,null,null,null,null,null,null,null,null,null,null,null,null,null,null,null,null,null,null,null,null,"RKLEPS","RKL2Q","EPS","RKL2Q","EPS","RKL"]
[null,null,null,null,null,null,null,null,null,null,null,null,null,null,null,null,null,null,null,null,null,null,null,null,null,null,null,null,null,null,null,null,null,null,null,null,null,null,null,null,null,null,null,null,null,null,null,"RKLOLDER PEOPLES DAY HOSPITAL","RKL2C","OLDER PEOPLES DAY HOSPITAL","RKL2C","OLDER PEOPLES DAY HOSPITAL","RKL"]
[null,null,null,null,null,null,null,null,null,null,null,null,null,null,null,null,null,null,null,null,null,null,null,null,null,null,null,null,null,null,null,null,null,null,null,null,null,null,null,null,null,null,null,null,null,null,null,"RKLRISE AOT EALING","RKL1M","RISE AOT EALING","RKL1M","RISE AOT EALING","RKL"]
[null,null,null,null,null,null,null,null,null,null,null,null,null,null,null,null,null,null,null,null,null,null,null,null,null,null,null,null,null,null,null,null,null,null,null,null,null,null,null,null,null,null,null,null,null,null,null,"RLNRYHOPE GENERAL HOSPITAL - RLNGP","RLNGP","RYHOPE GENERAL HOSPITAL - RLNGP","RLNGP","RYHOPE GENERAL HOSPITAL","RLN"]
[null,null,null,null,null,null,null,null,null,null,null,null,null,null,null,null,null,null,null,null,null,null,null,null,null,null,null,null,null,null,null,null,null,null,null,null,null,null,null,null,null,null,null,null,null,null,null,"RLYBUCKNALL HOSPITAL","RLY10","BUCKNALL HOSPITAL","RLY10","BUCKNALL HOSPITAL","RLY"]
[null,null,null,null,null,null,null,null,null,null,null,null,null,null,null,null,null,null,null,null,null,null,null,null,null,null,null,null,null,null,null,null,null,null,null,null,null,null,null,null,null,null,null,null,null,null,null,"RLYDARWIN CENTRE","RLY86","DARWIN CENTRE","RLY86","DARWIN CENTRE","RLY"]
[null,null,null,null,null,null,null,null,null,null,null,null,null,null,null,null,null,null,null,null,null,null,null,null,null,null,null,null,null,null,null,null,null,null,null,null,null,null,null,null,null,null,null,null,null,null,null,"RLYHEALTH RECORDS DEPARTMENT","RLY2W","HEALTH RECORDS DEPARTMENT","RLY2W","HEALTH RECORDS DEPARTMENT","RLY"]
[null,null,null,null,null,null,null,null,null,null,null,null,null,null,null,null,null,null,null,null,null,null,null,null,null,null,null,null,null,null,null,null,null,null,null,null,null,null,null,null,null,null,null,null,null,null,null,"RM3SALFORD ROYAL - RM301","RM301","SALFORD ROYAL - RM301","RM301","SALFORD ROYAL","RM3"]
[null,null,null,null,null,null,null,null,null,null,null,null,null,null,null,null,null,null,null,null,null,null,null,null,null,null,null,null,null,null,null,null,null,null,null,null,null,null,null,null,null,null,null,null,null,null,null,"RMYCARLTON COURT","RMY13","CARLTON COURT","RMY13","CARLTON COURT","RMY"]
[null,null,null,null,null,null,null,null,null,null,null,null,null,null,null,null,null,null,null,null,null,null,null,null,null,null,null,null,null,null,null,null,null,null,null,null,null,null,null,null,null,null,null,null,null,null,null,"RMYJULIAN HOSPITAL","RMY02","JULIAN HOSPITAL","RMY02","JULIAN HOSPITAL","RMY"]
[null,null,null,null,null,null,null,null,null,null,null,null,null,null,null,null,null,null,null,null,null,null,null,null,null,null,null,null,null,null,null,null,null,null,null,null,null,null,null,null,null,null,null,null,null,null,null,"RMYMERIDEAN EAST","RMY85","MERIDEAN EAST","RMY85","MERIDEAN EAST","RMY"]
[null,null,null,null,null,null,null,null,null,null,null,null,null,null,null,null,null,null,null,null,null,null,null,null,null,null,null,null,null,null,null,null,null,null,null,null,null,null,null,null,null,null,null,null,null,null,null,"RMYTWO NINE EIGHT","RMY34","TWO NINE EIGHT","RMY34","TWO NINE EIGHT","RMY"]
[null,null,null,null,null,null,null,null,null,null,null,null,null,null,null,null,null,null,null,null,null,null,null,null,null,null,null,null,null,null,null,null,null,null,null,null,null,null,null,null,null,null,null,null,null,null,null,"RMYWEDGEWOOD HOUSE, WEST SUFFOLK HOSPITAL","RMYNR","WEDGEWOOD HOUSE, WEST SUFFOLK HOSPITAL","RMYNR","WEDGEWOOD HOUSE, WEST SUFFOLK HOSPITAL","RMY"]
[null,null,null,null,null,null,null,null,null,null,null,null,null,null,null,null,null,null,null,null,null,null,null,null,null,null,null,null,null,null,null,null,null,null,null,null,null,null,null,null,null,null,null,null,null,null,null,"RN7DARENT VALLEY HOSPITAL - RN707","RN707","DARENT VALLEY HOSPITAL - RN707","RN707","DARENT VALLEY HOSPITAL","RN7"]
[null,null,null,null,null,null,null,null,null,null,null,null,null,null,null,null,null,null,null,null,null,null,null,null,null,null,null,null,null,null,null,null,null,null,null,null,null,null,null,null,null,null,null,null,null,null,null,"RNACORBETT HOSPITAL - RNA04","RNA04","CORBETT HOSPITAL - RNA04","RNA04","CORBETT HOSPITAL","RNA"]
[null,null,null,null,null,null,null,null,null,null,null,null,null,null,null,null,null,null,null,null,null,null,null,null,null,null,null,null,null,null,null,null,null,null,null,null,null,null,null,null,null,null,null,null,null,null,null,"RNNALSTON MINOR INJURY UNIT","RNNAM","ALSTON MINOR INJURY UNIT","RNNAM","ALSTON MINOR INJURY UNIT","RNN"]
[null,null,null,null,null,null,null,null,null,null,null,null,null,null,null,null,null,null,null,null,null,null,null,null,null,null,null,null,null,null,null,null,null,null,null,null,null,null,null,null,null,null,null,null,null,null,null,"RNNBRAMPTON HOSPITAL","RNNCP","BRAMPTON HOSPITAL","RNNCP","BRAMPTON HOSPITAL","RNN"]
[null,null,null,null,null,null,null,null,null,null,null,null,null,null,null,null,null,null,null,null,null,null,null,null,null,null,null,null,null,null,null,null,null,null,null,null,null,null,null,null,null,null,null,null,null,null,null,"RNNFIRST FLOOR (WEST)","RNNDH","FIRST FLOOR (WEST)","RNNDH","FIRST FLOOR (WEST)","RNN"]
[null,null,null,null,null,null,null,null,null,null,null,null,null,null,null,null,null,null,null,null,null,null,null,null,null,null,null,null,null,null,null,null,null,null,null,null,null,null,null,null,null,null,null,null,null,null,null,"RNNFURNESS GENERAL HOSPITAL (MENTAL HEALTH)","RNNFH","FURNESS GENERAL HOSPITAL (MENTAL HEALTH)","RNNFH","FURNESS GENERAL HOSPITAL (MENTAL HEALTH)","RNN"]
[null,null,null,null,null,null,null,null,null,null,null,null,null,null,null,null,null,null,null,null,null,null,null,null,null,null,null,null,null,null,null,null,null,null,null,null,null,null,null,null,null,null,null,null,null,null,null,"RNNMEADOWBANK","RNN76","MEADOWBANK","RNN76","MEADOWBANK","RNN"]
[null,null,null,null,null,null,null,null,null,null,null,null,null,null,null,null,null,null,null,null,null,null,null,null,null,null,null,null,null,null,null,null,null,null,null,null,null,null,null,null,null,null,null,null,null,null,null,{"$f":"CONCATENATE(LEFT(AW1455, 3),AX1455)","v":"RNNORTON LEA"},"RNNAN","ORTON LEA","RNNAN","ORTON LEA",{"$f":"LEFT(AY1455,3)","v":"RNN"}]
[null,null,null,null,null,null,null,null,null,null,null,null,null,null,null,null,null,null,null,null,null,null,null,null,null,null,null,null,null,null,null,null,null,null,null,null,null,null,null,null,null,null,null,null,null,null,null,"RNNTHIRLMERE SUITE","RNNTT","THIRLMERE SUITE","RNNTT","THIRLMERE SUITE","RNN"]
[null,null,null,null,null,null,null,null,null,null,null,null,null,null,null,null,null,null,null,null,null,null,null,null,null,null,null,null,null,null,null,null,null,null,null,null,null,null,null,null,null,null,null,null,null,null,null,"RNQKETTERING GENERAL HOSPITAL - RNQ51","RNQ51","KETTERING GENERAL HOSPITAL - RNQ51","RNQ51","KETTERING GENERAL HOSPITAL","RNQ"]
[null,null,null,null,null,null,null,null,null,null,null,null,null,null,null,null,null,null,null,null,null,null,null,null,null,null,null,null,null,null,null,null,null,null,null,null,null,null,null,null,null,null,null,null,null,null,null,"RNUEMERGENCY MEDICAL TREATMENT UNIT","RNUPD","EMERGENCY MEDICAL TREATMENT UNIT","RNUPD","EMERGENCY MEDICAL TREATMENT UNIT","RNU"]
[null,null,null,null,null,null,null,null,null,null,null,null,null,null,null,null,null,null,null,null,null,null,null,null,null,null,null,null,null,null,null,null,null,null,null,null,null,null,null,null,null,null,null,null,null,null,null,"RNULITTLEMORE MENTAL HEALTH CENTRE","RNU30","LITTLEMORE MENTAL HEALTH CENTRE","RNU30","LITTLEMORE MENTAL HEALTH CENTRE","RNU"]
[null,null,null,null,null,null,null,null,null,null,null,null,null,null,null,null,null,null,null,null,null,null,null,null,null,null,null,null,null,null,null,null,null,null,null,null,null,null,null,null,null,null,null,null,null,null,null,"RNUSHRUBLANDS","RNU16","SHRUBLANDS","RNU16","SHRUBLANDS","RNU"]
[null,null,null,null,null,null,null,null,null,null,null,null,null,null,null,null,null,null,null,null,null,null,null,null,null,null,null,null,null,null,null,null,null,null,null,null,null,null,null,null,null,null,null,null,null,null,null,"RNUWANTAGE COMMUNITY HOSPITAL","RNUDK","WANTAGE COMMUNITY HOSPITAL","RNUDK","WANTAGE COMMUNITY HOSPITAL","RNU"]
[null,null,null,null,null,null,null,null,null,null,null,null,null,null,null,null,null,null,null,null,null,null,null,null,null,null,null,null,null,null,null,null,null,null,null,null,null,null,null,null,null,null,null,null,null,null,null,"RP12 WILLOW CLOSE","RP1R1","2 WILLOW CLOSE","RP1R1","2 WILLOW CLOSE","RP1"]
[null,null,null,null,null,null,null,null,null,null,null,null,null,null,null,null,null,null,null,null,null,null,null,null,null,null,null,null,null,null,null,null,null,null,null,null,null,null,null,null,null,null,null,null,null,null,null,"RP1BARTON HALL","RP1T2","BARTON HALL","RP1T2","BARTON HALL","RP1"]
[null,null,null,null,null,null,null,null,null,null,null,null,null,null,null,null,null,null,null,null,null,null,null,null,null,null,null,null,null,null,null,null,null,null,null,null,null,null,null,null,null,null,null,null,null,null,null,"RP1JOHN RADCLIFFE HOSPITAL","RP1L2","JOHN RADCLIFFE HOSPITAL","RP1L2","JOHN RADCLIFFE HOSPITAL","RP1"]
[null,null,null,null,null,null,null,null,null,null,null,null,null,null,null,null,null,null,null,null,null,null,null,null,null,null,null,null,null,null,null,null,null,null,null,null,null,null,null,null,null,null,null,null,null,null,null,"RP1KINGSTHORPE GRANGE","RP1M1","KINGSTHORPE GRANGE","RP1M1","KINGSTHORPE GRANGE","RP1"]
[null,null,null,null,null,null,null,null,null,null,null,null,null,null,null,null,null,null,null,null,null,null,null,null,null,null,null,null,null,null,null,null,null,null,null,null,null,null,null,null,null,null,null,null,null,null,null,"RP1OUNDLE COMMUNITY CARE UNIT","RP1F7","OUNDLE COMMUNITY CARE UNIT","RP1F7","OUNDLE COMMUNITY CARE UNIT","RP1"]
[null,null,null,null,null,null,null,null,null,null,null,null,null,null,null,null,null,null,null,null,null,null,null,null,null,null,null,null,null,null,null,null,null,null,null,null,null,null,null,null,null,null,null,null,null,null,null,"RP1SUNNYSIDE","RP1N6","SUNNYSIDE","RP1N6","SUNNYSIDE","RP1"]
[null,null,null,null,null,null,null,null,null,null,null,null,null,null,null,null,null,null,null,null,null,null,null,null,null,null,null,null,null,null,null,null,null,null,null,null,null,null,null,null,null,null,null,null,null,null,null,"RP1THE SETT","RP1V6","THE SETT","RP1V6","THE SETT","RP1"]
[null,null,null,null,null,null,null,null,null,null,null,null,null,null,null,null,null,null,null,null,null,null,null,null,null,null,null,null,null,null,null,null,null,null,null,null,null,null,null,null,null,null,null,null,null,null,null,"RP6MOORFIELDS AT HOMERTON HOSPITAL - RP609","RP609","MOORFIELDS AT HOMERTON HOSPITAL - RP609","RP609","MOORFIELDS AT HOMERTON HOSPITAL - RP609","RP6"]
[null,null,null,null,null,null,null,null,null,null,null,null,null,null,null,null,null,null,null,null,null,null,null,null,null,null,null,null,null,null,null,null,null,null,null,null,null,null,null,null,null,null,null,null,null,null,null,"RP7274 SSDEAC2 BRANT / LANGWORTH","RP7CG","274 SSDEAC2 BRANT / LANGWORTH","RP7CG","274 SSDEAC2 BRANT / LANGWORTH","RP7"]
[null,null,null,null,null,null,null,null,null,null,null,null,null,null,null,null,null,null,null,null,null,null,null,null,null,null,null,null,null,null,null,null,null,null,null,null,null,null,null,null,null,null,null,null,null,null,null,"RP7274 SSRH2 ASHLEY HOUSE REHAB L21540","RP706","274 SSRH2 ASHLEY HOUSE REHAB L21540","RP706","274 SSRH2 ASHLEY HOUSE REHAB L21540","RP7"]
[null,null,null,null,null,null,null,null,null,null,null,null,null,null,null,null,null,null,null,null,null,null,null,null,null,null,null,null,null,null,null,null,null,null,null,null,null,null,null,null,null,null,null,null,null,null,null,"RP7LOW SECURE MENTAL HEALTH UNIT","RP7FK","LOW SECURE MENTAL HEALTH UNIT","RP7FK","LOW SECURE MENTAL HEALTH UNIT","RP7"]
[null,null,null,null,null,null,null,null,null,null,null,null,null,null,null,null,null,null,null,null,null,null,null,null,null,null,null,null,null,null,null,null,null,null,null,null,null,null,null,null,null,null,null,null,null,null,null,"RP7MENTAL HEALTH LONG TERM REHABILITATION & DAY HOSPITAL","RP7FQ","MENTAL HEALTH LONG TERM REHABILITATION & DAY HOSPITAL","RP7FQ","MENTAL HEALTH LONG TERM REHABILITATION & DAY HOSPITAL","RP7"]
[null,null,null,null,null,null,null,null,null,null,null,null,null,null,null,null,null,null,null,null,null,null,null,null,null,null,null,null,null,null,null,null,null,null,null,null,null,null,null,null,null,null,null,null,null,null,null,"RP7NORTON LEA","RP713","NORTON LEA","RP713","NORTON LEA","RP7"]
[null,null,null,null,null,null,null,null,null,null,null,null,null,null,null,null,null,null,null,null,null,null,null,null,null,null,null,null,null,null,null,null,null,null,null,null,null,null,null,null,null,null,null,null,null,null,null,"RPAGRAVESHAM COMMUNITY HOSPITAL - RPA68","RPA68","GRAVESHAM COMMUNITY HOSPITAL - RPA68","RPA68","GRAVESHAM COMMUNITY HOSPITAL - RPA68","RPA"]
[null,null,null,null,null,null,null,null,null,null,null,null,null,null,null,null,null,null,null,null,null,null,null,null,null,null,null,null,null,null,null,null,null,null,null,null,null,null,null,null,null,null,null,null,null,null,null,"RPCMAIDSTONE DISTRICT GENERAL HOSPITAL - RPC15","RPC15","MAIDSTONE DISTRICT GENERAL HOSPITAL - RPC15","RPC15","MAIDSTONE DISTRICT GENERAL HOSPITAL - RPC15","RPC"]
[null,null,null,null,null,null,null,null,null,null,null,null,null,null,null,null,null,null,null,null,null,null,null,null,null,null,null,null,null,null,null,null,null,null,null,null,null,null,null,null,null,null,null,null,null,null,null,"RPGALDT","RPGCP","ALDT","RPGCP","ALDT","RPG"]
[null,null,null,null,null,null,null,null,null,null,null,null,null,null,null,null,null,null,null,null,null,null,null,null,null,null,null,null,null,null,null,null,null,null,null,null,null,null,null,null,null,null,null,null,null,null,null,"RPGFAIRFIELD HC","RPGGH","FAIRFIELD HC","RPGGH","FAIRFIELD HC","RPG"]
[null,null,null,null,null,null,null,null,null,null,null,null,null,null,null,null,null,null,null,null,null,null,null,null,null,null,null,null,null,null,null,null,null,null,null,null,null,null,null,null,null,null,null,null,null,null,null,"RPGGREEN PARK'S HOUSE","RPGAD ","GREEN PARK'S HOUSE","RPGAD ","GREEN PARK'S HOUSE","RPG"]
[null,null,null,null,null,null,null,null,null,null,null,null,null,null,null,null,null,null,null,null,null,null,null,null,null,null,null,null,null,null,null,null,null,null,null,null,null,null,null,null,null,null,null,null,null,null,null,"RPGJOYDENS & BIRCHWOOD","RPGDQ","JOYDENS & BIRCHWOOD","RPGDQ","JOYDENS & BIRCHWOOD","RPG"]
[null,null,null,null,null,null,null,null,null,null,null,null,null,null,null,null,null,null,null,null,null,null,null,null,null,null,null,null,null,null,null,null,null,null,null,null,null,null,null,null,null,null,null,null,null,null,null,"RPGST MARKS HC","RPGGE","ST MARKS HC","RPGGE","ST MARKS HC","RPG"]
[null,null,null,null,null,null,null,null,null,null,null,null,null,null,null,null,null,null,null,null,null,null,null,null,null,null,null,null,null,null,null,null,null,null,null,null,null,null,null,null,null,null,null,null,null,null,null,"RPGTUGMUTTON","RPGEM","TUGMUTTON","RPGEM","TUGMUTTON","RPG"]
[null,null,null,null,null,null,null,null,null,null,null,null,null,null,null,null,null,null,null,null,null,null,null,null,null,null,null,null,null,null,null,null,null,null,null,null,null,null,null,null,null,null,null,null,null,null,null,"RQ3BIRMINGHAM CHILDREN'S HOSPITAL - COMMUNITY TRUST","RQ307","BIRMINGHAM CHILDREN'S HOSPITAL - COMMUNITY TRUST","RQ307","BIRMINGHAM CHILDREN'S HOSPITAL - COMMUNITY TRUST","RQ3"]
[null,null,null,null,null,null,null,null,null,null,null,null,null,null,null,null,null,null,null,null,null,null,null,null,null,null,null,null,null,null,null,null,null,null,null,null,null,null,null,null,null,null,null,null,null,null,null,"RQ6SIR ALFRED JONES MEMORIAL HOSPITAL (ACUTE) - RQ607","RQ607","SIR ALFRED JONES MEMORIAL HOSPITAL (ACUTE) - RQ607","RQ607","SIR ALFRED JONES MEMORIAL HOSPITAL (ACUTE) - RQ607","RQ6"]
[null,null,null,null,null,null,null,null,null,null,null,null,null,null,null,null,null,null,null,null,null,null,null,null,null,null,null,null,null,null,null,null,null,null,null,null,null,null,null,null,null,null,null,null,null,null,null,"RQ8ST MICHAEL'S HOSPITAL - RQ8LF","RQ8LF","ST MICHAEL'S HOSPITAL - RQ8LF","RQ8LF","ST MICHAEL'S HOSPITAL - RQ8LF","RQ8"]
[null,null,null,null,null,null,null,null,null,null,null,null,null,null,null,null,null,null,null,null,null,null,null,null,null,null,null,null,null,null,null,null,null,null,null,null,null,null,null,null,null,null,null,null,null,null,null,"RQQHINCHINGBROOKE HOSPITAL - RQQ31","RQQ31","HINCHINGBROOKE HOSPITAL - RQQ31","RQQ31","HINCHINGBROOKE HOSPITAL - RQQ31","RQQ"]
[null,null,null,null,null,null,null,null,null,null,null,null,null,null,null,null,null,null,null,null,null,null,null,null,null,null,null,null,null,null,null,null,null,null,null,null,null,null,null,null,null,null,null,null,null,null,null,"RQWSAFFRON WALDEN COMMUNITY HOSPITAL - RQWG3","RQWG3","SAFFRON WALDEN COMMUNITY HOSPITAL - RQWG3","RQWG3","SAFFRON WALDEN COMMUNITY HOSPITAL - RQWG3","RQW"]
[null,null,null,null,null,null,null,null,null,null,null,null,null,null,null,null,null,null,null,null,null,null,null,null,null,null,null,null,null,null,null,null,null,null,null,null,null,null,null,null,null,null,null,null,null,null,null,"RQYMER & SUT MHT FOR PLD","RQYLA","MER & SUT MHT FOR PLD","RQYLA","MER & SUT MHT FOR PLD","RQY"]
[null,null,null,null,null,null,null,null,null,null,null,null,null,null,null,null,null,null,null,null,null,null,null,null,null,null,null,null,null,null,null,null,null,null,null,null,null,null,null,null,null,null,null,null,null,null,null,"RQYNELSON HOSPITAL","RQY42","NELSON HOSPITAL","RQY42","NELSON HOSPITAL","RQY"]
[null,null,null,null,null,null,null,null,null,null,null,null,null,null,null,null,null,null,null,null,null,null,null,null,null,null,null,null,null,null,null,null,null,null,null,null,null,null,null,null,null,null,null,null,null,null,null,"RQYR.F.S","RQYF1","R.F.S","RQYF1","R.F.S","RQY"]
[null,null,null,null,null,null,null,null,null,null,null,null,null,null,null,null,null,null,null,null,null,null,null,null,null,null,null,null,null,null,null,null,null,null,null,null,null,null,null,null,null,null,null,null,null,null,null,"RQYWANDSWORTH AORT","RQYA1","WANDSWORTH AORT","RQYA1","WANDSWORTH AORT","RQY"]
[null,null,null,null,null,null,null,null,null,null,null,null,null,null,null,null,null,null,null,null,null,null,null,null,null,null,null,null,null,null,null,null,null,null,null,null,null,null,null,null,null,null,null,null,null,null,null,"RR7CITY HOSPITALS SUNDERLAND - RR7CH","RR7CH","CITY HOSPITALS SUNDERLAND - RR7CH","RR7CH","CITY HOSPITALS SUNDERLAND - RR7CH","RR7"]
[null,null,null,null,null,null,null,null,null,null,null,null,null,null,null,null,null,null,null,null,null,null,null,null,null,null,null,null,null,null,null,null,null,null,null,null,null,null,null,null,null,null,null,null,null,null,null,"RR8LEEDS GENERAL INFIRMARY - RR801","RR801","LEEDS GENERAL INFIRMARY - RR801","RR801","LEEDS GENERAL INFIRMARY - RR801","RR8"]
[null,null,null,null,null,null,null,null,null,null,null,null,null,null,null,null,null,null,null,null,null,null,null,null,null,null,null,null,null,null,null,null,null,null,null,null,null,null,null,null,null,null,null,null,null,null,null,"RRDCHELMSFORD - UNITS 4 & 5A, CORNELL ESTATE","RRDAE","CHELMSFORD - UNITS 4 & 5A, CORNELL ESTATE","RRDAE","CHELMSFORD - UNITS 4 & 5A, CORNELL ESTATE","RRD"]
[null,null,null,null,null,null,null,null,null,null,null,null,null,null,null,null,null,null,null,null,null,null,null,null,null,null,null,null,null,null,null,null,null,null,null,null,null,null,null,null,null,null,null,null,null,null,null,"RRDCOLCHESTER - THE LAKES","RRDE1","COLCHESTER - THE LAKES","RRDE1","COLCHESTER - THE LAKES","RRD"]
[null,null,null,null,null,null,null,null,null,null,null,null,null,null,null,null,null,null,null,null,null,null,null,null,null,null,null,null,null,null,null,null,null,null,null,null,null,null,null,null,null,null,null,null,null,null,null,"RREADULT MENTAL HEALTH","RRE3M","ADULT MENTAL HEALTH","RRE3M","ADULT MENTAL HEALTH","RRE"]
[null,null,null,null,null,null,null,null,null,null,null,null,null,null,null,null,null,null,null,null,null,null,null,null,null,null,null,null,null,null,null,null,null,null,null,null,null,null,null,null,null,null,null,null,null,null,null,{"$f":"CONCATENATE(LEFT(AW1841, 3),AX1841)","v":"RRECASTLE CARE CASTLEHAVEN"},"RREF1","CASTLE CARE CASTLEHAVEN","RREF1","CASTLE CARE CASTLEHAVEN",{"$f":"LEFT(AY1841,3)","v":"RRE"}]
[null,null,null,null,null,null,null,null,null,null,null,null,null,null,null,null,null,null,null,null,null,null,null,null,null,null,null,null,null,null,null,null,null,null,null,null,null,null,null,null,null,null,null,null,null,null,null,"RREHIGH TREES RESIDENTIAL HOME","RREFJ","HIGH TREES RESIDENTIAL HOME","RREFJ","HIGH TREES RESIDENTIAL HOME","RRE"]
[null,null,null,null,null,null,null,null,null,null,null,null,null,null,null,null,null,null,null,null,null,null,null,null,null,null,null,null,null,null,null,null,null,null,null,null,null,null,null,null,null,null,null,null,null,null,null,"RREMEDICAL RECORDS","RREH1","MEDICAL RECORDS","RREH1","MEDICAL RECORDS","RRE"]
[null,null,null,null,null,null,null,null,null,null,null,null,null,null,null,null,null,null,null,null,null,null,null,null,null,null,null,null,null,null,null,null,null,null,null,null,null,null,null,null,null,null,null,null,null,null,null,"RRESHELTON HOSPITAL","RRE0G","SHELTON HOSPITAL","RRE0G","SHELTON HOSPITAL","RRE"]
[null,null,null,null,null,null,null,null,null,null,null,null,null,null,null,null,null,null,null,null,null,null,null,null,null,null,null,null,null,null,null,null,null,null,null,null,null,null,null,null,null,null,null,null,null,null,null,"RREST GEORGE'S HOSPITAL","RRE11","ST GEORGE'S HOSPITAL","RRE11","ST GEORGE'S HOSPITAL","RRE"]
[null,null,null,null,null,null,null,null,null,null,null,null,null,null,null,null,null,null,null,null,null,null,null,null,null,null,null,null,null,null,null,null,null,null,null,null,null,null,null,null,null,null,null,null,null,null,null,"RRETHE REDWOODS CENTRE","RRERS","THE REDWOODS CENTRE","RRERS","THE REDWOODS CENTRE","RRE"]
[null,null,null,null,null,null,null,null,null,null,null,null,null,null,null,null,null,null,null,null,null,null,null,null,null,null,null,null,null,null,null,null,null,null,null,null,null,null,null,null,null,null,null,null,null,null,null,"RREYOCKLETON GRANGE","RREA7","YOCKLETON GRANGE","RREA7","YOCKLETON GRANGE","RRE"]
[null,null,null,null,null,null,null,null,null,null,null,null,null,null,null,null,null,null,null,null,null,null,null,null,null,null,null,null,null,null,null,null,null,null,null,null,null,null,null,null,null,null,null,null,null,null,null,"RRJROYAL ORTHOPAEDIC HOSPITAL - RRJ05","RRJ05","ROYAL ORTHOPAEDIC HOSPITAL - RRJ05","RRJ05","ROYAL ORTHOPAEDIC HOSPITAL - RRJ05","RRJ"]
[null,null,null,null,null,null,null,null,null,null,null,null,null,null,null,null,null,null,null,null,null,null,null,null,null,null,null,null,null,null,null,null,null,null,null,null,null,null,null,null,null,null,null,null,null,null,null,"RRKQUEEN ELIZABETH HOSPITAL - RRK02","RRK02","QUEEN ELIZABETH HOSPITAL - RRK02","RRK02","QUEEN ELIZABETH HOSPITAL - RRK02","RRK"]
[null,null,null,null,null,null,null,null,null,null,null,null,null,null,null,null,null,null,null,null,null,null,null,null,null,null,null,null,null,null,null,null,null,null,null,null,null,null,null,null,null,null,null,null,null,null,null,"RRPCOLINDALE HOSPITAL","RRP17","COLINDALE HOSPITAL","RRP17","COLINDALE HOSPITAL","RRP"]
[null,null,null,null,null,null,null,null,null,null,null,null,null,null,null,null,null,null,null,null,null,null,null,null,null,null,null,null,null,null,null,null,null,null,null,null,null,null,null,null,null,null,null,null,null,null,null,"RRPROYAL NATIONAL ORTHOPAEDIC HOSPITAL","RRP42","ROYAL NATIONAL ORTHOPAEDIC HOSPITAL","RRP42","ROYAL NATIONAL ORTHOPAEDIC HOSPITAL","RRP"]
[null,null,null,null,null,null,null,null,null,null,null,null,null,null,null,null,null,null,null,null,null,null,null,null,null,null,null,null,null,null,null,null,null,null,null,null,null,null,null,null,null,null,null,null,null,null,null,"RRVUCH MACMILLAN CANCER CENTRE","RRVCC","UCH MACMILLAN CANCER CENTRE","RRVCC","UCH MACMILLAN CANCER CENTRE","RRV"]
[null,null,null,null,null,null,null,null,null,null,null,null,null,null,null,null,null,null,null,null,null,null,null,null,null,null,null,null,null,null,null,null,null,null,null,null,null,null,null,null,null,null,null,null,null,null,null,"RRVUCLH ROSENHEIM BUILDING","RRV13","UCLH ROSENHEIM BUILDING","RRV13","UCLH ROSENHEIM BUILDING","RRV"]
[null,null,null,null,null,null,null,null,null,null,null,null,null,null,null,null,null,null,null,null,null,null,null,null,null,null,null,null,null,null,null,null,null,null,null,null,null,null,null,null,null,null,null,null,null,null,null,"RT1COBWEBS","RT166","COBWEBS","RT166","COBWEBS","RT1"]
[null,null,null,null,null,null,null,null,null,null,null,null,null,null,null,null,null,null,null,null,null,null,null,null,null,null,null,null,null,null,null,null,null,null,null,null,null,null,null,null,null,null,null,null,null,null,null,"RT1E CAMBS AND FENLAND LD","RT1EE","E CAMBS AND FENLAND LD","RT1EE","E CAMBS AND FENLAND LD","RT1"]
[null,null,null,null,null,null,null,null,null,null,null,null,null,null,null,null,null,null,null,null,null,null,null,null,null,null,null,null,null,null,null,null,null,null,null,null,null,null,null,null,null,null,null,null,null,null,null,"RT1HUNTINGDON OPMH","RT1CC","HUNTINGDON OPMH","RT1CC","HUNTINGDON OPMH","RT1"]
[null,null,null,null,null,null,null,null,null,null,null,null,null,null,null,null,null,null,null,null,null,null,null,null,null,null,null,null,null,null,null,null,null,null,null,null,null,null,null,null,null,null,null,null,null,null,null,"RT1LITTLE GABLES","RT126","LITTLE GABLES","RT126","LITTLE GABLES","RT1"]
[null,null,null,null,null,null,null,null,null,null,null,null,null,null,null,null,null,null,null,null,null,null,null,null,null,null,null,null,null,null,null,null,null,null,null,null,null,null,null,null,null,null,null,null,null,null,null,"RT1PETERBOROUGH CDS","RT102","PETERBOROUGH CDS","RT102","PETERBOROUGH CDS","RT1"]
[null,null,null,null,null,null,null,null,null,null,null,null,null,null,null,null,null,null,null,null,null,null,null,null,null,null,null,null,null,null,null,null,null,null,null,null,null,null,null,null,null,null,null,null,null,null,null,"RT1THE GABLES","RT130","THE GABLES","RT130","THE GABLES","RT1"]
[null,null,null,null,null,null,null,null,null,null,null,null,null,null,null,null,null,null,null,null,null,null,null,null,null,null,null,null,null,null,null,null,null,null,null,null,null,null,null,null,null,null,null,null,null,null,null,"RT2BEALY COMMUNITY HOSPITAL","RT2C3","BEALY COMMUNITY HOSPITAL","RT2C3","BEALY COMMUNITY HOSPITAL","RT2"]
[null,null,null,null,null,null,null,null,null,null,null,null,null,null,null,null,null,null,null,null,null,null,null,null,null,null,null,null,null,null,null,null,null,null,null,null,null,null,null,null,null,null,null,null,null,null,null,"RT2HANSON CORNER","RT213","HANSON CORNER","RT213","HANSON CORNER","RT2"]
[null,null,null,null,null,null,null,null,null,null,null,null,null,null,null,null,null,null,null,null,null,null,null,null,null,null,null,null,null,null,null,null,null,null,null,null,null,null,null,null,null,null,null,null,null,null,null,"RT2SECURE RESIDENTIAL - RHODES PLACE","RT242","SECURE RESIDENTIAL - RHODES PLACE","RT242","SECURE RESIDENTIAL - RHODES PLACE","RT2"]
[null,null,null,null,null,null,null,null,null,null,null,null,null,null,null,null,null,null,null,null,null,null,null,null,null,null,null,null,null,null,null,null,null,null,null,null,null,null,null,null,null,null,null,null,null,null,null,"RT2YPAS","RT2E2","YPAS","RT2E2","YPAS","RT2"]
[null,null,null,null,null,null,null,null,null,null,null,null,null,null,null,null,null,null,null,null,null,null,null,null,null,null,null,null,null,null,null,null,null,null,null,null,null,null,null,null,null,null,null,null,null,null,null,"RT5CASTLERIGG","RT5LF","CASTLERIGG","RT5LF","CASTLERIGG","RT5"]
[null,null,null,null,null,null,null,null,null,null,null,null,null,null,null,null,null,null,null,null,null,null,null,null,null,null,null,null,null,null,null,null,null,null,null,null,null,null,null,null,null,null,null,null,null,null,null,"RT5CHARNWOOD 3 (EPMA)","RT5D5","CHARNWOOD 3 (EPMA)","RT5D5","CHARNWOOD 3 (EPMA)","RT5"]
[null,null,null,null,null,null,null,null,null,null,null,null,null,null,null,null,null,null,null,null,null,null,null,null,null,null,null,null,null,null,null,null,null,null,null,null,null,null,null,null,null,null,null,null,null,null,null,"RT5CITY CENTRAL 1 (EPMA)","RT5D9","CITY CENTRAL 1 (EPMA)","RT5D9","CITY CENTRAL 1 (EPMA)","RT5"]
[null,null,null,null,null,null,null,null,null,null,null,null,null,null,null,null,null,null,null,null,null,null,null,null,null,null,null,null,null,null,null,null,null,null,null,null,null,null,null,null,null,null,null,null,null,null,null,"RT5CITY EAST 3 (EPMA)","RT5F1","CITY EAST 3 (EPMA)","RT5F1","CITY EAST 3 (EPMA)","RT5"]
[null,null,null,null,null,null,null,null,null,null,null,null,null,null,null,null,null,null,null,null,null,null,null,null,null,null,null,null,null,null,null,null,null,null,null,null,null,null,null,null,null,null,null,null,null,null,null,"RT5CITY WEST 3","RT5F6","CITY WEST 3","RT5F6","CITY WEST 3","RT5"]
[null,null,null,null,null,null,null,null,null,null,null,null,null,null,null,null,null,null,null,null,null,null,null,null,null,null,null,null,null,null,null,null,null,null,null,null,null,null,null,null,null,null,null,null,null,null,null,"RT5EAST LEICESTERSHIRE 3","RT5G3","EAST LEICESTERSHIRE 3","RT5G3","EAST LEICESTERSHIRE 3","RT5"]
[null,null,null,null,null,null,null,null,null,null,null,null,null,null,null,null,null,null,null,null,null,null,null,null,null,null,null,null,null,null,null,null,null,null,null,null,null,null,null,null,null,null,null,null,null,null,null,"RT5FEILDING PALMER WARD","RT5YE","FEILDING PALMER WARD","RT5YE","FEILDING PALMER WARD","RT5"]
[null,null,null,null,null,null,null,null,null,null,null,null,null,null,null,null,null,null,null,null,null,null,null,null,null,null,null,null,null,null,null,null,null,null,null,null,null,null,null,null,null,null,null,null,null,null,null,"RT5FORENSIC 2 (EPMA)","RT5G8","FORENSIC 2 (EPMA)","RT5G8","FORENSIC 2 (EPMA)","RT5"]
[null,null,null,null,null,null,null,null,null,null,null,null,null,null,null,null,null,null,null,null,null,null,null,null,null,null,null,null,null,null,null,null,null,null,null,null,null,null,null,null,null,null,null,null,null,null,null,"RT5HINCKLEY AND DISTRICT HOSPITAL","RT5PK","HINCKLEY AND DISTRICT HOSPITAL","RT5PK","HINCKLEY AND DISTRICT HOSPITAL","RT5"]
[null,null,null,null,null,null,null,null,null,null,null,null,null,null,null,null,null,null,null,null,null,null,null,null,null,null,null,null,null,null,null,null,null,null,null,null,null,null,null,null,null,null,null,null,null,null,null,"RT5LD 2","RT55C","LD 2","RT55C","LD 2","RT5"]
[null,null,null,null,null,null,null,null,null,null,null,null,null,null,null,null,null,null,null,null,null,null,null,null,null,null,null,null,null,null,null,null,null,null,null,null,null,null,null,null,null,null,null,null,null,null,null,"RT5LD 5 (EPMA)","RT53D","LD 5 (EPMA)","RT53D","LD 5 (EPMA)","RT5"]
[null,null,null,null,null,null,null,null,null,null,null,null,null,null,null,null,null,null,null,null,null,null,null,null,null,null,null,null,null,null,null,null,null,null,null,null,null,null,null,null,null,null,null,null,null,null,null,"RT5LEICESTER FRITH (REHABILITATION BUILDING)","RT562","LEICESTER FRITH (REHABILITATION BUILDING)","RT562","LEICESTER FRITH (REHABILITATION BUILDING)","RT5"]
[null,null,null,null,null,null,null,null,null,null,null,null,null,null,null,null,null,null,null,null,null,null,null,null,null,null,null,null,null,null,null,null,null,null,null,null,null,null,null,null,null,null,null,null,null,null,null,{"$f":"CONCATENATE(LEFT(AW2161, 3),AX2161)","v":"RT5LEICESTER FRITH HOSPITAL (EPMA)"},"RT5X1","LEICESTER FRITH HOSPITAL (EPMA)","RT5X1","LEICESTER FRITH HOSPITAL (EPMA)",{"$f":"LEFT(AY2161,3)","v":"RT5"}]
[null,null,null,null,null,null,null,null,null,null,null,null,null,null,null,null,null,null,null,null,null,null,null,null,null,null,null,null,null,null,null,null,null,null,null,null,null,null,null,null,null,null,null,null,null,null,null,"RT5MHSOP 11","RT5A9","MHSOP 11","RT5A9","MHSOP 11","RT5"]
[null,null,null,null,null,null,null,null,null,null,null,null,null,null,null,null,null,null,null,null,null,null,null,null,null,null,null,null,null,null,null,null,null,null,null,null,null,null,null,null,null,null,null,null,null,null,null,"RT5MHSOP 17","RT5YY","MHSOP 17","RT5YY","MHSOP 17","RT5"]
[null,null,null,null,null,null,null,null,null,null,null,null,null,null,null,null,null,null,null,null,null,null,null,null,null,null,null,null,null,null,null,null,null,null,null,null,null,null,null,null,null,null,null,null,null,null,null,"RT5MHSOP 3 (EPMA)","RT5A4","MHSOP 3 (EPMA)","RT5A4","MHSOP 3 (EPMA)","RT5"]
[null,null,null,null,null,null,null,null,null,null,null,null,null,null,null,null,null,null,null,null,null,null,null,null,null,null,null,null,null,null,null,null,null,null,null,null,null,null,null,null,null,null,null,null,null,null,null,"RT5MHSOP 9 (EPMA)","RT5T7","MHSOP 9 (EPMA)","RT5T7","MHSOP 9 (EPMA)","RT5"]
[null,null,null,null,null,null,null,null,null,null,null,null,null,null,null,null,null,null,null,null,null,null,null,null,null,null,null,null,null,null,null,null,null,null,null,null,null,null,null,null,null,null,null,null,null,null,null,"RT5NW LEICESTERSHIRE 1 (EPMA)","RT5J2","NW LEICESTERSHIRE 1 (EPMA)","RT5J2","NW LEICESTERSHIRE 1 (EPMA)","RT5"]
[null,null,null,null,null,null,null,null,null,null,null,null,null,null,null,null,null,null,null,null,null,null,null,null,null,null,null,null,null,null,null,null,null,null,null,null,null,null,null,null,null,null,null,null,null,null,null,"RT5NW LEICESTERSHIRE 3","RT5J5","NW LEICESTERSHIRE 3","RT5J5","NW LEICESTERSHIRE 3","RT5"]
[null,null,null,null,null,null,null,null,null,null,null,null,null,null,null,null,null,null,null,null,null,null,null,null,null,null,null,null,null,null,null,null,null,null,null,null,null,null,null,null,null,null,null,null,null,null,null,"RT5RUTLAND HOSPITAL","RT5PC","RUTLAND HOSPITAL","RT5PC","RUTLAND HOSPITAL","RT5"]
[null,null,null,null,null,null,null,null,null,null,null,null,null,null,null,null,null,null,null,null,null,null,null,null,null,null,null,null,null,null,null,null,null,null,null,null,null,null,null,null,null,null,null,null,null,null,null,"RT5SOUTH LEICESTERSHIRE 2 (EPMA)","RT5L1","SOUTH LEICESTERSHIRE 2 (EPMA)","RT5L1","SOUTH LEICESTERSHIRE 2 (EPMA)","RT5"]
[null,null,null,null,null,null,null,null,null,null,null,null,null,null,null,null,null,null,null,null,null,null,null,null,null,null,null,null,null,null,null,null,null,null,null,null,null,null,null,null,null,null,null,null,null,null,null,"RT5THE AGNES UNIT","RT5NH","THE AGNES UNIT","RT5NH","THE AGNES UNIT","RT5"]
[null,null,null,null,null,null,null,null,null,null,null,null,null,null,null,null,null,null,null,null,null,null,null,null,null,null,null,null,null,null,null,null,null,null,null,null,null,null,null,null,null,null,null,null,null,null,null,"RT5TREATMENT AND RECOVERY 2","RT5M2","TREATMENT AND RECOVERY 2","RT5M2","TREATMENT AND RECOVERY 2","RT5"]
[null,null,null,null,null,null,null,null,null,null,null,null,null,null,null,null,null,null,null,null,null,null,null,null,null,null,null,null,null,null,null,null,null,null,null,null,null,null,null,null,null,null,null,null,null,null,null,"RTDNEWCASTLE GENERAL HOSPITAL ACUTE SERVICES - RTD03","RTD03","NEWCASTLE GENERAL HOSPITAL ACUTE SERVICES - RTD03","RTD03","NEWCASTLE GENERAL HOSPITAL ACUTE SERVICES - RTD03","RTD"]
[null,null,null,null,null,null,null,null,null,null,null,null,null,null,null,null,null,null,null,null,null,null,null,null,null,null,null,null,null,null,null,null,null,null,null,null,null,null,null,null,null,null,null,null,null,null,null,"RTECOLEFORD HEALTH CENTRE - RTE35","RTE35","COLEFORD HEALTH CENTRE - RTE35","RTE35","COLEFORD HEALTH CENTRE - RTE35","RTE"]
[null,null,null,null,null,null,null,null,null,null,null,null,null,null,null,null,null,null,null,null,null,null,null,null,null,null,null,null,null,null,null,null,null,null,null,null,null,null,null,null,null,null,null,null,null,null,null,"RTEFOREST OF DEAN CHILDREN'S OPPORTUNITY CENTRE - RTE34","RTE34","FOREST OF DEAN CHILDREN'S OPPORTUNITY CENTRE - RTE34","RTE34","FOREST OF DEAN CHILDREN'S OPPORTUNITY CENTRE - RTE34","RTE"]
[null,null,null,null,null,null,null,null,null,null,null,null,null,null,null,null,null,null,null,null,null,null,null,null,null,null,null,null,null,null,null,null,null,null,null,null,null,null,null,null,null,null,null,null,null,null,null,{"$f":"CONCATENATE(LEFT(AW2289, 3),AX2289)","v":"RTEHEART OF THE FOREST COMMUNITY SCHOOL - RTE42"},"RTE42","HEART OF THE FOREST COMMUNITY SCHOOL - RTE42","RTE42","HEART OF THE FOREST COMMUNITY SCHOOL - RTE42",{"$f":"LEFT(AY2289,3)","v":"RTE"}]
[null,null,null,null,null,null,null,null,null,null,null,null,null,null,null,null,null,null,null,null,null,null,null,null,null,null,null,null,null,null,null,null,null,null,null,null,null,null,null,null,null,null,null,null,null,null,null,"RTEST JAMES' CLINIC - RTE36","RTE36","ST JAMES' CLINIC - RTE36","RTE36","ST JAMES' CLINIC - RTE36","RTE"]
[null,null,null,null,null,null,null,null,null,null,null,null,null,null,null,null,null,null,null,null,null,null,null,null,null,null,null,null,null,null,null,null,null,null,null,null,null,null,null,null,null,null,null,null,null,null,null,"RTESTROUD MATERNITY HOSPITAL - RTE27","RTE27","STROUD MATERNITY HOSPITAL - RTE27","RTE27","STROUD MATERNITY HOSPITAL - RTE27","RTE"]
[null,null,null,null,null,null,null,null,null,null,null,null,null,null,null,null,null,null,null,null,null,null,null,null,null,null,null,null,null,null,null,null,null,null,null,null,null,null,null,null,null,null,null,null,null,null,null,"RTFBLYTH COMMUNITY HOSPITAL - RTFDX","RTFDX","BLYTH COMMUNITY HOSPITAL - RTFDX","RTFDX","BLYTH COMMUNITY HOSPITAL - RTFDX","RTF"]
[null,null,null,null,null,null,null,null,null,null,null,null,null,null,null,null,null,null,null,null,null,null,null,null,null,null,null,null,null,null,null,null,null,null,null,null,null,null,null,null,null,null,null,null,null,null,null,"RTFHEXHAM GENERAL HOSPITAL - RTFDR","RTFDR","HEXHAM GENERAL HOSPITAL - RTFDR","RTFDR","HEXHAM GENERAL HOSPITAL - RTFDR","RTF"]
[null,null,null,null,null,null,null,null,null,null,null,null,null,null,null,null,null,null,null,null,null,null,null,null,null,null,null,null,null,null,null,null,null,null,null,null,null,null,null,null,null,null,null,null,null,null,null,"RTFTYNEMOUTH COURT - RTFDC","RTFDC","TYNEMOUTH COURT - RTFDC","RTFDC","TYNEMOUTH COURT - RTFDC","RTF"]
[null,null,null,null,null,null,null,null,null,null,null,null,null,null,null,null,null,null,null,null,null,null,null,null,null,null,null,null,null,null,null,null,null,null,null,null,null,null,null,null,null,null,null,null,null,null,null,"RTHCHIPPING NORTON COMMUNITY HOSPITAL - RTH19","RTH19","CHIPPING NORTON COMMUNITY HOSPITAL - RTH19","RTH19","CHIPPING NORTON COMMUNITY HOSPITAL - RTH19","RTH"]
[null,null,null,null,null,null,null,null,null,null,null,null,null,null,null,null,null,null,null,null,null,null,null,null,null,null,null,null,null,null,null,null,null,null,null,null,null,null,null,null,null,null,null,null,null,null,null,"RTHJOHN RADCLIFFE HOSPITAL - RTH08","RTH08","JOHN RADCLIFFE HOSPITAL - RTH08","RTH08","JOHN RADCLIFFE HOSPITAL","RTH"]
[null,null,null,null,null,null,null,null,null,null,null,null,null,null,null,null,null,null,null,null,null,null,null,null,null,null,null,null,null,null,null,null,null,null,null,null,null,null,null,null,null,null,null,null,null,null,null,"RTHMABEL PRITCHARD SCHOOL - RTHE5","RTHE5","MABEL PRITCHARD SCHOOL - RTHE5","RTHE5","MABEL PRITCHARD SCHOOL","RTH"]
[null,null,null,null,null,null,null,null,null,null,null,null,null,null,null,null,null,null,null,null,null,null,null,null,null,null,null,null,null,null,null,null,null,null,null,null,null,null,null,null,null,null,null,null,null,null,null,"RTKASHFORD HOSPITAL - RTK02","RTK02","ASHFORD HOSPITAL - RTK02","RTK02","ASHFORD HOSPITAL","RTK"]
[null,null,null,null,null,null,null,null,null,null,null,null,null,null,null,null,null,null,null,null,null,null,null,null,null,null,null,null,null,null,null,null,null,null,null,null,null,null,null,null,null,null,null,null,null,null,null,"RTKHILLVIEW MEDICAL CENTRE - RTK39","RTK39","HILLVIEW MEDICAL CENTRE - RTK39","RTK39","HILLVIEW MEDICAL CENTRE","RTK"]
[null,null,null,null,null,null,null,null,null,null,null,null,null,null,null,null,null,null,null,null,null,null,null,null,null,null,null,null,null,null,null,null,null,null,null,null,null,null,null,null,null,null,null,null,null,null,null,"RTKST JOHNS HEALTH CENTRE - RTK38","RTK38","ST JOHNS HEALTH CENTRE - RTK38","RTK38","ST JOHNS HEALTH CENTRE","RTK"]
[null,null,null,null,null,null,null,null,null,null,null,null,null,null,null,null,null,null,null,null,null,null,null,null,null,null,null,null,null,null,null,null,null,null,null,null,null,null,null,null,null,null,null,null,null,null,null,"RTKTHE KNAPHILL SURGERY - RTK45","RTK45","THE KNAPHILL SURGERY - RTK45","RTK45","THE KNAPHILL SURGERY","RTK"]
[null,null,null,null,null,null,null,null,null,null,null,null,null,null,null,null,null,null,null,null,null,null,null,null,null,null,null,null,null,null,null,null,null,null,null,null,null,null,null,null,null,null,null,null,null,null,null,"RTPDORKING HOSPITAL - RTP25","RTP25","DORKING HOSPITAL - RTP25","RTP25","DORKING HOSPITAL","RTP"]
[null,null,null,null,null,null,null,null,null,null,null,null,null,null,null,null,null,null,null,null,null,null,null,null,null,null,null,null,null,null,null,null,null,null,null,null,null,null,null,null,null,null,null,null,null,null,null,"RTQCHARLWOOD","RTQ52","CHARLWOOD","RTQ52","CHARLWOOD","RTQ"]
[null,null,null,null,null,null,null,null,null,null,null,null,null,null,null,null,null,null,null,null,null,null,null,null,null,null,null,null,null,null,null,null,null,null,null,null,null,null,null,null,null,null,null,null,null,null,null,"RTQFIELDVIEW","RTQ53","FIELDVIEW","RTQ53","FIELDVIEW","RTQ"]
[null,null,null,null,null,null,null,null,null,null,null,null,null,null,null,null,null,null,null,null,null,null,null,null,null,null,null,null,null,null,null,null,null,null,null,null,null,null,null,null,null,null,null,null,null,null,null,"RTQLAUREL HOUSE CHELT","RTQ11","LAUREL HOUSE CHELT","RTQ11","LAUREL HOUSE CHELT","RTQ"]
[null,null,null,null,null,null,null,null,null,null,null,null,null,null,null,null,null,null,null,null,null,null,null,null,null,null,null,null,null,null,null,null,null,null,null,null,null,null,null,null,null,null,null,null,null,null,null,"RTQOAK HOUSE","RTQHM","OAK HOUSE","RTQHM","OAK HOUSE","RTQ"]
[null,null,null,null,null,null,null,null,null,null,null,null,null,null,null,null,null,null,null,null,null,null,null,null,null,null,null,null,null,null,null,null,null,null,null,null,null,null,null,null,null,null,null,null,null,null,null,"RTQSTONEBURY DAY HOSPITAL","RTQ76","STONEBURY DAY HOSPITAL","RTQ76","STONEBURY DAY HOSPITAL","RTQ"]
[null,null,null,null,null,null,null,null,null,null,null,null,null,null,null,null,null,null,null,null,null,null,null,null,null,null,null,null,null,null,null,null,null,null,null,null,null,null,null,null,null,null,null,null,null,null,null,"RTQWOTTON LAWN HOSPITAL","RTQ02","WOTTON LAWN HOSPITAL","RTQ02","WOTTON LAWN HOSPITAL","RTQ"]
[null,null,null,null,null,null,null,null,null,null,null,null,null,null,null,null,null,null,null,null,null,null,null,null,null,null,null,null,null,null,null,null,null,null,null,null,null,null,null,null,null,null,null,null,null,null,null,"RTRFRIARY HOSPITAL","RTR07","FRIARY HOSPITAL","RTR07","FRIARY HOSPITAL","RTR"]
[null,null,null,null,null,null,null,null,null,null,null,null,null,null,null,null,null,null,null,null,null,null,null,null,null,null,null,null,null,null,null,null,null,null,null,null,null,null,null,null,null,null,null,null,null,null,null,"RTVBRIGHTER FUTURES","RTVD5","BRIGHTER FUTURES","RTVD5","BRIGHTER FUTURES","RTV"]
[null,null,null,null,null,null,null,null,null,null,null,null,null,null,null,null,null,null,null,null,null,null,null,null,null,null,null,null,null,null,null,null,null,null,null,null,null,null,null,null,null,null,null,null,null,null,null,"RTVLINDAMERE UNIT","RTV75","LINDAMERE UNIT","RTV75","LINDAMERE UNIT","RTV"]
[null,null,null,null,null,null,null,null,null,null,null,null,null,null,null,null,null,null,null,null,null,null,null,null,null,null,null,null,null,null,null,null,null,null,null,null,null,null,null,null,null,null,null,null,null,null,null,"RTVPENNINGTON UNIT","RTV76","PENNINGTON UNIT","RTV76","PENNINGTON UNIT","RTV"]
[null,null,null,null,null,null,null,null,null,null,null,null,null,null,null,null,null,null,null,null,null,null,null,null,null,null,null,null,null,null,null,null,null,null,null,null,null,null,null,null,null,null,null,null,null,null,null,"RTVSEPHTON UNIT","RTV78","SEPHTON UNIT","RTV78","SEPHTON UNIT","RTV"]
[null,null,null,null,null,null,null,null,null,null,null,null,null,null,null,null,null,null,null,null,null,null,null,null,null,null,null,null,null,null,null,null,null,null,null,null,null,null,null,null,null,null,null,null,null,null,null,"RV3  PARK ROYAL CENTRE FOR MENTAL HEALTH","RV312","  PARK ROYAL CENTRE FOR MENTAL HEALTH","RV312","  PARK ROYAL CENTRE FOR MENTAL HEALTH","RV3"]
[null,null,null,null,null,null,null,null,null,null,null,null,null,null,null,null,null,null,null,null,null,null,null,null,null,null,null,null,null,null,null,null,null,null,null,null,null,null,null,null,null,null,null,null,null,null,null,"RV3  THE CAMPBELL CENTRE","RV3HD","  THE CAMPBELL CENTRE","RV3HD","  THE CAMPBELL CENTRE","RV3"]
[null,null,null,null,null,null,null,null,null,null,null,null,null,null,null,null,null,null,null,null,null,null,null,null,null,null,null,null,null,null,null,null,null,null,null,null,null,null,null,null,null,null,null,null,null,null,null,"RV3HILLINGDON HOSPITAL","RV3AN","HILLINGDON HOSPITAL","RV3AN","HILLINGDON HOSPITAL","RV3"]
[null,null,null,null,null,null,null,null,null,null,null,null,null,null,null,null,null,null,null,null,null,null,null,null,null,null,null,null,null,null,null,null,null,null,null,null,null,null,null,null,null,null,null,null,null,null,null,"RV3MOUNT VERNON PCCS","RV3AV","MOUNT VERNON PCCS","RV3AV","MOUNT VERNON PCCS","RV3"]
[null,null,null,null,null,null,null,null,null,null,null,null,null,null,null,null,null,null,null,null,null,null,null,null,null,null,null,null,null,null,null,null,null,null,null,null,null,null,null,null,null,null,null,null,null,null,null,"RV3SOUTH KENSINGTON & CHELSEA MENTAL HEALTH CENTRE","RV332","SOUTH KENSINGTON & CHELSEA MENTAL HEALTH CENTRE","RV332","SOUTH KENSINGTON & CHELSEA MENTAL HEALTH CENTRE","RV3"]
[null,null,null,null,null,null,null,null,null,null,null,null,null,null,null,null,null,null,null,null,null,null,null,null,null,null,null,null,null,null,null,null,null,null,null,null,null,null,null,null,null,null,null,null,null,null,null,"RV3WOODHILL HEALTHCARE","RV3JG","WOODHILL HEALTHCARE","RV3JG","WOODHILL HEALTHCARE","RV3"]
[null,null,null,null,null,null,null,null,null,null,null,null,null,null,null,null,null,null,null,null,null,null,null,null,null,null,null,null,null,null,null,null,null,null,null,null,null,null,null,null,null,null,null,null,null,null,null,"RV5CASCAID","RV5NJ","CASCAID","RV5NJ","CASCAID","RV5"]
[null,null,null,null,null,null,null,null,null,null,null,null,null,null,null,null,null,null,null,null,null,null,null,null,null,null,null,null,null,null,null,null,null,null,null,null,null,null,null,null,null,null,null,null,null,null,null,"RV5CLAPHAM PARK TIMEBANK","RV5RE","CLAPHAM PARK TIMEBANK","RV5RE","CLAPHAM PARK TIMEBANK","RV5"]
[null,null,null,null,null,null,null,null,null,null,null,null,null,null,null,null,null,null,null,null,null,null,null,null,null,null,null,null,null,null,null,null,null,null,null,null,null,null,null,null,null,null,null,null,null,null,null,"RV5MAUDSLEY HOSPITAL","RV504","MAUDSLEY HOSPITAL","RV504","MAUDSLEY HOSPITAL","RV5"]
[null,null,null,null,null,null,null,null,null,null,null,null,null,null,null,null,null,null,null,null,null,null,null,null,null,null,null,null,null,null,null,null,null,null,null,null,null,null,null,null,null,null,null,null,null,null,null,"RV5SALVATION ARMY","RV5E4","SALVATION ARMY","RV5E4","SALVATION ARMY","RV5"]
[null,null,null,null,null,null,null,null,null,null,null,null,null,null,null,null,null,null,null,null,null,null,null,null,null,null,null,null,null,null,null,null,null,null,null,null,null,null,null,null,null,null,null,null,null,null,null,"RV5WARD IN THE COMMUNITY","RV5M5","WARD IN THE COMMUNITY","RV5M5","WARD IN THE COMMUNITY","RV5"]
[null,null,null,null,null,null,null,null,null,null,null,null,null,null,null,null,null,null,null,null,null,null,null,null,null,null,null,null,null,null,null,null,null,null,null,null,null,null,null,null,null,null,null,null,null,null,null,"RV9ALCOHOL WITHDRAWN PROG","RV9D1","ALCOHOL WITHDRAWN PROG","RV9D1","ALCOHOL WITHDRAWN PROG","RV9"]
[null,null,null,null,null,null,null,null,null,null,null,null,null,null,null,null,null,null,null,null,null,null,null,null,null,null,null,null,null,null,null,null,null,null,null,null,null,null,null,null,null,null,null,null,null,null,null,"RV9CTLD EAST 103601","RV9LG","CTLD EAST 103601","RV9LG","CTLD EAST 103601","RV9"]
[null,null,null,null,null,null,null,null,null,null,null,null,null,null,null,null,null,null,null,null,null,null,null,null,null,null,null,null,null,null,null,null,null,null,null,null,null,null,null,null,null,null,null,null,null,null,null,"RV9GM ENDROCRINOLOGY (SNEY)","RV9JQ","GM ENDROCRINOLOGY (SNEY)","RV9JQ","GM ENDROCRINOLOGY (SNEY)","RV9"]
[null,null,null,null,null,null,null,null,null,null,null,null,null,null,null,null,null,null,null,null,null,null,null,null,null,null,null,null,null,null,null,null,null,null,null,null,null,null,null,null,null,null,null,null,null,null,null,"RV9HIT & ED EAST RIDING","RV9AK","HIT & ED EAST RIDING","RV9AK","HIT & ED EAST RIDING","RV9"]
[null,null,null,null,null,null,null,null,null,null,null,null,null,null,null,null,null,null,null,null,null,null,null,null,null,null,null,null,null,null,null,null,null,null,null,null,null,null,null,null,null,null,null,null,null,null,null,"RV9HUMBER CENTRE ","RV936","HUMBER CENTRE ","RV936","HUMBER CENTRE ","RV9"]
[null,null,null,null,null,null,null,null,null,null,null,null,null,null,null,null,null,null,null,null,null,null,null,null,null,null,null,null,null,null,null,null,null,null,null,null,null,null,null,null,null,null,null,null,null,null,null,"RV9PAEDIATRIC MEDICINE (HEY)","RV9JJ","PAEDIATRIC MEDICINE (HEY)","RV9JJ","PAEDIATRIC MEDICINE (HEY)","RV9"]
[null,null,null,null,null,null,null,null,null,null,null,null,null,null,null,null,null,null,null,null,null,null,null,null,null,null,null,null,null,null,null,null,null,null,null,null,null,null,null,null,null,null,null,null,null,null,null,{"$f":"CONCATENATE(LEFT(AW2675, 3),AX2675)","v":"RV9RHEUMATOLOGY (HEY)"},"RV9JL","RHEUMATOLOGY (HEY)","RV9JL","RHEUMATOLOGY (HEY)",{"$f":"LEFT(AY2675,3)","v":"RV9"}]
[null,null,null,null,null,null,null,null,null,null,null,null,null,null,null,null,null,null,null,null,null,null,null,null,null,null,null,null,null,null,null,null,null,null,null,null,null,null,null,null,null,null,null,null,null,null,null,"RV9ST ANDREWS IN-PATIENT 101743","RV9AP","ST ANDREWS IN-PATIENT 101743","RV9AP","ST ANDREWS IN-PATIENT 101743","RV9"]
[null,null,null,null,null,null,null,null,null,null,null,null,null,null,null,null,null,null,null,null,null,null,null,null,null,null,null,null,null,null,null,null,null,null,null,null,null,null,null,null,null,null,null,null,null,null,null,"RV9TOWNEND COURT","RV915","TOWNEND COURT","RV915","TOWNEND COURT","RV9"]
[null,null,null,null,null,null,null,null,null,null,null,null,null,null,null,null,null,null,null,null,null,null,null,null,null,null,null,null,null,null,null,null,null,null,null,null,null,null,null,null,null,null,null,null,null,null,null,"RV9WITHERNSEA WARD","RV9WA","WITHERNSEA WARD","RV9WA","WITHERNSEA WARD","RV9"]
[null,null,null,null,null,null,null,null,null,null,null,null,null,null,null,null,null,null,null,null,null,null,null,null,null,null,null,null,null,null,null,null,null,null,null,null,null,null,null,null,null,null,null,null,null,null,null,"RVJLYDNEY HOSPITAL SITE - RVJ09","RVJ09","LYDNEY HOSPITAL SITE - RVJ09","RVJ09","LYDNEY HOSPITAL SITE","RVJ"]
[null,null,null,null,null,null,null,null,null,null,null,null,null,null,null,null,null,null,null,null,null,null,null,null,null,null,null,null,null,null,null,null,null,null,null,null,null,null,null,null,null,null,null,null,null,null,null,"RVNB&NES SDAS","RVNN8","B&NES SDAS","RVNN8","B&NES SDAS","RVN"]
[null,null,null,null,null,null,null,null,null,null,null,null,null,null,null,null,null,null,null,null,null,null,null,null,null,null,null,null,null,null,null,null,null,null,null,null,null,null,null,null,null,null,null,null,null,null,null,"RVNBRISTOL ADULT","RVNP1","BRISTOL ADULT","RVNP1","BRISTOL ADULT","RVN"]
[null,null,null,null,null,null,null,null,null,null,null,null,null,null,null,null,null,null,null,null,null,null,null,null,null,null,null,null,null,null,null,null,null,null,null,null,null,null,null,null,null,null,null,null,null,null,null,"RVNGREEN LAND HOSPITAL, DEVIZES ","RVN6A","GREEN LAND HOSPITAL, DEVIZES ","RVN6A","GREEN LAND HOSPITAL, DEVIZES ","RVN"]
[null,null,null,null,null,null,null,null,null,null,null,null,null,null,null,null,null,null,null,null,null,null,null,null,null,null,null,null,null,null,null,null,null,null,null,null,null,null,null,null,null,null,null,null,null,null,null,"RVNLONG FOX UNIT","RVN4B","LONG FOX UNIT","RVN4B","LONG FOX UNIT","RVN"]
[null,null,null,null,null,null,null,null,null,null,null,null,null,null,null,null,null,null,null,null,null,null,null,null,null,null,null,null,null,null,null,null,null,null,null,null,null,null,null,null,null,null,null,null,null,null,null,"RVNOP SWINDON MEMORY","RVNRK","OP SWINDON MEMORY","RVNRK","OP SWINDON MEMORY","RVN"]
[null,null,null,null,null,null,null,null,null,null,null,null,null,null,null,null,null,null,null,null,null,null,null,null,null,null,null,null,null,null,null,null,null,null,null,null,null,null,null,null,null,null,null,null,null,null,null,"RVNSAVERNAKE HOSPITAL","RVN8B","SAVERNAKE HOSPITAL","RVN8B","SAVERNAKE HOSPITAL","RVN"]
[null,null,null,null,null,null,null,null,null,null,null,null,null,null,null,null,null,null,null,null,null,null,null,null,null,null,null,null,null,null,null,null,null,null,null,null,null,null,null,null,null,null,null,null,null,null,null,"RVNVICTORIA CENTRE, SWINDON ","RVNCE","VICTORIA CENTRE, SWINDON ","RVNCE","VICTORIA CENTRE, SWINDON ","RVN"]
[null,null,null,null,null,null,null,null,null,null,null,null,null,null,null,null,null,null,null,null,null,null,null,null,null,null,null,null,null,null,null,null,null,null,null,null,null,null,null,null,null,null,null,null,null,null,null,"RVREPSOM HOSPITAL - RVR50","RVR50","EPSOM HOSPITAL - RVR50","RVR50","EPSOM HOSPITAL","RVR"]
[null,null,null,null,null,null,null,null,null,null,null,null,null,null,null,null,null,null,null,null,null,null,null,null,null,null,null,null,null,null,null,null,null,null,null,null,null,null,null,null,null,null,null,null,null,null,null,"RVVFAVERSHAM HELATH CENTRE (OUTPATIENT)","RVVLH","FAVERSHAM HELATH CENTRE (OUTPATIENT)","RVVLH","FAVERSHAM HELATH CENTRE (OUTPATIENT)","RVV"]
[null,null,null,null,null,null,null,null,null,null,null,null,null,null,null,null,null,null,null,null,null,null,null,null,null,null,null,null,null,null,null,null,null,null,null,null,null,null,null,null,null,null,null,null,null,null,null,"RVVMAIDSTONE DISTRICT GENERAL HOSPITAL - RVVMA","RVVMA","MAIDSTONE DISTRICT GENERAL HOSPITAL - RVVMA","RVVMA","MAIDSTONE DISTRICT GENERAL HOSPITAL","RVV"]
[null,null,null,null,null,null,null,null,null,null,null,null,null,null,null,null,null,null,null,null,null,null,null,null,null,null,null,null,null,null,null,null,null,null,null,null,null,null,null,null,null,null,null,null,null,null,null,"RVYFORMBY CLINIC - RVY04","RVY04","FORMBY CLINIC - RVY04","RVY04","FORMBY CLINIC","RVY"]
[null,null,null,null,null,null,null,null,null,null,null,null,null,null,null,null,null,null,null,null,null,null,null,null,null,null,null,null,null,null,null,null,null,null,null,null,null,null,null,null,null,null,null,null,null,null,null,"RVYSOUTHPORT GENERAL INFIRMARY - RVY03","RVY03","SOUTHPORT GENERAL INFIRMARY - RVY03","RVY03","SOUTHPORT GENERAL INFIRMARY","RVY"]
[null,null,null,null,null,null,null,null,null,null,null,null,null,null,null,null,null,null,null,null,null,null,null,null,null,null,null,null,null,null,null,null,null,null,null,null,null,null,null,null,null,null,null,null,null,null,null,"RW1BROOKVALE","RW1YJ","BROOKVALE","RW1YJ","BROOKVALE","RW1"]
[null,null,null,null,null,null,null,null,null,null,null,null,null,null,null,null,null,null,null,null,null,null,null,null,null,null,null,null,null,null,null,null,null,null,null,null,null,null,null,null,null,null,null,null,null,null,null,"RW1CASS SOUTHAMPTON","RW1FC","CASS SOUTHAMPTON","RW1FC","CASS SOUTHAMPTON","RW1"]
[null,null,null,null,null,null,null,null,null,null,null,null,null,null,null,null,null,null,null,null,null,null,null,null,null,null,null,null,null,null,null,null,null,null,null,null,null,null,null,null,null,null,null,null,null,null,null,"RW1DEPARTMENT OF PSYCHOLOGICAL MEDICINE","RW1Y5","DEPARTMENT OF PSYCHOLOGICAL MEDICINE","RW1Y5","DEPARTMENT OF PSYCHOLOGICAL MEDICINE","RW1"]
[null,null,null,null,null,null,null,null,null,null,null,null,null,null,null,null,null,null,null,null,null,null,null,null,null,null,null,null,null,null,null,null,null,null,null,null,null,null,null,null,null,null,null,null,null,null,null,"RW1EVENLODE CLINIC","RW13G","EVENLODE CLINIC","RW13G","EVENLODE CLINIC","RW1"]
[null,null,null,null,null,null,null,null,null,null,null,null,null,null,null,null,null,null,null,null,null,null,null,null,null,null,null,null,null,null,null,null,null,null,null,null,null,null,null,null,null,null,null,null,null,null,null,"RW1FRIMLEY CC PAEDIATRIC","RW14Y","FRIMLEY CC PAEDIATRIC","RW14Y","FRIMLEY CC PAEDIATRIC","RW1"]
[null,null,null,null,null,null,null,null,null,null,null,null,null,null,null,null,null,null,null,null,null,null,null,null,null,null,null,null,null,null,null,null,null,null,null,null,null,null,null,null,null,null,null,null,null,null,null,"RW1GOSPORT WAR MEMORIAL HOSPITAL","RW158","GOSPORT WAR MEMORIAL HOSPITAL","RW158","GOSPORT WAR MEMORIAL HOSPITAL","RW1"]
[null,null,null,null,null,null,null,null,null,null,null,null,null,null,null,null,null,null,null,null,null,null,null,null,null,null,null,null,null,null,null,null,null,null,null,null,null,null,null,null,null,null,null,null,null,null,null,"RW1HOME LEA","RW1N4","HOME LEA","RW1N4","HOME LEA","RW1"]
[null,null,null,null,null,null,null,null,null,null,null,null,null,null,null,null,null,null,null,null,null,null,null,null,null,null,null,null,null,null,null,null,null,null,null,null,null,null,null,null,null,null,null,null,null,null,null,"RW1HYTHE HOSPITAL","RW1Q6","HYTHE HOSPITAL","RW1Q6","HYTHE HOSPITAL","RW1"]
[null,null,null,null,null,null,null,null,null,null,null,null,null,null,null,null,null,null,null,null,null,null,null,null,null,null,null,null,null,null,null,null,null,null,null,null,null,null,null,null,null,null,null,null,null,null,null,"RW1MEON VALLEY RAVENSWOOD","RW1C5","MEON VALLEY RAVENSWOOD","RW1C5","MEON VALLEY RAVENSWOOD","RW1"]
[null,null,null,null,null,null,null,null,null,null,null,null,null,null,null,null,null,null,null,null,null,null,null,null,null,null,null,null,null,null,null,null,null,null,null,null,null,null,null,null,null,null,null,null,null,null,null,"RW1MIDHANTS CLDT","RW1VR","MIDHANTS CLDT","RW1VR","MIDHANTS CLDT","RW1"]
[null,null,null,null,null,null,null,null,null,null,null,null,null,null,null,null,null,null,null,null,null,null,null,null,null,null,null,null,null,null,null,null,null,null,null,null,null,null,null,null,null,null,null,null,null,null,null,"RW1NORTH HANTS CLDT","RW1WK","NORTH HANTS CLDT","RW1WK","NORTH HANTS CLDT","RW1"]
[null,null,null,null,null,null,null,null,null,null,null,null,null,null,null,null,null,null,null,null,null,null,null,null,null,null,null,null,null,null,null,null,null,null,null,null,null,null,null,null,null,null,null,null,null,null,null,"RW1PHOENIX DAY HOSPITAL","RW1P3","PHOENIX DAY HOSPITAL","RW1P3","PHOENIX DAY HOSPITAL","RW1"]
[null,null,null,null,null,null,null,null,null,null,null,null,null,null,null,null,null,null,null,null,null,null,null,null,null,null,null,null,null,null,null,null,null,null,null,null,null,null,null,null,null,null,null,null,null,null,null,"RW1REHAB FAREHAM & GOSPORT","RW1A9","REHAB FAREHAM & GOSPORT","RW1A9","REHAB FAREHAM & GOSPORT","RW1"]
[null,null,null,null,null,null,null,null,null,null,null,null,null,null,null,null,null,null,null,null,null,null,null,null,null,null,null,null,null,null,null,null,null,null,null,null,null,null,null,null,null,null,null,null,null,null,null,"RW1REHAB SOUTHAMPTON","RW1D4","REHAB SOUTHAMPTON","RW1D4","REHAB SOUTHAMPTON","RW1"]
[null,null,null,null,null,null,null,null,null,null,null,null,null,null,null,null,null,null,null,null,null,null,null,null,null,null,null,null,null,null,null,null,null,null,null,null,null,null,null,null,null,null,null,null,null,null,null,"RW1STATT","RW13E","STATT","RW13E","STATT","RW1"]
[null,null,null,null,null,null,null,null,null,null,null,null,null,null,null,null,null,null,null,null,null,null,null,null,null,null,null,null,null,null,null,null,null,null,null,null,null,null,null,null,null,null,null,null,null,null,null,"RW1SWINDON","RW1HE","SWINDON","RW1HE","SWINDON","RW1"]
[null,null,null,null,null,null,null,null,null,null,null,null,null,null,null,null,null,null,null,null,null,null,null,null,null,null,null,null,null,null,null,null,null,null,null,null,null,null,null,null,null,null,null,null,null,null,null,"RW1UNIVERSITY DOP","RW1WL","UNIVERSITY DOP","RW1WL","UNIVERSITY DOP","RW1"]
[null,null,null,null,null,null,null,null,null,null,null,null,null,null,null,null,null,null,null,null,null,null,null,null,null,null,null,null,null,null,null,null,null,null,null,null,null,null,null,null,null,null,null,null,null,null,null,"RW1W WILTS","RW1HF","W WILTS","RW1HF","W WILTS","RW1"]
[null,null,null,null,null,null,null,null,null,null,null,null,null,null,null,null,null,null,null,null,null,null,null,null,null,null,null,null,null,null,null,null,null,null,null,null,null,null,null,null,null,null,null,null,null,null,null,"RW4BOOTHROYD WARD","RW449","BOOTHROYD WARD","RW449","BOOTHROYD WARD","RW4"]
[null,null,null,null,null,null,null,null,null,null,null,null,null,null,null,null,null,null,null,null,null,null,null,null,null,null,null,null,null,null,null,null,null,null,null,null,null,null,null,null,null,null,null,null,null,null,null,"RW4CRECHE - MERSEY CARE AT AINTREE UNIVERSITY HOSPITAL SITE","RW428","CRECHE - MERSEY CARE AT AINTREE UNIVERSITY HOSPITAL SITE","RW428","CRECHE - MERSEY CARE AT AINTREE UNIVERSITY HOSPITAL SITE","RW4"]
[null,null,null,null,null,null,null,null,null,null,null,null,null,null,null,null,null,null,null,null,null,null,null,null,null,null,null,null,null,null,null,null,null,null,null,null,null,null,null,null,null,null,null,null,null,null,null,"RW4LSU","RW421","LSU","RW421","LSU","RW4"]
[null,null,null,null,null,null,null,null,null,null,null,null,null,null,null,null,null,null,null,null,null,null,null,null,null,null,null,null,null,null,null,null,null,null,null,null,null,null,null,null,null,null,null,null,null,null,null,"RW4PARK SITE","RW487","PARK SITE","RW487","PARK SITE","RW4"]
[null,null,null,null,null,null,null,null,null,null,null,null,null,null,null,null,null,null,null,null,null,null,null,null,null,null,null,null,null,null,null,null,null,null,null,null,null,null,null,null,null,null,null,null,null,null,null,"RW4REHAB RES1","RW478","REHAB RES1","RW478","REHAB RES1","RW4"]
[null,null,null,null,null,null,null,null,null,null,null,null,null,null,null,null,null,null,null,null,null,null,null,null,null,null,null,null,null,null,null,null,null,null,null,null,null,null,null,null,null,null,null,null,null,null,null,"RW4WATERLOO DAY HOSPITAL","RW451","WATERLOO DAY HOSPITAL","RW451","WATERLOO DAY HOSPITAL","RW4"]
[null,null,null,null,null,null,null,null,null,null,null,null,null,null,null,null,null,null,null,null,null,null,null,null,null,null,null,null,null,null,null,null,null,null,null,null,null,null,null,null,null,null,null,null,null,null,null,"RW5CENTRAL LANCS MAS","RW5TC","CENTRAL LANCS MAS","RW5TC","CENTRAL LANCS MAS","RW5"]
[null,null,null,null,null,null,null,null,null,null,null,null,null,null,null,null,null,null,null,null,null,null,null,null,null,null,null,null,null,null,null,null,null,null,null,null,null,null,null,null,null,null,null,null,null,null,null,"RW5CHORLEY & SOUTH RIBBLE CCTT","RW5VD","CHORLEY & SOUTH RIBBLE CCTT","RW5VD","CHORLEY & SOUTH RIBBLE CCTT","RW5"]
[null,null,null,null,null,null,null,null,null,null,null,null,null,null,null,null,null,null,null,null,null,null,null,null,null,null,null,null,null,null,null,null,null,null,null,null,null,null,null,null,null,null,null,null,null,null,null,"RW5LEARNING DIFFICULTIES (CHORLEY & SOUTH RIBBLE DISTRICT GENERAL HOSPITAL)","RW5HD","LEARNING DIFFICULTIES (CHORLEY & SOUTH RIBBLE DISTRICT GENERAL HOSPITAL)","RW5HD","LEARNING DIFFICULTIES (CHORLEY & SOUTH RIBBLE DISTRICT GENERAL HOSPITAL)","RW5"]
[null,null,null,null,null,null,null,null,null,null,null,null,null,null,null,null,null,null,null,null,null,null,null,null,null,null,null,null,null,null,null,null,null,null,null,null,null,null,null,null,null,null,null,null,null,null,null,"RW5NHS BLACKPOOL","RW5KK","NHS BLACKPOOL","RW5KK","NHS BLACKPOOL","RW5"]
[null,null,null,null,null,null,null,null,null,null,null,null,null,null,null,null,null,null,null,null,null,null,null,null,null,null,null,null,null,null,null,null,null,null,null,null,null,null,null,null,null,null,null,null,null,null,null,"RW5PRESTON PRISON","RW5Z1","PRESTON PRISON","RW5Z1","PRESTON PRISON","RW5"]
[null,null,null,null,null,null,null,null,null,null,null,null,null,null,null,null,null,null,null,null,null,null,null,null,null,null,null,null,null,null,null,null,null,null,null,null,null,null,null,null,null,null,null,null,null,null,null,"RW5STRAWBERRY BANK","RW5AK","STRAWBERRY BANK","RW5AK","STRAWBERRY BANK","RW5"]
[null,null,null,null,null,null,null,null,null,null,null,null,null,null,null,null,null,null,null,null,null,null,null,null,null,null,null,null,null,null,null,null,null,null,null,null,null,null,null,null,null,null,null,null,null,null,null,"RW5WESTGATE","RW5FD","WESTGATE","RW5FD","WESTGATE","RW5"]
[null,null,null,null,null,null,null,null,null,null,null,null,null,null,null,null,null,null,null,null,null,null,null,null,null,null,null,null,null,null,null,null,null,null,null,null,null,null,null,null,null,null,null,null,null,null,null,"RW6BIRCH HILL HOSPITAL - RW605","RW605","BIRCH HILL HOSPITAL - RW605","RW605","BIRCH HILL HOSPITAL","RW6"]
[null,null,null,null,null,null,null,null,null,null,null,null,null,null,null,null,null,null,null,null,null,null,null,null,null,null,null,null,null,null,null,null,null,null,null,null,null,null,null,null,null,null,null,null,null,null,null,"RWDJOHNSON HOSPITAL - RWDLD","RWDLD","JOHNSON HOSPITAL - RWDLD","RWDLD","JOHNSON HOSPITAL","RWD"]
[null,null,null,null,null,null,null,null,null,null,null,null,null,null,null,null,null,null,null,null,null,null,null,null,null,null,null,null,null,null,null,null,null,null,null,null,null,null,null,null,null,null,null,null,null,null,null,"RWDSKEGNESS AND DISTRICT GENERAL HOSPITAL - RWDLB","RWDLB","SKEGNESS AND DISTRICT GENERAL HOSPITAL - RWDLB","RWDLB","SKEGNESS AND DISTRICT GENERAL HOSPITAL","RWD"]
[null,null,null,null,null,null,null,null,null,null,null,null,null,null,null,null,null,null,null,null,null,null,null,null,null,null,null,null,null,null,null,null,null,null,null,null,null,null,null,null,null,null,null,null,null,null,null,"RWFBENENDEN HOSPITAL - RWF22","RWF22","BENENDEN HOSPITAL - RWF22","RWF22","BENENDEN HOSPITAL","RWF"]
[null,null,null,null,null,null,null,null,null,null,null,null,null,null,null,null,null,null,null,null,null,null,null,null,null,null,null,null,null,null,null,null,null,null,null,null,null,null,null,null,null,null,null,null,null,null,null,"RWFQEQM HOSPITAL - RWF33","RWF33","QEQM HOSPITAL - RWF33","RWF33","QEQM HOSPITAL","RWF"]
[null,null,null,null,null,null,null,null,null,null,null,null,null,null,null,null,null,null,null,null,null,null,null,null,null,null,null,null,null,null,null,null,null,null,null,null,null,null,null,null,null,null,null,null,null,null,null,"RWFWHITSTABLE AND TANKERTON HOSPITAL - RWF18","RWF18","WHITSTABLE AND TANKERTON HOSPITAL - RWF18","RWF18","WHITSTABLE AND TANKERTON HOSPITAL","RWF"]
[null,null,null,null,null,null,null,null,null,null,null,null,null,null,null,null,null,null,null,null,null,null,null,null,null,null,null,null,null,null,null,null,null,null,null,null,null,null,null,null,null,null,null,null,null,null,null,"RWGWATFORD GENERAL HOSPITAL - RWG02","RWG02","WATFORD GENERAL HOSPITAL - RWG02","RWG02","WATFORD GENERAL HOSPITAL","RWG"]
[null,null,null,null,null,null,null,null,null,null,null,null,null,null,null,null,null,null,null,null,null,null,null,null,null,null,null,null,null,null,null,null,null,null,null,null,null,null,null,null,null,null,null,null,null,null,null,"RWKACE ENTERPRISES","RWK2R","ACE ENTERPRISES","RWK2R","ACE ENTERPRISES","RWK"]
[null,null,null,null,null,null,null,null,null,null,null,null,null,null,null,null,null,null,null,null,null,null,null,null,null,null,null,null,null,null,null,null,null,null,null,null,null,null,null,null,null,null,null,null,null,null,null,{"$f":"CONCATENATE(LEFT(AW3188, 3),AX3188)","v":"RWKBEACON HOUSE"},"RWK1N","BEACON HOUSE","RWK1N","BEACON HOUSE",{"$f":"LEFT(AY3188,3)","v":"RWK"}]
[null,null,null,null,null,null,null,null,null,null,null,null,null,null,null,null,null,null,null,null,null,null,null,null,null,null,null,null,null,null,null,null,null,null,null,null,null,null,null,null,null,null,null,null,null,null,null,"RWKENHANCED CARE SERVICE","RWK2H","ENHANCED CARE SERVICE","RWK2H","ENHANCED CARE SERVICE","RWK"]
[null,null,null,null,null,null,null,null,null,null,null,null,null,null,null,null,null,null,null,null,null,null,null,null,null,null,null,null,null,null,null,null,null,null,null,null,null,null,null,null,null,null,null,null,null,null,null,"RWKOAKLEY COURT","RWK2A","OAKLEY COURT","RWK2A","OAKLEY COURT","RWK"]
[null,null,null,null,null,null,null,null,null,null,null,null,null,null,null,null,null,null,null,null,null,null,null,null,null,null,null,null,null,null,null,null,null,null,null,null,null,null,null,null,null,null,null,null,null,null,null,"RWKTHE LODGE","RWK06","THE LODGE","RWK06","THE LODGE","RWK"]
[null,null,null,null,null,null,null,null,null,null,null,null,null,null,null,null,null,null,null,null,null,null,null,null,null,null,null,null,null,null,null,null,null,null,null,null,null,null,null,null,null,null,null,null,null,null,null,"RWNBEDFORD HEIGHTS","RWNL4","BEDFORD HEIGHTS","RWNL4","BEDFORD HEIGHTS","RWN"]
[null,null,null,null,null,null,null,null,null,null,null,null,null,null,null,null,null,null,null,null,null,null,null,null,null,null,null,null,null,null,null,null,null,null,null,null,null,null,null,null,null,null,null,null,null,null,null,"RWNGRAYS HALL","RWNC6","GRAYS HALL","RWNC6","GRAYS HALL","RWN"]
[null,null,null,null,null,null,null,null,null,null,null,null,null,null,null,null,null,null,null,null,null,null,null,null,null,null,null,null,null,null,null,null,null,null,null,null,null,null,null,null,null,null,null,null,null,null,null,"RWNHERTS AND ESSEX HOSPITAL","RWNTG","HERTS AND ESSEX HOSPITAL","RWNTG","HERTS AND ESSEX HOSPITAL","RWN"]
[null,null,null,null,null,null,null,null,null,null,null,null,null,null,null,null,null,null,null,null,null,null,null,null,null,null,null,null,null,null,null,null,null,null,null,null,null,null,null,null,null,null,null,null,null,null,null,"RWNOPMH IVEL VALLEY","RWN26","OPMH IVEL VALLEY","RWN26","OPMH IVEL VALLEY","RWN"]
[null,null,null,null,null,null,null,null,null,null,null,null,null,null,null,null,null,null,null,null,null,null,null,null,null,null,null,null,null,null,null,null,null,null,null,null,null,null,null,null,null,null,null,null,null,null,null,"RWNOTHER COMMUNITY PREMISES","RWNL3","OTHER COMMUNITY PREMISES","RWNL3","OTHER COMMUNITY PREMISES","RWN"]
[null,null,null,null,null,null,null,null,null,null,null,null,null,null,null,null,null,null,null,null,null,null,null,null,null,null,null,null,null,null,null,null,null,null,null,null,null,null,null,null,null,null,null,null,null,null,null,"RWNWARLEY HOSPITAL","RWNJ7","WARLEY HOSPITAL","RWNJ7","WARLEY HOSPITAL","RWN"]
[null,null,null,null,null,null,null,null,null,null,null,null,null,null,null,null,null,null,null,null,null,null,null,null,null,null,null,null,null,null,null,null,null,null,null,null,null,null,null,null,null,null,null,null,null,null,null,"RWNWHICHELLO'S WHARF","RWNL7","WHICHELLO'S WHARF","RWNL7","WHICHELLO'S WHARF","RWN"]
[null,null,null,null,null,null,null,null,null,null,null,null,null,null,null,null,null,null,null,null,null,null,null,null,null,null,null,null,null,null,null,null,null,null,null,null,null,null,null,null,null,null,null,null,null,null,null,"RWRADTU (SHRODELLS)","RWRP6","ADTU (SHRODELLS)","RWRP6","ADTU (SHRODELLS)","RWR"]
[null,null,null,null,null,null,null,null,null,null,null,null,null,null,null,null,null,null,null,null,null,null,null,null,null,null,null,null,null,null,null,null,null,null,null,null,null,null,null,null,null,null,null,null,null,null,null,"RWRELDERLY MENTAL AND INFIRM UNIT VICTORIA COURT","RWR76","ELDERLY MENTAL AND INFIRM UNIT VICTORIA COURT","RWR76","ELDERLY MENTAL AND INFIRM UNIT VICTORIA COURT","RWR"]
[null,null,null,null,null,null,null,null,null,null,null,null,null,null,null,null,null,null,null,null,null,null,null,null,null,null,null,null,null,null,null,null,null,null,null,null,null,null,null,null,null,null,null,null,null,null,null,"RWRLOGANDENE","RWRP2","LOGANDENE","RWRP2","LOGANDENE","RWR"]
[null,null,null,null,null,null,null,null,null,null,null,null,null,null,null,null,null,null,null,null,null,null,null,null,null,null,null,null,null,null,null,null,null,null,null,null,null,null,null,null,null,null,null,null,null,null,null,"RWRNASCOT LAWN","RWR37","NASCOT LAWN","RWR37","NASCOT LAWN","RWR"]
[null,null,null,null,null,null,null,null,null,null,null,null,null,null,null,null,null,null,null,null,null,null,null,null,null,null,null,null,null,null,null,null,null,null,null,null,null,null,null,null,null,null,null,null,null,null,null,"RWRSPECIAL CARE BABY UNIT (HEMEL HEMPSTEAD GENERAL HOSPITAL)","RWR50","SPECIAL CARE BABY UNIT (HEMEL HEMPSTEAD GENERAL HOSPITAL)","RWR50","SPECIAL CARE BABY UNIT (HEMEL HEMPSTEAD GENERAL HOSPITAL)","RWR"]
[null,null,null,null,null,null,null,null,null,null,null,null,null,null,null,null,null,null,null,null,null,null,null,null,null,null,null,null,null,null,null,null,null,null,null,null,null,null,null,null,null,null,null,null,null,null,null,"RWRST NICHOLAS WARD","RWR57","ST NICHOLAS WARD","RWR57","ST NICHOLAS WARD","RWR"]
[null,null,null,null,null,null,null,null,null,null,null,null,null,null,null,null,null,null,null,null,null,null,null,null,null,null,null,null,null,null,null,null,null,null,null,null,null,null,null,null,null,null,null,null,null,null,null,"RWVCOOMBEHAVEN WARD","RWVDT","COOMBEHAVEN WARD","RWVDT","COOMBEHAVEN WARD","RWV"]
[null,null,null,null,null,null,null,null,null,null,null,null,null,null,null,null,null,null,null,null,null,null,null,null,null,null,null,null,null,null,null,null,null,null,null,null,null,null,null,null,null,null,null,null,null,null,null,"RWVCULVERHAY","RWV09","CULVERHAY","RWV09","CULVERHAY","RWV"]
[null,null,null,null,null,null,null,null,null,null,null,null,null,null,null,null,null,null,null,null,null,null,null,null,null,null,null,null,null,null,null,null,null,null,null,null,null,null,null,null,null,null,null,null,null,null,null,"RWVDEVON DRUG SERV (S&W) NMP","RWVN3","DEVON DRUG SERV (S&W) NMP","RWVN3","DEVON DRUG SERV (S&W) NMP","RWV"]
[null,null,null,null,null,null,null,null,null,null,null,null,null,null,null,null,null,null,null,null,null,null,null,null,null,null,null,null,null,null,null,null,null,null,null,null,null,null,null,null,null,null,null,null,null,null,null,"RWVHILLBANK (CREDITON)","RWV43","HILLBANK (CREDITON)","RWV43","HILLBANK (CREDITON)","RWV"]
[null,null,null,null,null,null,null,null,null,null,null,null,null,null,null,null,null,null,null,null,null,null,null,null,null,null,null,null,null,null,null,null,null,null,null,null,null,null,null,null,null,null,null,null,null,null,null,"RWVOPMH (CREDITON)","RWVDN","OPMH (CREDITON)","RWVDN","OPMH (CREDITON)","RWV"]
[null,null,null,null,null,null,null,null,null,null,null,null,null,null,null,null,null,null,null,null,null,null,null,null,null,null,null,null,null,null,null,null,null,null,null,null,null,null,null,null,null,null,null,null,null,null,null,"RWVOPMH FRANKLYN HOSPITAL","RWVCT","OPMH FRANKLYN HOSPITAL","RWVCT","OPMH FRANKLYN HOSPITAL","RWV"]
[null,null,null,null,null,null,null,null,null,null,null,null,null,null,null,null,null,null,null,null,null,null,null,null,null,null,null,null,null,null,null,null,null,null,null,null,null,null,null,null,null,null,null,null,null,null,null,"RWVSTEP EXETER EAST & MID (NMP)","RWVNJ","STEP EXETER EAST & MID (NMP)","RWVNJ","STEP EXETER EAST & MID (NMP)","RWV"]
[null,null,null,null,null,null,null,null,null,null,null,null,null,null,null,null,null,null,null,null,null,null,null,null,null,null,null,null,null,null,null,null,null,null,null,null,null,null,null,null,null,null,null,null,null,null,null,"RWVTEIGNVIEW","RWV10","TEIGNVIEW","RWV10","TEIGNVIEW","RWV"]
[null,null,null,null,null,null,null,null,null,null,null,null,null,null,null,null,null,null,null,null,null,null,null,null,null,null,null,null,null,null,null,null,null,null,null,null,null,null,null,null,null,null,null,null,null,null,null,"RWXABINGDON HOSPITAL OUT-PATIENTS DEPARTMENT","RWXNW","ABINGDON HOSPITAL OUT-PATIENTS DEPARTMENT","RWXNW","ABINGDON HOSPITAL OUT-PATIENTS DEPARTMENT","RWX"]
[null,null,null,null,null,null,null,null,null,null,null,null,null,null,null,null,null,null,null,null,null,null,null,null,null,null,null,null,null,null,null,null,null,null,null,null,null,null,null,null,null,null,null,null,null,null,null,"RWXBUCKLEBURY MEMORIAL HALL","RWXKY","BUCKLEBURY MEMORIAL HALL","RWXKY","BUCKLEBURY MEMORIAL HALL","RWX"]
[null,null,null,null,null,null,null,null,null,null,null,null,null,null,null,null,null,null,null,null,null,null,null,null,null,null,null,null,null,null,null,null,null,null,null,null,null,null,null,null,null,null,null,null,null,null,null,"RWXDAY HOSPITAL - P7D","RWX7D","DAY HOSPITAL - P7D","RWX7D","DAY HOSPITAL - P7D","RWX"]
[null,null,null,null,null,null,null,null,null,null,null,null,null,null,null,null,null,null,null,null,null,null,null,null,null,null,null,null,null,null,null,null,null,null,null,null,null,null,null,null,null,null,null,null,null,null,null,"RWXKING EDWARD VII","RWX80","KING EDWARD VII","RWX80","KING EDWARD VII","RWX"]
[null,null,null,null,null,null,null,null,null,null,null,null,null,null,null,null,null,null,null,null,null,null,null,null,null,null,null,null,null,null,null,null,null,null,null,null,null,null,null,null,null,null,null,null,null,null,null,"RWXSIX OAKS","RWX64","SIX OAKS","RWX64","SIX OAKS","RWX"]
[null,null,null,null,null,null,null,null,null,null,null,null,null,null,null,null,null,null,null,null,null,null,null,null,null,null,null,null,null,null,null,null,null,null,null,null,null,null,null,null,null,null,null,null,null,null,null,"RWXST PETERS HOSPITAL","RWXAV","ST PETERS HOSPITAL","RWXAV","ST PETERS HOSPITAL","RWX"]
[null,null,null,null,null,null,null,null,null,null,null,null,null,null,null,null,null,null,null,null,null,null,null,null,null,null,null,null,null,null,null,null,null,null,null,null,null,null,null,null,null,null,null,null,null,null,null,"RWXUPTON PAEDIATRIC - P7E","RWX7E","UPTON PAEDIATRIC - P7E","RWX7E","UPTON PAEDIATRIC - P7E","RWX"]
[null,null,null,null,null,null,null,null,null,null,null,null,null,null,null,null,null,null,null,null,null,null,null,null,null,null,null,null,null,null,null,null,null,null,null,null,null,null,null,null,null,null,null,null,null,null,null,"RWYHUDDERSFIELD ROYAL INFIRMARY - RWY01","RWY01","HUDDERSFIELD ROYAL INFIRMARY - RWY01","RWY01","HUDDERSFIELD ROYAL INFIRMARY","RWY"]
[null,null,null,null,null,null,null,null,null,null,null,null,null,null,null,null,null,null,null,null,null,null,null,null,null,null,null,null,null,null,null,null,null,null,null,null,null,null,null,null,null,null,null,null,null,null,null,"RX2B & H ATS EAST (SY)","RX21V","B & H ATS EAST (SY)","RX21V","B & H ATS EAST (SY)","RX2"]
[null,null,null,null,null,null,null,null,null,null,null,null,null,null,null,null,null,null,null,null,null,null,null,null,null,null,null,null,null,null,null,null,null,null,null,null,null,null,null,null,null,null,null,null,null,null,null,"RX2B & H ATS WEST (MA)","RX21W","B & H ATS WEST (MA)","RX21W","B & H ATS WEST (MA)","RX2"]
[null,null,null,null,null,null,null,null,null,null,null,null,null,null,null,null,null,null,null,null,null,null,null,null,null,null,null,null,null,null,null,null,null,null,null,null,null,null,null,null,null,null,null,null,null,null,null,{"$f":"CONCATENATE(LEFT(AW3508, 3),AX3508)","v":"RX2BARLAVINGTON MANOR"},"RX2E0","BARLAVINGTON MANOR","RX2E0","BARLAVINGTON MANOR",{"$f":"LEFT(AY3508,3)","v":"RX2"}]
[null,null,null,null,null,null,null,null,null,null,null,null,null,null,null,null,null,null,null,null,null,null,null,null,null,null,null,null,null,null,null,null,null,null,null,null,null,null,null,null,null,null,null,null,null,null,null,"RX2CFOT WEST SUSSEX","RX29N","CFOT WEST SUSSEX","RX29N","CFOT WEST SUSSEX","RX2"]
[null,null,null,null,null,null,null,null,null,null,null,null,null,null,null,null,null,null,null,null,null,null,null,null,null,null,null,null,null,null,null,null,null,null,null,null,null,null,null,null,null,null,null,null,null,null,null,"RX2CHASE COMMUNITY HOSPITAL","RX2YV","CHASE COMMUNITY HOSPITAL","RX2YV","CHASE COMMUNITY HOSPITAL","RX2"]
[null,null,null,null,null,null,null,null,null,null,null,null,null,null,null,null,null,null,null,null,null,null,null,null,null,null,null,null,null,null,null,null,null,null,null,null,null,null,null,null,null,null,null,null,null,null,null,"RX2CRAWLEY RECOVERY AND WELL-BEING","RX2XV","CRAWLEY RECOVERY AND WELL-BEING","RX2XV","CRAWLEY RECOVERY AND WELL-BEING","RX2"]
[null,null,null,null,null,null,null,null,null,null,null,null,null,null,null,null,null,null,null,null,null,null,null,null,null,null,null,null,null,null,null,null,null,null,null,null,null,null,null,null,null,null,null,null,null,null,null,"RX2DOVE WARD","RX298","DOVE WARD","RX298","DOVE WARD","RX2"]
[null,null,null,null,null,null,null,null,null,null,null,null,null,null,null,null,null,null,null,null,null,null,null,null,null,null,null,null,null,null,null,null,null,null,null,null,null,null,null,null,null,null,null,null,null,null,null,"RX2FORENSIC BRIGHTON AND HOVE","RX24R","FORENSIC BRIGHTON AND HOVE","RX24R","FORENSIC BRIGHTON AND HOVE","RX2"]
[null,null,null,null,null,null,null,null,null,null,null,null,null,null,null,null,null,null,null,null,null,null,null,null,null,null,null,null,null,null,null,null,null,null,null,null,null,null,null,null,null,null,null,null,null,null,null,"RX2H & ROTHER SMHT (RMB)","RX2AV","H & ROTHER SMHT (RMB)","RX2AV","H & ROTHER SMHT (RMB)","RX2"]
[null,null,null,null,null,null,null,null,null,null,null,null,null,null,null,null,null,null,null,null,null,null,null,null,null,null,null,null,null,null,null,null,null,null,null,null,null,null,null,null,null,null,null,null,null,null,null,"RX2HASTINGS & ROTHER SMS","RX2AN","HASTINGS & ROTHER SMS","RX2AN","HASTINGS & ROTHER SMS","RX2"]
[null,null,null,null,null,null,null,null,null,null,null,null,null,null,null,null,null,null,null,null,null,null,null,null,null,null,null,null,null,null,null,null,null,null,null,null,null,null,null,null,null,null,null,null,null,null,null,"RX2HASTINGS DEMENTIA","RX23G","HASTINGS DEMENTIA","RX23G","HASTINGS DEMENTIA","RX2"]
[null,null,null,null,null,null,null,null,null,null,null,null,null,null,null,null,null,null,null,null,null,null,null,null,null,null,null,null,null,null,null,null,null,null,null,null,null,null,null,null,null,null,null,null,null,null,null,"RX2HW, L&H ATS FUNCTIONAL (MP)","RX25A","HW, L&H ATS FUNCTIONAL (MP)","RX25A","HW, L&H ATS FUNCTIONAL (MP)","RX2"]
[null,null,null,null,null,null,null,null,null,null,null,null,null,null,null,null,null,null,null,null,null,null,null,null,null,null,null,null,null,null,null,null,null,null,null,null,null,null,null,null,null,null,null,null,null,null,null,"RX2LANGLEY GREEN HOSPITAL","RX2P0","LANGLEY GREEN HOSPITAL","RX2P0","LANGLEY GREEN HOSPITAL","RX2"]
[null,null,null,null,null,null,null,null,null,null,null,null,null,null,null,null,null,null,null,null,null,null,null,null,null,null,null,null,null,null,null,null,null,null,null,null,null,null,null,null,null,null,null,null,null,null,null,"RX2MID SUSSEX - LWWDT","RX27K","MID SUSSEX - LWWDT","RX27K","MID SUSSEX - LWWDT","RX2"]
[null,null,null,null,null,null,null,null,null,null,null,null,null,null,null,null,null,null,null,null,null,null,null,null,null,null,null,null,null,null,null,null,null,null,null,null,null,null,null,null,null,null,null,null,null,null,null,"RX2NORTH WEST SUSSEX AOT","RX28P","NORTH WEST SUSSEX AOT","RX28P","NORTH WEST SUSSEX AOT","RX2"]
[null,null,null,null,null,null,null,null,null,null,null,null,null,null,null,null,null,null,null,null,null,null,null,null,null,null,null,null,null,null,null,null,null,null,null,null,null,null,null,null,null,null,null,null,null,null,null,"RX2OLD STEINE (YMCA)","RX2T1","OLD STEINE (YMCA)","RX2T1","OLD STEINE (YMCA)","RX2"]
[null,null,null,null,null,null,null,null,null,null,null,null,null,null,null,null,null,null,null,null,null,null,null,null,null,null,null,null,null,null,null,null,null,null,null,null,null,null,null,null,null,null,null,null,null,null,null,"RX2REHABILITATION BRIGHTON","RX22L","REHABILITATION BRIGHTON","RX22L","REHABILITATION BRIGHTON","RX2"]
[null,null,null,null,null,null,null,null,null,null,null,null,null,null,null,null,null,null,null,null,null,null,null,null,null,null,null,null,null,null,null,null,null,null,null,null,null,null,null,null,null,null,null,null,null,null,null,"RX2RYE MEMORIAL HOSPITAL","RX2T8","RYE MEMORIAL HOSPITAL","RX2T8","RYE MEMORIAL HOSPITAL","RX2"]
[null,null,null,null,null,null,null,null,null,null,null,null,null,null,null,null,null,null,null,null,null,null,null,null,null,null,null,null,null,null,null,null,null,null,null,null,null,null,null,null,null,null,null,null,null,null,null,"RX2SMS E'BOURNE - BUXTED","RX2AM","SMS E'BOURNE - BUXTED","RX2AM","SMS E'BOURNE - BUXTED","RX2"]
[null,null,null,null,null,null,null,null,null,null,null,null,null,null,null,null,null,null,null,null,null,null,null,null,null,null,null,null,null,null,null,null,null,null,null,null,null,null,null,null,null,null,null,null,null,null,null,"RX2SOUTHLANDS HOSPITAL","RX226","SOUTHLANDS HOSPITAL","RX226","SOUTHLANDS HOSPITAL","RX2"]
[null,null,null,null,null,null,null,null,null,null,null,null,null,null,null,null,null,null,null,null,null,null,null,null,null,null,null,null,null,null,null,null,null,null,null,null,null,null,null,null,null,null,null,null,null,null,null,"RX2SUSSEX BEACON","RX2Q8","SUSSEX BEACON","RX2Q8","SUSSEX BEACON","RX2"]
[null,null,null,null,null,null,null,null,null,null,null,null,null,null,null,null,null,null,null,null,null,null,null,null,null,null,null,null,null,null,null,null,null,null,null,null,null,null,null,null,null,null,null,null,null,null,null,"RX2THE MERTON","RX2E3","THE MERTON","RX2E3","THE MERTON","RX2"]
[null,null,null,null,null,null,null,null,null,null,null,null,null,null,null,null,null,null,null,null,null,null,null,null,null,null,null,null,null,null,null,null,null,null,null,null,null,null,null,null,null,null,null,null,null,null,null,"RX2UNIT 5 CIGNETS","RX2W0","UNIT 5 CIGNETS","RX2W0","UNIT 5 CIGNETS","RX2"]
[null,null,null,null,null,null,null,null,null,null,null,null,null,null,null,null,null,null,null,null,null,null,null,null,null,null,null,null,null,null,null,null,null,null,null,null,null,null,null,null,null,null,null,null,null,null,null,"RX2WEST SUSSEX DCS WEST","RX2DE","WEST SUSSEX DCS WEST","RX2DE","WEST SUSSEX DCS WEST","RX2"]
[null,null,null,null,null,null,null,null,null,null,null,null,null,null,null,null,null,null,null,null,null,null,null,null,null,null,null,null,null,null,null,null,null,null,null,null,null,null,null,null,null,null,null,null,null,null,null,"RX2WESTERN SUSSEX LWWD (AC)","RX26J","WESTERN SUSSEX LWWD (AC)","RX26J","WESTERN SUSSEX LWWD (AC)","RX2"]
[null,null,null,null,null,null,null,null,null,null,null,null,null,null,null,null,null,null,null,null,null,null,null,null,null,null,null,null,null,null,null,null,null,null,null,null,null,null,null,null,null,null,null,null,null,null,null,"RX2YASMIN BYSIDE COMFORT","RX2R8","YASMIN BYSIDE COMFORT","RX2R8","YASMIN BYSIDE COMFORT","RX2"]
[null,null,null,null,null,null,null,null,null,null,null,null,null,null,null,null,null,null,null,null,null,null,null,null,null,null,null,null,null,null,null,null,null,null,null,null,null,null,null,null,null,null,null,null,null,null,null,"RX3BANKFIELDS COURT ADMIN UNIT","RX3NT","BANKFIELDS COURT ADMIN UNIT","RX3NT","BANKFIELDS COURT ADMIN UNIT","RX3"]
[null,null,null,null,null,null,null,null,null,null,null,null,null,null,null,null,null,null,null,null,null,null,null,null,null,null,null,null,null,null,null,null,null,null,null,null,null,null,null,null,null,null,null,null,null,null,null,"RX3C & YPS CLS","RX358","C & YPS CLS","RX358","C & YPS CLS","RX3"]
[null,null,null,null,null,null,null,null,null,null,null,null,null,null,null,null,null,null,null,null,null,null,null,null,null,null,null,null,null,null,null,null,null,null,null,null,null,null,null,null,null,null,null,null,null,null,null,"RX3CROSS LANE HOSPITAL AYCKBOURN","RX3EY","CROSS LANE HOSPITAL AYCKBOURN","RX3EY","CROSS LANE HOSPITAL AYCKBOURN","RX3"]
[null,null,null,null,null,null,null,null,null,null,null,null,null,null,null,null,null,null,null,null,null,null,null,null,null,null,null,null,null,null,null,null,null,null,null,null,null,null,null,null,null,null,null,null,null,null,null,"RX3FOXRUSH AFFECTIVE DISORDER","RX3FQ","FOXRUSH AFFECTIVE DISORDER","RX3FQ","FOXRUSH AFFECTIVE DISORDER","RX3"]
[null,null,null,null,null,null,null,null,null,null,null,null,null,null,null,null,null,null,null,null,null,null,null,null,null,null,null,null,null,null,null,null,null,null,null,null,null,null,null,null,null,null,null,null,null,null,null,"RX3LD - SOUTH","RX382","LD - SOUTH","RX382","LD - SOUTH","RX3"]
[null,null,null,null,null,null,null,null,null,null,null,null,null,null,null,null,null,null,null,null,null,null,null,null,null,null,null,null,null,null,null,null,null,null,null,null,null,null,null,null,null,null,null,null,null,null,null,"RX3LUSTRUM VALE MHSOP NMP","RX3VV","LUSTRUM VALE MHSOP NMP","RX3VV","LUSTRUM VALE MHSOP NMP","RX3"]
[null,null,null,null,null,null,null,null,null,null,null,null,null,null,null,null,null,null,null,null,null,null,null,null,null,null,null,null,null,null,null,null,null,null,null,null,null,null,null,null,null,null,null,null,null,null,null,"RX3MHSOP LR (NP)","RX3A2","MHSOP LR (NP)","RX3A2","MHSOP LR (NP)","RX3"]
[null,null,null,null,null,null,null,null,null,null,null,null,null,null,null,null,null,null,null,null,null,null,null,null,null,null,null,null,null,null,null,null,null,null,null,null,null,null,null,null,null,null,null,null,null,null,null,"RX3NMP - MHSOP STOCKTON","RX31Q","NMP - MHSOP STOCKTON","RX31Q","NMP - MHSOP STOCKTON","RX3"]
[null,null,null,null,null,null,null,null,null,null,null,null,null,null,null,null,null,null,null,null,null,null,null,null,null,null,null,null,null,null,null,null,null,null,null,null,null,null,null,null,null,null,null,null,null,null,null,"RX3NMP MHSOP HARTLEPOOL","RX3WL","NMP MHSOP HARTLEPOOL","RX3WL","NMP MHSOP HARTLEPOOL","RX3"]
[null,null,null,null,null,null,null,null,null,null,null,null,null,null,null,null,null,null,null,null,null,null,null,null,null,null,null,null,null,null,null,null,null,null,null,null,null,null,null,null,null,null,null,null,null,null,null,"RX3PARKSIDE PSYCHOSIS NMP","RX3VM","PARKSIDE PSYCHOSIS NMP","RX3VM","PARKSIDE PSYCHOSIS NMP","RX3"]
[null,null,null,null,null,null,null,null,null,null,null,null,null,null,null,null,null,null,null,null,null,null,null,null,null,null,null,null,null,null,null,null,null,null,null,null,null,null,null,null,null,null,null,null,null,null,null,"RX3POA - DDALES APARK 1","RX317","POA - DDALES APARK 1","RX317","POA - DDALES APARK 1","RX3"]
[null,null,null,null,null,null,null,null,null,null,null,null,null,null,null,null,null,null,null,null,null,null,null,null,null,null,null,null,null,null,null,null,null,null,null,null,null,null,null,null,null,null,null,null,null,null,null,"RX3SANDWELL PARK","RX3NH","SANDWELL PARK","RX3NH","SANDWELL PARK","RX3"]
[null,null,null,null,null,null,null,null,null,null,null,null,null,null,null,null,null,null,null,null,null,null,null,null,null,null,null,null,null,null,null,null,null,null,null,null,null,null,null,null,null,null,null,null,null,null,null,"RX3TEES, ESK, WEAR VALLEY NHS TRUST (DURHAM)","RX301","TEES, ESK, WEAR VALLEY NHS TRUST (DURHAM)","RX301","TEES, ESK, WEAR VALLEY NHS TRUST (DURHAM)","RX3"]
[null,null,null,null,null,null,null,null,null,null,null,null,null,null,null,null,null,null,null,null,null,null,null,null,null,null,null,null,null,null,null,null,null,null,null,null,null,null,null,null,null,null,null,null,null,null,null,"RX3THE OLD VICARAGE","RX3QD","THE OLD VICARAGE","RX3QD","THE OLD VICARAGE","RX3"]
[null,null,null,null,null,null,null,null,null,null,null,null,null,null,null,null,null,null,null,null,null,null,null,null,null,null,null,null,null,null,null,null,null,null,null,null,null,null,null,null,null,null,null,null,null,null,null,"RX3WEST LANE HOSPITAL WESTWOOD CENTRE","RX3GV","WEST LANE HOSPITAL WESTWOOD CENTRE","RX3GV","WEST LANE HOSPITAL WESTWOOD CENTRE","RX3"]
[null,null,null,null,null,null,null,null,null,null,null,null,null,null,null,null,null,null,null,null,null,null,null,null,null,null,null,null,null,null,null,null,null,null,null,null,null,null,null,null,null,null,null,null,null,null,null,"RX4ACUTE PSYCH - TYNEDALE","RX4DT","ACUTE PSYCH - TYNEDALE","RX4DT","ACUTE PSYCH - TYNEDALE","RX4"]
[null,null,null,null,null,null,null,null,null,null,null,null,null,null,null,null,null,null,null,null,null,null,null,null,null,null,null,null,null,null,null,null,null,null,null,null,null,null,null,null,null,null,null,null,null,null,null,"RX4ADHD [WAA]","RX44A","ADHD [WAA]","RX44A","ADHD [WAA]","RX4"]
[null,null,null,null,null,null,null,null,null,null,null,null,null,null,null,null,null,null,null,null,null,null,null,null,null,null,null,null,null,null,null,null,null,null,null,null,null,null,null,null,null,null,null,null,null,null,null,"RX4BERWICK INFIRMARY SITE","RX472","BERWICK INFIRMARY SITE","RX472","BERWICK INFIRMARY SITE","RX4"]
[null,null,null,null,null,null,null,null,null,null,null,null,null,null,null,null,null,null,null,null,null,null,null,null,null,null,null,null,null,null,null,null,null,null,null,null,null,null,null,null,null,null,null,null,null,null,null,"RX4CNDS","RX44E","CNDS","RX44E","CNDS","RX4"]
[null,null,null,null,null,null,null,null,null,null,null,null,null,null,null,null,null,null,null,null,null,null,null,null,null,null,null,null,null,null,null,null,null,null,null,null,null,null,null,null,null,null,null,null,null,null,null,"RX4DUNSTON HILL DAY HOSPITAL SITE","RX444","DUNSTON HILL DAY HOSPITAL SITE","RX444","DUNSTON HILL DAY HOSPITAL SITE","RX4"]
[null,null,null,null,null,null,null,null,null,null,null,null,null,null,null,null,null,null,null,null,null,null,null,null,null,null,null,null,null,null,null,null,null,null,null,null,null,null,null,null,null,null,null,null,null,null,null,"RX4GRANGE PARK MENTAL HEALTH COMMUNITY UNIT","RX495","GRANGE PARK MENTAL HEALTH COMMUNITY UNIT","RX495","GRANGE PARK MENTAL HEALTH COMMUNITY UNIT","RX4"]
[null,null,null,null,null,null,null,null,null,null,null,null,null,null,null,null,null,null,null,null,null,null,null,null,null,null,null,null,null,null,null,null,null,null,null,null,null,null,null,null,null,null,null,null,null,null,null,"RX4MONKTON HALL HOSPITAL","RX450","MONKTON HALL HOSPITAL","RX450","MONKTON HALL HOSPITAL","RX4"]
[null,null,null,null,null,null,null,null,null,null,null,null,null,null,null,null,null,null,null,null,null,null,null,null,null,null,null,null,null,null,null,null,null,null,null,null,null,null,null,null,null,null,null,null,null,null,null,"RX4NORTHGATE HOSPITAL SITE","RX467","NORTHGATE HOSPITAL SITE","RX467","NORTHGATE HOSPITAL SITE","RX4"]
[null,null,null,null,null,null,null,null,null,null,null,null,null,null,null,null,null,null,null,null,null,null,null,null,null,null,null,null,null,null,null,null,null,null,null,null,null,null,null,null,null,null,null,null,null,null,null,"RX4PRUDHOE HOSPITAL","RX4DH","PRUDHOE HOSPITAL","RX4DH","PRUDHOE HOSPITAL","RX4"]
[null,null,null,null,null,null,null,null,null,null,null,null,null,null,null,null,null,null,null,null,null,null,null,null,null,null,null,null,null,null,null,null,null,null,null,null,null,null,null,null,null,null,null,null,null,null,null,"RX4SPECIAL CARE / REHAB NEWCASTLE","RX4EX","SPECIAL CARE / REHAB NEWCASTLE","RX4EX","SPECIAL CARE / REHAB NEWCASTLE","RX4"]
[null,null,null,null,null,null,null,null,null,null,null,null,null,null,null,null,null,null,null,null,null,null,null,null,null,null,null,null,null,null,null,null,null,null,null,null,null,null,null,null,null,null,null,null,null,null,null,"RX4SUNDERLAND EYE INFIRMARY","RX4J2","SUNDERLAND EYE INFIRMARY","RX4J2","SUNDERLAND EYE INFIRMARY","RX4"]
[null,null,null,null,null,null,null,null,null,null,null,null,null,null,null,null,null,null,null,null,null,null,null,null,null,null,null,null,null,null,null,null,null,null,null,null,null,null,null,null,null,null,null,null,null,null,null,"RX4TAVISTOCK SQUARE MENTAL HEALTH COMMUNITY UNIT","RX4T7","TAVISTOCK SQUARE MENTAL HEALTH COMMUNITY UNIT","RX4T7","TAVISTOCK SQUARE MENTAL HEALTH COMMUNITY UNIT","RX4"]
[null,null,null,null,null,null,null,null,null,null,null,null,null,null,null,null,null,null,null,null,null,null,null,null,null,null,null,null,null,null,null,null,null,null,null,null,null,null,null,null,null,null,null,null,null,null,null,"RX4WEST VIEW MENTAL HEALTH COMMUNITY UNIT","RX4V0","WEST VIEW MENTAL HEALTH COMMUNITY UNIT","RX4V0","WEST VIEW MENTAL HEALTH COMMUNITY UNIT","RX4"]
[null,null,null,null,null,null,null,null,null,null,null,null,null,null,null,null,null,null,null,null,null,null,null,null,null,null,null,null,null,null,null,null,null,null,null,null,null,null,null,null,null,null,null,null,null,null,null,"RX4WOOLSINGTON MENTAL HEALTH COMMUNITY UNIT","RX4V2","WOOLSINGTON MENTAL HEALTH COMMUNITY UNIT","RX4V2","WOOLSINGTON MENTAL HEALTH COMMUNITY UNIT","RX4"]
[null,null,null,null,null,null,null,null,null,null,null,null,null,null,null,null,null,null,null,null,null,null,null,null,null,null,null,null,null,null,null,null,null,null,null,null,null,null,null,null,null,null,null,null,null,null,null,"RXALIASON PSYCHIATRY WEST","RXAC6","LIASON PSYCHIATRY WEST","RXAC6","LIASON PSYCHIATRY WEST","RXA"]
[null,null,null,null,null,null,null,null,null,null,null,null,null,null,null,null,null,null,null,null,null,null,null,null,null,null,null,null,null,null,null,null,null,null,null,null,null,null,null,null,null,null,null,null,null,null,null,"RXAROSEMOUNT","RXA35","ROSEMOUNT","RXA35","ROSEMOUNT","RXA"]
[null,null,null,null,null,null,null,null,null,null,null,null,null,null,null,null,null,null,null,null,null,null,null,null,null,null,null,null,null,null,null,null,null,null,null,null,null,null,null,null,null,null,null,null,null,null,null,"RXEDONCASTER - ST MARY'S INTERMEDIATE CARE","RXECA","DONCASTER - ST MARY'S INTERMEDIATE CARE","RXECA","DONCASTER - ST MARY'S INTERMEDIATE CARE","RXE"]
[null,null,null,null,null,null,null,null,null,null,null,null,null,null,null,null,null,null,null,null,null,null,null,null,null,null,null,null,null,null,null,null,null,null,null,null,null,null,null,null,null,null,null,null,null,null,null,"RXEDONCASTER DCIS - (OTW) BENTLEY MYPLACE","RXECF","DONCASTER DCIS - (OTW) BENTLEY MYPLACE","RXECF","DONCASTER DCIS - (OTW) BENTLEY MYPLACE","RXE"]
[null,null,null,null,null,null,null,null,null,null,null,null,null,null,null,null,null,null,null,null,null,null,null,null,null,null,null,null,null,null,null,null,null,null,null,null,null,null,null,null,null,null,null,null,null,null,null,"RXFMONUMENT HOUSE","RXF14","MONUMENT HOUSE","RXF14","MONUMENT HOUSE","RXF"]
[null,null,null,null,null,null,null,null,null,null,null,null,null,null,null,null,null,null,null,null,null,null,null,null,null,null,null,null,null,null,null,null,null,null,null,null,null,null,null,null,null,null,null,null,null,null,null,"RXFQUEEN ELIZABETH HOUSE","RXF15","QUEEN ELIZABETH HOUSE","RXF15","QUEEN ELIZABETH HOUSE","RXF"]
[null,null,null,null,null,null,null,null,null,null,null,null,null,null,null,null,null,null,null,null,null,null,null,null,null,null,null,null,null,null,null,null,null,null,null,null,null,null,null,null,null,null,null,null,null,null,null,"RXGFIELDHEAD HOSPITAL","RXG10","FIELDHEAD HOSPITAL","RXG10","FIELDHEAD HOSPITAL","RXG"]
[null,null,null,null,null,null,null,null,null,null,null,null,null,null,null,null,null,null,null,null,null,null,null,null,null,null,null,null,null,null,null,null,null,null,null,null,null,null,null,null,null,null,null,null,null,null,null,"RXGTHE DALES","RXG41","THE DALES","RXG41","THE DALES","RXG"]
[null,null,null,null,null,null,null,null,null,null,null,null,null,null,null,null,null,null,null,null,null,null,null,null,null,null,null,null,null,null,null,null,null,null,null,null,null,null,null,null,null,null,null,null,null,null,null,"RXHASHDOWN NUFFIELD HOSPITAL - RXH18","RXH18","ASHDOWN NUFFIELD HOSPITAL - RXH18","RXH18","ASHDOWN NUFFIELD HOSPITAL","RXH"]
[null,null,null,null,null,null,null,null,null,null,null,null,null,null,null,null,null,null,null,null,null,null,null,null,null,null,null,null,null,null,null,null,null,null,null,null,null,null,null,null,null,null,null,null,null,null,null,"RXKSANDWELL GENERAL HOSPITAL - RXK01","RXK01","SANDWELL GENERAL HOSPITAL - RXK01","RXK01","SANDWELL GENERAL HOSPITAL","RXK"]
[null,null,null,null,null,null,null,null,null,null,null,null,null,null,null,null,null,null,null,null,null,null,null,null,null,null,null,null,null,null,null,null,null,null,null,null,null,null,null,null,null,null,null,null,null,null,null,"RXLROSSALL HOSPITAL REHABILITATION UNIT - RXL09","RXL09","ROSSALL HOSPITAL REHABILITATION UNIT - RXL09","RXL09","ROSSALL HOSPITAL REHABILITATION UNIT","RXL"]
[null,null,null,null,null,null,null,null,null,null,null,null,null,null,null,null,null,null,null,null,null,null,null,null,null,null,null,null,null,null,null,null,null,null,null,null,null,null,null,null,null,null,null,null,null,null,null,"RXMADULT MENTAL HEALTH","RXMT4","ADULT MENTAL HEALTH","RXMT4","ADULT MENTAL HEALTH","RXM"]
[null,null,null,null,null,null,null,null,null,null,null,null,null,null,null,null,null,null,null,null,null,null,null,null,null,null,null,null,null,null,null,null,null,null,null,null,null,null,null,null,null,null,null,null,null,null,null,"RXMHIGHLY SPECIALIST COGNITIVE BEHAVIOURAL PSYCHOTHERAPIST","RXMW6","HIGHLY SPECIALIST COGNITIVE BEHAVIOURAL PSYCHOTHERAPIST","RXMW6","HIGHLY SPECIALIST COGNITIVE BEHAVIOURAL PSYCHOTHERAPIST","RXM"]
[null,null,null,null,null,null,null,null,null,null,null,null,null,null,null,null,null,null,null,null,null,null,null,null,null,null,null,null,null,null,null,null,null,null,null,null,null,null,null,null,null,null,null,null,null,null,null,"RXMMAPLETON DAY HOSPITAL","RXM59","MAPLETON DAY HOSPITAL","RXM59","MAPLETON DAY HOSPITAL","RXM"]
[null,null,null,null,null,null,null,null,null,null,null,null,null,null,null,null,null,null,null,null,null,null,null,null,null,null,null,null,null,null,null,null,null,null,null,null,null,null,null,null,null,null,null,null,null,null,null,"RXMTHE NOOK","RXM06","THE NOOK","RXM06","THE NOOK","RXM"]
[null,null,null,null,null,null,null,null,null,null,null,null,null,null,null,null,null,null,null,null,null,null,null,null,null,null,null,null,null,null,null,null,null,null,null,null,null,null,null,null,null,null,null,null,null,null,null,"RXMWARD 32 THE PSYCHIATRIC UNIT","RXM68","WARD 32 THE PSYCHIATRIC UNIT","RXM68","WARD 32 THE PSYCHIATRIC UNIT","RXM"]
[null,null,null,null,null,null,null,null,null,null,null,null,null,null,null,null,null,null,null,null,null,null,null,null,null,null,null,null,null,null,null,null,null,null,null,null,null,null,null,null,null,null,null,null,null,null,null,"RXPBISHOP AUCKLAND HOSPITAL - RXPBA","RXPBA","BISHOP AUCKLAND HOSPITAL - RXPBA","RXPBA","BISHOP AUCKLAND HOSPITAL","RXP"]
[null,null,null,null,null,null,null,null,null,null,null,null,null,null,null,null,null,null,null,null,null,null,null,null,null,null,null,null,null,null,null,null,null,null,null,null,null,null,null,null,null,null,null,null,null,null,null,"RXPSOUTH MOOR HOSPITAL SITE - RXPCX","RXPCX","SOUTH MOOR HOSPITAL SITE - RXPCX","RXPCX","SOUTH MOOR HOSPITAL SITE","RXP"]
[null,null,null,null,null,null,null,null,null,null,null,null,null,null,null,null,null,null,null,null,null,null,null,null,null,null,null,null,null,null,null,null,null,null,null,null,null,null,null,null,null,null,null,null,null,null,null,"RXQNORTH END SURGERY","RXQ80","NORTH END SURGERY","RXQ80","NORTH END SURGERY","RXQ"]
[null,null,null,null,null,null,null,null,null,null,null,null,null,null,null,null,null,null,null,null,null,null,null,null,null,null,null,null,null,null,null,null,null,null,null,null,null,null,null,null,null,null,null,null,null,null,null,"RXQTHAME HOSPITAL","RXQ62","THAME HOSPITAL","RXQ62","THAME HOSPITAL","RXQ"]
[null,null,null,null,null,null,null,null,null,null,null,null,null,null,null,null,null,null,null,null,null,null,null,null,null,null,null,null,null,null,null,null,null,null,null,null,null,null,null,null,null,null,null,null,null,null,null,"RXTDAVID BROMLEY","RXT15","DAVID BROMLEY","RXT15","DAVID BROMLEY","RXT"]
[null,null,null,null,null,null,null,null,null,null,null,null,null,null,null,null,null,null,null,null,null,null,null,null,null,null,null,null,null,null,null,null,null,null,null,null,null,null,null,null,null,null,null,null,null,null,null,"RXTEDENDALE/HILLDALE","RXT17","EDENDALE/HILLDALE","RXT17","EDENDALE/HILLDALE","RXT"]
[null,null,null,null,null,null,null,null,null,null,null,null,null,null,null,null,null,null,null,null,null,null,null,null,null,null,null,null,null,null,null,null,null,null,null,null,null,null,null,null,null,null,null,null,null,null,null,"RXTHERTFORD HOUSE","RXT27","HERTFORD HOUSE","RXT27","HERTFORD HOUSE","RXT"]
[null,null,null,null,null,null,null,null,null,null,null,null,null,null,null,null,null,null,null,null,null,null,null,null,null,null,null,null,null,null,null,null,null,null,null,null,null,null,null,null,null,null,null,null,null,null,null,"RXTJUNIPER CENTRE","RXTD5","JUNIPER CENTRE","RXTD5","JUNIPER CENTRE","RXT"]
[null,null,null,null,null,null,null,null,null,null,null,null,null,null,null,null,null,null,null,null,null,null,null,null,null,null,null,null,null,null,null,null,null,null,null,null,null,null,null,null,null,null,null,null,null,null,null,"RXTMOTHER AND BABY UNIT","RXTVX","MOTHER AND BABY UNIT","RXTVX","MOTHER AND BABY UNIT","RXT"]
[null,null,null,null,null,null,null,null,null,null,null,null,null,null,null,null,null,null,null,null,null,null,null,null,null,null,null,null,null,null,null,null,null,null,null,null,null,null,null,null,null,null,null,null,null,null,null,"RXTNP SOUTH AOR AHAR","RXTWP","NP SOUTH AOR AHAR","RXTWP","NP SOUTH AOR AHAR","RXT"]
[null,null,null,null,null,null,null,null,null,null,null,null,null,null,null,null,null,null,null,null,null,null,null,null,null,null,null,null,null,null,null,null,null,null,null,null,null,null,null,null,null,null,null,null,null,null,null,"RXTSOHO HILL","RXT74","SOHO HILL","RXT74","SOHO HILL","RXT"]
[null,null,null,null,null,null,null,null,null,null,null,null,null,null,null,null,null,null,null,null,null,null,null,null,null,null,null,null,null,null,null,null,null,null,null,null,null,null,null,null,null,null,null,null,null,null,null,"RXTSPARKHILL OPS SPOA","RXTYD","SPARKHILL OPS SPOA","RXTYD","SPARKHILL OPS SPOA","RXT"]
[null,null,null,null,null,null,null,null,null,null,null,null,null,null,null,null,null,null,null,null,null,null,null,null,null,null,null,null,null,null,null,null,null,null,null,null,null,null,null,null,null,null,null,null,null,null,null,"RXVBRAMLEY STREET REHABILITATION UNIT","RXVA9","BRAMLEY STREET REHABILITATION UNIT","RXVA9","BRAMLEY STREET REHABILITATION UNIT","RXV"]
[null,null,null,null,null,null,null,null,null,null,null,null,null,null,null,null,null,null,null,null,null,null,null,null,null,null,null,null,null,null,null,null,null,null,null,null,null,null,null,null,null,null,null,null,null,null,null,"RXVDISCOVER, WESTGATE","RXVC8","DISCOVER, WESTGATE","RXVC8","DISCOVER, WESTGATE","RXV"]
[null,null,null,null,null,null,null,null,null,null,null,null,null,null,null,null,null,null,null,null,null,null,null,null,null,null,null,null,null,null,null,null,null,null,null,null,null,null,null,null,null,null,null,null,null,null,null,"RXVSDAS - ACTON SQUARE","RXV47","SDAS - ACTON SQUARE","RXV47","SDAS - ACTON SQUARE","RXV"]
[null,null,null,null,null,null,null,null,null,null,null,null,null,null,null,null,null,null,null,null,null,null,null,null,null,null,null,null,null,null,null,null,null,null,null,null,null,null,null,null,null,null,null,null,null,null,null,"RXWROBERT JONES & AGNES HUNT ORTHOPAEDIC & DISTRICT HOSPITAL","RXWMJ","ROBERT JONES & AGNES HUNT ORTHOPAEDIC & DISTRICT HOSPITAL","RXWMJ","ROBERT JONES & AGNES HUNT ORTHOPAEDIC & DISTRICT HOSPITAL","RXW"]
[null,null,null,null,null,null,null,null,null,null,null,null,null,null,null,null,null,null,null,null,null,null,null,null,null,null,null,null,null,null,null,null,null,null,null,null,null,null,null,null,null,null,null,null,null,null,null,"RXXBRIARWOOD","RXXCE","BRIARWOOD","RXXCE","BRIARWOOD","RXX"]
[null,null,null,null,null,null,null,null,null,null,null,null,null,null,null,null,null,null,null,null,null,null,null,null,null,null,null,null,null,null,null,null,null,null,null,null,null,null,null,null,null,null,null,null,null,null,null,"RXXCOMMUNITY FORENSIC","RXXHD","COMMUNITY FORENSIC","RXXHD","COMMUNITY FORENSIC","RXX"]
[null,null,null,null,null,null,null,null,null,null,null,null,null,null,null,null,null,null,null,null,null,null,null,null,null,null,null,null,null,null,null,null,null,null,null,null,null,null,null,null,null,null,null,null,null,null,null,"RXXFP10 - ARC II WARD","RXXA3","FP10 - ARC II WARD","RXXA3","FP10 - ARC II WARD","RXX"]
[null,null,null,null,null,null,null,null,null,null,null,null,null,null,null,null,null,null,null,null,null,null,null,null,null,null,null,null,null,null,null,null,null,null,null,null,null,null,null,null,null,null,null,null,null,null,null,"RXXGALLWEY","RXXFV","GALLWEY","RXXFV","GALLWEY","RXX"]
[null,null,null,null,null,null,null,null,null,null,null,null,null,null,null,null,null,null,null,null,null,null,null,null,null,null,null,null,null,null,null,null,null,null,null,null,null,null,null,null,null,null,null,null,null,null,null,"RXXHILLCROFT","RXX17","HILLCROFT","RXX17","HILLCROFT","RXX"]
[null,null,null,null,null,null,null,null,null,null,null,null,null,null,null,null,null,null,null,null,null,null,null,null,null,null,null,null,null,null,null,null,null,null,null,null,null,null,null,null,null,null,null,null,null,null,null,"RXXNURSE RXXV2","RXXV2","NURSE RXXV2","RXXV2","NURSE RXXV2","RXX"]
[null,null,null,null,null,null,null,null,null,null,null,null,null,null,null,null,null,null,null,null,null,null,null,null,null,null,null,null,null,null,null,null,null,null,null,null,null,null,null,null,null,null,null,null,null,null,null,"RXXSPENSER WARD","RXXW7","SPENSER WARD","RXXW7","SPENSER WARD","RXX"]
[null,null,null,null,null,null,null,null,null,null,null,null,null,null,null,null,null,null,null,null,null,null,null,null,null,null,null,null,null,null,null,null,null,null,null,null,null,null,null,null,null,null,null,null,null,null,null,"RXXTANDRIDGE CTPLD","RXX96","TANDRIDGE CTPLD","RXX96","TANDRIDGE CTPLD","RXX"]
[null,null,null,null,null,null,null,null,null,null,null,null,null,null,null,null,null,null,null,null,null,null,null,null,null,null,null,null,null,null,null,null,null,null,null,null,null,null,null,null,null,null,null,null,null,null,null,"RXYABBEY WOOD","RXY02","ABBEY WOOD","RXY02","ABBEY WOOD","RXY"]
[null,null,null,null,null,null,null,null,null,null,null,null,null,null,null,null,null,null,null,null,null,null,null,null,null,null,null,null,null,null,null,null,null,null,null,null,null,null,null,null,null,null,null,null,null,null,null,"RXYBRANBRIDGES INDUSTRIAL UNIT","RXYAX","BRANBRIDGES INDUSTRIAL UNIT","RXYAX","BRANBRIDGES INDUSTRIAL UNIT","RXY"]
[null,null,null,null,null,null,null,null,null,null,null,null,null,null,null,null,null,null,null,null,null,null,null,null,null,null,null,null,null,null,null,null,null,null,null,null,null,null,null,null,null,null,null,null,null,null,null,"RXYCOURT DRIVE","RXYCA","COURT DRIVE","RXYCA","COURT DRIVE","RXY"]
[null,null,null,null,null,null,null,null,null,null,null,null,null,null,null,null,null,null,null,null,null,null,null,null,null,null,null,null,null,null,null,null,null,null,null,null,null,null,null,null,null,null,null,null,null,null,null,"RXYELWICK ROAD CENTRE","RXYE3","ELWICK ROAD CENTRE","RXYE3","ELWICK ROAD CENTRE","RXY"]
[null,null,null,null,null,null,null,null,null,null,null,null,null,null,null,null,null,null,null,null,null,null,null,null,null,null,null,null,null,null,null,null,null,null,null,null,null,null,null,null,null,null,null,null,null,null,null,"RXYJASMINE CENTRE","RXYJ1","JASMINE CENTRE","RXYJ1","JASMINE CENTRE","RXY"]
[null,null,null,null,null,null,null,null,null,null,null,null,null,null,null,null,null,null,null,null,null,null,null,null,null,null,null,null,null,null,null,null,null,null,null,null,null,null,null,null,null,null,null,null,null,null,null,"RXYKENT & CANTERBURY HOSPITAL","RXY17","KENT & CANTERBURY HOSPITAL","RXY17","KENT & CANTERBURY HOSPITAL","RXY"]
[null,null,null,null,null,null,null,null,null,null,null,null,null,null,null,null,null,null,null,null,null,null,null,null,null,null,null,null,null,null,null,null,null,null,null,null,null,null,null,null,null,null,null,null,null,null,null,"RXYMILLER HOUSE","RXY1Y","MILLER HOUSE","RXY1Y","MILLER HOUSE","RXY"]
[null,null,null,null,null,null,null,null,null,null,null,null,null,null,null,null,null,null,null,null,null,null,null,null,null,null,null,null,null,null,null,null,null,null,null,null,null,null,null,null,null,null,null,null,null,null,null,"RXYMULBERRY DAY CENTRE","RXY1V","MULBERRY DAY CENTRE","RXY1V","MULBERRY DAY CENTRE","RXY"]
[null,null,null,null,null,null,null,null,null,null,null,null,null,null,null,null,null,null,null,null,null,null,null,null,null,null,null,null,null,null,null,null,null,null,null,null,null,null,null,null,null,null,null,null,null,null,null,"RXYOPMH DARTFORD NMP","RXY91","OPMH DARTFORD NMP","RXY91","OPMH DARTFORD NMP","RXY"]
[null,null,null,null,null,null,null,null,null,null,null,null,null,null,null,null,null,null,null,null,null,null,null,null,null,null,null,null,null,null,null,null,null,null,null,null,null,null,null,null,null,null,null,null,null,null,null,"RXYOPMH SWALE","RXY78","OPMH SWALE","RXY78","OPMH SWALE","RXY"]
[null,null,null,null,null,null,null,null,null,null,null,null,null,null,null,null,null,null,null,null,null,null,null,null,null,null,null,null,null,null,null,null,null,null,null,null,null,null,null,null,null,null,null,null,null,null,null,"RXYRIVENDELL","RXYR2","RIVENDELL","RXYR2","RIVENDELL","RXY"]
[null,null,null,null,null,null,null,null,null,null,null,null,null,null,null,null,null,null,null,null,null,null,null,null,null,null,null,null,null,null,null,null,null,null,null,null,null,null,null,null,null,null,null,null,null,null,null,"RXYSPA HOUSE","RXYRL","SPA HOUSE","RXYRL","SPA HOUSE","RXY"]
[null,null,null,null,null,null,null,null,null,null,null,null,null,null,null,null,null,null,null,null,null,null,null,null,null,null,null,null,null,null,null,null,null,null,null,null,null,null,null,null,null,null,null,null,null,null,null,"RXYTHE BEACON","RXYT2","THE BEACON","RXYT2","THE BEACON","RXY"]
[null,null,null,null,null,null,null,null,null,null,null,null,null,null,null,null,null,null,null,null,null,null,null,null,null,null,null,null,null,null,null,null,null,null,null,null,null,null,null,null,null,null,null,null,null,null,null,"RXYTHE HEALTH CLINIC","RXYT9","THE HEALTH CLINIC","RXYT9","THE HEALTH CLINIC","RXY"]
[null,null,null,null,null,null,null,null,null,null,null,null,null,null,null,null,null,null,null,null,null,null,null,null,null,null,null,null,null,null,null,null,null,null,null,null,null,null,null,null,null,null,null,null,null,null,null,"RXYWROTHAM ROAD","RXYW3","WROTHAM ROAD","RXYW3","WROTHAM ROAD","RXY"]
[null,null,null,null,null,null,null,null,null,null,null,null,null,null,null,null,null,null,null,null,null,null,null,null,null,null,null,null,null,null,null,null,null,null,null,null,null,null,null,null,null,null,null,null,null,null,null,"RY1LIVERPOOL COMMUNITY HEALTH NHS TRUST","RY101","LIVERPOOL COMMUNITY HEALTH NHS TRUST","RY101","LIVERPOOL COMMUNITY HEALTH NHS TRUST","RY1"]
[null,null,null,null,null,null,null,null,null,null,null,null,null,null,null,null,null,null,null,null,null,null,null,null,null,null,null,null,null,null,null,null,null,null,null,null,null,null,null,null,null,null,null,null,null,null,null,"RY1ROTUNDA DEMOGRAPHIC THERAPUTIC COMMUNITY","RY138","ROTUNDA DEMOGRAPHIC THERAPUTIC COMMUNITY","RY138","ROTUNDA DEMOGRAPHIC THERAPUTIC COMMUNITY","RY1"]
[null,null,null,null,null,null,null,null,null,null,null,null,null,null,null,null,null,null,null,null,null,null,null,null,null,null,null,null,null,null,null,null,null,null,null,null,null,null,null,null,null,null,null,null,null,null,null,"RY2CINNAMON BROW UNIT","RY2V3","CINNAMON BROW UNIT","RY2V3","CINNAMON BROW UNIT","RY2"]
[null,null,null,null,null,null,null,null,null,null,null,null,null,null,null,null,null,null,null,null,null,null,null,null,null,null,null,null,null,null,null,null,null,null,null,null,null,null,null,null,null,null,null,null,null,null,null,"RY2TAMESIDE GENERAL HOSPITAL","RY25X","TAMESIDE GENERAL HOSPITAL","RY25X","TAMESIDE GENERAL HOSPITAL","RY2"]
[null,null,null,null,null,null,null,null,null,null,null,null,null,null,null,null,null,null,null,null,null,null,null,null,null,null,null,null,null,null,null,null,null,null,null,null,null,null,null,null,null,null,null,null,null,null,null,"RY2WRIGHTINGTON HOSPITAL","RY2D7","WRIGHTINGTON HOSPITAL","RY2D7","WRIGHTINGTON HOSPITAL","RY2"]
[null,null,null,null,null,null,null,null,null,null,null,null,null,null,null,null,null,null,null,null,null,null,null,null,null,null,null,null,null,null,null,null,null,null,null,null,null,null,null,null,null,null,null,null,null,null,null,"RY3GAYWOOD FIRST STEPS NURSERY","RY35X","GAYWOOD FIRST STEPS NURSERY","RY35X","GAYWOOD FIRST STEPS NURSERY","RY3"]
[null,null,null,null,null,null,null,null,null,null,null,null,null,null,null,null,null,null,null,null,null,null,null,null,null,null,null,null,null,null,null,null,null,null,null,null,null,null,null,null,null,null,null,null,null,null,null,"RY3NHS VOLUNTARY NORFOLK","RY37A","NHS VOLUNTARY NORFOLK","RY37A","NHS VOLUNTARY NORFOLK","RY3"]
[null,null,null,null,null,null,null,null,null,null,null,null,null,null,null,null,null,null,null,null,null,null,null,null,null,null,null,null,null,null,null,null,null,null,null,null,null,null,null,null,null,null,null,null,null,null,null,"RY3WELLS COTTAGE HOSPITAL","RY333","WELLS COTTAGE HOSPITAL","RY333","WELLS COTTAGE HOSPITAL","RY3"]
[null,null,null,null,null,null,null,null,null,null,null,null,null,null,null,null,null,null,null,null,null,null,null,null,null,null,null,null,null,null,null,null,null,null,null,null,null,null,null,null,null,null,null,null,null,null,null,"RY3WOODLANDS","RY35J","WOODLANDS","RY35J","WOODLANDS","RY3"]
[null,null,null,null,null,null,null,null,null,null,null,null,null,null,null,null,null,null,null,null,null,null,null,null,null,null,null,null,null,null,null,null,null,null,null,null,null,null,null,null,null,null,null,null,null,null,null,"RY4HOLYWELL","RY410","HOLYWELL","RY410","HOLYWELL","RY4"]
[null,null,null,null,null,null,null,null,null,null,null,null,null,null,null,null,null,null,null,null,null,null,null,null,null,null,null,null,null,null,null,null,null,null,null,null,null,null,null,null,null,null,null,null,null,null,null,"RY4QE2","RY480","QE2","RY480","QE2","RY4"]
[null,null,null,null,null,null,null,null,null,null,null,null,null,null,null,null,null,null,null,null,null,null,null,null,null,null,null,null,null,null,null,null,null,null,null,null,null,null,null,null,null,null,null,null,null,null,null,"RY6BECKETTS PARK","RY603","BECKETTS PARK","RY603","BECKETTS PARK","RY6"]
[null,null,null,null,null,null,null,null,null,null,null,null,null,null,null,null,null,null,null,null,null,null,null,null,null,null,null,null,null,null,null,null,null,null,null,null,null,null,null,null,null,null,null,null,null,null,null,"RY6CHAPEL ALLERTON HOSPITAL (MUSCULOSKELETAL)","RY609","CHAPEL ALLERTON HOSPITAL (MUSCULOSKELETAL)","RY609","CHAPEL ALLERTON HOSPITAL (MUSCULOSKELETAL)","RY6"]
[null,null,null,null,null,null,null,null,null,null,null,null,null,null,null,null,null,null,null,null,null,null,null,null,null,null,null,null,null,null,null,null,null,null,null,null,null,null,null,null,null,null,null,null,null,null,null,"RY6GUISELEY CLINIC","RY620","GUISELEY CLINIC","RY620","GUISELEY CLINIC","RY6"]
[null,null,null,null,null,null,null,null,null,null,null,null,null,null,null,null,null,null,null,null,null,null,null,null,null,null,null,null,null,null,null,null,null,null,null,null,null,null,null,null,null,null,null,null,null,null,null,"RY6HAREHILLS CHILDRENS CENTRE","RY623","HAREHILLS CHILDRENS CENTRE","RY623","HAREHILLS CHILDRENS CENTRE","RY6"]
[null,null,null,null,null,null,null,null,null,null,null,null,null,null,null,null,null,null,null,null,null,null,null,null,null,null,null,null,null,null,null,null,null,null,null,null,null,null,null,null,null,null,null,null,null,null,null,"RY6LEEDS CITY COLLEGE - THOMAS DANBY CAMPUS","RY681","LEEDS CITY COLLEGE - THOMAS DANBY CAMPUS","RY681","LEEDS CITY COLLEGE - THOMAS DANBY CAMPUS","RY6"]
[null,null,null,null,null,null,null,null,null,null,null,null,null,null,null,null,null,null,null,null,null,null,null,null,null,null,null,null,null,null,null,null,null,null,null,null,null,null,null,null,null,null,null,null,null,null,null,"RY6LITTLE WOODHOUSE HALL","RY632","LITTLE WOODHOUSE HALL","RY632","LITTLE WOODHOUSE HALL","RY6"]
[null,null,null,null,null,null,null,null,null,null,null,null,null,null,null,null,null,null,null,null,null,null,null,null,null,null,null,null,null,null,null,null,null,null,null,null,null,null,null,null,null,null,null,null,null,null,null,"RY6OFFENDER HEALTHCARE - LEEDS","RY690","OFFENDER HEALTHCARE - LEEDS","RY690","OFFENDER HEALTHCARE - LEEDS","RY6"]
[null,null,null,null,null,null,null,null,null,null,null,null,null,null,null,null,null,null,null,null,null,null,null,null,null,null,null,null,null,null,null,null,null,null,null,null,null,null,null,null,null,null,null,null,null,null,null,"RY6RICHMOND HOUSE","RY643","RICHMOND HOUSE","RY643","RICHMOND HOUSE","RY6"]
[null,null,null,null,null,null,null,null,null,null,null,null,null,null,null,null,null,null,null,null,null,null,null,null,null,null,null,null,null,null,null,null,null,null,null,null,null,null,null,null,null,null,null,null,null,null,null,"RY6STREET LANE PRACTICE","RY688","STREET LANE PRACTICE","RY688","STREET LANE PRACTICE","RY6"]
[null,null,null,null,null,null,null,null,null,null,null,null,null,null,null,null,null,null,null,null,null,null,null,null,null,null,null,null,null,null,null,null,null,null,null,null,null,null,null,null,null,null,null,null,null,null,null,"RY6WETHERBY HEALTH CENTRE","RY656","WETHERBY HEALTH CENTRE","RY656","WETHERBY HEALTH CENTRE","RY6"]
[null,null,null,null,null,null,null,null,null,null,null,null,null,null,null,null,null,null,null,null,null,null,null,null,null,null,null,null,null,null,null,null,null,null,null,null,null,null,null,null,null,null,null,null,null,null,null,"RY8ASHBY & DISTRICT HOSPITAL","RY8DL","ASHBY & DISTRICT HOSPITAL","RY8DL","ASHBY & DISTRICT HOSPITAL","RY8"]
[null,null,null,null,null,null,null,null,null,null,null,null,null,null,null,null,null,null,null,null,null,null,null,null,null,null,null,null,null,null,null,null,null,null,null,null,null,null,null,null,null,null,null,null,null,null,null,"RY8CARDIOLOGY - LONG EATON","RY8HK","CARDIOLOGY - LONG EATON","RY8HK","CARDIOLOGY - LONG EATON","RY8"]
[null,null,null,null,null,null,null,null,null,null,null,null,null,null,null,null,null,null,null,null,null,null,null,null,null,null,null,null,null,null,null,null,null,null,null,null,null,null,null,null,null,null,null,null,null,null,null,"RY8FEILDING PALMER COTTAGE HOSPITAL","RY8CP","FEILDING PALMER COTTAGE HOSPITAL","RY8CP","FEILDING PALMER COTTAGE HOSPITAL","RY8"]
[null,null,null,null,null,null,null,null,null,null,null,null,null,null,null,null,null,null,null,null,null,null,null,null,null,null,null,null,null,null,null,null,null,null,null,null,null,null,null,null,null,null,null,null,null,null,null,"RY8GASTROENTEROLOGY - ILKESTON","RY8FD","GASTROENTEROLOGY - ILKESTON","RY8FD","GASTROENTEROLOGY - ILKESTON","RY8"]
[null,null,null,null,null,null,null,null,null,null,null,null,null,null,null,null,null,null,null,null,null,null,null,null,null,null,null,null,null,null,null,null,null,null,null,null,null,null,null,null,null,null,null,null,null,null,null,"RY8GERIATRIC MEDICINE - BABINGTON","RY8EA","GERIATRIC MEDICINE - BABINGTON","RY8EA","GERIATRIC MEDICINE - BABINGTON","RY8"]
[null,null,null,null,null,null,null,null,null,null,null,null,null,null,null,null,null,null,null,null,null,null,null,null,null,null,null,null,null,null,null,null,null,null,null,null,null,null,null,null,null,null,null,null,null,null,null,"RY8HINCKLEY AND DISTRICT HOSPITAL","RY8DK","HINCKLEY AND DISTRICT HOSPITAL","RY8DK","HINCKLEY AND DISTRICT HOSPITAL","RY8"]
[null,null,null,null,null,null,null,null,null,null,null,null,null,null,null,null,null,null,null,null,null,null,null,null,null,null,null,null,null,null,null,null,null,null,null,null,null,null,null,null,null,null,null,null,null,null,null,"RY8OPHTHALMOLOGY - ILKESTON","RY8FH","OPHTHALMOLOGY - ILKESTON","RY8FH","OPHTHALMOLOGY - ILKESTON","RY8"]
[null,null,null,null,null,null,null,null,null,null,null,null,null,null,null,null,null,null,null,null,null,null,null,null,null,null,null,null,null,null,null,null,null,null,null,null,null,null,null,null,null,null,null,null,null,null,null,"RY8PAEDIATRICS - RIPLEY","RY8EL","PAEDIATRICS - RIPLEY","RY8EL","PAEDIATRICS - RIPLEY","RY8"]
[null,null,null,null,null,null,null,null,null,null,null,null,null,null,null,null,null,null,null,null,null,null,null,null,null,null,null,null,null,null,null,null,null,null,null,null,null,null,null,null,null,null,null,null,null,null,null,"RY8ROCKLEY HOUSE","RY8AN","ROCKLEY HOUSE","RY8AN","ROCKLEY HOUSE","RY8"]
[null,null,null,null,null,null,null,null,null,null,null,null,null,null,null,null,null,null,null,null,null,null,null,null,null,null,null,null,null,null,null,null,null,null,null,null,null,null,null,null,null,null,null,null,null,null,null,"RY8ST LUKE'S HOSPITAL","RY8CY","ST LUKE'S HOSPITAL","RY8CY","ST LUKE'S HOSPITAL","RY8"]
[null,null,null,null,null,null,null,null,null,null,null,null,null,null,null,null,null,null,null,null,null,null,null,null,null,null,null,null,null,null,null,null,null,null,null,null,null,null,null,null,null,null,null,null,null,null,null,{"$f":"CONCATENATE(LEFT(AW4791, 3),AX4791)","v":"RY9RICHMOND ROYAL HOSPITAL"},"RY907","RICHMOND ROYAL HOSPITAL","RY907","RICHMOND ROYAL HOSPITAL",{"$f":"LEFT(AY4791,3)","v":"RY9"}]
[null,null,null,null,null,null,null,null,null,null,null,null,null,null,null,null,null,null,null,null,null,null,null,null,null,null,null,null,null,null,null,null,null,null,null,null,null,null,null,null,null,null,null,null,null,null,null,"RYGABBEY VIEW","RYGFD","ABBEY VIEW","RYGFD","ABBEY VIEW","RYG"]
[null,null,null,null,null,null,null,null,null,null,null,null,null,null,null,null,null,null,null,null,null,null,null,null,null,null,null,null,null,null,null,null,null,null,null,null,null,null,null,null,null,null,null,null,null,null,null,"RYGGULSON HOSPITAL","RYG60","GULSON HOSPITAL","RYG60","GULSON HOSPITAL","RYG"]
[null,null,null,null,null,null,null,null,null,null,null,null,null,null,null,null,null,null,null,null,null,null,null,null,null,null,null,null,null,null,null,null,null,null,null,null,null,null,null,null,null,null,null,null,null,null,null,"RYGTHE LOFT","RYG42","THE LOFT","RYG42","THE LOFT","RYG"]
[null,null,null,null,null,null,null,null,null,null,null,null,null,null,null,null,null,null,null,null,null,null,null,null,null,null,null,null,null,null,null,null,null,null,null,null,null,null,null,null,null,null,null,null,null,null,null,"RYJQUEEN CHARLOTTE'S HOSPITAL - RYJ04","RYJ04","QUEEN CHARLOTTE'S HOSPITAL - RYJ04","RYJ04","QUEEN CHARLOTTE'S HOSPITAL","RYJ"]
[null,null,null,null,null,null,null,null,null,null,null,null,null,null,null,null,null,null,null,null,null,null,null,null,null,null,null,null,null,null,null,null,null,null,null,null,null,null,null,null,null,null,null,null,null,null,null,"RYKBLOXWICH HOSPITAL 3","RYKA3","BLOXWICH HOSPITAL 3","RYKA3","BLOXWICH HOSPITAL 3","RYK"]
[null,null,null,null,null,null,null,null,null,null,null,null,null,null,null,null,null,null,null,null,null,null,null,null,null,null,null,null,null,null,null,null,null,null,null,null,null,null,null,null,null,null,null,null,null,null,null,"RYKBUSHEY FIELDS HOSPITAL 3","RYKC9","BUSHEY FIELDS HOSPITAL 3","RYKC9","BUSHEY FIELDS HOSPITAL 3","RYK"]
[null,null,null,null,null,null,null,null,null,null,null,null,null,null,null,null,null,null,null,null,null,null,null,null,null,null,null,null,null,null,null,null,null,null,null,null,null,null,null,null,null,null,null,null,null,null,null,"RYKCANALSIDE 1","RYKA8","CANALSIDE 1","RYKA8","CANALSIDE 1","RYK"]
[null,null,null,null,null,null,null,null,null,null,null,null,null,null,null,null,null,null,null,null,null,null,null,null,null,null,null,null,null,null,null,null,null,null,null,null,null,null,null,null,null,null,null,null,null,null,null,"RYKROSE COTTAGE","RYK47","ROSE COTTAGE","RYK47","ROSE COTTAGE","RYK"]
[null,null,null,null,null,null,null,null,null,null,null,null,null,null,null,null,null,null,null,null,null,null,null,null,null,null,null,null,null,null,null,null,null,null,null,null,null,null,null,null,null,null,null,null,null,null,null,"RYQQUEEN ELIZABETH HOSPITAL WOOLWICH - RYQ50","RYQ50","QUEEN ELIZABETH HOSPITAL WOOLWICH - RYQ50","RYQ50","QUEEN ELIZABETH HOSPITAL WOOLWICH","RYQ"]
[null,null,null,null,null,null,null,null,null,null,null,null,null,null,null,null,null,null,null,null,null,null,null,null,null,null,null,null,null,null,null,null,null,null,null,null,null,null,null,null,null,null,null,null,null,null,null,"RYQSLH @ SEVENOAKS HOSPITAL - RYQ40","RYQ40","SLH @ SEVENOAKS HOSPITAL - RYQ40","RYQ40","SLH @ SEVENOAKS HOSPITAL","RYQ"]
[null,null,null,null,null,null,null,null,null,null,null,null,null,null,null,null,null,null,null,null,null,null,null,null,null,null,null,null,null,null,null,null,null,null,null,null,null,null,null,null,null,null,null,null,null,null,null,"RYVIPSWICH HOSPITAL - CASH","RYV19","IPSWICH HOSPITAL - CASH","RYV19","IPSWICH HOSPITAL - CASH","RYV"]
[null,null,null,null,null,null,null,null,null,null,null,null,null,null,null,null,null,null,null,null,null,null,null,null,null,null,null,null,null,null,null,null,null,null,null,null,null,null,null,null,null,null,null,null,null,null,null,"RYVWEST SUFFOLK HOSPITAL - CASH","RYV20","WEST SUFFOLK HOSPITAL - CASH","RYV20","WEST SUFFOLK HOSPITAL - CASH","RYV"]
[null,null,null,null,null,null,null,null,null,null,null,null,null,null,null,null,null,null,null,null,null,null,null,null,null,null,null,null,null,null,null,null,null,null,null,null,null,null,null,null,null,null,null,null,null,null,null,"RYWDAME ELLEN PINSENT","RYWN4","DAME ELLEN PINSENT","RYWN4","DAME ELLEN PINSENT","RYW"]
[null,null,null,null,null,null,null,null,null,null,null,null,null,null,null,null,null,null,null,null,null,null,null,null,null,null,null,null,null,null,null,null,null,null,null,null,null,null,null,null,null,null,null,null,null,null,null,"RYWSUTTON COTTAGE HOSPITAL","RYW20","SUTTON COTTAGE HOSPITAL","RYW20","SUTTON COTTAGE HOSPITAL","RYW"]
[null,null,null,null,null,null,null,null,null,null,null,null,null,null,null,null,null,null,null,null,null,null,null,null,null,null,null,null,null,null,null,null,null,null,null,null,null,null,null,null,null,null,null,null,null,null,null,"RYXHEALTH AT THE STOWE","RYX10","HEALTH AT THE STOWE","RYX10","HEALTH AT THE STOWE","RYX"]
[null,null,null,null,null,null,null,null,null,null,null,null,null,null,null,null,null,null,null,null,null,null,null,null,null,null,null,null,null,null,null,null,null,null,null,null,null,null,null,null,null,null,null,null,null,null,null,"RYYFAMILY PLANNING","RYYL8","FAMILY PLANNING","RYYL8","FAMILY PLANNING","RYY"]
[null,null,null,null,null,null,null,null,null,null,null,null,null,null,null,null,null,null,null,null,null,null,null,null,null,null,null,null,null,null,null,null,null,null,null,null,null,null,null,null,null,null,null,null,null,null,null,"RYYFRIENDS WARD","RYYM5","FRIENDS WARD","RYYM5","FRIENDS WARD","RYY"]
[null,null,null,null,null,null,null,null,null,null,null,null,null,null,null,null,null,null,null,null,null,null,null,null,null,null,null,null,null,null,null,null,null,null,null,null,null,null,null,null,null,null,null,null,null,null,null,"RYYHIGHPOINT UNIT 3","RYY04","HIGHPOINT UNIT 3","RYY04","HIGHPOINT UNIT 3","RYY"]
[null,null,null,null,null,null,null,null,null,null,null,null,null,null,null,null,null,null,null,null,null,null,null,null,null,null,null,null,null,null,null,null,null,null,null,null,null,null,null,null,null,null,null,null,null,null,null,"RYYSEVENOAKS HOSPITAL","RYYD9","SEVENOAKS HOSPITAL","RYYD9","SEVENOAKS HOSPITAL","RYY"]
[null,null,null,null,null,null,null,null,null,null,null,null,null,null,null,null,null,null,null,null,null,null,null,null,null,null,null,null,null,null,null,null,null,null,null,null,null,null,null,null,null,null,null,null,null,null,null,"RYYTHE OAKS","RYYDL","THE OAKS","RYYDL","THE OAKS","RYY"]
[null,null,null,null,null,null,null,null,null,null,null,null,null,null,null,null,null,null,null,null,null,null,null,null,null,null,null,null,null,null,null,null,null,null,null,null,null,null,null,null,null,null,null,null,null,null,null,"TADAIREDALE CENTRE FOR MENTAL HEALTH","TAD16","AIREDALE CENTRE FOR MENTAL HEALTH","TAD16","AIREDALE CENTRE FOR MENTAL HEALTH","TAD"]
[null,null,null,null,null,null,null,null,null,null,null,null,null,null,null,null,null,null,null,null,null,null,null,null,null,null,null,null,null,null,null,null,null,null,null,null,null,null,null,null,null,null,null,null,null,null,null,"TADPARK VIEW","TAD27","PARK VIEW","TAD27","PARK VIEW","TAD"]
[null,null,null,null,null,null,null,null,null,null,null,null,null,null,null,null,null,null,null,null,null,null,null,null,null,null,null,null,null,null,null,null,null,null,null,null,null,null,null,null,null,null,null,null,null,null,null,"TAFBELSIZE SQUARE","TAF17","BELSIZE SQUARE","TAF17","BELSIZE SQUARE","TAF"]
[null,null,null,null,null,null,null,null,null,null,null,null,null,null,null,null,null,null,null,null,null,null,null,null,null,null,null,null,null,null,null,null,null,null,null,null,null,null,null,null,null,null,null,null,null,null,null,"TAFDRAYTON PARK WOMENS SERVICE","TAF04","DRAYTON PARK WOMENS SERVICE","TAF04","DRAYTON PARK WOMENS SERVICE","TAF"]
[null,null,null,null,null,null,null,null,null,null,null,null,null,null,null,null,null,null,null,null,null,null,null,null,null,null,null,null,null,null,null,null,null,null,null,null,null,null,null,null,null,null,null,null,null,null,null,"TAFFOCUS TEAM","TAF35","FOCUS TEAM","TAF35","FOCUS TEAM","TAF"]
[null,null,null,null,null,null,null,null,null,null,null,null,null,null,null,null,null,null,null,null,null,null,null,null,null,null,null,null,null,null,null,null,null,null,null,null,null,null,null,null,null,null,null,null,null,null,null,"TAFHIGHVIEW & CORNWALLIS COMMUNITY SUPPORT PROJECTS","TAF41","HIGHVIEW & CORNWALLIS COMMUNITY SUPPORT PROJECTS","TAF41","HIGHVIEW & CORNWALLIS COMMUNITY SUPPORT PROJECTS","TAF"]
[null,null,null,null,null,null,null,null,null,null,null,null,null,null,null,null,null,null,null,null,null,null,null,null,null,null,null,null,null,null,null,null,null,null,null,null,null,null,null,null,null,null,null,null,null,null,null,"TAFR&R TEAM (NORTH CAMDEN)","TAF42","R&R TEAM (NORTH CAMDEN)","TAF42","R&R TEAM (NORTH CAMDEN)","TAF"]
[null,null,null,null,null,null,null,null,null,null,null,null,null,null,null,null,null,null,null,null,null,null,null,null,null,null,null,null,null,null,null,null,null,null,null,null,null,null,null,null,null,null,null,null,null,null,null,"TAFR&R TEAM (SOUTH ISLINGTON)","TAF22","R&R TEAM (SOUTH ISLINGTON)","TAF22","R&R TEAM (SOUTH ISLINGTON)","TAF"]
[null,null,null,null,null,null,null,null,null,null,null,null,null,null,null,null,null,null,null,null,null,null,null,null,null,null,null,null,null,null,null,null,null,null,null,null,null,null,null,null,null,null,null,null,null,null,null,"TAFTRAUMATIC STRESS CLINIC","TAF67","TRAUMATIC STRESS CLINIC","TAF67","TRAUMATIC STRESS CLINIC","TAF"]
[null,null,null,null,null,null,null,null,null,null,null,null,null,null,null,null,null,null,null,null,null,null,null,null,null,null,null,null,null,null,null,null,null,null,null,null,null,null,null,null,null,null,null,null,null,null,null,"TAHGREENACRES","TAH43","GREENACRES","TAH43","GREENACRES","TAH"]
[null,null,null,null,null,null,null,null,null,null,null,null,null,null,null,null,null,null,null,null,null,null,null,null,null,null,null,null,null,null,null,null,null,null,null,null,null,null,null,null,null,null,null,null,null,null,null,"TAHNORTHERN GENERAL HOSPITAL","TAH67","NORTHERN GENERAL HOSPITAL","TAH67","NORTHERN GENERAL HOSPITAL","TAH"]
[null,null,null,null,null,null,null,null,null,null,null,null,null,null,null,null,null,null,null,null,null,null,null,null,null,null,null,null,null,null,null,null,null,null,null,null,null,null,null,null,null,null,null,null,null,null,null,"TAHTHORNLEA","TAH85","THORNLEA","TAH85","THORNLEA","TAH"]
[null,null,null,null,null,null,null,null,null,null,null,null,null,null,null,null,null,null,null,null,null,null,null,null,null,null,null,null,null,null,null,null,null,null,null,null,null,null,null,null,null,null,null,null,null,null,null,"TAJDAISY BANK RESIDENTIAL","TAJ55","DAISY BANK RESIDENTIAL","TAJ55","DAISY BANK RESIDENTIAL","TAJ"]
[null,null,null,null,null,null,null,null,null,null,null,null,null,null,null,null,null,null,null,null,null,null,null,null,null,null,null,null,null,null,null,null,null,null,null,null,null,null,null,null,null,null,null,null,null,null,null,"TAJEDWARD STREET HOSPITAL","TAJ07","EDWARD STREET HOSPITAL","TAJ07","EDWARD STREET HOSPITAL","TAJ"]
[null,null,null,null,null,null,null,null,null,null,null,null,null,null,null,null,null,null,null,null,null,null,null,null,null,null,null,null,null,null,null,null,null,null,null,null,null,null,null,null,null,null,null,null,null,null,null,"TAJHALLAM STREET HOSPITAL","TAJ20","HALLAM STREET HOSPITAL","TAJ20","HALLAM STREET HOSPITAL","TAJ"]
[null,null,null,null,null,null,null,null,null,null,null,null,null,null,null,null,null,null,null,null,null,null,null,null,null,null,null,null,null,null,null,null,null,null,null,null,null,null,null,null,null,null,null,null,null,null,null,"TAJHEATH LANE HOSPITAL","TAJ11","HEATH LANE HOSPITAL","TAJ11","HEATH LANE HOSPITAL","TAJ"]
[null,null,null,null,null,null,null,null,null,null,null,null,null,null,null,null,null,null,null,null,null,null,null,null,null,null,null,null,null,null,null,null,null,null,null,null,null,null,null,null,null,null,null,null,null,null,null,"TAJNEPTUNE HEALTH PARK","TAJ22","NEPTUNE HEALTH PARK","TAJ22","NEPTUNE HEALTH PARK","TAJ"]
[null,null,null,null,null,null,null,null,null,null,null,null,null,null,null,null,null,null,null,null,null,null,null,null,null,null,null,null,null,null,null,null,null,null,null,null,null,null,null,null,null,null,null,null,null,null,null,"TAJPENN HOSPITAL","TAJ52","PENN HOSPITAL","TAJ52","PENN HOSPITAL","TAJ"]
[null,null,null,null,null,null,null,null,null,null,null,null,null,null,null,null,null,null,null,null,null,null,null,null,null,null,null,null,null,null,null,null,null,null,null,null,null,null,null,null,null,null,null,null,null,null,null,"TAJPOND LANE","TAJ53","POND LANE","TAJ53","POND LANE","TAJ"]
[null,null,null,null,null,null,null,null,null,null,null,null,null,null,null,null,null,null,null,null,null,null,null,null,null,null,null,null,null,null,null,null,null,null,null,null,null,null,null,null,null,null,null,null,null,null,null,"TAJRIDGE HILL HOSPITAL","TAJ54","RIDGE HILL HOSPITAL","TAJ54","RIDGE HILL HOSPITAL","TAJ"]
[null,null,null,null,null,null,null,null,null,null,null,null,null,null,null,null,null,null,null,null,null,null,null,null,null,null,null,null,null,null,null,null,null,null,null,null,null,null,null,null,null,null,null,null,null,null,null,"TAJROWLEY REGIS HOSPITAL","TAJ10","ROWLEY REGIS HOSPITAL","TAJ10","ROWLEY REGIS HOSPITAL","TAJ"]
[null,null,null,null,null,null,null,null,null,null,null,null,null,null,null,null,null,null,null,null,null,null,null,null,null,null,null,null,null,null,null,null,null,null,null,null,null,null,null,null,null,null,null,null,null,null,null,"TAJSANDWELL DISTRICT GENERAL HOSPITAL","TAJ43","SANDWELL DISTRICT GENERAL HOSPITAL","TAJ43","SANDWELL DISTRICT GENERAL HOSPITAL","TAJ"]
[null,null,null,null,null,null,null,null,null,null,null,null,null,null,null,null,null,null,null,null,null,null,null,null,null,null,null,null,null,null,null,null,null,null,null,null,null,null,null,null,null,null,null,null,null,null,null,"TAJSUTTONS DRIVE","TAJ56","SUTTONS DRIVE","TAJ56","SUTTONS DRIVE","TAJ"]
[null,null,null,null,null,null,null,null,null,null,null,null,null,null,null,null,null,null,null,null,null,null,null,null,null,null,null,null,null,null,null,null,null,null,null,null,null,null,null,null,null,null,null,null,null,null,null,{"$f":"CONCATENATE(LEFT(AW5097, 3),AX5097)","v":"TAJTHE CREST"},"TAJ29","THE CREST","TAJ29","THE CREST","TAJ"]
[null,null,null,null,null,null,null,null,null,null,null,null,null,null,null,null,null,null,null,null,null,null,null,null,null,null,null,null,null,null,null,null,null,null,null,null,null,null,null,null,null,null,null,null,null,null,null,{"$f":"CONCATENATE(LEFT(AW5098, 3),AX5098)","v":""},null,null,null,null,{"$f":"LEFT(AY5098,3)","v":""}]
[null,null,null,null,null,null,null,null,null,null,null,null,null,null,null,null,null,null,null,null,null,null,null,null,null,null,null,null,null,null,null,null,null,null,null,null,null,null,null,null,null,null,null,null,null,null,null,{"$f":"CONCATENATE(LEFT(AW5099, 3),AX5099)","v":""},null,null,null,null,""]
[null,null,null,null,null,null,null,null,null,null,null,null,null,null,null,null,null,null,null,null,null,null,null,null,null,null,null,null,null,null,null,null,null,null,null,null,null,null,null,null,null,null,null,null,null,null,null,"",null,null,null,null,""]
[null,null,null,null,null,null,null,null,null,null,null,null,null,null,null,null,null,null,null,null,null,null,null,null,null,null,null,null,null,null,null,null,null,null,null,null,null,null,null,null,null,null,null,null,null,null,null,"",null,null,null,null,""]
[null,null,null,null,null,null,null,null,null,null,null,null,null,null,null,null,null,null,null,null,null,null,null,null,null,null,null,null,null,null,null,null,null,null,null,null,null,null,null,null,null,null,null,null,null,null,null,"",null,null,null,null,""]
[null,null,null,null,null,null,null,null,null,null,null,null,null,null,null,null,null,null,null,null,null,null,null,null,null,null,null,null,null,null,null,null,null,null,null,null,null,null,null,null,null,null,null,null,null,null,null,"",null,null,null,null,""]
[null,null,null,null,null,null,null,null,null,null,null,null,null,null,null,null,null,null,null,null,null,null,null,null,null,null,null,null,null,null,null,null,null,null,null,null,null,null,null,null,null,null,null,null,null,null,null,"",null,null,null,null,""]
[null,null,null,null,null,null,null,null,null,null,null,null,null,null,null,null,null,null,null,null,null,null,null,null,null,null,null,null,null,null,null,null,null,null,null,null,null,null,null,null,null,null,null,null,null,null,null,"",null,null,null,null,""]
[null,null,null,null,null,null,null,null,null,null,null,null,null,null,null,null,null,null,null,null,null,null,null,null,null,null,null,null,null,null,null,null,null,null,null,null,null,null,null,null,null,null,null,null,null,null,null,"",null,null,null,null,""]
[null,null,null,null,null,null,null,null,null,null,null,null,null,null,null,null,null,null,null,null,null,null,null,null,null,null,null,null,null,null,null,null,null,null,null,null,null,null,null,null,null,null,null,null,null,null,null,"",null,null,null,null,""]
[null,null,null,null,null,null,null,null,null,null,null,null,null,null,null,null,null,null,null,null,null,null,null,null,null,null,null,null,null,null,null,null,null,null,null,null,null,null,null,null,null,null,null,null,null,null,null,"",null,null,null,null,""]
[null,null,null,null,null,null,null,null,null,null,null,null,null,null,null,null,null,null,null,null,null,null,null,null,null,null,null,null,null,null,null,null,null,null,null,null,null,null,null,null,null,null,null,null,null,null,null,"",null,null,null,null,""]
[null,null,null,null,null,null,null,null,null,null,null,null,null,null,null,null,null,null,null,null,null,null,null,null,null,null,null,null,null,null,null,null,null,null,null,null,null,null,null,null,null,null,null,null,null,null,null,"",null,null,null,null,""]
[null,null,null,null,null,null,null,null,null,null,null,null,null,null,null,null,null,null,null,null,null,null,null,null,null,null,null,null,null,null,null,null,null,null,null,null,null,null,null,null,null,null,null,null,null,null,null,"",null,null,null,null,""]
[null,null,null,null,null,null,null,null,null,null,null,null,null,null,null,null,null,null,null,null,null,null,null,null,null,null,null,null,null,null,null,null,null,null,null,null,null,null,null,null,null,null,null,null,null,null,null,"",null,null,null,null,""]
[null,null,null,null,null,null,null,null,null,null,null,null,null,null,null,null,null,null,null,null,null,null,null,null,null,null,null,null,null,null,null,null,null,null,null,null,null,null,null,null,null,null,null,null,null,null,null,"",null,null,null,null,""]
[null,null,null,null,null,null,null,null,null,null,null,null,null,null,null,null,null,null,null,null,null,null,null,null,null,null,null,null,null,null,null,null,null,null,null,null,null,null,null,null,null,null,null,null,null,null,null,"",null,null,null,null,""]
[null,null,null,null,null,null,null,null,null,null,null,null,null,null,null,null,null,null,null,null,null,null,null,null,null,null,null,null,null,null,null,null,null,null,null,null,null,null,null,null,null,null,null,null,null,null,null,"",null,null,null,null,""]
[null,null,null,null,null,null,null,null,null,null,null,null,null,null,null,null,null,null,null,null,null,null,null,null,null,null,null,null,null,null,null,null,null,null,null,null,null,null,null,null,null,null,null,null,null,null,null,"",null,null,null,null,""]
[null,null,null,null,null,null,null,null,null,null,null,null,null,null,null,null,null,null,null,null,null,null,null,null,null,null,null,null,null,null,null,null,null,null,null,null,null,null,null,null,null,null,null,null,null,null,null,"",null,null,null,null,""]
[null,null,null,null,null,null,null,null,null,null,null,null,null,null,null,null,null,null,null,null,null,null,null,null,null,null,null,null,null,null,null,null,null,null,null,null,null,null,null,null,null,null,null,null,null,null,null,"",null,null,null,null,""]
[null,null,null,null,null,null,null,null,null,null,null,null,null,null,null,null,null,null,null,null,null,null,null,null,null,null,null,null,null,null,null,null,null,null,null,null,null,null,null,null,null,null,null,null,null,null,null,"",null,null,null,null,""]
[null,null,null,null,null,null,null,null,null,null,null,null,null,null,null,null,null,null,null,null,null,null,null,null,null,null,null,null,null,null,null,null,null,null,null,null,null,null,null,null,null,null,null,null,null,null,null,"",null,null,null,null,""]
[null,null,null,null,null,null,null,null,null,null,null,null,null,null,null,null,null,null,null,null,null,null,null,null,null,null,null,null,null,null,null,null,null,null,null,null,null,null,null,null,null,null,null,null,null,null,null,"",null,null,null,null,""]
[null,null,null,null,null,null,null,null,null,null,null,null,null,null,null,null,null,null,null,null,null,null,null,null,null,null,null,null,null,null,null,null,null,null,null,null,null,null,null,null,null,null,null,null,null,null,null,"",null,null,null,null,""]
[null,null,null,null,null,null,null,null,null,null,null,null,null,null,null,null,null,null,null,null,null,null,null,null,null,null,null,null,null,null,null,null,null,null,null,null,null,null,null,null,null,null,null,null,null,null,null,"",null,null,null,null,""]
[null,null,null,null,null,null,null,null,null,null,null,null,null,null,null,null,null,null,null,null,null,null,null,null,null,null,null,null,null,null,null,null,null,null,null,null,null,null,null,null,null,null,null,null,null,null,null,"",null,null,null,null,""]
[null,null,null,null,null,null,null,null,null,null,null,null,null,null,null,null,null,null,null,null,null,null,null,null,null,null,null,null,null,null,null,null,null,null,null,null,null,null,null,null,null,null,null,null,null,null,null,"",null,null,null,null,""]
[null,null,null,null,null,null,null,null,null,null,null,null,null,null,null,null,null,null,null,null,null,null,null,null,null,null,null,null,null,null,null,null,null,null,null,null,null,null,null,null,null,null,null,null,null,null,null,"",null,null,null,null,""]
[null,null,null,null,null,null,null,null,null,null,null,null,null,null,null,null,null,null,null,null,null,null,null,null,null,null,null,null,null,null,null,null,null,null,null,null,null,null,null,null,null,null,null,null,null,null,null,"",null,null,null,null,""]
[null,null,null,null,null,null,null,null,null,null,null,null,null,null,null,null,null,null,null,null,null,null,null,null,null,null,null,null,null,null,null,null,null,null,null,null,null,null,null,null,null,null,null,null,null,null,null,"",null,null,null,null,""]
[null,null,null,null,null,null,null,null,null,null,null,null,null,null,null,null,null,null,null,null,null,null,null,null,null,null,null,null,null,null,null,null,null,null,null,null,null,null,null,null,null,null,null,null,null,null,null,"",null,null,null,null,""]
[null,null,null,null,null,null,null,null,null,null,null,null,null,null,null,null,null,null,null,null,null,null,null,null,null,null,null,null,null,null,null,null,null,null,null,null,null,null,null,null,null,null,null,null,null,null,null,"",null,null,null,null,""]
[null,null,null,null,null,null,null,null,null,null,null,null,null,null,null,null,null,null,null,null,null,null,null,null,null,null,null,null,null,null,null,null,null,null,null,null,null,null,null,null,null,null,null,null,null,null,null,"",null,null,null,null,""]
[null,null,null,null,null,null,null,null,null,null,null,null,null,null,null,null,null,null,null,null,null,null,null,null,null,null,null,null,null,null,null,null,null,null,null,null,null,null,null,null,null,null,null,null,null,null,null,"",null,null,null,null,""]
[null,null,null,null,null,null,null,null,null,null,null,null,null,null,null,null,null,null,null,null,null,null,null,null,null,null,null,null,null,null,null,null,null,null,null,null,null,null,null,null,null,null,null,null,null,null,null,"",null,null,null,null,""]
[null,null,null,null,null,null,null,null,null,null,null,null,null,null,null,null,null,null,null,null,null,null,null,null,null,null,null,null,null,null,null,null,null,null,null,null,null,null,null,null,null,null,null,null,null,null,null,"",null,null,null,null,""]
[null,null,null,null,null,null,null,null,null,null,null,null,null,null,null,null,null,null,null,null,null,null,null,null,null,null,null,null,null,null,null,null,null,null,null,null,null,null,null,null,null,null,null,null,null,null,null,"",null,null,null,null,""]
[null,null,null,null,null,null,null,null,null,null,null,null,null,null,null,null,null,null,null,null,null,null,null,null,null,null,null,null,null,null,null,null,null,null,null,null,null,null,null,null,null,null,null,null,null,null,null,"",null,null,null,null,""]
[null,null,null,null,null,null,null,null,null,null,null,null,null,null,null,null,null,null,null,null,null,null,null,null,null,null,null,null,null,null,null,null,null,null,null,null,null,null,null,null,null,null,null,null,null,null,null,"",null,null,null,null,""]
[null,null,null,null,null,null,null,null,null,null,null,null,null,null,null,null,null,null,null,null,null,null,null,null,null,null,null,null,null,null,null,null,null,null,null,null,null,null,null,null,null,null,null,null,null,null,null,"",null,null,null,null,""]
[null,null,null,null,null,null,null,null,null,null,null,null,null,null,null,null,null,null,null,null,null,null,null,null,null,null,null,null,null,null,null,null,null,null,null,null,null,null,null,null,null,null,null,null,null,null,null,"",null,null,null,null,""]
[null,null,null,null,null,null,null,null,null,null,null,null,null,null,null,null,null,null,null,null,null,null,null,null,null,null,null,null,null,null,null,null,null,null,null,null,null,null,null,null,null,null,null,null,null,null,null,"",null,null,null,null,""]
[null,null,null,null,null,null,null,null,null,null,null,null,null,null,null,null,null,null,null,null,null,null,null,null,null,null,null,null,null,null,null,null,null,null,null,null,null,null,null,null,null,null,null,null,null,null,null,"",null,null,null,null,""]
[null,null,null,null,null,null,null,null,null,null,null,null,null,null,null,null,null,null,null,null,null,null,null,null,null,null,null,null,null,null,null,null,null,null,null,null,null,null,null,null,null,null,null,null,null,null,null,"",null,null,null,null,""]
[null,null,null,null,null,null,null,null,null,null,null,null,null,null,null,null,null,null,null,null,null,null,null,null,null,null,null,null,null,null,null,null,null,null,null,null,null,null,null,null,null,null,null,null,null,null,null,"",null,null,null,null,""]
[null,null,null,null,null,null,null,null,null,null,null,null,null,null,null,null,null,null,null,null,null,null,null,null,null,null,null,null,null,null,null,null,null,null,null,null,null,null,null,null,null,null,null,null,null,null,null,"",null,null,null,null,""]
[null,null,null,null,null,null,null,null,null,null,null,null,null,null,null,null,null,null,null,null,null,null,null,null,null,null,null,null,null,null,null,null,null,null,null,null,null,null,null,null,null,null,null,null,null,null,null,"",null,null,null,null,""]
[null,null,null,null,null,null,null,null,null,null,null,null,null,null,null,null,null,null,null,null,null,null,null,null,null,null,null,null,null,null,null,null,null,null,null,null,null,null,null,null,null,null,null,null,null,null,null,"",null,null,null,null,""]
[null,null,null,null,null,null,null,null,null,null,null,null,null,null,null,null,null,null,null,null,null,null,null,null,null,null,null,null,null,null,null,null,null,null,null,null,null,null,null,null,null,null,null,null,null,null,null,"",null,null,null,null,""]
[null,null,null,null,null,null,null,null,null,null,null,null,null,null,null,null,null,null,null,null,null,null,null,null,null,null,null,null,null,null,null,null,null,null,null,null,null,null,null,null,null,null,null,null,null,null,null,"",null,null,null,null,""]
[null,null,null,null,null,null,null,null,null,null,null,null,null,null,null,null,null,null,null,null,null,null,null,null,null,null,null,null,null,null,null,null,null,null,null,null,null,null,null,null,null,null,null,null,null,null,null,"",null,null,null,null,""]
[null,null,null,null,null,null,null,null,null,null,null,null,null,null,null,null,null,null,null,null,null,null,null,null,null,null,null,null,null,null,null,null,null,null,null,null,null,null,null,null,null,null,null,null,null,null,null,"",null,null,null,null,""]
[null,null,null,null,null,null,null,null,null,null,null,null,null,null,null,null,null,null,null,null,null,null,null,null,null,null,null,null,null,null,null,null,null,null,null,null,null,null,null,null,null,null,null,null,null,null,null,"",null,null,null,null,""]
[null,null,null,null,null,null,null,null,null,null,null,null,null,null,null,null,null,null,null,null,null,null,null,null,null,null,null,null,null,null,null,null,null,null,null,null,null,null,null,null,null,null,null,null,null,null,null,"",null,null,null,null,""]
[null,null,null,null,null,null,null,null,null,null,null,null,null,null,null,null,null,null,null,null,null,null,null,null,null,null,null,null,null,null,null,null,null,null,null,null,null,null,null,null,null,null,null,null,null,null,null,"",null,null,null,null,""]
[null,null,null,null,null,null,null,null,null,null,null,null,null,null,null,null,null,null,null,null,null,null,null,null,null,null,null,null,null,null,null,null,null,null,null,null,null,null,null,null,null,null,null,null,null,null,null,"",null,null,null,null,""]
[null,null,null,null,null,null,null,null,null,null,null,null,null,null,null,null,null,null,null,null,null,null,null,null,null,null,null,null,null,null,null,null,null,null,null,null,null,null,null,null,null,null,null,null,null,null,null,"",null,null,null,null,""]
[null,null,null,null,null,null,null,null,null,null,null,null,null,null,null,null,null,null,null,null,null,null,null,null,null,null,null,null,null,null,null,null,null,null,null,null,null,null,null,null,null,null,null,null,null,null,null,"",null,null,null,null,""]
[null,null,null,null,null,null,null,null,null,null,null,null,null,null,null,null,null,null,null,null,null,null,null,null,null,null,null,null,null,null,null,null,null,null,null,null,null,null,null,null,null,null,null,null,null,null,null,"",null,null,null,null,""]
[null,null,null,null,null,null,null,null,null,null,null,null,null,null,null,null,null,null,null,null,null,null,null,null,null,null,null,null,null,null,null,null,null,null,null,null,null,null,null,null,null,null,null,null,null,null,null,"",null,null,null,null,""]
[null,null,null,null,null,null,null,null,null,null,null,null,null,null,null,null,null,null,null,null,null,null,null,null,null,null,null,null,null,null,null,null,null,null,null,null,null,null,null,null,null,null,null,null,null,null,null,"",null,null,null,null,{"$f":"LEFT(AY5159,3)","v":""}]
[null,null,null,null,null,null,null,null,null,null,null,null,null,null,null,null,null,null,null,null,null,null,null,null,null,null,null,null,null,null,null,null,null,null,null,null,null,null,null,null,null,null,null,null,null,null,null,"",null,null,null,null,""]
[null,null,null,null,null,null,null,null,null,null,null,null,null,null,null,null,null,null,null,null,null,null,null,null,null,null,null,null,null,null,null,null,null,null,null,null,null,null,null,null,null,null,null,null,null,null,null,"",null,null,null,null,""]
[null,null,null,null,null,null,null,null,null,null,null,null,null,null,null,null,null,null,null,null,null,null,null,null,null,null,null,null,null,null,null,null,null,null,null,null,null,null,null,null,null,null,null,null,null,null,null,"",null,null,null,null,""]
[null,null,null,null,null,null,null,null,null,null,null,null,null,null,null,null,null,null,null,null,null,null,null,null,null,null,null,null,null,null,null,null,null,null,null,null,null,null,null,null,null,null,null,null,null,null,null,{"$f":"CONCATENATE(LEFT(AW5163, 3),AX5163)","v":""},null,null,null,null,""]
[null,null,null,null,null,null,null,null,null,null,null,null,null,null,null,null,null,null,null,null,null,null,null,null,null,null,null,null,null,null,null,null,null,null,null,null,null,null,null,null,null,null,null,null,null,null,null,"",null,null,null,null,""]
[null,null,null,null,null,null,null,null,null,null,null,null,null,null,null,null,null,null,null,null,null,null,null,null,null,null,null,null,null,null,null,null,null,null,null,null,null,null,null,null,null,null,null,null,null,null,null,"",null,null,null,null,""]
[null,null,null,null,null,null,null,null,null,null,null,null,null,null,null,null,null,null,null,null,null,null,null,null,null,null,null,null,null,null,null,null,null,null,null,null,null,null,null,null,null,null,null,null,null,null,null,"",null,null,null,null,""]
[null,null,null,null,null,null,null,null,null,null,null,null,null,null,null,null,null,null,null,null,null,null,null,null,null,null,null,null,null,null,null,null,null,null,null,null,null,null,null,null,null,null,null,null,null,null,null,"",null,null,null,null,""]
[null,null,null,null,null,null,null,null,null,null,null,null,null,null,null,null,null,null,null,null,null,null,null,null,null,null,null,null,null,null,null,null,null,null,null,null,null,null,null,null,null,null,null,null,null,null,null,"",null,null,null,null,""]
[null,null,null,null,null,null,null,null,null,null,null,null,null,null,null,null,null,null,null,null,null,null,null,null,null,null,null,null,null,null,null,null,null,null,null,null,null,null,null,null,null,null,null,null,null,null,null,"",null,null,null,null,""]
[null,null,null,null,null,null,null,null,null,null,null,null,null,null,null,null,null,null,null,null,null,null,null,null,null,null,null,null,null,null,null,null,null,null,null,null,null,null,null,null,null,null,null,null,null,null,null,"",null,null,null,null,""]
[null,null,null,null,null,null,null,null,null,null,null,null,null,null,null,null,null,null,null,null,null,null,null,null,null,null,null,null,null,null,null,null,null,null,null,null,null,null,null,null,null,null,null,null,null,null,null,"",null,null,null,null,""]
[null,null,null,null,null,null,null,null,null,null,null,null,null,null,null,null,null,null,null,null,null,null,null,null,null,null,null,null,null,null,null,null,null,null,null,null,null,null,null,null,null,null,null,null,null,null,null,"",null,null,null,null,""]
[null,null,null,null,null,null,null,null,null,null,null,null,null,null,null,null,null,null,null,null,null,null,null,null,null,null,null,null,null,null,null,null,null,null,null,null,null,null,null,null,null,null,null,null,null,null,null,"",null,null,null,null,""]
[null,null,null,null,null,null,null,null,null,null,null,null,null,null,null,null,null,null,null,null,null,null,null,null,null,null,null,null,null,null,null,null,null,null,null,null,null,null,null,null,null,null,null,null,null,null,null,"",null,null,null,null,""]
[null,null,null,null,null,null,null,null,null,null,null,null,null,null,null,null,null,null,null,null,null,null,null,null,null,null,null,null,null,null,null,null,null,null,null,null,null,null,null,null,null,null,null,null,null,null,null,"",null,null,null,null,""]
[null,null,null,null,null,null,null,null,null,null,null,null,null,null,null,null,null,null,null,null,null,null,null,null,null,null,null,null,null,null,null,null,null,null,null,null,null,null,null,null,null,null,null,null,null,null,null,"",null,null,null,null,""]
[null,null,null,null,null,null,null,null,null,null,null,null,null,null,null,null,null,null,null,null,null,null,null,null,null,null,null,null,null,null,null,null,null,null,null,null,null,null,null,null,null,null,null,null,null,null,null,"",null,null,null,null,""]
[null,null,null,null,null,null,null,null,null,null,null,null,null,null,null,null,null,null,null,null,null,null,null,null,null,null,null,null,null,null,null,null,null,null,null,null,null,null,null,null,null,null,null,null,null,null,null,"",null,null,null,null,""]
[null,null,null,null,null,null,null,null,null,null,null,null,null,null,null,null,null,null,null,null,null,null,null,null,null,null,null,null,null,null,null,null,null,null,null,null,null,null,null,null,null,null,null,null,null,null,null,"",null,null,null,null,""]
[null,null,null,null,null,null,null,null,null,null,null,null,null,null,null,null,null,null,null,null,null,null,null,null,null,null,null,null,null,null,null,null,null,null,null,null,null,null,null,null,null,null,null,null,null,null,null,"",null,null,null,null,""]
[null,null,null,null,null,null,null,null,null,null,null,null,null,null,null,null,null,null,null,null,null,null,null,null,null,null,null,null,null,null,null,null,null,null,null,null,null,null,null,null,null,null,null,null,null,null,null,"",null,null,null,null,""]
[null,null,null,null,null,null,null,null,null,null,null,null,null,null,null,null,null,null,null,null,null,null,null,null,null,null,null,null,null,null,null,null,null,null,null,null,null,null,null,null,null,null,null,null,null,null,null,"",null,null,null,null,""]
[null,null,null,null,null,null,null,null,null,null,null,null,null,null,null,null,null,null,null,null,null,null,null,null,null,null,null,null,null,null,null,null,null,null,null,null,null,null,null,null,null,null,null,null,null,null,null,"",null,null,null,null,""]
[null,null,null,null,null,null,null,null,null,null,null,null,null,null,null,null,null,null,null,null,null,null,null,null,null,null,null,null,null,null,null,null,null,null,null,null,null,null,null,null,null,null,null,null,null,null,null,"",null,null,null,null,""]
[null,null,null,null,null,null,null,null,null,null,null,null,null,null,null,null,null,null,null,null,null,null,null,null,null,null,null,null,null,null,null,null,null,null,null,null,null,null,null,null,null,null,null,null,null,null,null,"",null,null,null,null,""]
[null,null,null,null,null,null,null,null,null,null,null,null,null,null,null,null,null,null,null,null,null,null,null,null,null,null,null,null,null,null,null,null,null,null,null,null,null,null,null,null,null,null,null,null,null,null,null,"",null,null,null,null,""]
[null,null,null,null,null,null,null,null,null,null,null,null,null,null,null,null,null,null,null,null,null,null,null,null,null,null,null,null,null,null,null,null,null,null,null,null,null,null,null,null,null,null,null,null,null,null,null,"",null,null,null,null,""]
[null,null,null,null,null,null,null,null,null,null,null,null,null,null,null,null,null,null,null,null,null,null,null,null,null,null,null,null,null,null,null,null,null,null,null,null,null,null,null,null,null,null,null,null,null,null,null,"",null,null,null,null,""]
[null,null,null,null,null,null,null,null,null,null,null,null,null,null,null,null,null,null,null,null,null,null,null,null,null,null,null,null,null,null,null,null,null,null,null,null,null,null,null,null,null,null,null,null,null,null,null,"",null,null,null,null,""]
[null,null,null,null,null,null,null,null,null,null,null,null,null,null,null,null,null,null,null,null,null,null,null,null,null,null,null,null,null,null,null,null,null,null,null,null,null,null,null,null,null,null,null,null,null,null,null,"",null,null,null,null,""]
[null,null,null,null,null,null,null,null,null,null,null,null,null,null,null,null,null,null,null,null,null,null,null,null,null,null,null,null,null,null,null,null,null,null,null,null,null,null,null,null,null,null,null,null,null,null,null,"",null,null,null,null,""]
[null,null,null,null,null,null,null,null,null,null,null,null,null,null,null,null,null,null,null,null,null,null,null,null,null,null,null,null,null,null,null,null,null,null,null,null,null,null,null,null,null,null,null,null,null,null,null,"",null,null,null,null,""]
[null,null,null,null,null,null,null,null,null,null,null,null,null,null,null,null,null,null,null,null,null,null,null,null,null,null,null,null,null,null,null,null,null,null,null,null,null,null,null,null,null,null,null,null,null,null,null,"",null,null,null,null,""]
[null,null,null,null,null,null,null,null,null,null,null,null,null,null,null,null,null,null,null,null,null,null,null,null,null,null,null,null,null,null,null,null,null,null,null,null,null,null,null,null,null,null,null,null,null,null,null,"",null,null,null,null,""]
[null,null,null,null,null,null,null,null,null,null,null,null,null,null,null,null,null,null,null,null,null,null,null,null,null,null,null,null,null,null,null,null,null,null,null,null,null,null,null,null,null,null,null,null,null,null,null,"",null,null,null,null,""]
[null,null,null,null,null,null,null,null,null,null,null,null,null,null,null,null,null,null,null,null,null,null,null,null,null,null,null,null,null,null,null,null,null,null,null,null,null,null,null,null,null,null,null,null,null,null,null,"",null,null,null,null,""]
[null,null,null,null,null,null,null,null,null,null,null,null,null,null,null,null,null,null,null,null,null,null,null,null,null,null,null,null,null,null,null,null,null,null,null,null,null,null,null,null,null,null,null,null,null,null,null,"",null,null,null,null,""]
[null,null,null,null,null,null,null,null,null,null,null,null,null,null,null,null,null,null,null,null,null,null,null,null,null,null,null,null,null,null,null,null,null,null,null,null,null,null,null,null,null,null,null,null,null,null,null,"",null,null,null,null,""]
[null,null,null,null,null,null,null,null,null,null,null,null,null,null,null,null,null,null,null,null,null,null,null,null,null,null,null,null,null,null,null,null,null,null,null,null,null,null,null,null,null,null,null,null,null,null,null,"",null,null,null,null,""]
[null,null,null,null,null,null,null,null,null,null,null,null,null,null,null,null,null,null,null,null,null,null,null,null,null,null,null,null,null,null,null,null,null,null,null,null,null,null,null,null,null,null,null,null,null,null,null,"",null,null,null,null,""]
[null,null,null,null,null,null,null,null,null,null,null,null,null,null,null,null,null,null,null,null,null,null,null,null,null,null,null,null,null,null,null,null,null,null,null,null,null,null,null,null,null,null,null,null,null,null,null,"",null,null,null,null,""]
[null,null,null,null,null,null,null,null,null,null,null,null,null,null,null,null,null,null,null,null,null,null,null,null,null,null,null,null,null,null,null,null,null,null,null,null,null,null,null,null,null,null,null,null,null,null,null,"",null,null,null,null,""]
[null,null,null,null,null,null,null,null,null,null,null,null,null,null,null,null,null,null,null,null,null,null,null,null,null,null,null,null,null,null,null,null,null,null,null,null,null,null,null,null,null,null,null,null,null,null,null,"",null,null,null,null,""]
[null,null,null,null,null,null,null,null,null,null,null,null,null,null,null,null,null,null,null,null,null,null,null,null,null,null,null,null,null,null,null,null,null,null,null,null,null,null,null,null,null,null,null,null,null,null,null,"",null,null,null,null,""]
[null,null,null,null,null,null,null,null,null,null,null,null,null,null,null,null,null,null,null,null,null,null,null,null,null,null,null,null,null,null,null,null,null,null,null,null,null,null,null,null,null,null,null,null,null,null,null,"",null,null,null,null,""]
[null,null,null,null,null,null,null,null,null,null,null,null,null,null,null,null,null,null,null,null,null,null,null,null,null,null,null,null,null,null,null,null,null,null,null,null,null,null,null,null,null,null,null,null,null,null,null,"",null,null,null,null,""]
[null,null,null,null,null,null,null,null,null,null,null,null,null,null,null,null,null,null,null,null,null,null,null,null,null,null,null,null,null,null,null,null,null,null,null,null,null,null,null,null,null,null,null,null,null,null,null,"",null,null,null,null,""]
[null,null,null,null,null,null,null,null,null,null,null,null,null,null,null,null,null,null,null,null,null,null,null,null,null,null,null,null,null,null,null,null,null,null,null,null,null,null,null,null,null,null,null,null,null,null,null,"",null,null,null,null,""]
[null,null,null,null,null,null,null,null,null,null,null,null,null,null,null,null,null,null,null,null,null,null,null,null,null,null,null,null,null,null,null,null,null,null,null,null,null,null,null,null,null,null,null,null,null,null,null,"",null,null,null,null,""]
[null,null,null,null,null,null,null,null,null,null,null,null,null,null,null,null,null,null,null,null,null,null,null,null,null,null,null,null,null,null,null,null,null,null,null,null,null,null,null,null,null,null,null,null,null,null,null,"",null,null,null,null,""]

{"sheet":"Validation","index":4,"n_rows":59,"n_cols":12,"rows_kept":59,"cut":false,"hidden":true,"merged":[]}
[]
["Requested validations","FFT IP validation code"]
[]
["ERRORS:"]
["1)    Organisation code must be selected;"]
["3)    An ODS site code must be selected for each row;"]
["4)    A ward name must be entered for each row;"]
["5)    At least one specialty must be selected (Specialty 1) for each row;"]
["6)    Specialties (Specialty 1 and Specialty 2) must be selected from drop downs;","internal?"]
["7)    Total planned hours for each row must be greater than zero;"]
["8)    Total actual hours for each row must be greater than zero;"]
["9)    There should be no gaps between each row;","?"]
["10) Duplication of a ward name within a site.","\"=IF($AA$816>0,\"Duplicate 'Ward name' (Col D), with the same specialty(s) (Col L and Col M), has been provided for at least 1 'Hospital Site'(Col C)\",\"\")\"","does not work in the other sheets!!"]
["WARNINGS:"]
["1)    One or more wards has a day nurse fill rate > 100%;"]
["2)    One or more wards has a day care staff fill rate > 100%;"]
["3)    One or more wards has a night nurse fill rate > 100%;"]
["4)    One or more wards has a night care staff fill rate > 100%;"]
["5)    One or more wards has less than 1448 actual hours (approx. 2 full time staff);"]
["6)    One or more wards has more than 30 000 actual hours (approx. 40 full time staff);"]
["7)    One or more wards has submitted actual hours but zero CHPPD patients."]
[]
[]
[]
["Other"]
[]
["no duplicate speciality codes","\"=IF(Y816>0,\"The same 'Specialty' (Col L and Col M) can not be selected twice\",\"\")\""]
["all relevant cells to be filled in","\"=IF(T816>0,\"Data not complete for all rows\",IF(W816>0,\"Data not complete for all rows\",\"\"))\""]
[]
["Fix ODS ref data"]
[]
[]
[]
[]
[]
[]
[]
[]
[]
[]
[]
[]
[]
[]
[]
[]
[null,null,"a",1,"p",null,null,null,null,null,{"$f":"CONCATENATE(C47,D47,E47,F47)","v":"a1p"},{"$f":"(IF(COUNTIF($K$47:$K$59,K47)>1,1,0))=1","v":false}]
[null,null,"b",2,"o",null,null,null,null,null,{"$f":"CONCATENATE(C48,D48,E48,F48)","v":"b2o"},{"$f":"(IF(COUNTIF($K$47:$K$59,K48)>1,1,0))=1","v":false}]
[null,null,"c",3,"i",null,null,null,null,null,"c3i",false]
[null,null,"d",4,"u",null,null,null,null,null,"d4u",false]
[null,null,"e",5,"y",null,null,null,null,null,"e5y",false]
[null,null,"f",6,"t",null,null,null,null,null,"f6t",false]
[null,null,"g",7,"r",null,null,null,null,null,"g7r",false]
[null,null,"h",8,"e",null,null,null,null,null,"h8e",false]
[null,null,"i",9,"s",null,null,null,null,null,"i9s",false]
[null,null,"j",10,"w",null,null,null,null,null,"j10w",false]
[null,null,"w",13,"w",null,null,null,null,null,"w13w",true]
[null,null,"w",13,"w",null,null,null,null,null,"w13w",true]
[null,null,"w",13,"w","q",null,null,null,null,"w13wq",false]

{"sheet":"Index","index":5,"n_rows":2802,"n_cols":15,"rows_kept":2802,"cut":false,"hidden":true,"merged":[]}
["Lookups",null,null,null,null,"Provider Orgs",null,null,null,"Concatenation","Natural Key",null,null,"Provider Orgs","CHPPD"]
["Columns","Row",null,null,null,"RTQ","2gether NHS Foundation Trust",null,null,"April_2017-18",10166,null,null,"RTQ","N"]
[1,1,null,null,null,"REM","Aintree University Hospital NHS Foundation Trust",null,null,"May_2017-18",10167,null,null,"RTV","N"]
[1,2,null,null,null,"RCF","Airedale NHS Foundation Trust",null,null,"June_2017-18",10168,null,null,"REM","Y"]
[1,3,null,null,null,"RBS","Alder Hey Children's NHS Foundation Trust",null,null,"July_2017-18",10169,null,null,"RCF","Y"]
[1,4,null,null,null,"NQ1","Anglian Community Enterprise",null,null,"August_2017-18",10170,null,null,"RBS","Y"]
[1,5,null,null,null,"RTK","Ashford And St Peter's Hospitals NHS Foundation Trust",null,null,"September_2017-18",10171,null,null,"NQ1","N"]
[1,6,null,null,null,"RVN","Avon and Wiltshire Mental Health Partnership NHS Trust",null,null,"October_2017-18",10172,null,null,"RTK","Y"]
[1,7,null,null,null,"RF4","Barking, Havering And Redbridge University Hospitals NHS Trust",null,null,"November_2017-18",10173,null,null,"RVN","N"]
[1,8,null,null,null,"RRP","Barnet, Enfield and Haringey Mental Health NHS Trust",null,null,"December_2017-18",10174,null,null,"RF4","Y"]
[1,9,null,null,null,"RFF","Barnsley Hospital NHS Foundation Trust",null,null,"January_2017-18",10175,null,null,"RRP","N"]
[1,10,null,null,null,"R1H","Barts Health NHS Trust",null,null,"February_2017-18",10176,null,null,"RFF","Y"]
[1,11,null,null,null,"RDD","Basildon And Thurrock University Hospitals NHS Foundation Trust",null,null,"March_2017-18",10177,null,null,"R1H","Y"]
[1,12,null,null,null,"RC1","Bedford Hospital NHS Trust",null,null,null,null,null,null,"RDD","Y"]
[1,13,null,null,null,"RWX","Berkshire Healthcare NHS Foundation Trust",null,null,null,null,null,null,"RC1","Y"]
[1,14,null,null,null,"RXT","Birmingham and Solihull Mental Health NHS Foundation Trust",null,null,null,null,null,null,"RWX","N"]
[1,15,null,null,null,"RYW","Birmingham Community HealthCare NHS Trust",null,null,null,null,null,null,"RXT","N"]
[1,16,null,null,null,"RQ3","Birmingham Women's and Children's Hospital NHS Foundation Trust",null,null,null,null,null,null,"RQ3","Y"]
[1,17,null,null,null,"TAJ","Black Country Partnership NHS Foundation Trust",null,null,null,null,null,null,"RYW","N"]
[1,18,null,null,null,"RXL","Blackpool Teaching Hospitals NHS Foundation Trust",null,null,null,null,null,null,"RLU","Y"]
[1,19,null,null,null,"RMC","Bolton NHS Foundation Trust",null,null,null,null,null,null,"TAJ","N"]
[1,20,null,null,null,"TAD","Bradford District Care Trust",null,null,null,null,null,null,"RXL","Y"]
[1,21,null," ",null,"RAE","Bradford Teaching Hospitals NHS Foundation Trust",null,null,null,null,null,null,"RMC","Y"]
[1,22,null,null,null,"RY2","Bridgewater Community Healthcare NHS Trust",null,null,null,null,null,null,"TAD","N"]
[1,23,null,null,null,"RXH","Brighton And Sussex University Hospitals NHS Trust",null,null,null,null,null,null,"RAE","Y"]
[1,24,null,null,null,"RXQ","Buckinghamshire Healthcare NHS Trust",null,null,null,null,null,null,"RY2","N"]
[1,25,null,null,null,"RJF","Burton Hospitals NHS Foundation Trust",null,null,null,null,null,null,"RXH","Y"]
[1,26,null,null,null,"RWY","Calderdale And Huddersfield NHS Foundation Trust",null,null,null,null,null,null,"RXQ","Y"]
[1,27,null,null,null,"RGT","Cambridge University Hospitals NHS Foundation Trust",null,null,null,null,null,null,"RJF","Y"]
[1,28,null,null,null,"RT1","Cambridgeshire And Peterborough NHS Foundation Trust",null,null,null,null,null,null,"RWY","Y"]
[1,29,null,null,null,"RYV","Cambridgeshire Community Services NHS Trust",null,null,null,null,null,null,"RGT","Y"]
[1,30,null,null,null,"TAF","Camden And Islington NHS Foundation Trust",null,null,null,null,null,null,"RT1","N"]
[1,31,null,null,null,"RV3","Central and North West London NHS Foundation Trust",null,null,null,null,null,null,"RYV","N"]
[1,32,null,null,null,"RYX","Central London Community Healthcare NHS Trust",null,null,null,null,null,null,"TAF","N"]
[1,33,null,null,null,"RQM","Chelsea And Westminster Hospital NHS Foundation Trust",null,null,null,null,null,null,"RV3","N"]
[1,34,null,null,null,"RXA","Cheshire and Wirral Partnership NHS Foundation Trust",null,null,null,null,null,null,"RYX","N"]
[1,35,null,null,null,"RFS","Chesterfield Royal Hospital NHS Foundation Trust",null,null,null,null,null,null,"RW3","Y"]
[1,36,null,null,null,"RLN","City Hospitals Sunderland NHS Foundation Trust",null,null,null,null,null,null,"RQM","Y"]
[1,37,null,null,null,"RDE","Colchester Hospital University NHS Foundation Trust",null,null,null,null,null,null,"RXA","N"]
[1,38,null,null,null,"RJ8","Cornwall Partnership NHS Foundation Trust",null,null,null,null,null,null,"RFS","Y"]
[1,39,null,null,null,"RJR","Countess Of Chester Hospital NHS Foundation Trust",null,null,null,null,null,null,"RLN","Y"]
[1,40,null,null,null,"RXP","County Durham And Darlington NHS Foundation Trust",null,null,null,null,null,null,"RDE","Y"]
[1,41,null,null,null,"RYG","Coventry and Warwickshire Partnership NHS Trust",null,null,null,null,null,null,"RJ8","N"]
[1,42,null,null,null,"RJ6","Croydon Health Services NHS Trust",null,null,null,null,null,null,"RJR","Y"]
[1,43,null,null,null,"RNN","Cumbria Partnership NHS Foundation Trust",null,null,null,null,null,null,"RXP","Y"]
[1,44,null,null,null,"RN7","Dartford And Gravesham NHS Trust",null,null,null,null,null,null,"RYG","N"]
[1,45,null,null,null,"RTG","Derby Hospitals NHS Foundation Trust",null,null,null,null,null,null,"RJ6","Y"]
[1,46,null,null,null,"RY8","Derbyshire Community Health Services NHS Trust",null,null,null,null,null,null,"RNN","N"]
[1,47,null,null,null,"RXM","Derbyshire Healthcare NHS Foundation Trust",null,null,null,null,null,null,"RN7","Y"]
[1,48,null,null,null,"RWV","Devon Partnership NHS Trust",null,null,null,null,null,null,"RTG","Y"]
[1,49,null,null,null,"RP5","Doncaster And Bassetlaw Hospitals NHS Foundation Trust",null,null,null,null,null,null,"RY8","N"]
[1,50,null,null,null,"RBD","Dorset County Hospital NHS Foundation Trust",null,null,null,null,null,null,"RXM","N"]
[1,51,null,null,null,"RDY","Dorset HealthCare University NHS Foundation Trust",null,null,null,null,null,null,"RWV","N"]
[1,52,null,null,null,"RYK","Dudley and Walsall Mental Health Partnership NHS Trust",null,null,null,null,null,null,"RP5","Y"]
[1,53,null,null,null,"RWH","East And North Hertfordshire NHS Trust",null,null,null,null,null,null,"RBD","Y"]
[1,54,null,null,null,"RJN","East Cheshire NHS Trust",null,null,null,null,null,null,"RDY","N"]
[1,55,null,null,null,"RVV","East Kent Hospitals University NHS Foundation Trust",null,null,null,null,null,null,"RYK","N"]
[1,56,null,null,null,"RXR","East Lancashire Hospitals NHS Trust",null,null,null,null,null,null,"RWH","Y"]
[1,57,null,null,null,"RWK","East London Foundation Trust ",null,null,null,null,null,null,"RJN","Y"]
[1,58,null,null,null,"RXC","East Sussex Healthcare NHS Trust",null,null,null,null,null,null,"RVV","Y"]
[1,59,null,null,null,"RVR","Epsom And St Helier University Hospitals NHS Trust",null,null,null,null,null,null,"RXR","Y"]
[1,60,null,null,null,"R1L","Essex Partnership University NHS Foundation Trust",null,null,null,null,null,null,"RWK","N"]
[1,61,null,null,null,"RDU","Frimley Park Hospital NHS Foundation Trust",null,null,null,null,null,null,"RXC","Y"]
[1,62,null,null,null,"RR7","Gateshead Health NHS Foundation Trust",null,null,null,null,null,null,"RVR","Y"]
[1,63,null,null,null,"RLT","George Eliot Hospital NHS Trust",null,null,null,null,null,null,"RDU","Y"]
[1,64,null,null,null,"R1J","Gloucestershire Care Services NHS Trust",null,null,null,null,null,null,"RR7","Y"]
[1,65,null,null,null,"RTE","Gloucestershire Hospitals NHS Foundation Trust",null,null,null,null,null,null,"RLT","Y"]
[1,66,null,null,null,"RP4","Great Ormond Street Hospital For Children NHS Foundation Trust",null,null,null,null,null,null,"R1J","N"]
[1,67,null,null,null,"RN3","Great Western Hospitals NHS Foundation Trust",null,null,null,null,null,null,"RTE","Y"]
[1,68,null,null,null,"RXV","Greater Manchester Mental Health NHS Foundation Trust",null,null,null,null,null,null,"RP4","Y"]
[1,69,null,null,null,"RJ1","Guy's And St Thomas' NHS Foundation Trust",null,null,null,null,null,null,"RN3","Y"]
[1,70,null,null,null,"RN5","Hampshire Hospitals NHS Foundation Trust",null,null,null,null,null,null,"RXV","N"]
[1,71,null,null,null,"RCD","Harrogate And District NHS Foundation Trust",null,null,null,null,null,null,"RJ1","Y"]
[1,72,null,null,null,"RR1","Heart Of England NHS Foundation Trust",null,null,null,null,null,null,"RN5","Y"]
[1,73,null,null,null,"RY4","Hertfordshire Community NHS Trust",null,null,null,null,null,null,"RCD","Y"]
[1,74,null,null,null,"RWR","Hertfordshire Partnership University NHS Foundation Trust",null,null,null,null,null,null,"RR1","Y"]
[1,75,null,null,null,"RQX","Homerton University Hospital NHS Foundation Trust",null,null,null,null,null,null,"RY4","N"]
[1,76,null,null,null,"RY9","Hounslow And Richmond Community Healthcare NHS Trust",null,null,null,null,null,null,"RWR","N"]
[1,77,null,null,null,"RWA","Hull And East Yorkshire Hospitals NHS Trust",null,null,null,null,null,null,"RQQ","Y"]
[1,78,null,null,null,"RV9","Humber NHS Foundation Trust",null,null,null,null,null,null,"RQX","Y"]
[1,79,null,null,null,"RYJ","Imperial College Healthcare NHS Trust",null,null,null,null,null,null,"RY9","N"]
[1,80,null,null,null,"RGQ","Ipswich Hospital NHS Trust",null,null,null,null,null,null,"RWA","Y"]
[1,81,null,null,null,"R1F","Isle Of Wight NHS Trust",null,null,null,null,null,null,"RV9","N"]
[1,82,null,null,null,"RGP","James Paget University Hospitals NHS Foundation Trust",null,null,null,null,null,null,"RYJ","Y"]
[1,83,null,null,null,"RXY","Kent And Medway NHS And Social Care Partnership Trust",null,null,null,null,null,null,"RGQ","Y"]
[1,84,null,null,null,"RYY","Kent Community Health NHS Trust",null,null,null,null,null,null,"R1F","Y"]
[1,85,null,null,null,"RNQ","Kettering General Hospital NHS Foundation Trust",null,null,null,null,null,null,"RGP","Y"]
[1,86,null,null,null,"RJZ","King's College Hospital NHS Foundation Trust",null,null,null,null,null,null,"RXY","N"]
[1,87,null,null,null,"RAX","Kingston Hospital NHS Trust",null,null,null,null,null,null,"RYY","N"]
[1,88,null,null,null,"RW5","Lancashire Care NHS Foundation trust",null,null,null,null,null,null,"RNQ","Y"]
[1,89,null,null,null,"RXN","Lancashire Teaching Hospitals NHS Foundation Trust",null,null,null,null,null,null,"RJZ","Y"]
[1,90,null,null,null,"RGD","Leeds and York Partnership NHS Foundation Trust",null,null,null,null,null,null,"RAX","Y"]
[1,91,null,null,null,"RY6","Leeds Community Healthcare NHS Trust",null,null,null,null,null,null,"RW5","N"]
[1,92,null,null,null,"RR8","Leeds Teaching Hospitals NHS Trust",null,null,null,null,null,null,"RXN","Y"]
[1,93,null,null,null,"RT5","Leicestershire Partnership NHS Trust",null,null,null,null,null,null,"RGD","N"]
[1,94,null,null,null,"RJ2","Lewisham and Greenwich NHS Trust",null,null,null,null,null,null,"RY6","N"]
[1,95,null,null,null,"RY5","Lincolnshire Community Health Services NHS Trust",null,null,null,null,null,null,"RR8","Y"]
[1,96,null,null,null,"RP7","Lincolnshire Partnership NHS Foundation Trust",null,null,null,null,null,null,"RT5","N"]
[1,97,null,null,null,"RY1","Liverpool Community Health NHS Trust",null,null,null,null,null,null,"RJ2","Y"]
[1,98,null,null,null,"RBQ","Liverpool Heart And Chest NHS Foundation Trust",null,null,null,null,null,null,"RY5","N"]
[1,99,null,null,null,"REP","Liverpool Women's NHS Foundation Trust",null,null,null,null,null,null,"RP7","N"]
[1,100,null,null,null,"R1K","London North West Healthcare NHS Trust",null,null,null,null,null,null,"RY1","N"]
[1,101,null,null,null,"RC9","Luton And Dunstable Hospital NHS Foundation Trust",null,null,null,null,null,null,"RBQ","Y"]
[1,102,null,null,null,"RWF","Maidstone And Tunbridge Wells NHS Trust",null,null,null,null,null,null,"REP","Y"]
[1,103,null,null,null,"R0A","Manchester University NHS Foundation Trust",null,null,null,null,null,null,"R1K","Y"]
[1,104,null,null,null,"RPA","Medway NHS Foundation Trust",null,null,null,null,null,null,"RC9","Y"]
[1,105,null,null,null,"RW4","Mersey Care NHS Trust",null,null,null,null,null,null,"RWF","Y"]
[1,106,null,null,null,"RBT","Mid Cheshire Hospitals NHS Foundation Trust",null,null,null,null,null,null,"RPA","Y"]
[1,107,null,null,null,"RQ8","Mid Essex Hospital Services NHS Trust",null,null,null,null,null,null,"RW4","N"]
[1,108,null,null,null,"RJD","Mid Staffordshire NHS Foundation Trust",null,null,null,null,null,null,"RBT","Y"]
[1,109,null,null,null,"RXF","Mid Yorkshire Hospitals NHS Trust",null,null,null,null,null,null,"RQ8","Y"]
[1,110,null,null,null,"RD8","Milton Keynes Hospital NHS Foundation Trust",null,null,null,null,null,null,"RJD","N"]
[1,111,null,null,null,"RP6","Moorfields Eye Hospital NHS Foundation Trust",null,null,null,null,null,null,"RXF","Y"]
[1,112,null,null,null,"RM1","Norfolk And Norwich University Hospitals NHS Foundation Trust",null,null,null,null,null,null,"RD8","Y"]
[1,113,null,null,null,"RMY","Norfolk and Suffolk NHS Foundation Trust",null,null,null,null,null,null,"RP6","Y"]
[1,114,null,null,null,"RY3","Norfolk Community Health And Care NHS Trust",null,null,null,null,null,null,"RM1","Y"]
[1,115,null,null,null,"RVJ","North Bristol NHS Trust",null,null,null,null,null,null,"RMY","N"]
[1,116,null,null,null,"RNL","North Cumbria University Hospitals NHS Trust",null,null,null,null,null,null,"RY3","N"]
[1,117,null,null,null,"RAT","North East London NHS Foundation Trust",null,null,null,null,null,null,"RVJ","Y"]
[1,118,null,null,null,"RAP","North Middlesex University Hospital NHS Trust",null,null,null,null,null,null,"RNL","Y"]
[1,119,null,null,null,"RLY","North Staffordshire Combined Healthcare NHS Trust",null,null,null,null,null,null,"RAT","N"]
[1,120,null,null,null,"RVW","North Tees And Hartlepool NHS Foundation Trust",null,null,null,null,null,null,"RRD","N"]
[1,121,null,null,null,"RGN","North West Anglia NHS Foundation Trust",null,null,null,null,null,null,"RAP","Y"]
[1,122,null,null,null,"RTV","North West Boroughs Healthcare NHS Foundation Trust",null,null,null,null,null,null,"RLY","N"]
[1,123,null,null,null,"RNS","Northampton General Hospital NHS Trust",null,null,null,null,null,null,"RVW","Y"]
[1,124,null,null,null,"RP1","Northamptonshire Healthcare NHS Foundation Trust",null,null,null,null,null,null,"RNS","Y"]
[1,125,null,null,null,"RBZ","Northern Devon Healthcare NHS Trust",null,null,null,null,null,null,"RP1","N"]
[1,126,null,null,null,"RJL","Northern Lincolnshire And Goole Hospitals NHS Foundation Trust",null,null,null,null,null,null,"RBZ","Y"]
[1,127,null,null,null,"RX4","Northumberland, Tyne and Wear NHS Foundation Trust",null,null,null,null,null,null,"RJL","Y"]
[1,128,null,null,null,"RTF","Northumbria Healthcare NHS Foundation Trust",null,null,null,null,null,null,"RX4","N"]
[1,129,null,null,null,"RX1","Nottingham University Hospitals NHS Trust",null,null,null,null,null,null,"RTF","Y"]
[1,130,null,null,null,"RHA","Nottinghamshire Healthcare NHS Trust",null,null,null,null,null,null,"RX1","Y"]
[1,131,null,null,null,"RNU","Oxford Health NHS Foundation Trust",null,null,null,null,null,null,"RHA","N"]
[1,132,null,null,null,"RTH","Oxford University Hospitals NHS Trust",null,null,null,null,null,null,"RNU","N"]
[1,133,null,null,null,"RPG","Oxleas NHS Foundation Trust",null,null,null,null,null,null,"RTH","Y"]
[1,134,null,null,null,"RGM","Papworth Hospital NHS Foundation Trust",null,null,null,null,null,null,"RPG","N"]
[1,135,null,null,null,"RW6","Pennine Acute Hospitals NHS Trust",null,null,null,null,null,null,"RGM","Y"]
[1,136,null,null,null,"RT2","Pennine Care NHS Foundation Trust",null,null,null,null,null,null,"RW6","Y"]
[1,137,null,null,null,"RK9","Plymouth Hospitals NHS Trust",null,null,null,null,null,null,"RT2","N"]
[1,138,null,null,null,"RD3","Poole Hospital NHS Foundation Trust",null,null,null,null,null,null,"RGN","Y"]
[1,139,null,null,null,"RHU","Portsmouth Hospitals NHS Trust",null,null,null,null,null,null,"RK9","Y"]
[1,140,null,null,null,"RPC","Queen Victoria Hospital NHS Foundation Trust",null,null,null,null,null,null,"RD3","Y"]
[1,141,null,null,null,"NVC","Ramsay Healthcare UK Operations Limited ",null,null,null,null,null,null,"RHU","Y"]
[1,142,null,null,null,"RXE","Rotherham Doncaster and South Humber NHS Foundation Trust",null,null,null,null,null,null,"RPC","Y"]
[1,143,null,null,null,"RHW","Royal Berkshire NHS Foundation Trust",null,null,null,null,null,null,"NVC","N"]
[1,144,null,null,null,"RT3","Royal Brompton And Harefield NHS Foundation Trust",null,null,null,null,null,null,"RXE","N"]
[1,145,null,null,null,"REF","Royal Cornwall Hospitals NHS Trust",null,null,null,null,null,null,"RHW","Y"]
[1,146,null,null,null,"RH8","Royal Devon And Exeter NHS Foundation Trust",null,null,null,null,null,null,"RT3","Y"]
[1,147,null,null,null,"RAL","Royal Free London NHS Foundation Trust",null,null,null,null,null,null,"REF","Y"]
[1,148,null,null,null,"RQ6","Royal Liverpool And Broadgreen University Hospitals NHS Trust",null,null,null,null,null,null,"RH8","Y"]
[1,149,null,null,null,"RBB","Royal National Hospital For Rheumatic Diseases NHS Foundation Trust",null,null,null,null,null,null,"RAL","Y"]
[1,150,null,null,null,"RAN","Royal National Orthopaedic Hospital NHS Trust",null,null,null,null,null,null,"RQ6","Y"]
[1,151,null,null,null,"RA2","Royal Surrey County Hospital NHS Foundation Trust",null,null,null,null,null,null,"RBB","N"]
[1,152,null,null,null,"RD1","Royal United Hospital Bath NHS Trust",null,null,null,null,null,null,"RAN","Y"]
[1,153,null,null,null,"RM3","Salford Royal NHS Foundation Trust",null,null,null,null,null,null,"RA2","Y"]
[1,154,null,null,null,"RNZ","Salisbury NHS Foundation Trust",null,null,null,null,null,null,"RD1","Y"]
[1,155,null,null,null,"RXK","Sandwell And West Birmingham Hospitals NHS Trust",null,null,null,null,null,null,"RM3","Y"]
[1,156,null,null,null,"RCU","Sheffield Children's NHS Foundation Trust",null,null,null,null,null,null,"RNZ","Y"]
[1,157,null,null,null,"TAH","Sheffield Health & Social Care NHS Foundation Trust",null,null,null,null,null,null,"RXK","Y"]
[1,158,null,null,null,"RHQ","Sheffield Teaching Hospitals NHS Foundation Trust",null,null,null,null,null,null,"RCU","Y"]
[1,159,null,null,null,"RK5","Sherwood Forest Hospitals NHS Foundation Trust",null,null,null,null,null,null,"TAH","N"]
[1,160,null,null,null,"RXW","Shrewsbury And Telford Hospital NHS Trust",null,null,null,null,null,null,"RHQ","Y"]
[1,161,null,null,null,"R1D","Shropshire Community Health NHS Trust",null,null,null,null,null,null,"RK5","Y"]
[1,162,null,null,null,"NLX","Sirona Care & Health",null,null,null,null,null,null,"RXW","Y"]
[1,163,null,null,null,"R1C","Solent NHS Trust",null,null,null,null,null,null,"R1D","N"]
[1,164,null,null,null,"RH5","Somerset Partnership NHS Foundation Trust",null,null,null,null,null,null,"NLX","N"]
[1,165,null,null,null,"RV5","South London And Maudsley NHS Foundation Trust",null,null,null,null,null,null,"R1C","N"]
[1,166,null,null,null,"RRE","South Staffordshire And Shropshire Healthcare NHS Foundation Trust",null,null,null,null,null,null,"RH5","N"]
[1,167,null,null,null,"RTR","South Tees Hospitals NHS Foundation Trust",null,null,null,null,null,null,"RWN","N"]
[1,168,null,null,null,"RE9","South Tyneside NHS Foundation Trust",null,null,null,null,null,null,"RV5","N"]
[1,169,null,null,null,"RJC","South Warwickshire NHS Foundation Trust",null,null,null,null,null,null,"RYQ","N"]
[1,170,null,null,null,"RQY","South West London And St George's Mental Health NHS Trust",null,null,null,null,null,null,"RRE","N"]
[1,171,null,null,null,"RXG","South West Yorkshire Partnership NHS Foundation Trust",null,null,null,null,null,null,"RTR","Y"]
[1,172,null,null,null,"RAJ","Southend University Hospital NHS Foundation Trust",null,null,null,null,null,null,"RE9","Y"]
[1,173,null,null,null,"RW1","Southern Health NHS Foundation Trust",null,null,null,null,null,null,"RJC","Y"]
[1,174,null,null,null,"RVY","Southport And Ormskirk Hospital NHS Trust",null,null,null,null,null,null,"RQY","N"]
[1,175,null,null,null,"RJ7","St George's Healthcare NHS Trust",null,null,null,null,null,null,"RXG","N"]
[1,176,null,null,null,"RBN","St Helens And Knowsley Hospitals NHS Trust",null,null,null,null,null,null,"RAJ","Y"]
[1,177,null,null,null,"R1E","Staffordshire and Stoke on Trent Partnership NHS Trust",null,null,null,null,null,null,"RW1","N"]
[1,178,null,null,null,"RWJ","Stockport NHS Foundation Trust",null,null,null,null,null,null,"RVY","Y"]
[1,179,null,null,null,"NHM","Suffolk Community Healthcare ",null,null,null,null,null,null,"RJ7","Y"]
[1,180,null,null,null,"RXX","Surrey and Borders Partnership NHS Foundation Trust",null,null,null,null,null,null,"RBN","Y"]
[1,181,null,null,null,"RTP","Surrey And Sussex Healthcare NHS Trust",null,null,null,null,null,null,"R1E","N"]
[1,182,null,null,null,"RDR","Sussex Community NHS Trust",null,null,null,null,null,null,"RWJ","Y"]
[1,183,null,null,null,"RX2","Sussex Partnership NHS Foundation Trust",null,null,null,null,null,null,"NHM","N"]
[1,184,null,null,null,"RMP","Tameside Hospital NHS Foundation Trust",null,null,null,null,null,null,"RXX","N"]
[1,185,null,null,null,"RBA","Taunton And Somerset NHS Foundation Trust",null,null,null,null,null,null,"RTP","Y"]
[1,186,null,null,null,"RNK","Tavistock And Portman NHS Foundation Trust",null,null,null,null,null,null,"RDR","N"]
[1,187,null,null,null,"RX3","Tees, Esk and Wear Valleys NHS Foundation Trust",null,null,null,null,null,null,"RX2","N"]
[1,188,null,null,null,"RBV","The Christie NHS Foundation Trust",null,null,null,null,null,null,"RMP","Y"]
[1,189,null,null,null,"REN","The Clatterbridge Cancer Centre NHS Foundation Trust",null,null,null,null,null,null,"RBA","Y"]
[1,190,null,null,null,"RNA","The Dudley Group NHS Foundation Trust",null,null,null,null,null,null,"RNK","N"]
[1,191,null,null,null,"RAS","The Hillingdon Hospitals NHS Foundation Trust",null,null,null,null,null,null,"RX3","N"]
[1,192,null,null,null,"RTD","The Newcastle Upon Tyne Hospitals NHS Foundation Trust",null,null,null,null,null,null,"RBV","Y"]
[1,193,null,null,null,"RQW","The Princess Alexandra Hospital NHS Trust",null,null,null,null,null,null,"REN","Y"]
[1,194,null,null,null,"RCX","The Queen Elizabeth Hospital, King's Lynn, NHS Foundation Trust",null,null,null,null,null,null,"RNA","Y"]
[1,195,null,null,null,"RL1","The Robert Jones And Agnes Hunt Orthopaedic Hospital NHS Foundation Trust",null,null,null,null,null,null,"RAS","Y"]
[1,196,null,null,null,"RFR","The Rotherham NHS Foundation Trust",null,null,null,null,null,null,"RTD","Y"]
[1,197,null,null,null,"RDZ","The Royal Bournemouth And Christchurch Hospitals NHS Foundation Trust",null,null,null,null,null,null,"RQW","Y"]
[1,198,null,null,null,"RPY","The Royal Marsden NHS Foundation Trust",null,null,null,null,null,null,"RCX","Y"]
[1,199,null,null,null,"RRJ","The Royal Orthopaedic Hospital NHS Foundation Trust",null,null,null,null,null,null,"RL1","Y"]
[1,200,null,null,null,"RL4","The Royal Wolverhampton NHS Trust",null,null,null,null,null,null,"RFR","Y"]
[{"$f":"A3+1","v":2},1,null,null,null,"RET","The Walton Centre NHS Foundation Trust",null,null,null,null,null,null,"RDZ","Y"]
[2,2,null,null,null,"RKE","The Whittington Hospital NHS Trust",null,null,null,null,null,null,"RPY","Y"]
[2,3,null,null,null,"RA9","Torbay and South Devon NHS Foundation Trust",null,null,null,null,null,null,"RRJ","Y"]
[2,4,null,null,null,"RWD","United Lincolnshire Hospitals NHS Trust",null,null,null,null,null,null,"RL4","Y"]
[2,5,null,null,null,"RRV","University College London Hospitals NHS Foundation Trust",null,null,null,null,null,null,"RET","Y"]
[2,6,null,null,null,"RJE","University Hospital of North Midlands NHS Trust",null,null,null,null,null,null,"RKE","Y"]
[2,7,null,null,null,"RHM","University Hospital Southampton NHS Foundation Trust",null,null,null,null,null,null,"RA9","Y"]
[2,8,null,null,null,"RRK","University Hospitals Birmingham NHS Foundation Trust",null,null,null,null,null,null,"RWD","Y"]
[2,9,null,null,null,"RA7","University Hospitals Bristol NHS Foundation Trust",null,null,null,null,null,null,"RRV","Y"]
[2,10,null,null,null,"RKB","University Hospitals Coventry And Warwickshire NHS Trust",null,null,null,null,null,null,"RJE","Y"]
[2,11,null,null,null,"RWE","University Hospitals Of Leicester NHS Trust",null,null,null,null,null,null,"RM2","Y"]
[2,12,null,null,null,"RTX","University Hospitals Of Morecambe Bay NHS Foundation Trust",null,null,null,null,null,null,"RHM","Y"]
[2,13,null,null,null,"RBK","Walsall Healthcare NHS Trust",null,null,null,null,null,null,"RRK","Y"]
[2,14,null,null,null,"RWW","Warrington And Halton Hospitals NHS Foundation Trust",null,null,null,null,null,null,"RA7","Y"]
[2,15,null,null,null,"RWG","West Hertfordshire Hospitals NHS Trust",null,null,null,null,null,null,"RKB","Y"]
[2,16,null,null,null,"RKL","West London Mental Health NHS Trust",null,null,null,null,null,null,"RWE","Y"]
[2,17,null,null,null,"RGR","West Suffolk NHS Foundation Trust",null,null,null,null,null,null,"RTX","Y"]
[2,18,null,null,null,"RYR","Western Sussex Hospitals NHS Trust",null,null,null,null,null,null,"RBK","Y"]
[2,19,null,null,null,"RA3","Weston Area Health NHS Trust",null,null,null,null,null,null,"RWW","Y"]
[2,20,null,null,null,"AXG","Wiltshire Health & Care LLP",null,null,null,null,null,null,"RWG","Y"]
[2,21,null,null,null,"RBL","Wirral University Teaching Hospital NHS Foundation Trust",null,null,null,null,null,null,"RKL","N"]
[2,22,null,null,null,"RWP","Worcestershire Acute Hospitals NHS Trust",null,null,null,null,null,null,"RGR","Y"]
[2,23,null,null,null,"R1A","Worcestershire Health and Care NHS Trust",null,null,null,null,null,null,"RYR","Y"]
[2,24,null,null,null,"RRF","Wrightington, Wigan And Leigh NHS Foundation Trust",null,null,null,null,null,null,"RA3","Y"]
[2,25,null,null,null,"RLQ","Wye Valley NHS Trust",null,null,null,null,null,null,"AXG","Y"]
[2,26,null,null,null,"RA4","Yeovil District Hospital NHS Foundation Trust",null,null,null,null,null,null,"RBL","Y"]
[2,27,null,null,null,"RCB","York Teaching Hospital NHS Foundation Trust",null,null,null,null,null,null,"RWP","Y"]
[2,28,null,null,null,null,null,null,null,null,null,null,null,"R1A","N"]
[2,29,null,null,null,null,null,null,null,null,null,null,null,"RRF","Y"]
[2,30,null,null,null,null,null,null,null,null,null,null,null,"RLQ","Y"]
[2,31,null,null,null,null,null,null,null,null,null,null,null,"RA4","Y"]
[2,32,null,null,null,null,null,null,null,null,null,null,null,"RCB","Y"]
[2,33]
[2,34]
[2,35]
[2,36]
[2,37]
[2,38]
[2,39]
[2,40]
[2,41]
[2,42]
[2,43]
[2,44]
[2,45]
[2,46]
[2,47]
[2,48]
[2,49]
[2,50]
[2,51]
[2,52]
[2,53]
[2,54]
[2,55]
[2,56]
[2,57]
[2,58]
[2,59]
[2,60]
[2,61]
[2,62]
[2,63]
[2,64]
[{"$f":"A67+1","v":2},65]
[2,66]
[2,67]
[2,68]
[2,69]
[2,70]
[2,71]
[2,72]
[2,73]
[2,74]
[2,75]
[2,76]
[2,77]
[2,78]
[2,79]
[2,80]
[2,81]
[2,82]
[2,83]
[2,84]
[2,85]
[2,86]
[2,87]
[2,88]
[2,89]
[2,90]
[2,91]
[2,92]
[2,93]
[2,94]
[2,95]
[2,96]
[2,97]
[2,98]
[2,99]
[2,100]
[2,101]
[2,102]
[2,103]
[2,104]
[2,105]
[2,106]
[2,107]
[2,108]
[2,109]
[2,110]
[2,111]
[2,112]
[2,113]
[2,114]
[2,115]
[2,116]
[2,117]
[2,118]
[2,119]
[2,120]
[2,121]
[2,122]
[2,123]
[2,124]
[2,125]
[2,126]
[2,127]
[2,128]
[{"$f":"A131+1","v":2},129]
[2,130]
[2,131]
[2,132]
[2,133]
[2,134]
[2,135]
[2,136]
[2,137]
[2,138]
[2,139]
[2,140]
[2,141]
[2,142]
[2,143]
[2,144]
[2,145]
[2,146]
[2,147]
[2,148]
[2,149]
[2,150]
[2,151]
[2,152]
[2,153]
[2,154]
[2,155]
[2,156]
[2,157]
[2,158]
[2,159]
[2,160]
[2,161]
[2,162]
[2,163]
[2,164]
[2,165]
[2,166]
[2,167]
[2,168]
[2,169]
[2,170]
[2,171]
[2,172]
[2,173]
[2,174]
[2,175]
[2,176]
[2,177]
[2,178]
[2,179]
[2,180]
[2,181]
[2,182]
[2,183]
[2,184]
[2,185]
[2,186]
[2,187]
[2,188]
[2,189]
[2,190]
[2,191]
[2,192]
[{"$f":"A195+1","v":2},193]
[2,194]
[2,195]
[2,196]
[2,197]
[2,198]
[2,199]
[2,200]
[3,1]
[3,2]
[3,3]
[3,4]
[3,5]
[3,6]
[3,7]
[3,8]
[3,9]
[3,10]
[3,11]
[3,12]
[3,13]
[3,14]
[3,15]
[3,16]
[3,17]
[3,18]
[3,19]
[3,20]
[3,21]
[3,22]
[3,23]
[3,24]
[3,25]
[3,26]
[3,27]
[3,28]
[3,29]
[3,30]
[3,31]
[3,32]
[3,33]
[3,34]
[3,35]
[3,36]
[3,37]
[3,38]
[3,39]
[3,40]
[3,41]
[3,42]
[3,43]
[3,44]
[3,45]
[3,46]
[3,47]
[3,48]
[3,49]
[3,50]
[3,51]
[3,52]
[3,53]
[3,54]
[3,55]
[3,56]
[{"$f":"A259+1","v":3},57]
[3,58]
[3,59]
[3,60]
[3,61]
[3,62]
[3,63]
[3,64]
[3,65]
[3,66]
[3,67]
[3,68]
[3,69]
[3,70]
[3,71]
[3,72]
[3,73]
[3,74]
[3,75]
[3,76]
[3,77]
[3,78]
[3,79]
[3,80]
[3,81]
[3,82]
[3,83]
[3,84]
[3,85]
[3,86]
[3,87]
[3,88]
[3,89]
[3,90]
[3,91]
[3,92]
[3,93]
[3,94]
[3,95]
[3,96]
[3,97]
[3,98]
[3,99]
[3,100]
[3,101]
[3,102]
[3,103]
[3,104]
[3,105]
[3,106]
[3,107]
[3,108]
[3,109]
[3,110]
[3,111]
[3,112]
[3,113]
[3,114]
[3,115]
[3,116]
[3,117]
[3,118]
[3,119]
[3,120]
[{"$f":"A323+1","v":3},121]
[3,122]
[3,123]
[3,124]
[3,125]
[3,126]
[3,127]
[3,128]
[3,129]
[3,130]
[3,131]
[3,132]
[3,133]
[3,134]
[3,135]
[3,136]
[3,137]
[3,138]
[3,139]
[3,140]
[3,141]
[3,142]
[3,143]
[3,144]
[3,145]
[3,146]
[3,147]
[3,148]
[3,149]
[3,150]
[3,151]
[3,152]
[3,153]
[3,154]
[3,155]
[3,156]
[3,157]
[3,158]
[3,159]
[3,160]
[3,161]
[3,162]
[3,163]
[3,164]
[3,165]
[3,166]
[3,167]
[3,168]
[3,169]
[3,170]
[3,171]
[3,172]
[3,173]
[3,174]
[3,175]
[3,176]
[3,177]
[3,178]
[3,179]
[3,180]
[3,181]
[3,182]
[3,183]
[3,184]
[{"$f":"A387+1","v":3},185]
[3,186]
[3,187]
[3,188]
[3,189]
[3,190]
[3,191]
[3,192]
[3,193]
[3,194]
[3,195]
[3,196]
[3,197]
[3,198]
[3,199]
[3,200]
[4,1]
[4,2]
[4,3]
[4,4]
[4,5]
[4,6]
[4,7]
[4,8]
[4,9]
[4,10]
[4,11]
[4,12]
[4,13]
[4,14]
[4,15]
[4,16]
[4,17]
[4,18]
[4,19]
[4,20]
[4,21]
[4,22]
[4,23]
[4,24]
[4,25]
[4,26]
[4,27]
[4,28]
[4,29]
[4,30]
[4,31]
[4,32]
[4,33]
[4,34]
[4,35]
[4,36]
[4,37]
[4,38]
[4,39]
[4,40]
[4,41]
[4,42]
[4,43]
[4,44]
[4,45]
[4,46]
[4,47]
[4,48]
[{"$f":"A451+1","v":4},49]
[4,50]
[4,51]
[4,52]
[4,53]
[4,54]
[4,55]
[4,56]
[4,57]
[4,58]
[4,59]
[4,60]
[4,61]
[4,62]
[4,63]
[4,64]
[4,65]
[4,66]
[4,67]
[4,68]
[4,69]
[4,70]
[4,71]
[4,72]
[4,73]
[4,74]
[4,75]
[4,76]
[4,77]
[4,78]
[4,79]
[4,80]
[4,81]
[4,82]
[4,83]
[4,84]
[4,85]
[4,86]
[4,87]
[4,88]
[4,89]
[4,90]
[4,91]
[4,92]
[4,93]
[4,94]
[4,95]
[4,96]
[4,97]
[4,98]
[4,99]
[4,100]
[4,101]
[4,102]
[4,103]
[4,104]
[4,105]
[4,106]
[4,107]
[4,108]
[4,109]
[4,110]
[4,111]
[4,112]
[{"$f":"A515+1","v":4},113]
[4,114]
[4,115]
[4,116]
[4,117]
[4,118]
[4,119]
[4,120]
[4,121]
[4,122]
[4,123]
[4,124]
[4,125]
[4,126]
[4,127]
[4,128]
[4,129]
[4,130]
[4,131]
[4,132]
[4,133]
[4,134]
[4,135]
[4,136]
[4,137]
[4,138]
[4,139]
[4,140]
[4,141]
[4,142]
[4,143]
[4,144]
[4,145]
[4,146]
[4,147]
[4,148]
[4,149]
[4,150]
[4,151]
[4,152]
[4,153]
[4,154]
[4,155]
[4,156]
[4,157]
[4,158]
[4,159]
[4,160]
[4,161]
[4,162]
[4,163]
[4,164]
[4,165]
[4,166]
[4,167]
[4,168]
[4,169]
[4,170]
[4,171]
[4,172]
[4,173]
[4,174]
[4,175]
[4,176]
[{"$f":"A579+1","v":4},177]
[4,178]
[4,179]
[4,180]
[4,181]
[4,182]
[4,183]
[4,184]
[4,185]
[4,186]
[4,187]
[4,188]
[4,189]
[4,190]
[4,191]
[4,192]
[4,193]
[4,194]
[4,195]
[4,196]
[4,197]
[4,198]
[4,199]
[4,200]
[5,1]
[5,2]
[5,3]
[5,4]
[5,5]
[5,6]
[5,7]
[5,8]
[5,9]
[5,10]
[5,11]
[5,12]
[5,13]
[5,14]
[5,15]
[5,16]
[5,17]
[5,18]
[5,19]
[5,20]
[5,21]
[5,22]
[5,23]
[5,24]
[5,25]
[5,26]
[5,27]
[5,28]
[5,29]
[5,30]
[5,31]
[5,32]
[5,33]
[5,34]
[5,35]
[5,36]
[5,37]
[5,38]
[5,39]
[5,40]
[{"$f":"A643+1","v":5},41]
[5,42]
[5,43]
[5,44]
[5,45]
[5,46]
[5,47]
[5,48]
[5,49]
[5,50]
[5,51]
[5,52]
[5,53]
[5,54]
[5,55]
[5,56]
[5,57]
[5,58]
[5,59]
[5,60]
[5,61]
[5,62]
[5,63]
[5,64]
[5,65]
[5,66]
[5,67]
[5,68]
[5,69]
[5,70]
[5,71]
[5,72]
[5,73]
[5,74]
[5,75]
[5,76]
[5,77]
[5,78]
[5,79]
[5,80]
[5,81]
[5,82]
[5,83]
[5,84]
[5,85]
[5,86]
[5,87]
[5,88]
[5,89]
[5,90]
[5,91]
[5,92]
[5,93]
[5,94]
[5,95]
[5,96]
[5,97]
[5,98]
[5,99]
[5,100]
[5,101]
[5,102]
[5,103]
[5,104]
[{"$f":"A707+1","v":5},105]
[5,106]
[5,107]
[5,108]
[5,109]
[5,110]
[5,111]
[5,112]
[5,113]
[5,114]
[5,115]
[5,116]
[5,117]
[5,118]
[5,119]
[5,120]
[5,121]
[5,122]
[5,123]
[5,124]
[5,125]
[5,126]
[5,127]
[5,128]
[5,129]
[5,130]
[5,131]
[5,132]
[5,133]
[5,134]
[5,135]
[5,136]
[5,137]
[5,138]
[5,139]
[5,140]
[5,141]
[5,142]
[5,143]
[5,144]
[5,145]
[5,146]
[5,147]
[5,148]
[5,149]
[5,150]
[5,151]
[5,152]
[5,153]
[5,154]
[5,155]
[5,156]
[5,157]
[5,158]
[5,159]
[5,160]
[5,161]
[5,162]
[5,163]
[5,164]
[5,165]
[5,166]
[5,167]
[5,168]
[{"$f":"A771+1","v":5},169]
[5,170]
[5,171]
[5,172]
[5,173]
[5,174]
[5,175]
[5,176]
[5,177]
[5,178]
[5,179]
[5,180]
[5,181]
[5,182]
[5,183]
[5,184]
[5,185]
[5,186]
[5,187]
[5,188]
[5,189]
[5,190]
[5,191]
[5,192]
[5,193]
[5,194]
[5,195]
[5,196]
[5,197]
[5,198]
[5,199]
[5,200]
[6,1]
[6,2]
[6,3]
[6,4]
[6,5]
[6,6]
[6,7]
[6,8]
[6,9]
[6,10]
[6,11]
[6,12]
[6,13]
[6,14]
[6,15]
[6,16]
[6,17]
[6,18]
[6,19]
[6,20]
[6,21]
[6,22]
[6,23]
[6,24]
[6,25]
[6,26]
[6,27]
[6,28]
[6,29]
[6,30]
[6,31]
[6,32]
[{"$f":"A835+1","v":6},33]
[6,34]
[6,35]
[6,36]
[6,37]
[6,38]
[6,39]
[6,40]
[6,41]
[6,42]
[6,43]
[6,44]
[6,45]
[6,46]
[6,47]
[6,48]
[6,49]
[6,50]
[6,51]
[6,52]
[6,53]
[6,54]
[6,55]
[6,56]
[6,57]
[6,58]
[6,59]
[6,60]
[6,61]
[6,62]
[6,63]
[6,64]
[6,65]
[6,66]
[6,67]
[6,68]
[6,69]
[6,70]
[6,71]
[6,72]
[6,73]
[6,74]
[6,75]
[6,76]
[6,77]
[6,78]
[6,79]
[6,80]
[6,81]
[6,82]
[6,83]
[6,84]
[6,85]
[6,86]
[6,87]
[6,88]
[6,89]
[6,90]
[6,91]
[6,92]
[6,93]
[6,94]
[6,95]
[6,96]
[{"$f":"A899+1","v":6},97]
[6,98]
[6,99]
[6,100]
[6,101]
[6,102]
[6,103]
[6,104]
[6,105]
[6,106]
[6,107]
[6,108]
[6,109]
[6,110]
[6,111]
[6,112]
[6,113]
[6,114]
[6,115]
[6,116]
[6,117]
[6,118]
[6,119]
[6,120]
[6,121]
[6,122]
[6,123]
[6,124]
[6,125]
[6,126]
[6,127]
[6,128]
[6,129]
[6,130]
[6,131]
[6,132]
[6,133]
[6,134]
[6,135]
[6,136]
[6,137]
[6,138]
[6,139]
[6,140]
[6,141]
[6,142]
[6,143]
[6,144]
[6,145]
[6,146]
[6,147]
[6,148]
[6,149]
[6,150]
[6,151]
[6,152]
[6,153]
[6,154]
[6,155]
[6,156]
[6,157]
[6,158]
[6,159]
[6,160]
[{"$f":"A963+1","v":6},161]
[6,162]
[6,163]
[6,164]
[6,165]
[6,166]
[6,167]
[6,168]
[6,169]
[6,170]
[6,171]
[6,172]
[6,173]
[6,174]
[6,175]
[6,176]
[6,177]
[6,178]
[6,179]
[6,180]
[6,181]
[6,182]
[6,183]
[6,184]
[6,185]
[6,186]
[6,187]
[6,188]
[6,189]
[6,190]
[6,191]
[6,192]
[6,193]
[6,194]
[6,195]
[6,196]
[6,197]
[6,198]
[6,199]
[6,200]
[7,1]
[7,2]
[7,3]
[7,4]
[7,5]
[7,6]
[7,7]
[7,8]
[7,9]
[7,10]
[7,11]
[7,12]
[7,13]
[7,14]
[7,15]
[7,16]
[7,17]
[7,18]
[7,19]
[7,20]
[7,21]
[7,22]
[7,23]
[7,24]
[{"$f":"A1027+1","v":7},25]
[7,26]
[7,27]
[7,28]
[7,29]
[7,30]
[7,31]
[7,32]
[7,33]
[7,34]
[7,35]
[7,36]
[7,37]
[7,38]
[7,39]
[7,40]
[7,41]
[7,42]
[7,43]
[7,44]
[7,45]
[7,46]
[7,47]
[7,48]
[7,49]
[7,50]
[7,51]
[7,52]
[7,53]
[7,54]
[7,55]
[7,56]
[7,57]
[7,58]
[7,59]
[7,60]
[7,61]
[7,62]
[7,63]
[7,64]
[7,65]
[7,66]
[7,67]
[7,68]
[7,69]
[7,70]
[7,71]
[7,72]
[7,73]
[7,74]
[7,75]
[7,76]
[7,77]
[7,78]
[7,79]
[7,80]
[7,81]
[7,82]
[7,83]
[7,84]
[7,85]
[7,86]
[7,87]
[7,88]
[{"$f":"A1091+1","v":7},89]
[7,90]
[7,91]
[7,92]
[7,93]
[7,94]
[7,95]
[7,96]
[7,97]
[7,98]
[7,99]
[7,100]
[7,101]
[7,102]
[7,103]
[7,104]
[7,105]
[7,106]
[7,107]
[7,108]
[7,109]
[7,110]
[7,111]
[7,112]
[7,113]
[7,114]
[7,115]
[7,116]
[7,117]
[7,118]
[7,119]
[7,120]
[7,121]
[7,122]
[7,123]
[7,124]
[7,125]
[7,126]
[7,127]
[7,128]
[7,129]
[7,130]
[7,131]
[7,132]
[7,133]
[7,134]
[7,135]
[7,136]
[7,137]
[7,138]
[7,139]
[7,140]
[7,141]
[7,142]
[7,143]
[7,144]
[7,145]
[7,146]
[7,147]
[7,148]
[7,149]
[7,150]
[7,151]
[7,152]
[{"$f":"A1155+1","v":7},153]
[7,154]
[7,155]
[7,156]
[7,157]
[7,158]
[7,159]
[7,160]
[7,161]
[7,162]
[7,163]
[7,164]
[7,165]
[7,166]
[7,167]
[7,168]
[7,169]
[7,170]
[7,171]
[7,172]
[7,173]
[7,174]
[7,175]
[7,176]
[7,177]
[7,178]
[7,179]
[7,180]
[7,181]
[7,182]
[7,183]
[7,184]
[7,185]
[7,186]
[7,187]
[7,188]
[7,189]
[7,190]
[7,191]
[7,192]
[7,193]
[7,194]
[7,195]
[7,196]
[7,197]
[7,198]
[7,199]
[7,200]
[8,1]
[8,2]
[8,3]
[8,4]
[8,5]
[8,6]
[8,7]
[8,8]
[8,9]
[8,10]
[8,11]
[8,12]
[8,13]
[8,14]
[8,15]
[8,16]
[{"$f":"A1219+1","v":8},17]
[8,18]
[8,19]
[8,20]
[8,21]
[8,22]
[8,23]
[8,24]
[8,25]
[8,26]
[8,27]
[8,28]
[8,29]
[8,30]
[8,31]
[8,32]
[8,33]
[8,34]
[8,35]
[8,36]
[8,37]
[8,38]
[8,39]
[8,40]
[8,41]
[8,42]
[8,43]
[8,44]
[8,45]
[8,46]
[8,47]
[8,48]
[8,49]
[8,50]
[8,51]
[8,52]
[8,53]
[8,54]
[8,55]
[8,56]
[8,57]
[8,58]
[8,59]
[8,60]
[8,61]
[8,62]
[8,63]
[8,64]
[8,65]
[8,66]
[8,67]
[8,68]
[8,69]
[8,70]
[8,71]
[8,72]
[8,73]
[8,74]
[8,75]
[8,76]
[8,77]
[8,78]
[8,79]
[8,80]
[{"$f":"A1283+1","v":8},81]
[8,82]
[8,83]
[8,84]
[8,85]
[8,86]
[8,87]
[8,88]
[8,89]
[8,90]
[8,91]
[8,92]
[8,93]
[8,94]
[8,95]
[8,96]
[8,97]
[8,98]
[8,99]
[8,100]
[8,101]
[8,102]
[8,103]
[8,104]
[8,105]
[8,106]
[8,107]
[8,108]
[8,109]
[8,110]
[8,111]
[8,112]
[8,113]
[8,114]
[8,115]
[8,116]
[8,117]
[8,118]
[8,119]
[8,120]
[8,121]
[8,122]
[8,123]
[8,124]
[8,125]
[8,126]
[8,127]
[8,128]
[8,129]
[8,130]
[8,131]
[8,132]
[8,133]
[8,134]
[8,135]
[8,136]
[8,137]
[8,138]
[8,139]
[8,140]
[8,141]
[8,142]
[8,143]
[8,144]
[{"$f":"A1347+1","v":8},145]
[8,146]
[8,147]
[8,148]
[8,149]
[8,150]
[8,151]
[8,152]
[8,153]
[8,154]
[8,155]
[8,156]
[8,157]
[8,158]
[8,159]
[8,160]
[8,161]
[8,162]
[8,163]
[8,164]
[8,165]
[8,166]
[8,167]
[8,168]
[8,169]
[8,170]
[8,171]
[8,172]
[8,173]
[8,174]
[8,175]
[8,176]
[8,177]
[8,178]
[8,179]
[8,180]
[8,181]
[8,182]
[8,183]
[8,184]
[8,185]
[8,186]
[8,187]
[8,188]
[8,189]
[8,190]
[8,191]
[8,192]
[8,193]
[8,194]
[8,195]
[8,196]
[8,197]
[8,198]
[8,199]
[8,200]
[9,1]
[9,2]
[9,3]
[9,4]
[9,5]
[9,6]
[9,7]
[9,8]
[{"$f":"A1411+1","v":9},9]
[9,10]
[9,11]
[9,12]
[9,13]
[9,14]
[9,15]
[9,16]
[9,17]
[9,18]
[9,19]
[9,20]
[9,21]
[9,22]
[9,23]
[9,24]
[9,25]
[9,26]
[9,27]
[9,28]
[9,29]
[9,30]
[9,31]
[9,32]
[9,33]
[9,34]
[9,35]
[9,36]
[9,37]
[9,38]
[9,39]
[9,40]
[9,41]
[9,42]
[9,43]
[9,44]
[9,45]
[9,46]
[9,47]
[9,48]
[9,49]
[9,50]
[9,51]
[9,52]
[9,53]
[9,54]
[9,55]
[9,56]
[9,57]
[9,58]
[9,59]
[9,60]
[9,61]
[9,62]
[9,63]
[9,64]
[9,65]
[9,66]
[9,67]
[9,68]
[9,69]
[9,70]
[9,71]
[9,72]
[{"$f":"A1475+1","v":9},73]
[9,74]
[9,75]
[9,76]
[9,77]
[9,78]
[9,79]
[9,80]
[9,81]
[9,82]
[9,83]
[9,84]
[9,85]
[9,86]
[9,87]
[9,88]
[9,89]
[9,90]
[9,91]
[9,92]
[9,93]
[9,94]
[9,95]
[9,96]
[9,97]
[9,98]
[9,99]
[9,100]
[9,101]
[9,102]
[9,103]
[9,104]
[9,105]
[9,106]
[9,107]
[9,108]
[9,109]
[9,110]
[9,111]
[9,112]
[9,113]
[9,114]
[9,115]
[9,116]
[9,117]
[9,118]
[9,119]
[9,120]
[9,121]
[9,122]
[9,123]
[9,124]
[9,125]
[9,126]
[9,127]
[9,128]
[9,129]
[9,130]
[9,131]
[9,132]
[9,133]
[9,134]
[9,135]
[9,136]
[{"$f":"A1539+1","v":9},137]
[9,138]
[9,139]
[9,140]
[9,141]
[9,142]
[9,143]
[9,144]
[9,145]
[9,146]
[9,147]
[9,148]
[9,149]
[9,150]
[9,151]
[9,152]
[9,153]
[9,154]
[9,155]
[9,156]
[9,157]
[9,158]
[9,159]
[9,160]
[9,161]
[9,162]
[9,163]
[9,164]
[9,165]
[9,166]
[9,167]
[9,168]
[9,169]
[9,170]
[9,171]
[9,172]
[9,173]
[9,174]
[9,175]
[9,176]
[9,177]
[9,178]
[9,179]
[9,180]
[9,181]
[9,182]
[9,183]
[9,184]
[9,185]
[9,186]
[9,187]
[9,188]
[9,189]
[9,190]
[9,191]
[9,192]
[9,193]
[9,194]
[9,195]
[9,196]
[9,197]
[9,198]
[9,199]
[9,200]
[{"$f":"A1603+1","v":10},1]
[10,2]
[10,3]
[10,4]
[10,5]
[10,6]
[10,7]
[10,8]
[10,9]
[10,10]
[10,11]
[10,12]
[10,13]
[10,14]
[10,15]
[10,16]
[10,17]
[10,18]
[10,19]
[10,20]
[10,21]
[10,22]
[10,23]
[10,24]
[10,25]
[10,26]
[10,27]
[10,28]
[10,29]
[10,30]
[10,31]
[10,32]
[10,33]
[10,34]
[10,35]
[10,36]
[10,37]
[10,38]
[10,39]
[10,40]
[10,41]
[10,42]
[10,43]
[10,44]
[10,45]
[10,46]
[10,47]
[10,48]
[10,49]
[10,50]
[10,51]
[10,52]
[10,53]
[10,54]
[10,55]
[10,56]
[10,57]
[10,58]
[10,59]
[10,60]
[10,61]
[10,62]
[10,63]
[10,64]
[{"$f":"A1667+1","v":10},65]
[10,66]
[10,67]
[10,68]
[10,69]
[10,70]
[10,71]
[10,72]
[10,73]
[10,74]
[10,75]
[10,76]
[10,77]
[10,78]
[10,79]
[10,80]
[10,81]
[10,82]
[10,83]
[10,84]
[10,85]
[10,86]
[10,87]
[10,88]
[10,89]
[10,90]
[10,91]
[10,92]
[10,93]
[10,94]
[10,95]
[10,96]
[10,97]
[10,98]
[10,99]
[10,100]
[10,101]
[10,102]
[10,103]
[10,104]
[10,105]
[10,106]
[10,107]
[10,108]
[10,109]
[10,110]
[10,111]
[10,112]
[10,113]
[10,114]
[10,115]
[10,116]
[10,117]
[10,118]
[10,119]
[10,120]
[10,121]
[10,122]
[10,123]
[10,124]
[10,125]
[10,126]
[10,127]
[10,128]
[{"$f":"A1731+1","v":10},129]
[10,130]
[10,131]
[10,132]
[10,133]
[10,134]
[10,135]
[10,136]
[10,137]
[10,138]
[10,139]
[10,140]
[10,141]
[10,142]
[10,143]
[10,144]
[10,145]
[10,146]
[10,147]
[10,148]
[10,149]
[10,150]
[10,151]
[10,152]
[10,153]
[10,154]
[10,155]
[10,156]
[10,157]
[10,158]
[10,159]
[10,160]
[10,161]
[10,162]
[10,163]
[10,164]
[10,165]
[10,166]
[10,167]
[10,168]
[10,169]
[10,170]
[10,171]
[10,172]
[10,173]
[10,174]
[10,175]
[10,176]
[10,177]
[10,178]
[10,179]
[10,180]
[10,181]
[10,182]
[10,183]
[10,184]
[10,185]
[10,186]
[10,187]
[10,188]
[10,189]
[10,190]
[10,191]
[10,192]
[{"$f":"A1795+1","v":10},193]
[10,194]
[10,195]
[10,196]
[10,197]
[10,198]
[10,199]
[10,200]
[11,1]
[11,2]
[11,3]
[11,4]
[11,5]
[11,6]
[11,7]
[11,8]
[11,9]
[11,10]
[11,11]
[11,12]
[11,13]
[11,14]
[11,15]
[11,16]
[11,17]
[11,18]
[11,19]
[11,20]
[11,21]
[11,22]
[11,23]
[11,24]
[11,25]
[11,26]
[11,27]
[11,28]
[11,29]
[11,30]
[11,31]
[11,32]
[11,33]
[11,34]
[11,35]
[11,36]
[11,37]
[11,38]
[11,39]
[11,40]
[11,41]
[11,42]
[11,43]
[11,44]
[11,45]
[11,46]
[11,47]
[11,48]
[11,49]
[11,50]
[11,51]
[11,52]
[11,53]
[11,54]
[11,55]
[11,56]
[{"$f":"A1859+1","v":11},57]
[11,58]
[11,59]
[11,60]
[11,61]
[11,62]
[11,63]
[11,64]
[11,65]
[11,66]
[11,67]
[11,68]
[11,69]
[11,70]
[11,71]
[11,72]
[11,73]
[11,74]
[11,75]
[11,76]
[11,77]
[11,78]
[11,79]
[11,80]
[11,81]
[11,82]
[11,83]
[11,84]
[11,85]
[11,86]
[11,87]
[11,88]
[11,89]
[11,90]
[11,91]
[11,92]
[11,93]
[11,94]
[11,95]
[11,96]
[11,97]
[11,98]
[11,99]
[11,100]
[11,101]
[11,102]
[11,103]
[11,104]
[11,105]
[11,106]
[11,107]
[11,108]
[11,109]
[11,110]
[11,111]
[11,112]
[11,113]
[11,114]
[11,115]
[11,116]
[11,117]
[11,118]
[11,119]
[11,120]
[{"$f":"A1923+1","v":11},121]
[11,122]
[11,123]
[11,124]
[11,125]
[11,126]
[11,127]
[11,128]
[11,129]
[11,130]
[11,131]
[11,132]
[11,133]
[11,134]
[11,135]
[11,136]
[11,137]
[11,138]
[11,139]
[11,140]
[11,141]
[11,142]
[11,143]
[11,144]
[11,145]
[11,146]
[11,147]
[11,148]
[11,149]
[11,150]
[11,151]
[11,152]
[11,153]
[11,154]
[11,155]
[11,156]
[11,157]
[11,158]
[11,159]
[11,160]
[11,161]
[11,162]
[11,163]
[11,164]
[11,165]
[11,166]
[11,167]
[11,168]
[11,169]
[11,170]
[11,171]
[11,172]
[11,173]
[11,174]
[11,175]
[11,176]
[11,177]
[11,178]
[11,179]
[11,180]
[11,181]
[11,182]
[11,183]
[11,184]
[{"$f":"A1987+1","v":11},185]
[11,186]
[11,187]
[11,188]
[11,189]
[11,190]
[11,191]
[11,192]
[11,193]
[11,194]
[11,195]
[11,196]
[11,197]
[11,198]
[11,199]
[11,200]
[12,1]
[12,2]
[12,3]
[12,4]
[12,5]
[12,6]
[12,7]
[12,8]
[12,9]
[12,10]
[12,11]
[12,12]
[12,13]
[12,14]
[12,15]
[12,16]
[12,17]
[12,18]
[12,19]
[12,20]
[12,21]
[12,22]
[12,23]
[12,24]
[12,25]
[12,26]
[12,27]
[12,28]
[12,29]
[12,30]
[12,31]
[12,32]
[12,33]
[12,34]
[12,35]
[12,36]
[12,37]
[12,38]
[12,39]
[12,40]
[12,41]
[12,42]
[12,43]
[12,44]
[12,45]
[12,46]
[12,47]
[12,48]
[{"$f":"A2051+1","v":12},49]
[12,50]
[12,51]
[12,52]
[12,53]
[12,54]
[12,55]
[12,56]
[12,57]
[12,58]
[12,59]
[12,60]
[12,61]
[12,62]
[12,63]
[12,64]
[12,65]
[12,66]
[12,67]
[12,68]
[12,69]
[12,70]
[12,71]
[12,72]
[12,73]
[12,74]
[12,75]
[12,76]
[12,77]
[12,78]
[12,79]
[12,80]
[12,81]
[12,82]
[12,83]
[12,84]
[12,85]
[12,86]
[12,87]
[12,88]
[12,89]
[12,90]
[12,91]
[12,92]
[12,93]
[12,94]
[12,95]
[12,96]
[12,97]
[12,98]
[12,99]
[12,100]
[12,101]
[12,102]
[12,103]
[12,104]
[12,105]
[12,106]
[12,107]
[12,108]
[12,109]
[12,110]
[12,111]
[12,112]
[{"$f":"A2115+1","v":12},113]
[12,114]
[12,115]
[12,116]
[12,117]
[12,118]
[12,119]
[12,120]
[12,121]
[12,122]
[12,123]
[12,124]
[12,125]
[12,126]
[12,127]
[12,128]
[12,129]
[12,130]
[12,131]
[12,132]
[12,133]
[12,134]
[12,135]
[12,136]
[12,137]
[12,138]
[12,139]
[12,140]
[12,141]
[12,142]
[12,143]
[12,144]
[12,145]
[12,146]
[12,147]
[12,148]
[12,149]
[12,150]
[12,151]
[12,152]
[12,153]
[12,154]
[12,155]
[12,156]
[12,157]
[12,158]
[12,159]
[12,160]
[12,161]
[12,162]
[12,163]
[12,164]
[12,165]
[12,166]
[12,167]
[12,168]
[12,169]
[12,170]
[12,171]
[12,172]
[12,173]
[12,174]
[12,175]
[12,176]
[{"$f":"A2179+1","v":12},177]
[12,178]
[12,179]
[12,180]
[12,181]
[12,182]
[12,183]
[12,184]
[12,185]
[12,186]
[12,187]
[12,188]
[12,189]
[12,190]
[12,191]
[12,192]
[12,193]
[12,194]
[12,195]
[12,196]
[12,197]
[12,198]
[12,199]
[12,200]
[13,1]
[13,2]
[13,3]
[13,4]
[13,5]
[13,6]
[13,7]
[13,8]
[13,9]
[13,10]
[13,11]
[13,12]
[13,13]
[13,14]
[13,15]
[13,16]
[13,17]
[13,18]
[13,19]
[13,20]
[13,21]
[13,22]
[13,23]
[13,24]
[13,25]
[13,26]
[13,27]
[13,28]
[13,29]
[13,30]
[13,31]
[13,32]
[13,33]
[13,34]
[13,35]
[13,36]
[13,37]
[13,38]
[13,39]
[13,40]
[13,41]
[13,42]
[13,43]
[13,44]
[13,45]
[13,46]
[13,47]
[13,48]
[13,49]
[13,50]
[13,51]
[13,52]
[13,53]
[13,54]
[13,55]
[13,56]
[13,57]
[13,58]
[13,59]
[13,60]
[13,61]
[13,62]
[13,63]
[13,64]
[13,65]
[13,66]
[13,67]
[13,68]
[13,69]
[13,70]
[13,71]
[13,72]
[13,73]
[13,74]
[13,75]
[13,76]
[13,77]
[13,78]
[13,79]
[13,80]
[13,81]
[13,82]
[13,83]
[13,84]
[13,85]
[13,86]
[13,87]
[13,88]
[13,89]
[13,90]
[13,91]
[13,92]
[13,93]
[13,94]
[13,95]
[13,96]
[13,97]
[13,98]
[13,99]
[13,100]
[13,101]
[13,102]
[13,103]
[13,104]
[13,105]
[13,106]
[13,107]
[13,108]
[13,109]
[13,110]
[13,111]
[13,112]
[13,113]
[13,114]
[13,115]
[13,116]
[13,117]
[13,118]
[13,119]
[13,120]
[13,121]
[13,122]
[13,123]
[13,124]
[13,125]
[13,126]
[13,127]
[13,128]
[13,129]
[13,130]
[13,131]
[13,132]
[13,133]
[13,134]
[13,135]
[13,136]
[13,137]
[13,138]
[13,139]
[13,140]
[13,141]
[13,142]
[13,143]
[13,144]
[13,145]
[13,146]
[13,147]
[13,148]
[13,149]
[13,150]
[13,151]
[13,152]
[13,153]
[13,154]
[13,155]
[13,156]
[13,157]
[13,158]
[13,159]
[13,160]
[13,161]
[13,162]
[13,163]
[13,164]
[13,165]
[13,166]
[13,167]
[13,168]
[13,169]
[13,170]
[13,171]
[13,172]
[13,173]
[13,174]
[13,175]
[13,176]
[13,177]
[13,178]
[13,179]
[13,180]
[13,181]
[13,182]
[13,183]
[13,184]
[13,185]
[13,186]
[13,187]
[13,188]
[13,189]
[13,190]
[13,191]
[13,192]
[13,193]
[13,194]
[13,195]
[13,196]
[13,197]
[13,198]
[13,199]
[13,200]
[18,1]
[18,2]
[18,3]
[18,4]
[18,5]
[18,6]
[18,7]
[18,8]
[18,9]
[18,10]
[18,11]
[18,12]
[18,13]
[18,14]
[18,15]
[18,16]
[18,17]
[18,18]
[18,19]
[18,20]
[18,21]
[18,22]
[18,23]
[18,24]
[18,25]
[18,26]
[18,27]
[18,28]
[18,29]
[18,30]
[18,31]
[18,32]
[18,33]
[18,34]
[18,35]
[18,36]
[18,37]
[18,38]
[18,39]
[18,40]
[18,41]
[18,42]
[18,43]
[18,44]
[18,45]
[18,46]
[18,47]
[18,48]
[18,49]
[18,50]
[18,51]
[18,52]
[18,53]
[18,54]
[18,55]
[18,56]
[18,57]
[18,58]
[18,59]
[18,60]
[18,61]
[18,62]
[18,63]
[18,64]
[18,65]
[18,66]
[18,67]
[18,68]
[18,69]
[18,70]
[18,71]
[18,72]
[18,73]
[18,74]
[18,75]
[18,76]
[18,77]
[18,78]
[18,79]
[18,80]
[18,81]
[18,82]
[18,83]
[18,84]
[18,85]
[18,86]
[18,87]
[18,88]
[18,89]
[18,90]
[18,91]
[18,92]
[18,93]
[18,94]
[18,95]
[18,96]
[18,97]
[18,98]
[18,99]
[18,100]
[18,101]
[18,102]
[18,103]
[18,104]
[18,105]
[18,106]
[18,107]
[18,108]
[18,109]
[18,110]
[18,111]
[18,112]
[18,113]
[18,114]
[18,115]
[18,116]
[18,117]
[18,118]
[18,119]
[18,120]
[18,121]
[18,122]
[18,123]
[18,124]
[18,125]
[18,126]
[18,127]
[18,128]
[18,129]
[18,130]
[18,131]
[18,132]
[18,133]
[18,134]
[18,135]
[18,136]
[18,137]
[18,138]
[18,139]
[18,140]
[18,141]
[18,142]
[18,143]
[18,144]
[18,145]
[18,146]
[18,147]
[18,148]
[18,149]
[18,150]
[18,151]
[18,152]
[18,153]
[18,154]
[18,155]
[18,156]
[18,157]
[18,158]
[18,159]
[18,160]
[18,161]
[18,162]
[18,163]
[18,164]
[18,165]
[18,166]
[18,167]
[18,168]
[18,169]
[18,170]
[18,171]
[18,172]
[18,173]
[18,174]
[18,175]
[18,176]
[18,177]
[18,178]
[18,179]
[18,180]
[18,181]
[18,182]
[18,183]
[18,184]
[18,185]
[18,186]
[18,187]
[18,188]
[18,189]
[18,190]
[18,191]
[18,192]
[18,193]
[18,194]
[18,195]
[18,196]
[18,197]
[18,198]
[18,199]
[18,200]

{"sheet":"Backsheet","index":6,"n_rows":201,"n_cols":22,"rows_kept":201,"cut":false,"hidden":true,"merged":[]}
["Site Code:K","Site Name","Ward","Specialty 1","Specialty 2","Day Nurse Plan:N","Day Nurse Actual:N","Day Care Plan:N","Day Care Actual:N","Night Nurse Plan:N","Night Nurse Actual:N","Night Care Plan:N","Night Care Actual:N","Day Nurse Fill Rate:N","Day Care Fill Rate:N","Night Nurse Fill Rate:N","Night Care Fill Rate:N","Total Patients (CHPPD):N","Nurse CHPPD:N","Care CHPPD:N","Overall CHPPD:N","Url Staffing Url"]
[{"$f":"IF('Trust - Frontsheet'!D14=0,\"\",IF('Trust - Frontsheet'!D14=\"\",\"\",'Trust - Frontsheet'!D14))","v":"RWG02"},{"$f":"IF(ISBLANK('Trust - Frontsheet'!E14),\"\",'Trust - Frontsheet'!E14)","v":"WATFORD GENERAL HOSPITAL - RWG02"},{"$f":"IF(ISBLANK('Trust - Frontsheet'!F14),\"\",'Trust - Frontsheet'!F14)","v":"AAU Blue Level 1"},{"$f":"IF(ISBLANK('Trust - Frontsheet'!G14),\"\",'Trust - Frontsheet'!G14)","v":"326 - ACUTE INTERNAL MEDICINE"},{"$f":"IF(ISBLANK('Trust - Frontsheet'!H14),\"\",'Trust - Frontsheet'!H14)","v":""},{"$f":"'Trust - Frontsheet'!I14","v":1242},{"$f":"'Trust - Frontsheet'!J14","v":793.5},{"$f":"'Trust - Frontsheet'!K14","v":713},{"$f":"'Trust - Frontsheet'!L14","v":920},{"$f":"'Trust - Frontsheet'!M14","v":1069.5},{"$f":"'Trust - Frontsheet'!N14","v":874},{"$f":"'Trust - Frontsheet'!O14","v":713},{"$f":"'Trust - Frontsheet'!P14","v":805},{"$f":"IF('Trust - Frontsheet'!Q14=\"\",0,('Trust - Frontsheet'!Q14))","v":0.63888888888888884},{"$f":"IF('Trust - Frontsheet'!R14=\"\",0,('Trust - Frontsheet'!R14))","v":1.2903225806451613},{"$f":"IF('Trust - Frontsheet'!S14=\"\",0,('Trust - Frontsheet'!S14))","v":0.81720430107526887},{"$f":"IF('Trust - Frontsheet'!T14=\"\",0,('Trust - Frontsheet'!T14))","v":1.1290322580645162},{"$f":"'Trust - Frontsheet'!U14","v":431},{"$f":"IF('Trust - Frontsheet'!V14=\"\",0,('Trust - Frontsheet'!V14))","v":3.8689095127610207},{"$f":"IF('Trust - Frontsheet'!W14=\"\",0,('Trust - Frontsheet'!W14))","v":4.0023201856148489},{"$f":"IF('Trust - Frontsheet'!X14=\"\",0,('Trust - Frontsheet'!X14))","v":7.8712296983758705},{"$f":"IF(A2=\"\",\"\",(IF(ISBLANK('Trust - Frontsheet'!F9),\"\",'Trust - Frontsheet'!F9)))","v":""}]
[{"$f":"IF('Trust - Frontsheet'!D15=0,\"\",IF('Trust - Frontsheet'!D15=\"\",\"\",'Trust - Frontsheet'!D15))","v":"RWG02"},{"$f":"IF(ISBLANK('Trust - Frontsheet'!E15),\"\",'Trust - Frontsheet'!E15)","v":"WATFORD GENERAL HOSPITAL - RWG02"},{"$f":"IF(ISBLANK('Trust - Frontsheet'!F15),\"\",'Trust - Frontsheet'!F15)","v":"AAU Green Level 1"},{"$f":"IF(ISBLANK('Trust - Frontsheet'!G15),\"\",'Trust - Frontsheet'!G15)","v":"326 - ACUTE INTERNAL MEDICINE"},{"$f":"IF(ISBLANK('Trust - Frontsheet'!H15),\"\",'Trust - Frontsheet'!H15)","v":""},{"$f":"'Trust - Frontsheet'!I15","v":1242},{"$f":"'Trust - Frontsheet'!J15","v":1200},{"$f":"'Trust - Frontsheet'!K15","v":713},{"$f":"'Trust - Frontsheet'!L15","v":655.5},{"$f":"'Trust - Frontsheet'!M15","v":1069.5},{"$f":"'Trust - Frontsheet'!N15","v":1046.5},{"$f":"'Trust - Frontsheet'!O15","v":713},{"$f":"'Trust - Frontsheet'!P15","v":701.5},{"$f":"IF('Trust - Frontsheet'!Q15=\"\",0,('Trust - Frontsheet'!Q15))","v":0.96618357487922701},{"$f":"IF('Trust - Frontsheet'!R15=\"\",0,('Trust - Frontsheet'!R15))","v":0.91935483870967738},{"$f":"IF('Trust - Frontsheet'!S15=\"\",0,('Trust - Frontsheet'!S15))","v":0.978494623655914},{"$f":"IF('Trust - Frontsheet'!T15=\"\",0,('Trust - Frontsheet'!T15))","v":0.9838709677419355},{"$f":"'Trust - Frontsheet'!U15","v":412},{"$f":"IF('Trust - Frontsheet'!V15=\"\",0,('Trust - Frontsheet'!V15))","v":5.4526699029126213},{"$f":"IF('Trust - Frontsheet'!W15=\"\",0,('Trust - Frontsheet'!W15))","v":3.2936893203883497},{"$f":"IF('Trust - Frontsheet'!X15=\"\",0,('Trust - Frontsheet'!X15))","v":8.7463592233009706},{"$f":"IF(A3=\"\",\"\",(IF(ISBLANK('Trust - Frontsheet'!F9),\"\",'Trust - Frontsheet'!F9)))","v":""}]
[{"$f":"IF('Trust - Frontsheet'!D16=0,\"\",IF('Trust - Frontsheet'!D16=\"\",\"\",'Trust - Frontsheet'!D16))","v":"RWG02"},{"$f":"IF(ISBLANK('Trust - Frontsheet'!E16),\"\",'Trust - Frontsheet'!E16)","v":"WATFORD GENERAL HOSPITAL - RWG02"},{"$f":"IF(ISBLANK('Trust - Frontsheet'!F16),\"\",'Trust - Frontsheet'!F16)","v":"AAU Yellow Level 1"},{"$f":"IF(ISBLANK('Trust - Frontsheet'!G16),\"\",'Trust - Frontsheet'!G16)","v":"326 - ACUTE INTERNAL MEDICINE"},{"$f":"IF(ISBLANK('Trust - Frontsheet'!H16),\"\",'Trust - Frontsheet'!H16)","v":""},{"$f":"'Trust - Frontsheet'!I16","v":1242},{"$f":"'Trust - Frontsheet'!J16","v":920},{"$f":"'Trust - Frontsheet'!K16","v":713},{"$f":"'Trust - Frontsheet'!L16","v":644},{"$f":"'Trust - Frontsheet'!M16","v":1069.5},{"$f":"'Trust - Frontsheet'!N16","v":954.5},{"$f":"'Trust - Frontsheet'!O16","v":713},{"$f":"'Trust - Frontsheet'!P16","v":701.5},{"$f":"IF('Trust - Frontsheet'!Q16=\"\",0,('Trust - Frontsheet'!Q16))","v":0.7407407407407407},{"$f":"IF('Trust - Frontsheet'!R16=\"\",0,('Trust - Frontsheet'!R16))","v":0.90322580645161288},{"$f":"IF('Trust - Frontsheet'!S16=\"\",0,('Trust - Frontsheet'!S16))","v":0.89247311827956988},{"$f":"IF('Trust - Frontsheet'!T16=\"\",0,('Trust - Frontsheet'!T16))","v":0.9838709677419355},{"$f":"'Trust - Frontsheet'!U16","v":434},{"$f":"IF('Trust - Frontsheet'!V16=\"\",0,('Trust - Frontsheet'!V16))","v":4.3191244239631335},{"$f":"IF('Trust - Frontsheet'!W16=\"\",0,('Trust - Frontsheet'!W16))","v":3.1002304147465436},{"$f":"IF('Trust - Frontsheet'!X16=\"\",0,('Trust - Frontsheet'!X16))","v":7.419354838709677},{"$f":"IF(A4=\"\",\"\",(IF(ISBLANK('Trust - Frontsheet'!F9),\"\",'Trust - Frontsheet'!F9)))","v":""}]
[{"$f":"IF('Trust - Frontsheet'!D17=0,\"\",IF('Trust - Frontsheet'!D17=\"\",\"\",'Trust - Frontsheet'!D17))","v":"RWG02"},{"$f":"IF(ISBLANK('Trust - Frontsheet'!E17),\"\",'Trust - Frontsheet'!E17)","v":"WATFORD GENERAL HOSPITAL - RWG02"},{"$f":"IF(ISBLANK('Trust - Frontsheet'!F17),\"\",'Trust - Frontsheet'!F17)","v":"AAU Triage Level 1"},{"$f":"IF(ISBLANK('Trust - Frontsheet'!G17),\"\",'Trust - Frontsheet'!G17)","v":"326 - ACUTE INTERNAL MEDICINE"},{"$f":"IF(ISBLANK('Trust - Frontsheet'!H17),\"\",'Trust - Frontsheet'!H17)","v":""},{"$f":"'Trust - Frontsheet'!I17","v":1242},{"$f":"'Trust - Frontsheet'!J17","v":989},{"$f":"'Trust - Frontsheet'!K17","v":713},{"$f":"'Trust - Frontsheet'!L17","v":701.5},{"$f":"'Trust - Frontsheet'!M17","v":1069.5},{"$f":"'Trust - Frontsheet'!N17","v":977.5},{"$f":"'Trust - Frontsheet'!O17","v":713},{"$f":"'Trust - Frontsheet'!P17","v":667},{"$f":"IF('Trust - Frontsheet'!Q17=\"\",0,('Trust - Frontsheet'!Q17))","v":0.79629629629629628},{"$f":"IF('Trust - Frontsheet'!R17=\"\",0,('Trust - Frontsheet'!R17))","v":0.9838709677419355},{"$f":"IF('Trust - Frontsheet'!S17=\"\",0,('Trust - Frontsheet'!S17))","v":0.91397849462365588},{"$f":"IF('Trust - Frontsheet'!T17=\"\",0,('Trust - Frontsheet'!T17))","v":0.93548387096774188},{"$f":"'Trust - Frontsheet'!U17","v":419},{"$f":"IF('Trust - Frontsheet'!V17=\"\",0,('Trust - Frontsheet'!V17))","v":4.6933174224343679},{"$f":"IF('Trust - Frontsheet'!W17=\"\",0,('Trust - Frontsheet'!W17))","v":3.2661097852028638},{"$f":"IF('Trust - Frontsheet'!X17=\"\",0,('Trust - Frontsheet'!X17))","v":7.9594272076372317},{"$f":"IF(A5=\"\",\"\",(IF(ISBLANK('Trust - Frontsheet'!F9),\"\",'Trust - Frontsheet'!F9)))","v":""}]
[{"$f":"IF('Trust - Frontsheet'!D18=0,\"\",IF('Trust - Frontsheet'!D18=\"\",\"\",'Trust - Frontsheet'!D18))","v":"RWG02"},{"$f":"IF(ISBLANK('Trust - Frontsheet'!E18),\"\",'Trust - Frontsheet'!E18)","v":"WATFORD GENERAL HOSPITAL - RWG02"},{"$f":"IF(ISBLANK('Trust - Frontsheet'!F18),\"\",'Trust - Frontsheet'!F18)","v":"AAU Blue & Yellow Level 3"},{"$f":"IF(ISBLANK('Trust - Frontsheet'!G18),\"\",'Trust - Frontsheet'!G18)","v":"326 - ACUTE INTERNAL MEDICINE"},{"$f":"IF(ISBLANK('Trust - Frontsheet'!H18),\"\",'Trust - Frontsheet'!H18)","v":""},{"$f":"'Trust - Frontsheet'!I18","v":2668},{"$f":"'Trust - Frontsheet'!J18","v":2005.5},{"$f":"'Trust - Frontsheet'!K18","v":2495.5},{"$f":"'Trust - Frontsheet'!L18","v":2265.5},{"$f":"'Trust - Frontsheet'!M18","v":2495.5},{"$f":"'Trust - Frontsheet'!N18","v":2357.5},{"$f":"'Trust - Frontsheet'!O18","v":1069.5},{"$f":"'Trust - Frontsheet'!P18","v":1150},{"$f":"IF('Trust - Frontsheet'!Q18=\"\",0,('Trust - Frontsheet'!Q18))","v":0.75168665667166412},{"$f":"IF('Trust - Frontsheet'!R18=\"\",0,('Trust - Frontsheet'!R18))","v":0.90783410138248843},{"$f":"IF('Trust - Frontsheet'!S18=\"\",0,('Trust - Frontsheet'!S18))","v":0.9447004608294931},{"$f":"IF('Trust - Frontsheet'!T18=\"\",0,('Trust - Frontsheet'!T18))","v":1.075268817204301},{"$f":"'Trust - Frontsheet'!U18","v":1076},{"$f":"IF('Trust - Frontsheet'!V18=\"\",0,('Trust - Frontsheet'!V18))","v":4.0548327137546467},{"$f":"IF('Trust - Frontsheet'!W18=\"\",0,('Trust - Frontsheet'!W18))","v":3.1742565055762082},{"$f":"IF('Trust - Frontsheet'!X18=\"\",0,('Trust - Frontsheet'!X18))","v":7.2290892193308549},{"$f":"IF(A6=\"\",\"\",(IF(ISBLANK('Trust - Frontsheet'!F9),\"\",'Trust - Frontsheet'!F9)))","v":""}]
[{"$f":"IF('Trust - Frontsheet'!D19=0,\"\",IF('Trust - Frontsheet'!D19=\"\",\"\",'Trust - Frontsheet'!D19))","v":"RWG02"},{"$f":"IF(ISBLANK('Trust - Frontsheet'!E19),\"\",'Trust - Frontsheet'!E19)","v":"WATFORD GENERAL HOSPITAL - RWG02"},{"$f":"IF(ISBLANK('Trust - Frontsheet'!F19),\"\",'Trust - Frontsheet'!F19)","v":"AAU Red Suite"},{"$f":"IF(ISBLANK('Trust - Frontsheet'!G19),\"\",'Trust - Frontsheet'!G19)","v":"430 - GERIATRIC MEDICINE"},{"$f":"IF(ISBLANK('Trust - Frontsheet'!H19),\"\",'Trust - Frontsheet'!H19)","v":""},{"$f":"'Trust - Frontsheet'!I19","v":1242},{"$f":"'Trust - Frontsheet'!J19","v":970},{"$f":"'Trust - Frontsheet'!K19","v":713},{"$f":"'Trust - Frontsheet'!L19","v":874},{"$f":"'Trust - Frontsheet'!M19","v":1069.5},{"$f":"'Trust - Frontsheet'!N19","v":1023.5},{"$f":"'Trust - Frontsheet'!O19","v":356.5},{"$f":"'Trust - Frontsheet'!P19","v":483},{"$f":"IF('Trust - Frontsheet'!Q19=\"\",0,('Trust - Frontsheet'!Q19))","v":0.78099838969404189},{"$f":"IF('Trust - Frontsheet'!R19=\"\",0,('Trust - Frontsheet'!R19))","v":1.2258064516129032},{"$f":"IF('Trust - Frontsheet'!S19=\"\",0,('Trust - Frontsheet'!S19))","v":0.956989247311828},{"$f":"IF('Trust - Frontsheet'!T19=\"\",0,('Trust - Frontsheet'!T19))","v":1.3548387096774193},{"$f":"'Trust - Frontsheet'!U19","v":533},{"$f":"IF('Trust - Frontsheet'!V19=\"\",0,('Trust - Frontsheet'!V19))","v":3.7401500938086305},{"$f":"IF('Trust - Frontsheet'!W19=\"\",0,('Trust - Frontsheet'!W19))","v":2.5459662288930582},{"$f":"IF('Trust - Frontsheet'!X19=\"\",0,('Trust - Frontsheet'!X19))","v":6.2861163227016883},{"$f":"IF(A7=\"\",\"\",(IF(ISBLANK('Trust - Frontsheet'!F9),\"\",'Trust - Frontsheet'!F9)))","v":""}]
[{"$f":"IF('Trust - Frontsheet'!D20=0,\"\",IF('Trust - Frontsheet'!D20=\"\",\"\",'Trust - Frontsheet'!D20))","v":"RWG02"},{"$f":"IF(ISBLANK('Trust - Frontsheet'!E20),\"\",'Trust - Frontsheet'!E20)","v":"WATFORD GENERAL HOSPITAL - RWG02"},{"$f":"IF(ISBLANK('Trust - Frontsheet'!F20),\"\",'Trust - Frontsheet'!F20)","v":"Acute Stroke Unit"},{"$f":"IF(ISBLANK('Trust - Frontsheet'!G20),\"\",'Trust - Frontsheet'!G20)","v":"328-STROKE MEDICINE"},{"$f":"IF(ISBLANK('Trust - Frontsheet'!H20),\"\",'Trust - Frontsheet'!H20)","v":""},{"$f":"'Trust - Frontsheet'!I20","v":2544},{"$f":"'Trust - Frontsheet'!J20","v":2221.5},{"$f":"'Trust - Frontsheet'!K20","v":1426},{"$f":"'Trust - Frontsheet'!L20","v":1518},{"$f":"'Trust - Frontsheet'!M20","v":2139},{"$f":"'Trust - Frontsheet'!N20","v":2035.5},{"$f":"'Trust - Frontsheet'!O20","v":1426},{"$f":"'Trust - Frontsheet'!P20","v":1472},{"$f":"IF('Trust - Frontsheet'!Q20=\"\",0,('Trust - Frontsheet'!Q20))","v":0.87323113207547165},{"$f":"IF('Trust - Frontsheet'!R20=\"\",0,('Trust - Frontsheet'!R20))","v":1.064516129032258},{"$f":"IF('Trust - Frontsheet'!S20=\"\",0,('Trust - Frontsheet'!S20))","v":0.95161290322580649},{"$f":"IF('Trust - Frontsheet'!T20=\"\",0,('Trust - Frontsheet'!T20))","v":1.032258064516129},{"$f":"'Trust - Frontsheet'!U20","v":986},{"$f":"IF('Trust - Frontsheet'!V20=\"\",0,('Trust - Frontsheet'!V20))","v":4.3174442190669371},{"$f":"IF('Trust - Frontsheet'!W20=\"\",0,('Trust - Frontsheet'!W20))","v":3.032454361054767},{"$f":"IF('Trust - Frontsheet'!X20=\"\",0,('Trust - Frontsheet'!X20))","v":7.3498985801217041},{"$f":"IF(A8=\"\",\"\",(IF(ISBLANK('Trust - Frontsheet'!F9),\"\",'Trust - Frontsheet'!F9)))","v":""}]
[{"$f":"IF('Trust - Frontsheet'!D21=0,\"\",IF('Trust - Frontsheet'!D21=\"\",\"\",'Trust - Frontsheet'!D21))","v":"RWG02"},{"$f":"IF(ISBLANK('Trust - Frontsheet'!E21),\"\",'Trust - Frontsheet'!E21)","v":"WATFORD GENERAL HOSPITAL - RWG02"},{"$f":"IF(ISBLANK('Trust - Frontsheet'!F21),\"\",'Trust - Frontsheet'!F21)","v":"Aldenham"},{"$f":"IF(ISBLANK('Trust - Frontsheet'!G21),\"\",'Trust - Frontsheet'!G21)","v":"340 - RESPIRATORY MEDICINE"},{"$f":"IF(ISBLANK('Trust - Frontsheet'!H21),\"\",'Trust - Frontsheet'!H21)","v":""},{"$f":"'Trust - Frontsheet'!I21","v":2311.5},{"$f":"'Trust - Frontsheet'!J21","v":1805},{"$f":"'Trust - Frontsheet'!K21","v":1069.5},{"$f":"'Trust - Frontsheet'!L21","v":1219},{"$f":"'Trust - Frontsheet'!M21","v":1782.5},{"$f":"'Trust - Frontsheet'!N21","v":1587},{"$f":"'Trust - Frontsheet'!O21","v":356.5},{"$f":"'Trust - Frontsheet'!P21","v":529},{"$f":"IF('Trust - Frontsheet'!Q21=\"\",0,('Trust - Frontsheet'!Q21))","v":0.78087821760761411},{"$f":"IF('Trust - Frontsheet'!R21=\"\",0,('Trust - Frontsheet'!R21))","v":1.1397849462365592},{"$f":"IF('Trust - Frontsheet'!S21=\"\",0,('Trust - Frontsheet'!S21))","v":0.89032258064516134},{"$f":"IF('Trust - Frontsheet'!T21=\"\",0,('Trust - Frontsheet'!T21))","v":1.4838709677419355},{"$f":"'Trust - Frontsheet'!U21","v":790},{"$f":"IF('Trust - Frontsheet'!V21=\"\",0,('Trust - Frontsheet'!V21))","v":4.2936708860759492},{"$f":"IF('Trust - Frontsheet'!W21=\"\",0,('Trust - Frontsheet'!W21))","v":2.2126582278481011},{"$f":"IF('Trust - Frontsheet'!X21=\"\",0,('Trust - Frontsheet'!X21))","v":6.5063291139240507},{"$f":"IF(A9=\"\",\"\",(IF(ISBLANK('Trust - Frontsheet'!F9),\"\",'Trust - Frontsheet'!F9)))","v":""}]
[{"$f":"IF('Trust - Frontsheet'!D22=0,\"\",IF('Trust - Frontsheet'!D22=\"\",\"\",'Trust - Frontsheet'!D22))","v":"RWG02"},{"$f":"IF(ISBLANK('Trust - Frontsheet'!E22),\"\",'Trust - Frontsheet'!E22)","v":"WATFORD GENERAL HOSPITAL - RWG02"},{"$f":"IF(ISBLANK('Trust - Frontsheet'!F22),\"\",'Trust - Frontsheet'!F22)","v":"Bluebell"},{"$f":"IF(ISBLANK('Trust - Frontsheet'!G22),\"\",'Trust - Frontsheet'!G22)","v":"430 - GERIATRIC MEDICINE"},{"$f":"IF(ISBLANK('Trust - Frontsheet'!H22),\"\",'Trust - Frontsheet'!H22)","v":""},{"$f":"'Trust - Frontsheet'!I22","v":1242},{"$f":"'Trust - Frontsheet'!J22","v":986.5},{"$f":"'Trust - Frontsheet'!K22","v":1782.5},{"$f":"'Trust - Frontsheet'!L22","v":1667.5},{"$f":"'Trust - Frontsheet'!M22","v":1069.5},{"$f":"'Trust - Frontsheet'!N22","v":1046.5},{"$f":"'Trust - Frontsheet'!O22","v":1782.5},{"$f":"'Trust - Frontsheet'!P22","v":1771},{"$f":"IF('Trust - Frontsheet'!Q22=\"\",0,('Trust - Frontsheet'!Q22))","v":0.79428341384863121},{"$f":"IF('Trust - Frontsheet'!R22=\"\",0,('Trust - Frontsheet'!R22))","v":0.93548387096774188},{"$f":"IF('Trust - Frontsheet'!S22=\"\",0,('Trust - Frontsheet'!S22))","v":0.978494623655914},{"$f":"IF('Trust - Frontsheet'!T22=\"\",0,('Trust - Frontsheet'!T22))","v":0.99354838709677418},{"$f":"'Trust - Frontsheet'!U22","v":519},{"$f":"IF('Trust - Frontsheet'!V22=\"\",0,('Trust - Frontsheet'!V22))","v":3.9171483622350673},{"$f":"IF('Trust - Frontsheet'!W22=\"\",0,('Trust - Frontsheet'!W22))","v":6.6252408477842},{"$f":"IF('Trust - Frontsheet'!X22=\"\",0,('Trust - Frontsheet'!X22))","v":10.542389210019268},{"$f":"IF(A10=\"\",\"\",(IF(ISBLANK('Trust - Frontsheet'!F9),\"\",'Trust - Frontsheet'!F9)))","v":""}]
[{"$f":"IF('Trust - Frontsheet'!D23=0,\"\",IF('Trust - Frontsheet'!D23=\"\",\"\",'Trust - Frontsheet'!D23))","v":"RWG02"},{"$f":"IF(ISBLANK('Trust - Frontsheet'!E23),\"\",'Trust - Frontsheet'!E23)","v":"WATFORD GENERAL HOSPITAL - RWG02"},{"$f":"IF(ISBLANK('Trust - Frontsheet'!F23),\"\",'Trust - Frontsheet'!F23)","v":"Cardiac Care"},{"$f":"IF(ISBLANK('Trust - Frontsheet'!G23),\"\",'Trust - Frontsheet'!G23)","v":"320 - CARDIOLOGY"},{"$f":"IF(ISBLANK('Trust - Frontsheet'!H23),\"\",'Trust - Frontsheet'!H23)","v":""},{"$f":"'Trust - Frontsheet'!I23","v":2311.5},{"$f":"'Trust - Frontsheet'!J23","v":1869},{"$f":"'Trust - Frontsheet'!K23","v":713},{"$f":"'Trust - Frontsheet'!L23","v":690},{"$f":"'Trust - Frontsheet'!M23","v":1782.5},{"$f":"'Trust - Frontsheet'!N23","v":1748},{"$f":"'Trust - Frontsheet'!O23","v":356.5},{"$f":"'Trust - Frontsheet'!P23","v":425.5},{"$f":"IF('Trust - Frontsheet'!Q23=\"\",0,('Trust - Frontsheet'!Q23))","v":0.80856586632057104},{"$f":"IF('Trust - Frontsheet'!R23=\"\",0,('Trust - Frontsheet'!R23))","v":0.967741935483871},{"$f":"IF('Trust - Frontsheet'!S23=\"\",0,('Trust - Frontsheet'!S23))","v":0.98064516129032253},{"$f":"IF('Trust - Frontsheet'!T23=\"\",0,('Trust - Frontsheet'!T23))","v":1.1935483870967742},{"$f":"'Trust - Frontsheet'!U23","v":747},{"$f":"IF('Trust - Frontsheet'!V23=\"\",0,('Trust - Frontsheet'!V23))","v":4.8420348058902274},{"$f":"IF('Trust - Frontsheet'!W23=\"\",0,('Trust - Frontsheet'!W23))","v":1.4933065595716197},{"$f":"IF('Trust - Frontsheet'!X23=\"\",0,('Trust - Frontsheet'!X23))","v":6.3353413654618471},{"$f":"IF(A11=\"\",\"\",(IF(ISBLANK('Trust - Frontsheet'!F9),\"\",'Trust - Frontsheet'!F9)))","v":""}]
[{"$f":"IF('Trust - Frontsheet'!D24=0,\"\",IF('Trust - Frontsheet'!D24=\"\",\"\",'Trust - Frontsheet'!D24))","v":"RWG02"},{"$f":"IF(ISBLANK('Trust - Frontsheet'!E24),\"\",'Trust - Frontsheet'!E24)","v":"WATFORD GENERAL HOSPITAL - RWG02"},{"$f":"IF(ISBLANK('Trust - Frontsheet'!F24),\"\",'Trust - Frontsheet'!F24)","v":"Cassio"},{"$f":"IF(ISBLANK('Trust - Frontsheet'!G24),\"\",'Trust - Frontsheet'!G24)","v":"301 - GASTROENTEROLOGY"},{"$f":"IF(ISBLANK('Trust - Frontsheet'!H24),\"\",'Trust - Frontsheet'!H24)","v":""},{"$f":"'Trust - Frontsheet'!I24","v":1212},{"$f":"'Trust - Frontsheet'!J24","v":1078.5},{"$f":"'Trust - Frontsheet'!K24","v":713},{"$f":"'Trust - Frontsheet'!L24","v":739.5},{"$f":"'Trust - Frontsheet'!M24","v":1069.5},{"$f":"'Trust - Frontsheet'!N24","v":908.5},{"$f":"'Trust - Frontsheet'!O24","v":356.5},{"$f":"'Trust - Frontsheet'!P24","v":598},{"$f":"IF('Trust - Frontsheet'!Q24=\"\",0,('Trust - Frontsheet'!Q24))","v":0.88985148514851486},{"$f":"IF('Trust - Frontsheet'!R24=\"\",0,('Trust - Frontsheet'!R24))","v":1.0371669004207573},{"$f":"IF('Trust - Frontsheet'!S24=\"\",0,('Trust - Frontsheet'!S24))","v":0.84946236559139787},{"$f":"IF('Trust - Frontsheet'!T24=\"\",0,('Trust - Frontsheet'!T24))","v":1.6774193548387097},{"$f":"'Trust - Frontsheet'!U24","v":548},{"$f":"IF('Trust - Frontsheet'!V24=\"\",0,('Trust - Frontsheet'!V24))","v":3.6259124087591239},{"$f":"IF('Trust - Frontsheet'!W24=\"\",0,('Trust - Frontsheet'!W24))","v":2.4406934306569341},{"$f":"IF('Trust - Frontsheet'!X24=\"\",0,('Trust - Frontsheet'!X24))","v":6.0666058394160585},{"$f":"IF(A12=\"\",\"\",(IF(ISBLANK('Trust - Frontsheet'!F9),\"\",'Trust - Frontsheet'!F9)))","v":""}]
[{"$f":"IF('Trust - Frontsheet'!D25=0,\"\",IF('Trust - Frontsheet'!D25=\"\",\"\",'Trust - Frontsheet'!D25))","v":"RWG02"},{"$f":"IF(ISBLANK('Trust - Frontsheet'!E25),\"\",'Trust - Frontsheet'!E25)","v":"WATFORD GENERAL HOSPITAL - RWG02"},{"$f":"IF(ISBLANK('Trust - Frontsheet'!F25),\"\",'Trust - Frontsheet'!F25)","v":"Croxley"},{"$f":"IF(ISBLANK('Trust - Frontsheet'!G25),\"\",'Trust - Frontsheet'!G25)","v":"430 - GERIATRIC MEDICINE"},{"$f":"IF(ISBLANK('Trust - Frontsheet'!H25),\"\",'Trust - Frontsheet'!H25)","v":""},{"$f":"'Trust - Frontsheet'!I25","v":1598.5},{"$f":"'Trust - Frontsheet'!J25","v":1300},{"$f":"'Trust - Frontsheet'!K25","v":1426},{"$f":"'Trust - Frontsheet'!L25","v":1449},{"$f":"'Trust - Frontsheet'!M25","v":1426},{"$f":"'Trust - Frontsheet'!N25","v":1334},{"$f":"'Trust - Frontsheet'!O25","v":1069.5},{"$f":"'Trust - Frontsheet'!P25","v":1104},{"$f":"IF('Trust - Frontsheet'!Q25=\"\",0,('Trust - Frontsheet'!Q25))","v":0.81326243353143568},{"$f":"IF('Trust - Frontsheet'!R25=\"\",0,('Trust - Frontsheet'!R25))","v":1.0161290322580645},{"$f":"IF('Trust - Frontsheet'!S25=\"\",0,('Trust - Frontsheet'!S25))","v":0.93548387096774188},{"$f":"IF('Trust - Frontsheet'!T25=\"\",0,('Trust - Frontsheet'!T25))","v":1.032258064516129},{"$f":"'Trust - Frontsheet'!U25","v":841},{"$f":"IF('Trust - Frontsheet'!V25=\"\",0,('Trust - Frontsheet'!V25))","v":3.131985731272295},{"$f":"IF('Trust - Frontsheet'!W25=\"\",0,('Trust - Frontsheet'!W25))","v":3.0356718192627823},{"$f":"IF('Trust - Frontsheet'!X25=\"\",0,('Trust - Frontsheet'!X25))","v":6.1676575505350772},{"$f":"IF(A13=\"\",\"\",(IF(ISBLANK('Trust - Frontsheet'!F9),\"\",'Trust - Frontsheet'!F9)))","v":""}]
[{"$f":"IF('Trust - Frontsheet'!D26=0,\"\",IF('Trust - Frontsheet'!D26=\"\",\"\",'Trust - Frontsheet'!D26))","v":"RWG02"},{"$f":"IF(ISBLANK('Trust - Frontsheet'!E26),\"\",'Trust - Frontsheet'!E26)","v":"WATFORD GENERAL HOSPITAL - RWG02"},{"$f":"IF(ISBLANK('Trust - Frontsheet'!F26),\"\",'Trust - Frontsheet'!F26)","v":"Heronsgate & Gade"},{"$f":"IF(ISBLANK('Trust - Frontsheet'!G26),\"\",'Trust - Frontsheet'!G26)","v":"302 - ENDOCRINOLOGY"},{"$f":"IF(ISBLANK('Trust - Frontsheet'!H26),\"\",'Trust - Frontsheet'!H26)","v":""},{"$f":"'Trust - Frontsheet'!I26","v":2576},{"$f":"'Trust - Frontsheet'!J26","v":1920},{"$f":"'Trust - Frontsheet'!K26","v":1426},{"$f":"'Trust - Frontsheet'!L26","v":1322.5},{"$f":"'Trust - Frontsheet'!M26","v":2139},{"$f":"'Trust - Frontsheet'!N26","v":2070},{"$f":"'Trust - Frontsheet'!O26","v":713},{"$f":"'Trust - Frontsheet'!P26","v":701.5},{"$f":"IF('Trust - Frontsheet'!Q26=\"\",0,('Trust - Frontsheet'!Q26))","v":0.74534161490683226},{"$f":"IF('Trust - Frontsheet'!R26=\"\",0,('Trust - Frontsheet'!R26))","v":0.92741935483870963},{"$f":"IF('Trust - Frontsheet'!S26=\"\",0,('Trust - Frontsheet'!S26))","v":0.967741935483871},{"$f":"IF('Trust - Frontsheet'!T26=\"\",0,('Trust - Frontsheet'!T26))","v":0.9838709677419355},{"$f":"'Trust - Frontsheet'!U26","v":1115},{"$f":"IF('Trust - Frontsheet'!V26=\"\",0,('Trust - Frontsheet'!V26))","v":3.5784753363228701},{"$f":"IF('Trust - Frontsheet'!W26=\"\",0,('Trust - Frontsheet'!W26))","v":1.8152466367713005},{"$f":"IF('Trust - Frontsheet'!X26=\"\",0,('Trust - Frontsheet'!X26))","v":5.3937219730941708},{"$f":"IF(A14=\"\",\"\",(IF(ISBLANK('Trust - Frontsheet'!F9),\"\",'Trust - Frontsheet'!F9)))","v":""}]
[{"$f":"IF('Trust - Frontsheet'!D27=0,\"\",IF('Trust - Frontsheet'!D27=\"\",\"\",'Trust - Frontsheet'!D27))","v":"RWG02"},{"$f":"IF(ISBLANK('Trust - Frontsheet'!E27),\"\",'Trust - Frontsheet'!E27)","v":"WATFORD GENERAL HOSPITAL - RWG02"},{"$f":"IF(ISBLANK('Trust - Frontsheet'!F27),\"\",'Trust - Frontsheet'!F27)","v":"Oxhey"},{"$f":"IF(ISBLANK('Trust - Frontsheet'!G27),\"\",'Trust - Frontsheet'!G27)","v":"326 - ACUTE INTERNAL MEDICINE"},{"$f":"IF(ISBLANK('Trust - Frontsheet'!H27),\"\",'Trust - Frontsheet'!H27)","v":""},{"$f":"'Trust - Frontsheet'!I27","v":885.5},{"$f":"'Trust - Frontsheet'!J27","v":836.5},{"$f":"'Trust - Frontsheet'!K27","v":483},{"$f":"'Trust - Frontsheet'!L27","v":448.5},{"$f":"'Trust - Frontsheet'!M27","v":713},{"$f":"'Trust - Frontsheet'!N27","v":701.5},{"$f":"'Trust - Frontsheet'!O27","v":483},{"$f":"'Trust - Frontsheet'!P27","v":471.5},{"$f":"IF('Trust - Frontsheet'!Q27=\"\",0,('Trust - Frontsheet'!Q27))","v":0.94466403162055335},{"$f":"IF('Trust - Frontsheet'!R27=\"\",0,('Trust - Frontsheet'!R27))","v":0.9285714285714286},{"$f":"IF('Trust - Frontsheet'!S27=\"\",0,('Trust - Frontsheet'!S27))","v":0.9838709677419355},{"$f":"IF('Trust - Frontsheet'!T27=\"\",0,('Trust - Frontsheet'!T27))","v":0.97619047619047616},{"$f":"'Trust - Frontsheet'!U27","v":350},{"$f":"IF('Trust - Frontsheet'!V27=\"\",0,('Trust - Frontsheet'!V27))","v":4.3942857142857141},{"$f":"IF('Trust - Frontsheet'!W27=\"\",0,('Trust - Frontsheet'!W27))","v":2.6285714285714286},{"$f":"IF('Trust - Frontsheet'!X27=\"\",0,('Trust - Frontsheet'!X27))","v":7.0228571428571431},{"$f":"IF(A15=\"\",\"\",(IF(ISBLANK('Trust - Frontsheet'!F9),\"\",'Trust - Frontsheet'!F9)))","v":""}]
[{"$f":"IF('Trust - Frontsheet'!D28=0,\"\",IF('Trust - Frontsheet'!D28=\"\",\"\",'Trust - Frontsheet'!D28))","v":"RWG02"},{"$f":"IF(ISBLANK('Trust - Frontsheet'!E28),\"\",'Trust - Frontsheet'!E28)","v":"WATFORD GENERAL HOSPITAL - RWG02"},{"$f":"IF(ISBLANK('Trust - Frontsheet'!F28),\"\",'Trust - Frontsheet'!F28)","v":"Sarratt"},{"$f":"IF(ISBLANK('Trust - Frontsheet'!G28),\"\",'Trust - Frontsheet'!G28)","v":"430 - GERIATRIC MEDICINE"},{"$f":"IF(ISBLANK('Trust - Frontsheet'!H28),\"\",'Trust - Frontsheet'!H28)","v":""},{"$f":"'Trust - Frontsheet'!I28","v":2127.5},{"$f":"'Trust - Frontsheet'!J28","v":1530},{"$f":"'Trust - Frontsheet'!K28","v":2495.5},{"$f":"'Trust - Frontsheet'!L28","v":2177},{"$f":"'Trust - Frontsheet'!M28","v":1782.5},{"$f":"'Trust - Frontsheet'!N28","v":1495},{"$f":"'Trust - Frontsheet'!O28","v":1426},{"$f":"'Trust - Frontsheet'!P28","v":1564},{"$f":"IF('Trust - Frontsheet'!Q28=\"\",0,('Trust - Frontsheet'!Q28))","v":0.71915393654524085},{"$f":"IF('Trust - Frontsheet'!R28=\"\",0,('Trust - Frontsheet'!R28))","v":0.87237026647966343},{"$f":"IF('Trust - Frontsheet'!S28=\"\",0,('Trust - Frontsheet'!S28))","v":0.83870967741935487},{"$f":"IF('Trust - Frontsheet'!T28=\"\",0,('Trust - Frontsheet'!T28))","v":1.096774193548387},{"$f":"'Trust - Frontsheet'!U28","v":1045},{"$f":"IF('Trust - Frontsheet'!V28=\"\",0,('Trust - Frontsheet'!V28))","v":2.8947368421052633},{"$f":"IF('Trust - Frontsheet'!W28=\"\",0,('Trust - Frontsheet'!W28))","v":3.5799043062200955},{"$f":"IF('Trust - Frontsheet'!X28=\"\",0,('Trust - Frontsheet'!X28))","v":6.4746411483253592},{"$f":"IF(A16=\"\",\"\",(IF(ISBLANK('Trust - Frontsheet'!F9),\"\",'Trust - Frontsheet'!F9)))","v":""}]
[{"$f":"IF('Trust - Frontsheet'!D29=0,\"\",IF('Trust - Frontsheet'!D29=\"\",\"\",'Trust - Frontsheet'!D29))","v":"RWG02"},{"$f":"IF(ISBLANK('Trust - Frontsheet'!E29),\"\",'Trust - Frontsheet'!E29)","v":"WATFORD GENERAL HOSPITAL - RWG02"},{"$f":"IF(ISBLANK('Trust - Frontsheet'!F29),\"\",'Trust - Frontsheet'!F29)","v":"Tudor"},{"$f":"IF(ISBLANK('Trust - Frontsheet'!G29),\"\",'Trust - Frontsheet'!G29)","v":"430 - GERIATRIC MEDICINE"},{"$f":"IF(ISBLANK('Trust - Frontsheet'!H29),\"\",'Trust - Frontsheet'!H29)","v":""},{"$f":"'Trust - Frontsheet'!I29","v":1414.5},{"$f":"'Trust - Frontsheet'!J29","v":1009.5},{"$f":"'Trust - Frontsheet'!K29","v":1426},{"$f":"'Trust - Frontsheet'!L29","v":1414.5},{"$f":"'Trust - Frontsheet'!M29","v":1069.5},{"$f":"'Trust - Frontsheet'!N29","v":1035},{"$f":"'Trust - Frontsheet'!O29","v":1426},{"$f":"'Trust - Frontsheet'!P29","v":1368.5},{"$f":"IF('Trust - Frontsheet'!Q29=\"\",0,('Trust - Frontsheet'!Q29))","v":0.71367974549310709},{"$f":"IF('Trust - Frontsheet'!R29=\"\",0,('Trust - Frontsheet'!R29))","v":0.99193548387096775},{"$f":"IF('Trust - Frontsheet'!S29=\"\",0,('Trust - Frontsheet'!S29))","v":0.967741935483871},{"$f":"IF('Trust - Frontsheet'!T29=\"\",0,('Trust - Frontsheet'!T29))","v":0.95967741935483875},{"$f":"'Trust - Frontsheet'!U29","v":748},{"$f":"IF('Trust - Frontsheet'!V29=\"\",0,('Trust - Frontsheet'!V29))","v":2.733288770053476},{"$f":"IF('Trust - Frontsheet'!W29=\"\",0,('Trust - Frontsheet'!W29))","v":3.7205882352941178},{"$f":"IF('Trust - Frontsheet'!X29=\"\",0,('Trust - Frontsheet'!X29))","v":6.4538770053475938},{"$f":"IF(A17=\"\",\"\",(IF(ISBLANK('Trust - Frontsheet'!F9),\"\",'Trust - Frontsheet'!F9)))","v":""}]
[{"$f":"IF('Trust - Frontsheet'!D30=0,\"\",IF('Trust - Frontsheet'!D30=\"\",\"\",'Trust - Frontsheet'!D30))","v":"RWG02"},{"$f":"IF(ISBLANK('Trust - Frontsheet'!E30),\"\",'Trust - Frontsheet'!E30)","v":"WATFORD GENERAL HOSPITAL - RWG02"},{"$f":"IF(ISBLANK('Trust - Frontsheet'!F30),\"\",'Trust - Frontsheet'!F30)","v":"Winyard"},{"$f":"IF(ISBLANK('Trust - Frontsheet'!G30),\"\",'Trust - Frontsheet'!G30)","v":"430 - GERIATRIC MEDICINE"},{"$f":"IF(ISBLANK('Trust - Frontsheet'!H30),\"\",'Trust - Frontsheet'!H30)","v":""},{"$f":"'Trust - Frontsheet'!I30","v":1242},{"$f":"'Trust - Frontsheet'!J30","v":932},{"$f":"'Trust - Frontsheet'!K30","v":713},{"$f":"'Trust - Frontsheet'!L30","v":801},{"$f":"'Trust - Frontsheet'!M30","v":1069.5},{"$f":"'Trust - Frontsheet'!N30","v":1012},{"$f":"'Trust - Frontsheet'!O30","v":356.5},{"$f":"'Trust - Frontsheet'!P30","v":425.5},{"$f":"IF('Trust - Frontsheet'!Q30=\"\",0,('Trust - Frontsheet'!Q30))","v":0.75040257648953301},{"$f":"IF('Trust - Frontsheet'!R30=\"\",0,('Trust - Frontsheet'!R30))","v":1.123422159887798},{"$f":"IF('Trust - Frontsheet'!S30=\"\",0,('Trust - Frontsheet'!S30))","v":0.94623655913978499},{"$f":"IF('Trust - Frontsheet'!T30=\"\",0,('Trust - Frontsheet'!T30))","v":1.1935483870967742},{"$f":"'Trust - Frontsheet'!U30","v":560},{"$f":"IF('Trust - Frontsheet'!V30=\"\",0,('Trust - Frontsheet'!V30))","v":3.4714285714285715},{"$f":"IF('Trust - Frontsheet'!W30=\"\",0,('Trust - Frontsheet'!W30))","v":2.1901785714285715},{"$f":"IF('Trust - Frontsheet'!X30=\"\",0,('Trust - Frontsheet'!X30))","v":5.6616071428571431},{"$f":"IF(A18=\"\",\"\",(IF(ISBLANK('Trust - Frontsheet'!F9),\"\",'Trust - Frontsheet'!F9)))","v":""}]
[{"$f":"IF('Trust - Frontsheet'!D31=0,\"\",IF('Trust - Frontsheet'!D31=\"\",\"\",'Trust - Frontsheet'!D31))","v":"RWG02"},{"$f":"IF(ISBLANK('Trust - Frontsheet'!E31),\"\",'Trust - Frontsheet'!E31)","v":"WATFORD GENERAL HOSPITAL - RWG02"},{"$f":"IF(ISBLANK('Trust - Frontsheet'!F31),\"\",'Trust - Frontsheet'!F31)","v":"Combined ITU"},{"$f":"IF(ISBLANK('Trust - Frontsheet'!G31),\"\",'Trust - Frontsheet'!G31)","v":"192 - CRITICAL CARE MEDICINE"},{"$f":"IF(ISBLANK('Trust - Frontsheet'!H31),\"\",'Trust - Frontsheet'!H31)","v":""},{"$f":"'Trust - Frontsheet'!I31","v":4841.5},{"$f":"'Trust - Frontsheet'!J31","v":4914},{"$f":"'Trust - Frontsheet'!K31","v":391},{"$f":"'Trust - Frontsheet'!L31","v":414},{"$f":"'Trust - Frontsheet'!M31","v":5209.5},{"$f":"'Trust - Frontsheet'!N31","v":5014},{"$f":"'Trust - Frontsheet'!O31","v":368},{"$f":"'Trust - Frontsheet'!P31","v":356.5},{"$f":"IF('Trust - Frontsheet'!Q31=\"\",0,('Trust - Frontsheet'!Q31))","v":1.0149746979241971},{"$f":"IF('Trust - Frontsheet'!R31=\"\",0,('Trust - Frontsheet'!R31))","v":1.0588235294117647},{"$f":"IF('Trust - Frontsheet'!S31=\"\",0,('Trust - Frontsheet'!S31))","v":0.96247240618101548},{"$f":"IF('Trust - Frontsheet'!T31=\"\",0,('Trust - Frontsheet'!T31))","v":0.96875},{"$f":"'Trust - Frontsheet'!U31","v":478},{"$f":"IF('Trust - Frontsheet'!V31=\"\",0,('Trust - Frontsheet'!V31))","v":20.769874476987447},{"$f":"IF('Trust - Frontsheet'!W31=\"\",0,('Trust - Frontsheet'!W31))","v":1.6119246861924685},{"$f":"IF('Trust - Frontsheet'!X31=\"\",0,('Trust - Frontsheet'!X31))","v":22.381799163179917},{"$f":"IF(A19=\"\",\"\",(IF(ISBLANK('Trust - Frontsheet'!F9),\"\",'Trust - Frontsheet'!F9)))","v":""}]
[{"$f":"IF('Trust - Frontsheet'!D32=0,\"\",IF('Trust - Frontsheet'!D32=\"\",\"\",'Trust - Frontsheet'!D32))","v":"RWG02"},{"$f":"IF(ISBLANK('Trust - Frontsheet'!E32),\"\",'Trust - Frontsheet'!E32)","v":"WATFORD GENERAL HOSPITAL - RWG02"},{"$f":"IF(ISBLANK('Trust - Frontsheet'!F32),\"\",'Trust - Frontsheet'!F32)","v":"Cleves"},{"$f":"IF(ISBLANK('Trust - Frontsheet'!G32),\"\",'Trust - Frontsheet'!G32)","v":"110 - TRAUMA & ORTHOPAEDICS"},{"$f":"IF(ISBLANK('Trust - Frontsheet'!H32),\"\",'Trust - Frontsheet'!H32)","v":""},{"$f":"'Trust - Frontsheet'!I32","v":1242},{"$f":"'Trust - Frontsheet'!J32","v":1018},{"$f":"'Trust - Frontsheet'!K32","v":713},{"$f":"'Trust - Frontsheet'!L32","v":862.5},{"$f":"'Trust - Frontsheet'!M32","v":1069.5},{"$f":"'Trust - Frontsheet'!N32","v":1023.5},{"$f":"'Trust - Frontsheet'!O32","v":356.5},{"$f":"'Trust - Frontsheet'!P32","v":494.5},{"$f":"IF('Trust - Frontsheet'!Q32=\"\",0,('Trust - Frontsheet'!Q32))","v":0.81964573268921093},{"$f":"IF('Trust - Frontsheet'!R32=\"\",0,('Trust - Frontsheet'!R32))","v":1.2096774193548387},{"$f":"IF('Trust - Frontsheet'!S32=\"\",0,('Trust - Frontsheet'!S32))","v":0.956989247311828},{"$f":"IF('Trust - Frontsheet'!T32=\"\",0,('Trust - Frontsheet'!T32))","v":1.3870967741935485},{"$f":"'Trust - Frontsheet'!U32","v":648},{"$f":"IF('Trust - Frontsheet'!V32=\"\",0,('Trust - Frontsheet'!V32))","v":3.1504629629629628},{"$f":"IF('Trust - Frontsheet'!W32=\"\",0,('Trust - Frontsheet'!W32))","v":2.0941358024691357},{"$f":"IF('Trust - Frontsheet'!X32=\"\",0,('Trust - Frontsheet'!X32))","v":5.2445987654320989},{"$f":"IF(A20=\"\",\"\",(IF(ISBLANK('Trust - Frontsheet'!F9),\"\",'Trust - Frontsheet'!F9)))","v":""}]
[{"$f":"IF('Trust - Frontsheet'!D33=0,\"\",IF('Trust - Frontsheet'!D33=\"\",\"\",'Trust - Frontsheet'!D33))","v":"RWG03"},{"$f":"IF(ISBLANK('Trust - Frontsheet'!E33),\"\",'Trust - Frontsheet'!E33)","v":"ST ALBANS CITY HOSPITAL - RWG03"},{"$f":"IF(ISBLANK('Trust - Frontsheet'!F33),\"\",'Trust - Frontsheet'!F33)","v":"De La Mare"},{"$f":"IF(ISBLANK('Trust - Frontsheet'!G33),\"\",'Trust - Frontsheet'!G33)","v":"100 - GENERAL SURGERY"},{"$f":"IF(ISBLANK('Trust - Frontsheet'!H33),\"\",'Trust - Frontsheet'!H33)","v":""},{"$f":"'Trust - Frontsheet'!I33","v":1690.5},{"$f":"'Trust - Frontsheet'!J33","v":1123},{"$f":"'Trust - Frontsheet'!K33","v":1069.5},{"$f":"'Trust - Frontsheet'!L33","v":730.5},{"$f":"'Trust - Frontsheet'!M33","v":1035},{"$f":"'Trust - Frontsheet'!N33","v":736},{"$f":"'Trust - Frontsheet'!O33","v":345},{"$f":"'Trust - Frontsheet'!P33","v":310.5},{"$f":"IF('Trust - Frontsheet'!Q33=\"\",0,('Trust - Frontsheet'!Q33))","v":0.66430050280981956},{"$f":"IF('Trust - Frontsheet'!R33=\"\",0,('Trust - Frontsheet'!R33))","v":0.68302945301542772},{"$f":"IF('Trust - Frontsheet'!S33=\"\",0,('Trust - Frontsheet'!S33))","v":0.71111111111111114},{"$f":"IF('Trust - Frontsheet'!T33=\"\",0,('Trust - Frontsheet'!T33))","v":0.9},{"$f":"'Trust - Frontsheet'!U33","v":447},{"$f":"IF('Trust - Frontsheet'!V33=\"\",0,('Trust - Frontsheet'!V33))","v":4.1588366890380311},{"$f":"IF('Trust - Frontsheet'!W33=\"\",0,('Trust - Frontsheet'!W33))","v":2.3288590604026846},{"$f":"IF('Trust - Frontsheet'!X33=\"\",0,('Trust - Frontsheet'!X33))","v":6.4876957494407161},{"$f":"IF(A21=\"\",\"\",(IF(ISBLANK('Trust - Frontsheet'!F9),\"\",'Trust - Frontsheet'!F9)))","v":""}]
[{"$f":"IF('Trust - Frontsheet'!D34=0,\"\",IF('Trust - Frontsheet'!D34=\"\",\"\",'Trust - Frontsheet'!D34))","v":"RWG02"},{"$f":"IF(ISBLANK('Trust - Frontsheet'!E34),\"\",'Trust - Frontsheet'!E34)","v":"WATFORD GENERAL HOSPITAL - RWG02"},{"$f":"IF(ISBLANK('Trust - Frontsheet'!F34),\"\",'Trust - Frontsheet'!F34)","v":"Beckett"},{"$f":"IF(ISBLANK('Trust - Frontsheet'!G34),\"\",'Trust - Frontsheet'!G34)","v":"100 - GENERAL SURGERY"},{"$f":"IF(ISBLANK('Trust - Frontsheet'!H34),\"\",'Trust - Frontsheet'!H34)","v":""},{"$f":"'Trust - Frontsheet'!I34","v":897},{"$f":"'Trust - Frontsheet'!J34","v":654.5},{"$f":"'Trust - Frontsheet'!K34","v":598},{"$f":"'Trust - Frontsheet'!L34","v":463.5},{"$f":"'Trust - Frontsheet'!M34","v":575},{"$f":"'Trust - Frontsheet'!N34","v":563.5},{"$f":"'Trust - Frontsheet'!O34","v":287.5},{"$f":"'Trust - Frontsheet'!P34","v":184},{"$f":"IF('Trust - Frontsheet'!Q34=\"\",0,('Trust - Frontsheet'!Q34))","v":0.72965440356744704},{"$f":"IF('Trust - Frontsheet'!R34=\"\",0,('Trust - Frontsheet'!R34))","v":0.77508361204013376},{"$f":"IF('Trust - Frontsheet'!S34=\"\",0,('Trust - Frontsheet'!S34))","v":0.98},{"$f":"IF('Trust - Frontsheet'!T34=\"\",0,('Trust - Frontsheet'!T34))","v":0.64},{"$f":"'Trust - Frontsheet'!U34","v":168},{"$f":"IF('Trust - Frontsheet'!V34=\"\",0,('Trust - Frontsheet'!V34))","v":7.25},{"$f":"IF('Trust - Frontsheet'!W34=\"\",0,('Trust - Frontsheet'!W34))","v":3.8541666666666665},{"$f":"IF('Trust - Frontsheet'!X34=\"\",0,('Trust - Frontsheet'!X34))","v":11.104166666666666},{"$f":"IF(A22=\"\",\"\",(IF(ISBLANK('Trust - Frontsheet'!F9),\"\",'Trust - Frontsheet'!F9)))","v":""}]
[{"$f":"IF('Trust - Frontsheet'!D35=0,\"\",IF('Trust - Frontsheet'!D35=\"\",\"\",'Trust - Frontsheet'!D35))","v":"RWG02"},{"$f":"IF(ISBLANK('Trust - Frontsheet'!E35),\"\",'Trust - Frontsheet'!E35)","v":"WATFORD GENERAL HOSPITAL - RWG02"},{"$f":"IF(ISBLANK('Trust - Frontsheet'!F35),\"\",'Trust - Frontsheet'!F35)","v":"Elizabeth"},{"$f":"IF(ISBLANK('Trust - Frontsheet'!G35),\"\",'Trust - Frontsheet'!G35)","v":"502 - GYNAECOLOGY"},{"$f":"IF(ISBLANK('Trust - Frontsheet'!H35),\"\",'Trust - Frontsheet'!H35)","v":""},{"$f":"'Trust - Frontsheet'!I35","v":1598.5},{"$f":"'Trust - Frontsheet'!J35","v":1345.5},{"$f":"'Trust - Frontsheet'!K35","v":1426},{"$f":"'Trust - Frontsheet'!L35","v":1276.5},{"$f":"'Trust - Frontsheet'!M35","v":1426},{"$f":"'Trust - Frontsheet'!N35","v":1380},{"$f":"'Trust - Frontsheet'!O35","v":1069.5},{"$f":"'Trust - Frontsheet'!P35","v":1046.5},{"$f":"IF('Trust - Frontsheet'!Q35=\"\",0,('Trust - Frontsheet'!Q35))","v":0.84172661870503596},{"$f":"IF('Trust - Frontsheet'!R35=\"\",0,('Trust - Frontsheet'!R35))","v":0.89516129032258063},{"$f":"IF('Trust - Frontsheet'!S35=\"\",0,('Trust - Frontsheet'!S35))","v":0.967741935483871},{"$f":"IF('Trust - Frontsheet'!T35=\"\",0,('Trust - Frontsheet'!T35))","v":0.978494623655914},{"$f":"'Trust - Frontsheet'!U35","v":927},{"$f":"IF('Trust - Frontsheet'!V35=\"\",0,('Trust - Frontsheet'!V35))","v":2.9401294498381878},{"$f":"IF('Trust - Frontsheet'!W35=\"\",0,('Trust - Frontsheet'!W35))","v":2.505933117583603},{"$f":"IF('Trust - Frontsheet'!X35=\"\",0,('Trust - Frontsheet'!X35))","v":5.4460625674217908},{"$f":"IF(A23=\"\",\"\",(IF(ISBLANK('Trust - Frontsheet'!F9),\"\",'Trust - Frontsheet'!F9)))","v":""}]
[{"$f":"IF('Trust - Frontsheet'!D36=0,\"\",IF('Trust - Frontsheet'!D36=\"\",\"\",'Trust - Frontsheet'!D36))","v":"RWG02"},{"$f":"IF(ISBLANK('Trust - Frontsheet'!E36),\"\",'Trust - Frontsheet'!E36)","v":"WATFORD GENERAL HOSPITAL - RWG02"},{"$f":"IF(ISBLANK('Trust - Frontsheet'!F36),\"\",'Trust - Frontsheet'!F36)","v":"Flaunden"},{"$f":"IF(ISBLANK('Trust - Frontsheet'!G36),\"\",'Trust - Frontsheet'!G36)","v":"100 - GENERAL SURGERY"},{"$f":"IF(ISBLANK('Trust - Frontsheet'!H36),\"\",'Trust - Frontsheet'!H36)","v":""},{"$f":"'Trust - Frontsheet'!I36","v":885.5},{"$f":"'Trust - Frontsheet'!J36","v":1077.5},{"$f":"'Trust - Frontsheet'!K36","v":713},{"$f":"'Trust - Frontsheet'!L36","v":874},{"$f":"'Trust - Frontsheet'!M36","v":713},{"$f":"'Trust - Frontsheet'!N36","v":943},{"$f":"'Trust - Frontsheet'!O36","v":356.5},{"$f":"'Trust - Frontsheet'!P36","v":494.5},{"$f":"IF('Trust - Frontsheet'!Q36=\"\",0,('Trust - Frontsheet'!Q36))","v":1.2168266516092603},{"$f":"IF('Trust - Frontsheet'!R36=\"\",0,('Trust - Frontsheet'!R36))","v":1.2258064516129032},{"$f":"IF('Trust - Frontsheet'!S36=\"\",0,('Trust - Frontsheet'!S36))","v":1.3225806451612903},{"$f":"IF('Trust - Frontsheet'!T36=\"\",0,('Trust - Frontsheet'!T36))","v":1.3870967741935485},{"$f":"'Trust - Frontsheet'!U36","v":633},{"$f":"IF('Trust - Frontsheet'!V36=\"\",0,('Trust - Frontsheet'!V36))","v":3.1919431279620851},{"$f":"IF('Trust - Frontsheet'!W36=\"\",0,('Trust - Frontsheet'!W36))","v":2.1619273301737758},{"$f":"IF('Trust - Frontsheet'!X36=\"\",0,('Trust - Frontsheet'!X36))","v":5.3538704581358614},{"$f":"IF(A24=\"\",\"\",(IF(ISBLANK('Trust - Frontsheet'!F9),\"\",'Trust - Frontsheet'!F9)))","v":""}]
[{"$f":"IF('Trust - Frontsheet'!D37=0,\"\",IF('Trust - Frontsheet'!D37=\"\",\"\",'Trust - Frontsheet'!D37))","v":"RWG02"},{"$f":"IF(ISBLANK('Trust - Frontsheet'!E37),\"\",'Trust - Frontsheet'!E37)","v":"WATFORD GENERAL HOSPITAL - RWG02"},{"$f":"IF(ISBLANK('Trust - Frontsheet'!F37),\"\",'Trust - Frontsheet'!F37)","v":"Langley"},{"$f":"IF(ISBLANK('Trust - Frontsheet'!G37),\"\",'Trust - Frontsheet'!G37)","v":"100 - GENERAL SURGERY"},{"$f":"IF(ISBLANK('Trust - Frontsheet'!H37),\"\",'Trust - Frontsheet'!H37)","v":""},{"$f":"'Trust - Frontsheet'!I37","v":885.5},{"$f":"'Trust - Frontsheet'!J37","v":750},{"$f":"'Trust - Frontsheet'!K37","v":713},{"$f":"'Trust - Frontsheet'!L37","v":724.5},{"$f":"'Trust - Frontsheet'!M37","v":713},{"$f":"'Trust - Frontsheet'!N37","v":713},{"$f":"'Trust - Frontsheet'!O37","v":356.5},{"$f":"'Trust - Frontsheet'!P37","v":368},{"$f":"IF('Trust - Frontsheet'!Q37=\"\",0,('Trust - Frontsheet'!Q37))","v":0.84697910784867303},{"$f":"IF('Trust - Frontsheet'!R37=\"\",0,('Trust - Frontsheet'!R37))","v":1.0161290322580645},{"$f":"IF('Trust - Frontsheet'!S37=\"\",0,('Trust - Frontsheet'!S37))","v":1},{"$f":"IF('Trust - Frontsheet'!T37=\"\",0,('Trust - Frontsheet'!T37))","v":1.032258064516129},{"$f":"'Trust - Frontsheet'!U37","v":478},{"$f":"IF('Trust - Frontsheet'!V37=\"\",0,('Trust - Frontsheet'!V37))","v":3.0606694560669454},{"$f":"IF('Trust - Frontsheet'!W37=\"\",0,('Trust - Frontsheet'!W37))","v":2.2855648535564854},{"$f":"IF('Trust - Frontsheet'!X37=\"\",0,('Trust - Frontsheet'!X37))","v":5.3462343096234308},{"$f":"IF(A25=\"\",\"\",(IF(ISBLANK('Trust - Frontsheet'!F9),\"\",'Trust - Frontsheet'!F9)))","v":""}]
[{"$f":"IF('Trust - Frontsheet'!D38=0,\"\",IF('Trust - Frontsheet'!D38=\"\",\"\",'Trust - Frontsheet'!D38))","v":"RWG02"},{"$f":"IF(ISBLANK('Trust - Frontsheet'!E38),\"\",'Trust - Frontsheet'!E38)","v":"WATFORD GENERAL HOSPITAL - RWG02"},{"$f":"IF(ISBLANK('Trust - Frontsheet'!F38),\"\",'Trust - Frontsheet'!F38)","v":"Letchmore"},{"$f":"IF(ISBLANK('Trust - Frontsheet'!G38),\"\",'Trust - Frontsheet'!G38)","v":"100 - GENERAL SURGERY"},{"$f":"IF(ISBLANK('Trust - Frontsheet'!H38),\"\",'Trust - Frontsheet'!H38)","v":""},{"$f":"'Trust - Frontsheet'!I38","v":2219.5},{"$f":"'Trust - Frontsheet'!J38","v":1242.5},{"$f":"'Trust - Frontsheet'!K38","v":1426},{"$f":"'Trust - Frontsheet'!L38","v":1253.5},{"$f":"'Trust - Frontsheet'!M38","v":1782.5},{"$f":"'Trust - Frontsheet'!N38","v":1265},{"$f":"'Trust - Frontsheet'!O38","v":1069.5},{"$f":"'Trust - Frontsheet'!P38","v":839.5},{"$f":"IF('Trust - Frontsheet'!Q38=\"\",0,('Trust - Frontsheet'!Q38))","v":0.55981076819103404},{"$f":"IF('Trust - Frontsheet'!R38=\"\",0,('Trust - Frontsheet'!R38))","v":0.87903225806451613},{"$f":"IF('Trust - Frontsheet'!S38=\"\",0,('Trust - Frontsheet'!S38))","v":0.70967741935483875},{"$f":"IF('Trust - Frontsheet'!T38=\"\",0,('Trust - Frontsheet'!T38))","v":0.78494623655913975},{"$f":"'Trust - Frontsheet'!U38","v":863},{"$f":"IF('Trust - Frontsheet'!V38=\"\",0,('Trust - Frontsheet'!V38))","v":2.9055619930475087},{"$f":"IF('Trust - Frontsheet'!W38=\"\",0,('Trust - Frontsheet'!W38))","v":2.4252607184241022},{"$f":"IF('Trust - Frontsheet'!X38=\"\",0,('Trust - Frontsheet'!X38))","v":5.3308227114716109},{"$f":"IF(A26=\"\",\"\",(IF(ISBLANK('Trust - Frontsheet'!F9),\"\",'Trust - Frontsheet'!F9)))","v":""}]
[{"$f":"IF('Trust - Frontsheet'!D39=0,\"\",IF('Trust - Frontsheet'!D39=\"\",\"\",'Trust - Frontsheet'!D39))","v":"RWG02"},{"$f":"IF(ISBLANK('Trust - Frontsheet'!E39),\"\",'Trust - Frontsheet'!E39)","v":"WATFORD GENERAL HOSPITAL - RWG02"},{"$f":"IF(ISBLANK('Trust - Frontsheet'!F39),\"\",'Trust - Frontsheet'!F39)","v":"Ridge"},{"$f":"IF(ISBLANK('Trust - Frontsheet'!G39),\"\",'Trust - Frontsheet'!G39)","v":"110 - TRAUMA & ORTHOPAEDICS"},{"$f":"IF(ISBLANK('Trust - Frontsheet'!H39),\"\",'Trust - Frontsheet'!H39)","v":""},{"$f":"'Trust - Frontsheet'!I39","v":1598.5},{"$f":"'Trust - Frontsheet'!J39","v":1173.5},{"$f":"'Trust - Frontsheet'!K39","v":1426},{"$f":"'Trust - Frontsheet'!L39","v":1656},{"$f":"'Trust - Frontsheet'!M39","v":1426},{"$f":"'Trust - Frontsheet'!N39","v":1276.5},{"$f":"'Trust - Frontsheet'!O39","v":1069.5},{"$f":"'Trust - Frontsheet'!P39","v":1069.5},{"$f":"IF('Trust - Frontsheet'!Q39=\"\",0,('Trust - Frontsheet'!Q39))","v":0.73412574288395371},{"$f":"IF('Trust - Frontsheet'!R39=\"\",0,('Trust - Frontsheet'!R39))","v":1.1612903225806452},{"$f":"IF('Trust - Frontsheet'!S39=\"\",0,('Trust - Frontsheet'!S39))","v":0.89516129032258063},{"$f":"IF('Trust - Frontsheet'!T39=\"\",0,('Trust - Frontsheet'!T39))","v":1},{"$f":"'Trust - Frontsheet'!U39","v":872},{"$f":"IF('Trust - Frontsheet'!V39=\"\",0,('Trust - Frontsheet'!V39))","v":2.8096330275229358},{"$f":"IF('Trust - Frontsheet'!W39=\"\",0,('Trust - Frontsheet'!W39))","v":3.1255733944954129},{"$f":"IF('Trust - Frontsheet'!X39=\"\",0,('Trust - Frontsheet'!X39))","v":5.9352064220183482},{"$f":"IF(A27=\"\",\"\",(IF(ISBLANK('Trust - Frontsheet'!F9),\"\",'Trust - Frontsheet'!F9)))","v":""}]
[{"$f":"IF('Trust - Frontsheet'!D40=0,\"\",IF('Trust - Frontsheet'!D40=\"\",\"\",'Trust - Frontsheet'!D40))","v":"RWG02"},{"$f":"IF(ISBLANK('Trust - Frontsheet'!E40),\"\",'Trust - Frontsheet'!E40)","v":"WATFORD GENERAL HOSPITAL - RWG02"},{"$f":"IF(ISBLANK('Trust - Frontsheet'!F40),\"\",'Trust - Frontsheet'!F40)","v":"ABC"},{"$f":"IF(ISBLANK('Trust - Frontsheet'!G40),\"\",'Trust - Frontsheet'!G40)","v":"501 - OBSTETRICS"},{"$f":"IF(ISBLANK('Trust - Frontsheet'!H40),\"\",'Trust - Frontsheet'!H40)","v":""},{"$f":"'Trust - Frontsheet'!I40","v":713},{"$f":"'Trust - Frontsheet'!J40","v":726.5},{"$f":"'Trust - Frontsheet'!K40","v":356.5},{"$f":"'Trust - Frontsheet'!L40","v":309.5},{"$f":"'Trust - Frontsheet'!M40","v":713},{"$f":"'Trust - Frontsheet'!N40","v":713},{"$f":"'Trust - Frontsheet'!O40","v":356.5},{"$f":"'Trust - Frontsheet'!P40","v":345},{"$f":"IF('Trust - Frontsheet'!Q40=\"\",0,('Trust - Frontsheet'!Q40))","v":1.0189340813464236},{"$f":"IF('Trust - Frontsheet'!R40=\"\",0,('Trust - Frontsheet'!R40))","v":0.86816269284712477},{"$f":"IF('Trust - Frontsheet'!S40=\"\",0,('Trust - Frontsheet'!S40))","v":1},{"$f":"IF('Trust - Frontsheet'!T40=\"\",0,('Trust - Frontsheet'!T40))","v":0.967741935483871},{"$f":"'Trust - Frontsheet'!U40","v":117},{"$f":"IF('Trust - Frontsheet'!V40=\"\",0,('Trust - Frontsheet'!V40))","v":12.303418803418804},{"$f":"IF('Trust - Frontsheet'!W40=\"\",0,('Trust - Frontsheet'!W40))","v":5.5940170940170937},{"$f":"IF('Trust - Frontsheet'!X40=\"\",0,('Trust - Frontsheet'!X40))","v":17.897435897435898},{"$f":"IF(A28=\"\",\"\",(IF(ISBLANK('Trust - Frontsheet'!F9),\"\",'Trust - Frontsheet'!F9)))","v":""}]
[{"$f":"IF('Trust - Frontsheet'!D41=0,\"\",IF('Trust - Frontsheet'!D41=\"\",\"\",'Trust - Frontsheet'!D41))","v":"RWG02"},{"$f":"IF(ISBLANK('Trust - Frontsheet'!E41),\"\",'Trust - Frontsheet'!E41)","v":"WATFORD GENERAL HOSPITAL - RWG02"},{"$f":"IF(ISBLANK('Trust - Frontsheet'!F41),\"\",'Trust - Frontsheet'!F41)","v":"Delivery Suite"},{"$f":"IF(ISBLANK('Trust - Frontsheet'!G41),\"\",'Trust - Frontsheet'!G41)","v":"501 - OBSTETRICS"},{"$f":"IF(ISBLANK('Trust - Frontsheet'!H41),\"\",'Trust - Frontsheet'!H41)","v":""},{"$f":"'Trust - Frontsheet'!I41","v":3116.5},{"$f":"'Trust - Frontsheet'!J41","v":2980.5},{"$f":"'Trust - Frontsheet'!K41","v":713},{"$f":"'Trust - Frontsheet'!L41","v":632.5},{"$f":"'Trust - Frontsheet'!M41","v":3208.5},{"$f":"'Trust - Frontsheet'!N41","v":3461.5},{"$f":"'Trust - Frontsheet'!O41","v":713},{"$f":"'Trust - Frontsheet'!P41","v":621},{"$f":"IF('Trust - Frontsheet'!Q41=\"\",0,('Trust - Frontsheet'!Q41))","v":0.9563613027434622},{"$f":"IF('Trust - Frontsheet'!R41=\"\",0,('Trust - Frontsheet'!R41))","v":0.88709677419354838},{"$f":"IF('Trust - Frontsheet'!S41=\"\",0,('Trust - Frontsheet'!S41))","v":1.0788530465949822},{"$f":"IF('Trust - Frontsheet'!T41=\"\",0,('Trust - Frontsheet'!T41))","v":0.87096774193548387},{"$f":"'Trust - Frontsheet'!U41","v":271},{"$f":"IF('Trust - Frontsheet'!V41=\"\",0,('Trust - Frontsheet'!V41))","v":23.771217712177123},{"$f":"IF('Trust - Frontsheet'!W41=\"\",0,('Trust - Frontsheet'!W41))","v":4.6254612546125458},{"$f":"IF('Trust - Frontsheet'!X41=\"\",0,('Trust - Frontsheet'!X41))","v":28.396678966789668},{"$f":"IF(A29=\"\",\"\",(IF(ISBLANK('Trust - Frontsheet'!F9),\"\",'Trust - Frontsheet'!F9)))","v":""}]
[{"$f":"IF('Trust - Frontsheet'!D42=0,\"\",IF('Trust - Frontsheet'!D42=\"\",\"\",'Trust - Frontsheet'!D42))","v":"RWG02"},{"$f":"IF(ISBLANK('Trust - Frontsheet'!E42),\"\",'Trust - Frontsheet'!E42)","v":"WATFORD GENERAL HOSPITAL - RWG02"},{"$f":"IF(ISBLANK('Trust - Frontsheet'!F42),\"\",'Trust - Frontsheet'!F42)","v":"Katherine"},{"$f":"IF(ISBLANK('Trust - Frontsheet'!G42),\"\",'Trust - Frontsheet'!G42)","v":"501 - OBSTETRICS"},{"$f":"IF(ISBLANK('Trust - Frontsheet'!H42),\"\",'Trust - Frontsheet'!H42)","v":""},{"$f":"'Trust - Frontsheet'!I42","v":1782.5},{"$f":"'Trust - Frontsheet'!J42","v":1591.5},{"$f":"'Trust - Frontsheet'!K42","v":1426},{"$f":"'Trust - Frontsheet'!L42","v":1095},{"$f":"'Trust - Frontsheet'!M42","v":1426},{"$f":"'Trust - Frontsheet'!N42","v":1368.5},{"$f":"'Trust - Frontsheet'!O42","v":1426},{"$f":"'Trust - Frontsheet'!P42","v":1299.5},{"$f":"IF('Trust - Frontsheet'!Q42=\"\",0,('Trust - Frontsheet'!Q42))","v":0.89284712482468442},{"$f":"IF('Trust - Frontsheet'!R42=\"\",0,('Trust - Frontsheet'!R42))","v":0.76788218793828888},{"$f":"IF('Trust - Frontsheet'!S42=\"\",0,('Trust - Frontsheet'!S42))","v":0.95967741935483875},{"$f":"IF('Trust - Frontsheet'!T42=\"\",0,('Trust - Frontsheet'!T42))","v":0.91129032258064513},{"$f":"'Trust - Frontsheet'!U42","v":946},{"$f":"IF('Trust - Frontsheet'!V42=\"\",0,('Trust - Frontsheet'!V42))","v":3.1289640591966172},{"$f":"IF('Trust - Frontsheet'!W42=\"\",0,('Trust - Frontsheet'!W42))","v":2.5311839323467229},{"$f":"IF('Trust - Frontsheet'!X42=\"\",0,('Trust - Frontsheet'!X42))","v":5.6601479915433401},{"$f":"IF(A30=\"\",\"\",(IF(ISBLANK('Trust - Frontsheet'!F9),\"\",'Trust - Frontsheet'!F9)))","v":""}]
[{"$f":"IF('Trust - Frontsheet'!D43=0,\"\",IF('Trust - Frontsheet'!D43=\"\",\"\",'Trust - Frontsheet'!D43))","v":"RWG02"},{"$f":"IF(ISBLANK('Trust - Frontsheet'!E43),\"\",'Trust - Frontsheet'!E43)","v":"WATFORD GENERAL HOSPITAL - RWG02"},{"$f":"IF(ISBLANK('Trust - Frontsheet'!F43),\"\",'Trust - Frontsheet'!F43)","v":"Victoria"},{"$f":"IF(ISBLANK('Trust - Frontsheet'!G43),\"\",'Trust - Frontsheet'!G43)","v":"501 - OBSTETRICS"},{"$f":"IF(ISBLANK('Trust - Frontsheet'!H43),\"\",'Trust - Frontsheet'!H43)","v":""},{"$f":"'Trust - Frontsheet'!I43","v":713},{"$f":"'Trust - Frontsheet'!J43","v":705},{"$f":"'Trust - Frontsheet'!K43","v":356.5},{"$f":"'Trust - Frontsheet'!L43","v":356.5},{"$f":"'Trust - Frontsheet'!M43","v":713},{"$f":"'Trust - Frontsheet'!N43","v":713},{"$f":"'Trust - Frontsheet'!O43","v":356.5},{"$f":"'Trust - Frontsheet'!P43","v":333.5},{"$f":"IF('Trust - Frontsheet'!Q43=\"\",0,('Trust - Frontsheet'!Q43))","v":0.98877980364656382},{"$f":"IF('Trust - Frontsheet'!R43=\"\",0,('Trust - Frontsheet'!R43))","v":1},{"$f":"IF('Trust - Frontsheet'!S43=\"\",0,('Trust - Frontsheet'!S43))","v":1},{"$f":"IF('Trust - Frontsheet'!T43=\"\",0,('Trust - Frontsheet'!T43))","v":0.93548387096774188},{"$f":"'Trust - Frontsheet'!U43","v":251},{"$f":"IF('Trust - Frontsheet'!V43=\"\",0,('Trust - Frontsheet'!V43))","v":5.6494023904382473},{"$f":"IF('Trust - Frontsheet'!W43=\"\",0,('Trust - Frontsheet'!W43))","v":2.7490039840637448},{"$f":"IF('Trust - Frontsheet'!X43=\"\",0,('Trust - Frontsheet'!X43))","v":8.3984063745019917},{"$f":"IF(A31=\"\",\"\",(IF(ISBLANK('Trust - Frontsheet'!F9),\"\",'Trust - Frontsheet'!F9)))","v":""}]
[{"$f":"IF('Trust - Frontsheet'!D44=0,\"\",IF('Trust - Frontsheet'!D44=\"\",\"\",'Trust - Frontsheet'!D44))","v":"RWG02"},{"$f":"IF(ISBLANK('Trust - Frontsheet'!E44),\"\",'Trust - Frontsheet'!E44)","v":"WATFORD GENERAL HOSPITAL - RWG02"},{"$f":"IF(ISBLANK('Trust - Frontsheet'!F44),\"\",'Trust - Frontsheet'!F44)","v":"SCBU"},{"$f":"IF(ISBLANK('Trust - Frontsheet'!G44),\"\",'Trust - Frontsheet'!G44)","v":"420 - PAEDIATRICS"},{"$f":"IF(ISBLANK('Trust - Frontsheet'!H44),\"\",'Trust - Frontsheet'!H44)","v":""},{"$f":"'Trust - Frontsheet'!I44","v":2852},{"$f":"'Trust - Frontsheet'!J44","v":2127},{"$f":"'Trust - Frontsheet'!K44","v":1069.5},{"$f":"'Trust - Frontsheet'!L44","v":843},{"$f":"'Trust - Frontsheet'!M44","v":2852},{"$f":"'Trust - Frontsheet'!N44","v":1805.5},{"$f":"'Trust - Frontsheet'!O44","v":1069.5},{"$f":"'Trust - Frontsheet'!P44","v":747.5},{"$f":"IF('Trust - Frontsheet'!Q44=\"\",0,('Trust - Frontsheet'!Q44))","v":0.74579242636746146},{"$f":"IF('Trust - Frontsheet'!R44=\"\",0,('Trust - Frontsheet'!R44))","v":0.78821879382889204},{"$f":"IF('Trust - Frontsheet'!S44=\"\",0,('Trust - Frontsheet'!S44))","v":0.63306451612903225},{"$f":"IF('Trust - Frontsheet'!T44=\"\",0,('Trust - Frontsheet'!T44))","v":0.69892473118279574},{"$f":"'Trust - Frontsheet'!U44","v":249},{"$f":"IF('Trust - Frontsheet'!V44=\"\",0,('Trust - Frontsheet'!V44))","v":15.793172690763052},{"$f":"IF('Trust - Frontsheet'!W44=\"\",0,('Trust - Frontsheet'!W44))","v":6.3875502008032132},{"$f":"IF('Trust - Frontsheet'!X44=\"\",0,('Trust - Frontsheet'!X44))","v":22.180722891566266},{"$f":"IF(A32=\"\",\"\",(IF(ISBLANK('Trust - Frontsheet'!F9),\"\",'Trust - Frontsheet'!F9)))","v":""}]
[{"$f":"IF('Trust - Frontsheet'!D45=0,\"\",IF('Trust - Frontsheet'!D45=\"\",\"\",'Trust - Frontsheet'!D45))","v":"RWG02"},{"$f":"IF(ISBLANK('Trust - Frontsheet'!E45),\"\",'Trust - Frontsheet'!E45)","v":"WATFORD GENERAL HOSPITAL - RWG02"},{"$f":"IF(ISBLANK('Trust - Frontsheet'!F45),\"\",'Trust - Frontsheet'!F45)","v":"Starfish"},{"$f":"IF(ISBLANK('Trust - Frontsheet'!G45),\"\",'Trust - Frontsheet'!G45)","v":"420 - PAEDIATRICS"},{"$f":"IF(ISBLANK('Trust - Frontsheet'!H45),\"\",'Trust - Frontsheet'!H45)","v":""},{"$f":"'Trust - Frontsheet'!I45","v":1644.5},{"$f":"'Trust - Frontsheet'!J45","v":1180},{"$f":"'Trust - Frontsheet'!K45","v":356.5},{"$f":"'Trust - Frontsheet'!L45","v":253},{"$f":"'Trust - Frontsheet'!M45","v":1069.5},{"$f":"'Trust - Frontsheet'!N45","v":920},{"$f":"'Trust - Frontsheet'!O45","v":356.5},{"$f":"'Trust - Frontsheet'!P45","v":218.5},{"$f":"IF('Trust - Frontsheet'!Q45=\"\",0,('Trust - Frontsheet'!Q45))","v":0.71754332623897843},{"$f":"IF('Trust - Frontsheet'!R45=\"\",0,('Trust - Frontsheet'!R45))","v":0.70967741935483875},{"$f":"IF('Trust - Frontsheet'!S45=\"\",0,('Trust - Frontsheet'!S45))","v":0.86021505376344087},{"$f":"IF('Trust - Frontsheet'!T45=\"\",0,('Trust - Frontsheet'!T45))","v":0.61290322580645162},{"$f":"'Trust - Frontsheet'!U45","v":334},{"$f":"IF('Trust - Frontsheet'!V45=\"\",0,('Trust - Frontsheet'!V45))","v":6.2874251497005984},{"$f":"IF('Trust - Frontsheet'!W45=\"\",0,('Trust - Frontsheet'!W45))","v":1.4116766467065869},{"$f":"IF('Trust - Frontsheet'!X45=\"\",0,('Trust - Frontsheet'!X45))","v":7.6991017964071853},{"$f":"IF(A33=\"\",\"\",(IF(ISBLANK('Trust - Frontsheet'!F9),\"\",'Trust - Frontsheet'!F9)))","v":""}]
[{"$f":"IF('Trust - Frontsheet'!D46=0,\"\",IF('Trust - Frontsheet'!D46=\"\",\"\",'Trust - Frontsheet'!D46))","v":""},{"$f":"IF(ISBLANK('Trust - Frontsheet'!E46),\"\",'Trust - Frontsheet'!E46)","v":""},{"$f":"IF(ISBLANK('Trust - Frontsheet'!F46),\"\",'Trust - Frontsheet'!F46)","v":""},{"$f":"IF(ISBLANK('Trust - Frontsheet'!G46),\"\",'Trust - Frontsheet'!G46)","v":""},{"$f":"IF(ISBLANK('Trust - Frontsheet'!H46),\"\",'Trust - Frontsheet'!H46)","v":""},{"$f":"'Trust - Frontsheet'!I46","v":0},{"$f":"'Trust - Frontsheet'!J46","v":0},{"$f":"'Trust - Frontsheet'!K46","v":0},{"$f":"'Trust - Frontsheet'!L46","v":0},{"$f":"'Trust - Frontsheet'!M46","v":0},{"$f":"'Trust - Frontsheet'!N46","v":0},{"$f":"'Trust - Frontsheet'!O46","v":0},{"$f":"'Trust - Frontsheet'!P46","v":0},{"$f":"IF('Trust - Frontsheet'!Q46=\"\",0,('Trust - Frontsheet'!Q46))","v":0},{"$f":"IF('Trust - Frontsheet'!R46=\"\",0,('Trust - Frontsheet'!R46))","v":0},{"$f":"IF('Trust - Frontsheet'!S46=\"\",0,('Trust - Frontsheet'!S46))","v":0},{"$f":"IF('Trust - Frontsheet'!T46=\"\",0,('Trust - Frontsheet'!T46))","v":0},{"$f":"'Trust - Frontsheet'!U46","v":0},{"$f":"IF('Trust - Frontsheet'!V46=\"\",0,('Trust - Frontsheet'!V46))","v":0},{"$f":"IF('Trust - Frontsheet'!W46=\"\",0,('Trust - Frontsheet'!W46))","v":0},{"$f":"IF('Trust - Frontsheet'!X46=\"\",0,('Trust - Frontsheet'!X46))","v":0},{"$f":"IF(A34=\"\",\"\",(IF(ISBLANK('Trust - Frontsheet'!F9),\"\",'Trust - Frontsheet'!F9)))","v":""}]
[{"$f":"IF('Trust - Frontsheet'!D47=0,\"\",IF('Trust - Frontsheet'!D47=\"\",\"\",'Trust - Frontsheet'!D47))","v":""},{"$f":"IF(ISBLANK('Trust - Frontsheet'!E47),\"\",'Trust - Frontsheet'!E47)","v":""},{"$f":"IF(ISBLANK('Trust - Frontsheet'!F47),\"\",'Trust - Frontsheet'!F47)","v":""},{"$f":"IF(ISBLANK('Trust - Frontsheet'!G47),\"\",'Trust - Frontsheet'!G47)","v":""},{"$f":"IF(ISBLANK('Trust - Frontsheet'!H47),\"\",'Trust - Frontsheet'!H47)","v":""},{"$f":"'Trust - Frontsheet'!I47","v":0},{"$f":"'Trust - Frontsheet'!J47","v":0},{"$f":"'Trust - Frontsheet'!K47","v":0},{"$f":"'Trust - Frontsheet'!L47","v":0},{"$f":"'Trust - Frontsheet'!M47","v":0},{"$f":"'Trust - Frontsheet'!N47","v":0},{"$f":"'Trust - Frontsheet'!O47","v":0},{"$f":"'Trust - Frontsheet'!P47","v":0},{"$f":"IF('Trust - Frontsheet'!Q47=\"\",0,('Trust - Frontsheet'!Q47))","v":0},{"$f":"IF('Trust - Frontsheet'!R47=\"\",0,('Trust - Frontsheet'!R47))","v":0},{"$f":"IF('Trust - Frontsheet'!S47=\"\",0,('Trust - Frontsheet'!S47))","v":0},{"$f":"IF('Trust - Frontsheet'!T47=\"\",0,('Trust - Frontsheet'!T47))","v":0},{"$f":"'Trust - Frontsheet'!U47","v":0},{"$f":"IF('Trust - Frontsheet'!V47=\"\",0,('Trust - Frontsheet'!V47))","v":0},{"$f":"IF('Trust - Frontsheet'!W47=\"\",0,('Trust - Frontsheet'!W47))","v":0},{"$f":"IF('Trust - Frontsheet'!X47=\"\",0,('Trust - Frontsheet'!X47))","v":0},{"$f":"IF(A35=\"\",\"\",(IF(ISBLANK('Trust - Frontsheet'!F9),\"\",'Trust - Frontsheet'!F9)))","v":""}]
[{"$f":"IF('Trust - Frontsheet'!D48=0,\"\",IF('Trust - Frontsheet'!D48=\"\",\"\",'Trust - Frontsheet'!D48))","v":""},{"$f":"IF(ISBLANK('Trust - Frontsheet'!E48),\"\",'Trust - Frontsheet'!E48)","v":""},{"$f":"IF(ISBLANK('Trust - Frontsheet'!F48),\"\",'Trust - Frontsheet'!F48)","v":""},{"$f":"IF(ISBLANK('Trust - Frontsheet'!G48),\"\",'Trust - Frontsheet'!G48)","v":""},{"$f":"IF(ISBLANK('Trust - Frontsheet'!H48),\"\",'Trust - Frontsheet'!H48)","v":""},{"$f":"'Trust - Frontsheet'!I48","v":0},{"$f":"'Trust - Frontsheet'!J48","v":0},{"$f":"'Trust - Frontsheet'!K48","v":0},{"$f":"'Trust - Frontsheet'!L48","v":0},{"$f":"'Trust - Frontsheet'!M48","v":0},{"$f":"'Trust - Frontsheet'!N48","v":0},{"$f":"'Trust - Frontsheet'!O48","v":0},{"$f":"'Trust - Frontsheet'!P48","v":0},{"$f":"IF('Trust - Frontsheet'!Q48=\"\",0,('Trust - Frontsheet'!Q48))","v":0},{"$f":"IF('Trust - Frontsheet'!R48=\"\",0,('Trust - Frontsheet'!R48))","v":0},{"$f":"IF('Trust - Frontsheet'!S48=\"\",0,('Trust - Frontsheet'!S48))","v":0},{"$f":"IF('Trust - Frontsheet'!T48=\"\",0,('Trust - Frontsheet'!T48))","v":0},{"$f":"'Trust - Frontsheet'!U48","v":0},{"$f":"IF('Trust - Frontsheet'!V48=\"\",0,('Trust - Frontsheet'!V48))","v":0},{"$f":"IF('Trust - Frontsheet'!W48=\"\",0,('Trust - Frontsheet'!W48))","v":0},{"$f":"IF('Trust - Frontsheet'!X48=\"\",0,('Trust - Frontsheet'!X48))","v":0},{"$f":"IF(A36=\"\",\"\",(IF(ISBLANK('Trust - Frontsheet'!F9),\"\",'Trust - Frontsheet'!F9)))","v":""}]
[{"$f":"IF('Trust - Frontsheet'!D49=0,\"\",IF('Trust - Frontsheet'!D49=\"\",\"\",'Trust - Frontsheet'!D49))","v":""},{"$f":"IF(ISBLANK('Trust - Frontsheet'!E49),\"\",'Trust - Frontsheet'!E49)","v":""},{"$f":"IF(ISBLANK('Trust - Frontsheet'!F49),\"\",'Trust - Frontsheet'!F49)","v":""},{"$f":"IF(ISBLANK('Trust - Frontsheet'!G49),\"\",'Trust - Frontsheet'!G49)","v":""},{"$f":"IF(ISBLANK('Trust - Frontsheet'!H49),\"\",'Trust - Frontsheet'!H49)","v":""},{"$f":"'Trust - Frontsheet'!I49","v":0},{"$f":"'Trust - Frontsheet'!J49","v":0},{"$f":"'Trust - Frontsheet'!K49","v":0},{"$f":"'Trust - Frontsheet'!L49","v":0},{"$f":"'Trust - Frontsheet'!M49","v":0},{"$f":"'Trust - Frontsheet'!N49","v":0},{"$f":"'Trust - Frontsheet'!O49","v":0},{"$f":"'Trust - Frontsheet'!P49","v":0},{"$f":"IF('Trust - Frontsheet'!Q49=\"\",0,('Trust - Frontsheet'!Q49))","v":0},{"$f":"IF('Trust - Frontsheet'!R49=\"\",0,('Trust - Frontsheet'!R49))","v":0},{"$f":"IF('Trust - Frontsheet'!S49=\"\",0,('Trust - Frontsheet'!S49))","v":0},{"$f":"IF('Trust - Frontsheet'!T49=\"\",0,('Trust - Frontsheet'!T49))","v":0},{"$f":"'Trust - Frontsheet'!U49","v":0},{"$f":"IF('Trust - Frontsheet'!V49=\"\",0,('Trust - Frontsheet'!V49))","v":0},{"$f":"IF('Trust - Frontsheet'!W49=\"\",0,('Trust - Frontsheet'!W49))","v":0},{"$f":"IF('Trust - Frontsheet'!X49=\"\",0,('Trust - Frontsheet'!X49))","v":0},{"$f":"IF(A37=\"\",\"\",(IF(ISBLANK('Trust - Frontsheet'!F9),\"\",'Trust - Frontsheet'!F9)))","v":""}]
[{"$f":"IF('Trust - Frontsheet'!D50=0,\"\",IF('Trust - Frontsheet'!D50=\"\",\"\",'Trust - Frontsheet'!D50))","v":""},{"$f":"IF(ISBLANK('Trust - Frontsheet'!E50),\"\",'Trust - Frontsheet'!E50)","v":""},{"$f":"IF(ISBLANK('Trust - Frontsheet'!F50),\"\",'Trust - Frontsheet'!F50)","v":""},{"$f":"IF(ISBLANK('Trust - Frontsheet'!G50),\"\",'Trust - Frontsheet'!G50)","v":""},{"$f":"IF(ISBLANK('Trust - Frontsheet'!H50),\"\",'Trust - Frontsheet'!H50)","v":""},{"$f":"'Trust - Frontsheet'!I50","v":0},{"$f":"'Trust - Frontsheet'!J50","v":0},{"$f":"'Trust - Frontsheet'!K50","v":0},{"$f":"'Trust - Frontsheet'!L50","v":0},{"$f":"'Trust - Frontsheet'!M50","v":0},{"$f":"'Trust - Frontsheet'!N50","v":0},{"$f":"'Trust - Frontsheet'!O50","v":0},{"$f":"'Trust - Frontsheet'!P50","v":0},{"$f":"IF('Trust - Frontsheet'!Q50=\"\",0,('Trust - Frontsheet'!Q50))","v":0},{"$f":"IF('Trust - Frontsheet'!R50=\"\",0,('Trust - Frontsheet'!R50))","v":0},{"$f":"IF('Trust - Frontsheet'!S50=\"\",0,('Trust - Frontsheet'!S50))","v":0},{"$f":"IF('Trust - Frontsheet'!T50=\"\",0,('Trust - Frontsheet'!T50))","v":0},{"$f":"'Trust - Frontsheet'!U50","v":0},{"$f":"IF('Trust - Frontsheet'!V50=\"\",0,('Trust - Frontsheet'!V50))","v":0},{"$f":"IF('Trust - Frontsheet'!W50=\"\",0,('Trust - Frontsheet'!W50))","v":0},{"$f":"IF('Trust - Frontsheet'!X50=\"\",0,('Trust - Frontsheet'!X50))","v":0},{"$f":"IF(A38=\"\",\"\",(IF(ISBLANK('Trust - Frontsheet'!F9),\"\",'Trust - Frontsheet'!F9)))","v":""}]
[{"$f":"IF('Trust - Frontsheet'!D51=0,\"\",IF('Trust - Frontsheet'!D51=\"\",\"\",'Trust - Frontsheet'!D51))","v":""},{"$f":"IF(ISBLANK('Trust - Frontsheet'!E51),\"\",'Trust - Frontsheet'!E51)","v":""},{"$f":"IF(ISBLANK('Trust - Frontsheet'!F51),\"\",'Trust - Frontsheet'!F51)","v":""},{"$f":"IF(ISBLANK('Trust - Frontsheet'!G51),\"\",'Trust - Frontsheet'!G51)","v":""},{"$f":"IF(ISBLANK('Trust - Frontsheet'!H51),\"\",'Trust - Frontsheet'!H51)","v":""},{"$f":"'Trust - Frontsheet'!I51","v":0},{"$f":"'Trust - Frontsheet'!J51","v":0},{"$f":"'Trust - Frontsheet'!K51","v":0},{"$f":"'Trust - Frontsheet'!L51","v":0},{"$f":"'Trust - Frontsheet'!M51","v":0},{"$f":"'Trust - Frontsheet'!N51","v":0},{"$f":"'Trust - Frontsheet'!O51","v":0},{"$f":"'Trust - Frontsheet'!P51","v":0},{"$f":"IF('Trust - Frontsheet'!Q51=\"\",0,('Trust - Frontsheet'!Q51))","v":0},{"$f":"IF('Trust - Frontsheet'!R51=\"\",0,('Trust - Frontsheet'!R51))","v":0},{"$f":"IF('Trust - Frontsheet'!S51=\"\",0,('Trust - Frontsheet'!S51))","v":0},{"$f":"IF('Trust - Frontsheet'!T51=\"\",0,('Trust - Frontsheet'!T51))","v":0},{"$f":"'Trust - Frontsheet'!U51","v":0},{"$f":"IF('Trust - Frontsheet'!V51=\"\",0,('Trust - Frontsheet'!V51))","v":0},{"$f":"IF('Trust - Frontsheet'!W51=\"\",0,('Trust - Frontsheet'!W51))","v":0},{"$f":"IF('Trust - Frontsheet'!X51=\"\",0,('Trust - Frontsheet'!X51))","v":0},{"$f":"IF(A39=\"\",\"\",(IF(ISBLANK('Trust - Frontsheet'!F9),\"\",'Trust - Frontsheet'!F9)))","v":""}]
[{"$f":"IF('Trust - Frontsheet'!D52=0,\"\",IF('Trust - Frontsheet'!D52=\"\",\"\",'Trust - Frontsheet'!D52))","v":""},{"$f":"IF(ISBLANK('Trust - Frontsheet'!E52),\"\",'Trust - Frontsheet'!E52)","v":""},{"$f":"IF(ISBLANK('Trust - Frontsheet'!F52),\"\",'Trust - Frontsheet'!F52)","v":""},{"$f":"IF(ISBLANK('Trust - Frontsheet'!G52),\"\",'Trust - Frontsheet'!G52)","v":""},{"$f":"IF(ISBLANK('Trust - Frontsheet'!H52),\"\",'Trust - Frontsheet'!H52)","v":""},{"$f":"'Trust - Frontsheet'!I52","v":0},{"$f":"'Trust - Frontsheet'!J52","v":0},{"$f":"'Trust - Frontsheet'!K52","v":0},{"$f":"'Trust - Frontsheet'!L52","v":0},{"$f":"'Trust - Frontsheet'!M52","v":0},{"$f":"'Trust - Frontsheet'!N52","v":0},{"$f":"'Trust - Frontsheet'!O52","v":0},{"$f":"'Trust - Frontsheet'!P52","v":0},{"$f":"IF('Trust - Frontsheet'!Q52=\"\",0,('Trust - Frontsheet'!Q52))","v":0},{"$f":"IF('Trust - Frontsheet'!R52=\"\",0,('Trust - Frontsheet'!R52))","v":0},{"$f":"IF('Trust - Frontsheet'!S52=\"\",0,('Trust - Frontsheet'!S52))","v":0},{"$f":"IF('Trust - Frontsheet'!T52=\"\",0,('Trust - Frontsheet'!T52))","v":0},{"$f":"'Trust - Frontsheet'!U52","v":0},{"$f":"IF('Trust - Frontsheet'!V52=\"\",0,('Trust - Frontsheet'!V52))","v":0},{"$f":"IF('Trust - Frontsheet'!W52=\"\",0,('Trust - Frontsheet'!W52))","v":0},{"$f":"IF('Trust - Frontsheet'!X52=\"\",0,('Trust - Frontsheet'!X52))","v":0},{"$f":"IF(A40=\"\",\"\",(IF(ISBLANK('Trust - Frontsheet'!F9),\"\",'Trust - Frontsheet'!F9)))","v":""}]
[{"$f":"IF('Trust - Frontsheet'!D53=0,\"\",IF('Trust - Frontsheet'!D53=\"\",\"\",'Trust - Frontsheet'!D53))","v":""},{"$f":"IF(ISBLANK('Trust - Frontsheet'!E53),\"\",'Trust - Frontsheet'!E53)","v":""},{"$f":"IF(ISBLANK('Trust - Frontsheet'!F53),\"\",'Trust - Frontsheet'!F53)","v":""},{"$f":"IF(ISBLANK('Trust - Frontsheet'!G53),\"\",'Trust - Frontsheet'!G53)","v":""},{"$f":"IF(ISBLANK('Trust - Frontsheet'!H53),\"\",'Trust - Frontsheet'!H53)","v":""},{"$f":"'Trust - Frontsheet'!I53","v":0},{"$f":"'Trust - Frontsheet'!J53","v":0},{"$f":"'Trust - Frontsheet'!K53","v":0},{"$f":"'Trust - Frontsheet'!L53","v":0},{"$f":"'Trust - Frontsheet'!M53","v":0},{"$f":"'Trust - Frontsheet'!N53","v":0},{"$f":"'Trust - Frontsheet'!O53","v":0},{"$f":"'Trust - Frontsheet'!P53","v":0},{"$f":"IF('Trust - Frontsheet'!Q53=\"\",0,('Trust - Frontsheet'!Q53))","v":0},{"$f":"IF('Trust - Frontsheet'!R53=\"\",0,('Trust - Frontsheet'!R53))","v":0},{"$f":"IF('Trust - Frontsheet'!S53=\"\",0,('Trust - Frontsheet'!S53))","v":0},{"$f":"IF('Trust - Frontsheet'!T53=\"\",0,('Trust - Frontsheet'!T53))","v":0},{"$f":"'Trust - Frontsheet'!U53","v":0},{"$f":"IF('Trust - Frontsheet'!V53=\"\",0,('Trust - Frontsheet'!V53))","v":0},{"$f":"IF('Trust - Frontsheet'!W53=\"\",0,('Trust - Frontsheet'!W53))","v":0},{"$f":"IF('Trust - Frontsheet'!X53=\"\",0,('Trust - Frontsheet'!X53))","v":0},{"$f":"IF(A41=\"\",\"\",(IF(ISBLANK('Trust - Frontsheet'!F9),\"\",'Trust - Frontsheet'!F9)))","v":""}]
[{"$f":"IF('Trust - Frontsheet'!D54=0,\"\",IF('Trust - Frontsheet'!D54=\"\",\"\",'Trust - Frontsheet'!D54))","v":""},{"$f":"IF(ISBLANK('Trust - Frontsheet'!E54),\"\",'Trust - Frontsheet'!E54)","v":""},{"$f":"IF(ISBLANK('Trust - Frontsheet'!F54),\"\",'Trust - Frontsheet'!F54)","v":""},{"$f":"IF(ISBLANK('Trust - Frontsheet'!G54),\"\",'Trust - Frontsheet'!G54)","v":""},{"$f":"IF(ISBLANK('Trust - Frontsheet'!H54),\"\",'Trust - Frontsheet'!H54)","v":""},{"$f":"'Trust - Frontsheet'!I54","v":0},{"$f":"'Trust - Frontsheet'!J54","v":0},{"$f":"'Trust - Frontsheet'!K54","v":0},{"$f":"'Trust - Frontsheet'!L54","v":0},{"$f":"'Trust - Frontsheet'!M54","v":0},{"$f":"'Trust - Frontsheet'!N54","v":0},{"$f":"'Trust - Frontsheet'!O54","v":0},{"$f":"'Trust - Frontsheet'!P54","v":0},{"$f":"IF('Trust - Frontsheet'!Q54=\"\",0,('Trust - Frontsheet'!Q54))","v":0},{"$f":"IF('Trust - Frontsheet'!R54=\"\",0,('Trust - Frontsheet'!R54))","v":0},{"$f":"IF('Trust - Frontsheet'!S54=\"\",0,('Trust - Frontsheet'!S54))","v":0},{"$f":"IF('Trust - Frontsheet'!T54=\"\",0,('Trust - Frontsheet'!T54))","v":0},{"$f":"'Trust - Frontsheet'!U54","v":0},{"$f":"IF('Trust - Frontsheet'!V54=\"\",0,('Trust - Frontsheet'!V54))","v":0},{"$f":"IF('Trust - Frontsheet'!W54=\"\",0,('Trust - Frontsheet'!W54))","v":0},{"$f":"IF('Trust - Frontsheet'!X54=\"\",0,('Trust - Frontsheet'!X54))","v":0},{"$f":"IF(A42=\"\",\"\",(IF(ISBLANK('Trust - Frontsheet'!F9),\"\",'Trust - Frontsheet'!F9)))","v":""}]
[{"$f":"IF('Trust - Frontsheet'!D55=0,\"\",IF('Trust - Frontsheet'!D55=\"\",\"\",'Trust - Frontsheet'!D55))","v":""},{"$f":"IF(ISBLANK('Trust - Frontsheet'!E55),\"\",'Trust - Frontsheet'!E55)","v":""},{"$f":"IF(ISBLANK('Trust - Frontsheet'!F55),\"\",'Trust - Frontsheet'!F55)","v":""},{"$f":"IF(ISBLANK('Trust - Frontsheet'!G55),\"\",'Trust - Frontsheet'!G55)","v":""},{"$f":"IF(ISBLANK('Trust - Frontsheet'!H55),\"\",'Trust - Frontsheet'!H55)","v":""},{"$f":"'Trust - Frontsheet'!I55","v":0},{"$f":"'Trust - Frontsheet'!J55","v":0},{"$f":"'Trust - Frontsheet'!K55","v":0},{"$f":"'Trust - Frontsheet'!L55","v":0},{"$f":"'Trust - Frontsheet'!M55","v":0},{"$f":"'Trust - Frontsheet'!N55","v":0},{"$f":"'Trust - Frontsheet'!O55","v":0},{"$f":"'Trust - Frontsheet'!P55","v":0},{"$f":"IF('Trust - Frontsheet'!Q55=\"\",0,('Trust - Frontsheet'!Q55))","v":0},{"$f":"IF('Trust - Frontsheet'!R55=\"\",0,('Trust - Frontsheet'!R55))","v":0},{"$f":"IF('Trust - Frontsheet'!S55=\"\",0,('Trust - Frontsheet'!S55))","v":0},{"$f":"IF('Trust - Frontsheet'!T55=\"\",0,('Trust - Frontsheet'!T55))","v":0},{"$f":"'Trust - Frontsheet'!U55","v":0},{"$f":"IF('Trust - Frontsheet'!V55=\"\",0,('Trust - Frontsheet'!V55))","v":0},{"$f":"IF('Trust - Frontsheet'!W55=\"\",0,('Trust - Frontsheet'!W55))","v":0},{"$f":"IF('Trust - Frontsheet'!X55=\"\",0,('Trust - Frontsheet'!X55))","v":0},{"$f":"IF(A43=\"\",\"\",(IF(ISBLANK('Trust - Frontsheet'!F9),\"\",'Trust - Frontsheet'!F9)))","v":""}]
[{"$f":"IF('Trust - Frontsheet'!D56=0,\"\",IF('Trust - Frontsheet'!D56=\"\",\"\",'Trust - Frontsheet'!D56))","v":""},{"$f":"IF(ISBLANK('Trust - Frontsheet'!E56),\"\",'Trust - Frontsheet'!E56)","v":""},{"$f":"IF(ISBLANK('Trust - Frontsheet'!F56),\"\",'Trust - Frontsheet'!F56)","v":""},{"$f":"IF(ISBLANK('Trust - Frontsheet'!G56),\"\",'Trust - Frontsheet'!G56)","v":""},{"$f":"IF(ISBLANK('Trust - Frontsheet'!H56),\"\",'Trust - Frontsheet'!H56)","v":""},{"$f":"'Trust - Frontsheet'!I56","v":0},{"$f":"'Trust - Frontsheet'!J56","v":0},{"$f":"'Trust - Frontsheet'!K56","v":0},{"$f":"'Trust - Frontsheet'!L56","v":0},{"$f":"'Trust - Frontsheet'!M56","v":0},{"$f":"'Trust - Frontsheet'!N56","v":0},{"$f":"'Trust - Frontsheet'!O56","v":0},{"$f":"'Trust - Frontsheet'!P56","v":0},{"$f":"IF('Trust - Frontsheet'!Q56=\"\",0,('Trust - Frontsheet'!Q56))","v":0},{"$f":"IF('Trust - Frontsheet'!R56=\"\",0,('Trust - Frontsheet'!R56))","v":0},{"$f":"IF('Trust - Frontsheet'!S56=\"\",0,('Trust - Frontsheet'!S56))","v":0},{"$f":"IF('Trust - Frontsheet'!T56=\"\",0,('Trust - Frontsheet'!T56))","v":0},{"$f":"'Trust - Frontsheet'!U56","v":0},{"$f":"IF('Trust - Frontsheet'!V56=\"\",0,('Trust - Frontsheet'!V56))","v":0},{"$f":"IF('Trust - Frontsheet'!W56=\"\",0,('Trust - Frontsheet'!W56))","v":0},{"$f":"IF('Trust - Frontsheet'!X56=\"\",0,('Trust - Frontsheet'!X56))","v":0},{"$f":"IF(A44=\"\",\"\",(IF(ISBLANK('Trust - Frontsheet'!F9),\"\",'Trust - Frontsheet'!F9)))","v":""}]
[{"$f":"IF('Trust - Frontsheet'!D57=0,\"\",IF('Trust - Frontsheet'!D57=\"\",\"\",'Trust - Frontsheet'!D57))","v":""},{"$f":"IF(ISBLANK('Trust - Frontsheet'!E57),\"\",'Trust - Frontsheet'!E57)","v":""},{"$f":"IF(ISBLANK('Trust - Frontsheet'!F57),\"\",'Trust - Frontsheet'!F57)","v":""},{"$f":"IF(ISBLANK('Trust - Frontsheet'!G57),\"\",'Trust - Frontsheet'!G57)","v":""},{"$f":"IF(ISBLANK('Trust - Frontsheet'!H57),\"\",'Trust - Frontsheet'!H57)","v":""},{"$f":"'Trust - Frontsheet'!I57","v":0},{"$f":"'Trust - Frontsheet'!J57","v":0},{"$f":"'Trust - Frontsheet'!K57","v":0},{"$f":"'Trust - Frontsheet'!L57","v":0},{"$f":"'Trust - Frontsheet'!M57","v":0},{"$f":"'Trust - Frontsheet'!N57","v":0},{"$f":"'Trust - Frontsheet'!O57","v":0},{"$f":"'Trust - Frontsheet'!P57","v":0},{"$f":"IF('Trust - Frontsheet'!Q57=\"\",0,('Trust - Frontsheet'!Q57))","v":0},{"$f":"IF('Trust - Frontsheet'!R57=\"\",0,('Trust - Frontsheet'!R57))","v":0},{"$f":"IF('Trust - Frontsheet'!S57=\"\",0,('Trust - Frontsheet'!S57))","v":0},{"$f":"IF('Trust - Frontsheet'!T57=\"\",0,('Trust - Frontsheet'!T57))","v":0},{"$f":"'Trust - Frontsheet'!U57","v":0},{"$f":"IF('Trust - Frontsheet'!V57=\"\",0,('Trust - Frontsheet'!V57))","v":0},{"$f":"IF('Trust - Frontsheet'!W57=\"\",0,('Trust - Frontsheet'!W57))","v":0},{"$f":"IF('Trust - Frontsheet'!X57=\"\",0,('Trust - Frontsheet'!X57))","v":0},{"$f":"IF(A45=\"\",\"\",(IF(ISBLANK('Trust - Frontsheet'!F9),\"\",'Trust - Frontsheet'!F9)))","v":""}]
[{"$f":"IF('Trust - Frontsheet'!D58=0,\"\",IF('Trust - Frontsheet'!D58=\"\",\"\",'Trust - Frontsheet'!D58))","v":""},{"$f":"IF(ISBLANK('Trust - Frontsheet'!E58),\"\",'Trust - Frontsheet'!E58)","v":""},{"$f":"IF(ISBLANK('Trust - Frontsheet'!F58),\"\",'Trust - Frontsheet'!F58)","v":""},{"$f":"IF(ISBLANK('Trust - Frontsheet'!G58),\"\",'Trust - Frontsheet'!G58)","v":""},{"$f":"IF(ISBLANK('Trust - Frontsheet'!H58),\"\",'Trust - Frontsheet'!H58)","v":""},{"$f":"'Trust - Frontsheet'!I58","v":0},{"$f":"'Trust - Frontsheet'!J58","v":0},{"$f":"'Trust - Frontsheet'!K58","v":0},{"$f":"'Trust - Frontsheet'!L58","v":0},{"$f":"'Trust - Frontsheet'!M58","v":0},{"$f":"'Trust - Frontsheet'!N58","v":0},{"$f":"'Trust - Frontsheet'!O58","v":0},{"$f":"'Trust - Frontsheet'!P58","v":0},{"$f":"IF('Trust - Frontsheet'!Q58=\"\",0,('Trust - Frontsheet'!Q58))","v":0},{"$f":"IF('Trust - Frontsheet'!R58=\"\",0,('Trust - Frontsheet'!R58))","v":0},{"$f":"IF('Trust - Frontsheet'!S58=\"\",0,('Trust - Frontsheet'!S58))","v":0},{"$f":"IF('Trust - Frontsheet'!T58=\"\",0,('Trust - Frontsheet'!T58))","v":0},{"$f":"'Trust - Frontsheet'!U58","v":0},{"$f":"IF('Trust - Frontsheet'!V58=\"\",0,('Trust - Frontsheet'!V58))","v":0},{"$f":"IF('Trust - Frontsheet'!W58=\"\",0,('Trust - Frontsheet'!W58))","v":0},{"$f":"IF('Trust - Frontsheet'!X58=\"\",0,('Trust - Frontsheet'!X58))","v":0},{"$f":"IF(A46=\"\",\"\",(IF(ISBLANK('Trust - Frontsheet'!F9),\"\",'Trust - Frontsheet'!F9)))","v":""}]
[{"$f":"IF('Trust - Frontsheet'!D59=0,\"\",IF('Trust - Frontsheet'!D59=\"\",\"\",'Trust - Frontsheet'!D59))","v":""},{"$f":"IF(ISBLANK('Trust - Frontsheet'!E59),\"\",'Trust - Frontsheet'!E59)","v":""},{"$f":"IF(ISBLANK('Trust - Frontsheet'!F59),\"\",'Trust - Frontsheet'!F59)","v":""},{"$f":"IF(ISBLANK('Trust - Frontsheet'!G59),\"\",'Trust - Frontsheet'!G59)","v":""},{"$f":"IF(ISBLANK('Trust - Frontsheet'!H59),\"\",'Trust - Frontsheet'!H59)","v":""},{"$f":"'Trust - Frontsheet'!I59","v":0},{"$f":"'Trust - Frontsheet'!J59","v":0},{"$f":"'Trust - Frontsheet'!K59","v":0},{"$f":"'Trust - Frontsheet'!L59","v":0},{"$f":"'Trust - Frontsheet'!M59","v":0},{"$f":"'Trust - Frontsheet'!N59","v":0},{"$f":"'Trust - Frontsheet'!O59","v":0},{"$f":"'Trust - Frontsheet'!P59","v":0},{"$f":"IF('Trust - Frontsheet'!Q59=\"\",0,('Trust - Frontsheet'!Q59))","v":0},{"$f":"IF('Trust - Frontsheet'!R59=\"\",0,('Trust - Frontsheet'!R59))","v":0},{"$f":"IF('Trust - Frontsheet'!S59=\"\",0,('Trust - Frontsheet'!S59))","v":0},{"$f":"IF('Trust - Frontsheet'!T59=\"\",0,('Trust - Frontsheet'!T59))","v":0},{"$f":"'Trust - Frontsheet'!U59","v":0},{"$f":"IF('Trust - Frontsheet'!V59=\"\",0,('Trust - Frontsheet'!V59))","v":0},{"$f":"IF('Trust - Frontsheet'!W59=\"\",0,('Trust - Frontsheet'!W59))","v":0},{"$f":"IF('Trust - Frontsheet'!X59=\"\",0,('Trust - Frontsheet'!X59))","v":0},{"$f":"IF(A47=\"\",\"\",(IF(ISBLANK('Trust - Frontsheet'!F9),\"\",'Trust - Frontsheet'!F9)))","v":""}]
[{"$f":"IF('Trust - Frontsheet'!D60=0,\"\",IF('Trust - Frontsheet'!D60=\"\",\"\",'Trust - Frontsheet'!D60))","v":""},{"$f":"IF(ISBLANK('Trust - Frontsheet'!E60),\"\",'Trust - Frontsheet'!E60)","v":""},{"$f":"IF(ISBLANK('Trust - Frontsheet'!F60),\"\",'Trust - Frontsheet'!F60)","v":""},{"$f":"IF(ISBLANK('Trust - Frontsheet'!G60),\"\",'Trust - Frontsheet'!G60)","v":""},{"$f":"IF(ISBLANK('Trust - Frontsheet'!H60),\"\",'Trust - Frontsheet'!H60)","v":""},{"$f":"'Trust - Frontsheet'!I60","v":0},{"$f":"'Trust - Frontsheet'!J60","v":0},{"$f":"'Trust - Frontsheet'!K60","v":0},{"$f":"'Trust - Frontsheet'!L60","v":0},{"$f":"'Trust - Frontsheet'!M60","v":0},{"$f":"'Trust - Frontsheet'!N60","v":0},{"$f":"'Trust - Frontsheet'!O60","v":0},{"$f":"'Trust - Frontsheet'!P60","v":0},{"$f":"IF('Trust - Frontsheet'!Q60=\"\",0,('Trust - Frontsheet'!Q60))","v":0},{"$f":"IF('Trust - Frontsheet'!R60=\"\",0,('Trust - Frontsheet'!R60))","v":0},{"$f":"IF('Trust - Frontsheet'!S60=\"\",0,('Trust - Frontsheet'!S60))","v":0},{"$f":"IF('Trust - Frontsheet'!T60=\"\",0,('Trust - Frontsheet'!T60))","v":0},{"$f":"'Trust - Frontsheet'!U60","v":0},{"$f":"IF('Trust - Frontsheet'!V60=\"\",0,('Trust - Frontsheet'!V60))","v":0},{"$f":"IF('Trust - Frontsheet'!W60=\"\",0,('Trust - Frontsheet'!W60))","v":0},{"$f":"IF('Trust - Frontsheet'!X60=\"\",0,('Trust - Frontsheet'!X60))","v":0},{"$f":"IF(A48=\"\",\"\",(IF(ISBLANK('Trust - Frontsheet'!F9),\"\",'Trust - Frontsheet'!F9)))","v":""}]
[{"$f":"IF('Trust - Frontsheet'!D61=0,\"\",IF('Trust - Frontsheet'!D61=\"\",\"\",'Trust - Frontsheet'!D61))","v":""},{"$f":"IF(ISBLANK('Trust - Frontsheet'!E61),\"\",'Trust - Frontsheet'!E61)","v":""},{"$f":"IF(ISBLANK('Trust - Frontsheet'!F61),\"\",'Trust - Frontsheet'!F61)","v":""},{"$f":"IF(ISBLANK('Trust - Frontsheet'!G61),\"\",'Trust - Frontsheet'!G61)","v":""},{"$f":"IF(ISBLANK('Trust - Frontsheet'!H61),\"\",'Trust - Frontsheet'!H61)","v":""},{"$f":"'Trust - Frontsheet'!I61","v":0},{"$f":"'Trust - Frontsheet'!J61","v":0},{"$f":"'Trust - Frontsheet'!K61","v":0},{"$f":"'Trust - Frontsheet'!L61","v":0},{"$f":"'Trust - Frontsheet'!M61","v":0},{"$f":"'Trust - Frontsheet'!N61","v":0},{"$f":"'Trust - Frontsheet'!O61","v":0},{"$f":"'Trust - Frontsheet'!P61","v":0},{"$f":"IF('Trust - Frontsheet'!Q61=\"\",0,('Trust - Frontsheet'!Q61))","v":0},{"$f":"IF('Trust - Frontsheet'!R61=\"\",0,('Trust - Frontsheet'!R61))","v":0},{"$f":"IF('Trust - Frontsheet'!S61=\"\",0,('Trust - Frontsheet'!S61))","v":0},{"$f":"IF('Trust - Frontsheet'!T61=\"\",0,('Trust - Frontsheet'!T61))","v":0},{"$f":"'Trust - Frontsheet'!U61","v":0},{"$f":"IF('Trust - Frontsheet'!V61=\"\",0,('Trust - Frontsheet'!V61))","v":0},{"$f":"IF('Trust - Frontsheet'!W61=\"\",0,('Trust - Frontsheet'!W61))","v":0},{"$f":"IF('Trust - Frontsheet'!X61=\"\",0,('Trust - Frontsheet'!X61))","v":0},{"$f":"IF(A49=\"\",\"\",(IF(ISBLANK('Trust - Frontsheet'!F9),\"\",'Trust - Frontsheet'!F9)))","v":""}]
[{"$f":"IF('Trust - Frontsheet'!D62=0,\"\",IF('Trust - Frontsheet'!D62=\"\",\"\",'Trust - Frontsheet'!D62))","v":""},{"$f":"IF(ISBLANK('Trust - Frontsheet'!E62),\"\",'Trust - Frontsheet'!E62)","v":""},{"$f":"IF(ISBLANK('Trust - Frontsheet'!F62),\"\",'Trust - Frontsheet'!F62)","v":""},{"$f":"IF(ISBLANK('Trust - Frontsheet'!G62),\"\",'Trust - Frontsheet'!G62)","v":""},{"$f":"IF(ISBLANK('Trust - Frontsheet'!H62),\"\",'Trust - Frontsheet'!H62)","v":""},{"$f":"'Trust - Frontsheet'!I62","v":0},{"$f":"'Trust - Frontsheet'!J62","v":0},{"$f":"'Trust - Frontsheet'!K62","v":0},{"$f":"'Trust - Frontsheet'!L62","v":0},{"$f":"'Trust - Frontsheet'!M62","v":0},{"$f":"'Trust - Frontsheet'!N62","v":0},{"$f":"'Trust - Frontsheet'!O62","v":0},{"$f":"'Trust - Frontsheet'!P62","v":0},{"$f":"IF('Trust - Frontsheet'!Q62=\"\",0,('Trust - Frontsheet'!Q62))","v":0},{"$f":"IF('Trust - Frontsheet'!R62=\"\",0,('Trust - Frontsheet'!R62))","v":0},{"$f":"IF('Trust - Frontsheet'!S62=\"\",0,('Trust - Frontsheet'!S62))","v":0},{"$f":"IF('Trust - Frontsheet'!T62=\"\",0,('Trust - Frontsheet'!T62))","v":0},{"$f":"'Trust - Frontsheet'!U62","v":0},{"$f":"IF('Trust - Frontsheet'!V62=\"\",0,('Trust - Frontsheet'!V62))","v":0},{"$f":"IF('Trust - Frontsheet'!W62=\"\",0,('Trust - Frontsheet'!W62))","v":0},{"$f":"IF('Trust - Frontsheet'!X62=\"\",0,('Trust - Frontsheet'!X62))","v":0},{"$f":"IF(A50=\"\",\"\",(IF(ISBLANK('Trust - Frontsheet'!F9),\"\",'Trust - Frontsheet'!F9)))","v":""}]
[{"$f":"IF('Trust - Frontsheet'!D63=0,\"\",IF('Trust - Frontsheet'!D63=\"\",\"\",'Trust - Frontsheet'!D63))","v":""},{"$f":"IF(ISBLANK('Trust - Frontsheet'!E63),\"\",'Trust - Frontsheet'!E63)","v":""},{"$f":"IF(ISBLANK('Trust - Frontsheet'!F63),\"\",'Trust - Frontsheet'!F63)","v":""},{"$f":"IF(ISBLANK('Trust - Frontsheet'!G63),\"\",'Trust - Frontsheet'!G63)","v":""},{"$f":"IF(ISBLANK('Trust - Frontsheet'!H63),\"\",'Trust - Frontsheet'!H63)","v":""},{"$f":"'Trust - Frontsheet'!I63","v":0},{"$f":"'Trust - Frontsheet'!J63","v":0},{"$f":"'Trust - Frontsheet'!K63","v":0},{"$f":"'Trust - Frontsheet'!L63","v":0},{"$f":"'Trust - Frontsheet'!M63","v":0},{"$f":"'Trust - Frontsheet'!N63","v":0},{"$f":"'Trust - Frontsheet'!O63","v":0},{"$f":"'Trust - Frontsheet'!P63","v":0},{"$f":"IF('Trust - Frontsheet'!Q63=\"\",0,('Trust - Frontsheet'!Q63))","v":0},{"$f":"IF('Trust - Frontsheet'!R63=\"\",0,('Trust - Frontsheet'!R63))","v":0},{"$f":"IF('Trust - Frontsheet'!S63=\"\",0,('Trust - Frontsheet'!S63))","v":0},{"$f":"IF('Trust - Frontsheet'!T63=\"\",0,('Trust - Frontsheet'!T63))","v":0},{"$f":"'Trust - Frontsheet'!U63","v":0},{"$f":"IF('Trust - Frontsheet'!V63=\"\",0,('Trust - Frontsheet'!V63))","v":0},{"$f":"IF('Trust - Frontsheet'!W63=\"\",0,('Trust - Frontsheet'!W63))","v":0},{"$f":"IF('Trust - Frontsheet'!X63=\"\",0,('Trust - Frontsheet'!X63))","v":0},{"$f":"IF(A51=\"\",\"\",(IF(ISBLANK('Trust - Frontsheet'!F9),\"\",'Trust - Frontsheet'!F9)))","v":""}]
[{"$f":"IF('Trust - Frontsheet'!D64=0,\"\",IF('Trust - Frontsheet'!D64=\"\",\"\",'Trust - Frontsheet'!D64))","v":""},{"$f":"IF(ISBLANK('Trust - Frontsheet'!E64),\"\",'Trust - Frontsheet'!E64)","v":""},{"$f":"IF(ISBLANK('Trust - Frontsheet'!F64),\"\",'Trust - Frontsheet'!F64)","v":""},{"$f":"IF(ISBLANK('Trust - Frontsheet'!G64),\"\",'Trust - Frontsheet'!G64)","v":""},{"$f":"IF(ISBLANK('Trust - Frontsheet'!H64),\"\",'Trust - Frontsheet'!H64)","v":""},{"$f":"'Trust - Frontsheet'!I64","v":0},{"$f":"'Trust - Frontsheet'!J64","v":0},{"$f":"'Trust - Frontsheet'!K64","v":0},{"$f":"'Trust - Frontsheet'!L64","v":0},{"$f":"'Trust - Frontsheet'!M64","v":0},{"$f":"'Trust - Frontsheet'!N64","v":0},{"$f":"'Trust - Frontsheet'!O64","v":0},{"$f":"'Trust - Frontsheet'!P64","v":0},{"$f":"IF('Trust - Frontsheet'!Q64=\"\",0,('Trust - Frontsheet'!Q64))","v":0},{"$f":"IF('Trust - Frontsheet'!R64=\"\",0,('Trust - Frontsheet'!R64))","v":0},{"$f":"IF('Trust - Frontsheet'!S64=\"\",0,('Trust - Frontsheet'!S64))","v":0},{"$f":"IF('Trust - Frontsheet'!T64=\"\",0,('Trust - Frontsheet'!T64))","v":0},{"$f":"'Trust - Frontsheet'!U64","v":0},{"$f":"IF('Trust - Frontsheet'!V64=\"\",0,('Trust - Frontsheet'!V64))","v":0},{"$f":"IF('Trust - Frontsheet'!W64=\"\",0,('Trust - Frontsheet'!W64))","v":0},{"$f":"IF('Trust - Frontsheet'!X64=\"\",0,('Trust - Frontsheet'!X64))","v":0},{"$f":"IF(A52=\"\",\"\",(IF(ISBLANK('Trust - Frontsheet'!F9),\"\",'Trust - Frontsheet'!F9)))","v":""}]
[{"$f":"IF('Trust - Frontsheet'!D65=0,\"\",IF('Trust - Frontsheet'!D65=\"\",\"\",'Trust - Frontsheet'!D65))","v":""},{"$f":"IF(ISBLANK('Trust - Frontsheet'!E65),\"\",'Trust - Frontsheet'!E65)","v":""},{"$f":"IF(ISBLANK('Trust - Frontsheet'!F65),\"\",'Trust - Frontsheet'!F65)","v":""},{"$f":"IF(ISBLANK('Trust - Frontsheet'!G65),\"\",'Trust - Frontsheet'!G65)","v":""},{"$f":"IF(ISBLANK('Trust - Frontsheet'!H65),\"\",'Trust - Frontsheet'!H65)","v":""},{"$f":"'Trust - Frontsheet'!I65","v":0},{"$f":"'Trust - Frontsheet'!J65","v":0},{"$f":"'Trust - Frontsheet'!K65","v":0},{"$f":"'Trust - Frontsheet'!L65","v":0},{"$f":"'Trust - Frontsheet'!M65","v":0},{"$f":"'Trust - Frontsheet'!N65","v":0},{"$f":"'Trust - Frontsheet'!O65","v":0},{"$f":"'Trust - Frontsheet'!P65","v":0},{"$f":"IF('Trust - Frontsheet'!Q65=\"\",0,('Trust - Frontsheet'!Q65))","v":0},{"$f":"IF('Trust - Frontsheet'!R65=\"\",0,('Trust - Frontsheet'!R65))","v":0},{"$f":"IF('Trust - Frontsheet'!S65=\"\",0,('Trust - Frontsheet'!S65))","v":0},{"$f":"IF('Trust - Frontsheet'!T65=\"\",0,('Trust - Frontsheet'!T65))","v":0},{"$f":"'Trust - Frontsheet'!U65","v":0},{"$f":"IF('Trust - Frontsheet'!V65=\"\",0,('Trust - Frontsheet'!V65))","v":0},{"$f":"IF('Trust - Frontsheet'!W65=\"\",0,('Trust - Frontsheet'!W65))","v":0},{"$f":"IF('Trust - Frontsheet'!X65=\"\",0,('Trust - Frontsheet'!X65))","v":0},{"$f":"IF(A53=\"\",\"\",(IF(ISBLANK('Trust - Frontsheet'!F9),\"\",'Trust - Frontsheet'!F9)))","v":""}]
[{"$f":"IF('Trust - Frontsheet'!D66=0,\"\",IF('Trust - Frontsheet'!D66=\"\",\"\",'Trust - Frontsheet'!D66))","v":""},{"$f":"IF(ISBLANK('Trust - Frontsheet'!E66),\"\",'Trust - Frontsheet'!E66)","v":""},{"$f":"IF(ISBLANK('Trust - Frontsheet'!F66),\"\",'Trust - Frontsheet'!F66)","v":""},{"$f":"IF(ISBLANK('Trust - Frontsheet'!G66),\"\",'Trust - Frontsheet'!G66)","v":""},{"$f":"IF(ISBLANK('Trust - Frontsheet'!H66),\"\",'Trust - Frontsheet'!H66)","v":""},{"$f":"'Trust - Frontsheet'!I66","v":0},{"$f":"'Trust - Frontsheet'!J66","v":0},{"$f":"'Trust - Frontsheet'!K66","v":0},{"$f":"'Trust - Frontsheet'!L66","v":0},{"$f":"'Trust - Frontsheet'!M66","v":0},{"$f":"'Trust - Frontsheet'!N66","v":0},{"$f":"'Trust - Frontsheet'!O66","v":0},{"$f":"'Trust - Frontsheet'!P66","v":0},{"$f":"IF('Trust - Frontsheet'!Q66=\"\",0,('Trust - Frontsheet'!Q66))","v":0},{"$f":"IF('Trust - Frontsheet'!R66=\"\",0,('Trust - Frontsheet'!R66))","v":0},{"$f":"IF('Trust - Frontsheet'!S66=\"\",0,('Trust - Frontsheet'!S66))","v":0},{"$f":"IF('Trust - Frontsheet'!T66=\"\",0,('Trust - Frontsheet'!T66))","v":0},{"$f":"'Trust - Frontsheet'!U66","v":0},{"$f":"IF('Trust - Frontsheet'!V66=\"\",0,('Trust - Frontsheet'!V66))","v":0},{"$f":"IF('Trust - Frontsheet'!W66=\"\",0,('Trust - Frontsheet'!W66))","v":0},{"$f":"IF('Trust - Frontsheet'!X66=\"\",0,('Trust - Frontsheet'!X66))","v":0},{"$f":"IF(A54=\"\",\"\",(IF(ISBLANK('Trust - Frontsheet'!F9),\"\",'Trust - Frontsheet'!F9)))","v":""}]
[{"$f":"IF('Trust - Frontsheet'!D67=0,\"\",IF('Trust - Frontsheet'!D67=\"\",\"\",'Trust - Frontsheet'!D67))","v":""},{"$f":"IF(ISBLANK('Trust - Frontsheet'!E67),\"\",'Trust - Frontsheet'!E67)","v":""},{"$f":"IF(ISBLANK('Trust - Frontsheet'!F67),\"\",'Trust - Frontsheet'!F67)","v":""},{"$f":"IF(ISBLANK('Trust - Frontsheet'!G67),\"\",'Trust - Frontsheet'!G67)","v":""},{"$f":"IF(ISBLANK('Trust - Frontsheet'!H67),\"\",'Trust - Frontsheet'!H67)","v":""},{"$f":"'Trust - Frontsheet'!I67","v":0},{"$f":"'Trust - Frontsheet'!J67","v":0},{"$f":"'Trust - Frontsheet'!K67","v":0},{"$f":"'Trust - Frontsheet'!L67","v":0},{"$f":"'Trust - Frontsheet'!M67","v":0},{"$f":"'Trust - Frontsheet'!N67","v":0},{"$f":"'Trust - Frontsheet'!O67","v":0},{"$f":"'Trust - Frontsheet'!P67","v":0},{"$f":"IF('Trust - Frontsheet'!Q67=\"\",0,('Trust - Frontsheet'!Q67))","v":0},{"$f":"IF('Trust - Frontsheet'!R67=\"\",0,('Trust - Frontsheet'!R67))","v":0},{"$f":"IF('Trust - Frontsheet'!S67=\"\",0,('Trust - Frontsheet'!S67))","v":0},{"$f":"IF('Trust - Frontsheet'!T67=\"\",0,('Trust - Frontsheet'!T67))","v":0},{"$f":"'Trust - Frontsheet'!U67","v":0},{"$f":"IF('Trust - Frontsheet'!V67=\"\",0,('Trust - Frontsheet'!V67))","v":0},{"$f":"IF('Trust - Frontsheet'!W67=\"\",0,('Trust - Frontsheet'!W67))","v":0},{"$f":"IF('Trust - Frontsheet'!X67=\"\",0,('Trust - Frontsheet'!X67))","v":0},{"$f":"IF(A55=\"\",\"\",(IF(ISBLANK('Trust - Frontsheet'!F9),\"\",'Trust - Frontsheet'!F9)))","v":""}]
[{"$f":"IF('Trust - Frontsheet'!D68=0,\"\",IF('Trust - Frontsheet'!D68=\"\",\"\",'Trust - Frontsheet'!D68))","v":""},{"$f":"IF(ISBLANK('Trust - Frontsheet'!E68),\"\",'Trust - Frontsheet'!E68)","v":""},{"$f":"IF(ISBLANK('Trust - Frontsheet'!F68),\"\",'Trust - Frontsheet'!F68)","v":""},{"$f":"IF(ISBLANK('Trust - Frontsheet'!G68),\"\",'Trust - Frontsheet'!G68)","v":""},{"$f":"IF(ISBLANK('Trust - Frontsheet'!H68),\"\",'Trust - Frontsheet'!H68)","v":""},{"$f":"'Trust - Frontsheet'!I68","v":0},{"$f":"'Trust - Frontsheet'!J68","v":0},{"$f":"'Trust - Frontsheet'!K68","v":0},{"$f":"'Trust - Frontsheet'!L68","v":0},{"$f":"'Trust - Frontsheet'!M68","v":0},{"$f":"'Trust - Frontsheet'!N68","v":0},{"$f":"'Trust - Frontsheet'!O68","v":0},{"$f":"'Trust - Frontsheet'!P68","v":0},{"$f":"IF('Trust - Frontsheet'!Q68=\"\",0,('Trust - Frontsheet'!Q68))","v":0},{"$f":"IF('Trust - Frontsheet'!R68=\"\",0,('Trust - Frontsheet'!R68))","v":0},{"$f":"IF('Trust - Frontsheet'!S68=\"\",0,('Trust - Frontsheet'!S68))","v":0},{"$f":"IF('Trust - Frontsheet'!T68=\"\",0,('Trust - Frontsheet'!T68))","v":0},{"$f":"'Trust - Frontsheet'!U68","v":0},{"$f":"IF('Trust - Frontsheet'!V68=\"\",0,('Trust - Frontsheet'!V68))","v":0},{"$f":"IF('Trust - Frontsheet'!W68=\"\",0,('Trust - Frontsheet'!W68))","v":0},{"$f":"IF('Trust - Frontsheet'!X68=\"\",0,('Trust - Frontsheet'!X68))","v":0},{"$f":"IF(A56=\"\",\"\",(IF(ISBLANK('Trust - Frontsheet'!F9),\"\",'Trust - Frontsheet'!F9)))","v":""}]
[{"$f":"IF('Trust - Frontsheet'!D69=0,\"\",IF('Trust - Frontsheet'!D69=\"\",\"\",'Trust - Frontsheet'!D69))","v":""},{"$f":"IF(ISBLANK('Trust - Frontsheet'!E69),\"\",'Trust - Frontsheet'!E69)","v":""},{"$f":"IF(ISBLANK('Trust - Frontsheet'!F69),\"\",'Trust - Frontsheet'!F69)","v":""},{"$f":"IF(ISBLANK('Trust - Frontsheet'!G69),\"\",'Trust - Frontsheet'!G69)","v":""},{"$f":"IF(ISBLANK('Trust - Frontsheet'!H69),\"\",'Trust - Frontsheet'!H69)","v":""},{"$f":"'Trust - Frontsheet'!I69","v":0},{"$f":"'Trust - Frontsheet'!J69","v":0},{"$f":"'Trust - Frontsheet'!K69","v":0},{"$f":"'Trust - Frontsheet'!L69","v":0},{"$f":"'Trust - Frontsheet'!M69","v":0},{"$f":"'Trust - Frontsheet'!N69","v":0},{"$f":"'Trust - Frontsheet'!O69","v":0},{"$f":"'Trust - Frontsheet'!P69","v":0},{"$f":"IF('Trust - Frontsheet'!Q69=\"\",0,('Trust - Frontsheet'!Q69))","v":0},{"$f":"IF('Trust - Frontsheet'!R69=\"\",0,('Trust - Frontsheet'!R69))","v":0},{"$f":"IF('Trust - Frontsheet'!S69=\"\",0,('Trust - Frontsheet'!S69))","v":0},{"$f":"IF('Trust - Frontsheet'!T69=\"\",0,('Trust - Frontsheet'!T69))","v":0},{"$f":"'Trust - Frontsheet'!U69","v":0},{"$f":"IF('Trust - Frontsheet'!V69=\"\",0,('Trust - Frontsheet'!V69))","v":0},{"$f":"IF('Trust - Frontsheet'!W69=\"\",0,('Trust - Frontsheet'!W69))","v":0},{"$f":"IF('Trust - Frontsheet'!X69=\"\",0,('Trust - Frontsheet'!X69))","v":0},{"$f":"IF(A57=\"\",\"\",(IF(ISBLANK('Trust - Frontsheet'!F9),\"\",'Trust - Frontsheet'!F9)))","v":""}]
[{"$f":"IF('Trust - Frontsheet'!D70=0,\"\",IF('Trust - Frontsheet'!D70=\"\",\"\",'Trust - Frontsheet'!D70))","v":""},{"$f":"IF(ISBLANK('Trust - Frontsheet'!E70),\"\",'Trust - Frontsheet'!E70)","v":""},{"$f":"IF(ISBLANK('Trust - Frontsheet'!F70),\"\",'Trust - Frontsheet'!F70)","v":""},{"$f":"IF(ISBLANK('Trust - Frontsheet'!G70),\"\",'Trust - Frontsheet'!G70)","v":""},{"$f":"IF(ISBLANK('Trust - Frontsheet'!H70),\"\",'Trust - Frontsheet'!H70)","v":""},{"$f":"'Trust - Frontsheet'!I70","v":0},{"$f":"'Trust - Frontsheet'!J70","v":0},{"$f":"'Trust - Frontsheet'!K70","v":0},{"$f":"'Trust - Frontsheet'!L70","v":0},{"$f":"'Trust - Frontsheet'!M70","v":0},{"$f":"'Trust - Frontsheet'!N70","v":0},{"$f":"'Trust - Frontsheet'!O70","v":0},{"$f":"'Trust - Frontsheet'!P70","v":0},{"$f":"IF('Trust - Frontsheet'!Q70=\"\",0,('Trust - Frontsheet'!Q70))","v":0},{"$f":"IF('Trust - Frontsheet'!R70=\"\",0,('Trust - Frontsheet'!R70))","v":0},{"$f":"IF('Trust - Frontsheet'!S70=\"\",0,('Trust - Frontsheet'!S70))","v":0},{"$f":"IF('Trust - Frontsheet'!T70=\"\",0,('Trust - Frontsheet'!T70))","v":0},{"$f":"'Trust - Frontsheet'!U70","v":0},{"$f":"IF('Trust - Frontsheet'!V70=\"\",0,('Trust - Frontsheet'!V70))","v":0},{"$f":"IF('Trust - Frontsheet'!W70=\"\",0,('Trust - Frontsheet'!W70))","v":0},{"$f":"IF('Trust - Frontsheet'!X70=\"\",0,('Trust - Frontsheet'!X70))","v":0},{"$f":"IF(A58=\"\",\"\",(IF(ISBLANK('Trust - Frontsheet'!F9),\"\",'Trust - Frontsheet'!F9)))","v":""}]
[{"$f":"IF('Trust - Frontsheet'!D71=0,\"\",IF('Trust - Frontsheet'!D71=\"\",\"\",'Trust - Frontsheet'!D71))","v":""},{"$f":"IF(ISBLANK('Trust - Frontsheet'!E71),\"\",'Trust - Frontsheet'!E71)","v":""},{"$f":"IF(ISBLANK('Trust - Frontsheet'!F71),\"\",'Trust - Frontsheet'!F71)","v":""},{"$f":"IF(ISBLANK('Trust - Frontsheet'!G71),\"\",'Trust - Frontsheet'!G71)","v":""},{"$f":"IF(ISBLANK('Trust - Frontsheet'!H71),\"\",'Trust - Frontsheet'!H71)","v":""},{"$f":"'Trust - Frontsheet'!I71","v":0},{"$f":"'Trust - Frontsheet'!J71","v":0},{"$f":"'Trust - Frontsheet'!K71","v":0},{"$f":"'Trust - Frontsheet'!L71","v":0},{"$f":"'Trust - Frontsheet'!M71","v":0},{"$f":"'Trust - Frontsheet'!N71","v":0},{"$f":"'Trust - Frontsheet'!O71","v":0},{"$f":"'Trust - Frontsheet'!P71","v":0},{"$f":"IF('Trust - Frontsheet'!Q71=\"\",0,('Trust - Frontsheet'!Q71))","v":0},{"$f":"IF('Trust - Frontsheet'!R71=\"\",0,('Trust - Frontsheet'!R71))","v":0},{"$f":"IF('Trust - Frontsheet'!S71=\"\",0,('Trust - Frontsheet'!S71))","v":0},{"$f":"IF('Trust - Frontsheet'!T71=\"\",0,('Trust - Frontsheet'!T71))","v":0},{"$f":"'Trust - Frontsheet'!U71","v":0},{"$f":"IF('Trust - Frontsheet'!V71=\"\",0,('Trust - Frontsheet'!V71))","v":0},{"$f":"IF('Trust - Frontsheet'!W71=\"\",0,('Trust - Frontsheet'!W71))","v":0},{"$f":"IF('Trust - Frontsheet'!X71=\"\",0,('Trust - Frontsheet'!X71))","v":0},{"$f":"IF(A59=\"\",\"\",(IF(ISBLANK('Trust - Frontsheet'!F9),\"\",'Trust - Frontsheet'!F9)))","v":""}]
[{"$f":"IF('Trust - Frontsheet'!D72=0,\"\",IF('Trust - Frontsheet'!D72=\"\",\"\",'Trust - Frontsheet'!D72))","v":""},{"$f":"IF(ISBLANK('Trust - Frontsheet'!E72),\"\",'Trust - Frontsheet'!E72)","v":""},{"$f":"IF(ISBLANK('Trust - Frontsheet'!F72),\"\",'Trust - Frontsheet'!F72)","v":""},{"$f":"IF(ISBLANK('Trust - Frontsheet'!G72),\"\",'Trust - Frontsheet'!G72)","v":""},{"$f":"IF(ISBLANK('Trust - Frontsheet'!H72),\"\",'Trust - Frontsheet'!H72)","v":""},{"$f":"'Trust - Frontsheet'!I72","v":0},{"$f":"'Trust - Frontsheet'!J72","v":0},{"$f":"'Trust - Frontsheet'!K72","v":0},{"$f":"'Trust - Frontsheet'!L72","v":0},{"$f":"'Trust - Frontsheet'!M72","v":0},{"$f":"'Trust - Frontsheet'!N72","v":0},{"$f":"'Trust - Frontsheet'!O72","v":0},{"$f":"'Trust - Frontsheet'!P72","v":0},{"$f":"IF('Trust - Frontsheet'!Q72=\"\",0,('Trust - Frontsheet'!Q72))","v":0},{"$f":"IF('Trust - Frontsheet'!R72=\"\",0,('Trust - Frontsheet'!R72))","v":0},{"$f":"IF('Trust - Frontsheet'!S72=\"\",0,('Trust - Frontsheet'!S72))","v":0},{"$f":"IF('Trust - Frontsheet'!T72=\"\",0,('Trust - Frontsheet'!T72))","v":0},{"$f":"'Trust - Frontsheet'!U72","v":0},{"$f":"IF('Trust - Frontsheet'!V72=\"\",0,('Trust - Frontsheet'!V72))","v":0},{"$f":"IF('Trust - Frontsheet'!W72=\"\",0,('Trust - Frontsheet'!W72))","v":0},{"$f":"IF('Trust - Frontsheet'!X72=\"\",0,('Trust - Frontsheet'!X72))","v":0},{"$f":"IF(A60=\"\",\"\",(IF(ISBLANK('Trust - Frontsheet'!F9),\"\",'Trust - Frontsheet'!F9)))","v":""}]
[{"$f":"IF('Trust - Frontsheet'!D73=0,\"\",IF('Trust - Frontsheet'!D73=\"\",\"\",'Trust - Frontsheet'!D73))","v":""},{"$f":"IF(ISBLANK('Trust - Frontsheet'!E73),\"\",'Trust - Frontsheet'!E73)","v":""},{"$f":"IF(ISBLANK('Trust - Frontsheet'!F73),\"\",'Trust - Frontsheet'!F73)","v":""},{"$f":"IF(ISBLANK('Trust - Frontsheet'!G73),\"\",'Trust - Frontsheet'!G73)","v":""},{"$f":"IF(ISBLANK('Trust - Frontsheet'!H73),\"\",'Trust - Frontsheet'!H73)","v":""},{"$f":"'Trust - Frontsheet'!I73","v":0},{"$f":"'Trust - Frontsheet'!J73","v":0},{"$f":"'Trust - Frontsheet'!K73","v":0},{"$f":"'Trust - Frontsheet'!L73","v":0},{"$f":"'Trust - Frontsheet'!M73","v":0},{"$f":"'Trust - Frontsheet'!N73","v":0},{"$f":"'Trust - Frontsheet'!O73","v":0},{"$f":"'Trust - Frontsheet'!P73","v":0},{"$f":"IF('Trust - Frontsheet'!Q73=\"\",0,('Trust - Frontsheet'!Q73))","v":0},{"$f":"IF('Trust - Frontsheet'!R73=\"\",0,('Trust - Frontsheet'!R73))","v":0},{"$f":"IF('Trust - Frontsheet'!S73=\"\",0,('Trust - Frontsheet'!S73))","v":0},{"$f":"IF('Trust - Frontsheet'!T73=\"\",0,('Trust - Frontsheet'!T73))","v":0},{"$f":"'Trust - Frontsheet'!U73","v":0},{"$f":"IF('Trust - Frontsheet'!V73=\"\",0,('Trust - Frontsheet'!V73))","v":0},{"$f":"IF('Trust - Frontsheet'!W73=\"\",0,('Trust - Frontsheet'!W73))","v":0},{"$f":"IF('Trust - Frontsheet'!X73=\"\",0,('Trust - Frontsheet'!X73))","v":0},{"$f":"IF(A61=\"\",\"\",(IF(ISBLANK('Trust - Frontsheet'!F9),\"\",'Trust - Frontsheet'!F9)))","v":""}]
[{"$f":"IF('Trust - Frontsheet'!D74=0,\"\",IF('Trust - Frontsheet'!D74=\"\",\"\",'Trust - Frontsheet'!D74))","v":""},{"$f":"IF(ISBLANK('Trust - Frontsheet'!E74),\"\",'Trust - Frontsheet'!E74)","v":""},{"$f":"IF(ISBLANK('Trust - Frontsheet'!F74),\"\",'Trust - Frontsheet'!F74)","v":""},{"$f":"IF(ISBLANK('Trust - Frontsheet'!G74),\"\",'Trust - Frontsheet'!G74)","v":""},{"$f":"IF(ISBLANK('Trust - Frontsheet'!H74),\"\",'Trust - Frontsheet'!H74)","v":""},{"$f":"'Trust - Frontsheet'!I74","v":0},{"$f":"'Trust - Frontsheet'!J74","v":0},{"$f":"'Trust - Frontsheet'!K74","v":0},{"$f":"'Trust - Frontsheet'!L74","v":0},{"$f":"'Trust - Frontsheet'!M74","v":0},{"$f":"'Trust - Frontsheet'!N74","v":0},{"$f":"'Trust - Frontsheet'!O74","v":0},{"$f":"'Trust - Frontsheet'!P74","v":0},{"$f":"IF('Trust - Frontsheet'!Q74=\"\",0,('Trust - Frontsheet'!Q74))","v":0},{"$f":"IF('Trust - Frontsheet'!R74=\"\",0,('Trust - Frontsheet'!R74))","v":0},{"$f":"IF('Trust - Frontsheet'!S74=\"\",0,('Trust - Frontsheet'!S74))","v":0},{"$f":"IF('Trust - Frontsheet'!T74=\"\",0,('Trust - Frontsheet'!T74))","v":0},{"$f":"'Trust - Frontsheet'!U74","v":0},{"$f":"IF('Trust - Frontsheet'!V74=\"\",0,('Trust - Frontsheet'!V74))","v":0},{"$f":"IF('Trust - Frontsheet'!W74=\"\",0,('Trust - Frontsheet'!W74))","v":0},{"$f":"IF('Trust - Frontsheet'!X74=\"\",0,('Trust - Frontsheet'!X74))","v":0},{"$f":"IF(A62=\"\",\"\",(IF(ISBLANK('Trust - Frontsheet'!F9),\"\",'Trust - Frontsheet'!F9)))","v":""}]
[{"$f":"IF('Trust - Frontsheet'!D75=0,\"\",IF('Trust - Frontsheet'!D75=\"\",\"\",'Trust - Frontsheet'!D75))","v":""},{"$f":"IF(ISBLANK('Trust - Frontsheet'!E75),\"\",'Trust - Frontsheet'!E75)","v":""},{"$f":"IF(ISBLANK('Trust - Frontsheet'!F75),\"\",'Trust - Frontsheet'!F75)","v":""},{"$f":"IF(ISBLANK('Trust - Frontsheet'!G75),\"\",'Trust - Frontsheet'!G75)","v":""},{"$f":"IF(ISBLANK('Trust - Frontsheet'!H75),\"\",'Trust - Frontsheet'!H75)","v":""},{"$f":"'Trust - Frontsheet'!I75","v":0},{"$f":"'Trust - Frontsheet'!J75","v":0},{"$f":"'Trust - Frontsheet'!K75","v":0},{"$f":"'Trust - Frontsheet'!L75","v":0},{"$f":"'Trust - Frontsheet'!M75","v":0},{"$f":"'Trust - Frontsheet'!N75","v":0},{"$f":"'Trust - Frontsheet'!O75","v":0},{"$f":"'Trust - Frontsheet'!P75","v":0},{"$f":"IF('Trust - Frontsheet'!Q75=\"\",0,('Trust - Frontsheet'!Q75))","v":0},{"$f":"IF('Trust - Frontsheet'!R75=\"\",0,('Trust - Frontsheet'!R75))","v":0},{"$f":"IF('Trust - Frontsheet'!S75=\"\",0,('Trust - Frontsheet'!S75))","v":0},{"$f":"IF('Trust - Frontsheet'!T75=\"\",0,('Trust - Frontsheet'!T75))","v":0},{"$f":"'Trust - Frontsheet'!U75","v":0},{"$f":"IF('Trust - Frontsheet'!V75=\"\",0,('Trust - Frontsheet'!V75))","v":0},{"$f":"IF('Trust - Frontsheet'!W75=\"\",0,('Trust - Frontsheet'!W75))","v":0},{"$f":"IF('Trust - Frontsheet'!X75=\"\",0,('Trust - Frontsheet'!X75))","v":0},{"$f":"IF(A63=\"\",\"\",(IF(ISBLANK('Trust - Frontsheet'!F9),\"\",'Trust - Frontsheet'!F9)))","v":""}]
[{"$f":"IF('Trust - Frontsheet'!D76=0,\"\",IF('Trust - Frontsheet'!D76=\"\",\"\",'Trust - Frontsheet'!D76))","v":""},{"$f":"IF(ISBLANK('Trust - Frontsheet'!E76),\"\",'Trust - Frontsheet'!E76)","v":""},{"$f":"IF(ISBLANK('Trust - Frontsheet'!F76),\"\",'Trust - Frontsheet'!F76)","v":""},{"$f":"IF(ISBLANK('Trust - Frontsheet'!G76),\"\",'Trust - Frontsheet'!G76)","v":""},{"$f":"IF(ISBLANK('Trust - Frontsheet'!H76),\"\",'Trust - Frontsheet'!H76)","v":""},{"$f":"'Trust - Frontsheet'!I76","v":0},{"$f":"'Trust - Frontsheet'!J76","v":0},{"$f":"'Trust - Frontsheet'!K76","v":0},{"$f":"'Trust - Frontsheet'!L76","v":0},{"$f":"'Trust - Frontsheet'!M76","v":0},{"$f":"'Trust - Frontsheet'!N76","v":0},{"$f":"'Trust - Frontsheet'!O76","v":0},{"$f":"'Trust - Frontsheet'!P76","v":0},{"$f":"IF('Trust - Frontsheet'!Q76=\"\",0,('Trust - Frontsheet'!Q76))","v":0},{"$f":"IF('Trust - Frontsheet'!R76=\"\",0,('Trust - Frontsheet'!R76))","v":0},{"$f":"IF('Trust - Frontsheet'!S76=\"\",0,('Trust - Frontsheet'!S76))","v":0},{"$f":"IF('Trust - Frontsheet'!T76=\"\",0,('Trust - Frontsheet'!T76))","v":0},{"$f":"'Trust - Frontsheet'!U76","v":0},{"$f":"IF('Trust - Frontsheet'!V76=\"\",0,('Trust - Frontsheet'!V76))","v":0},{"$f":"IF('Trust - Frontsheet'!W76=\"\",0,('Trust - Frontsheet'!W76))","v":0},{"$f":"IF('Trust - Frontsheet'!X76=\"\",0,('Trust - Frontsheet'!X76))","v":0},{"$f":"IF(A64=\"\",\"\",(IF(ISBLANK('Trust - Frontsheet'!F9),\"\",'Trust - Frontsheet'!F9)))","v":""}]
[{"$f":"IF('Trust - Frontsheet'!D77=0,\"\",IF('Trust - Frontsheet'!D77=\"\",\"\",'Trust - Frontsheet'!D77))","v":""},{"$f":"IF(ISBLANK('Trust - Frontsheet'!E77),\"\",'Trust - Frontsheet'!E77)","v":""},{"$f":"IF(ISBLANK('Trust - Frontsheet'!F77),\"\",'Trust - Frontsheet'!F77)","v":""},{"$f":"IF(ISBLANK('Trust - Frontsheet'!G77),\"\",'Trust - Frontsheet'!G77)","v":""},{"$f":"IF(ISBLANK('Trust - Frontsheet'!H77),\"\",'Trust - Frontsheet'!H77)","v":""},{"$f":"'Trust - Frontsheet'!I77","v":0},{"$f":"'Trust - Frontsheet'!J77","v":0},{"$f":"'Trust - Frontsheet'!K77","v":0},{"$f":"'Trust - Frontsheet'!L77","v":0},{"$f":"'Trust - Frontsheet'!M77","v":0},{"$f":"'Trust - Frontsheet'!N77","v":0},{"$f":"'Trust - Frontsheet'!O77","v":0},{"$f":"'Trust - Frontsheet'!P77","v":0},{"$f":"IF('Trust - Frontsheet'!Q77=\"\",0,('Trust - Frontsheet'!Q77))","v":0},{"$f":"IF('Trust - Frontsheet'!R77=\"\",0,('Trust - Frontsheet'!R77))","v":0},{"$f":"IF('Trust - Frontsheet'!S77=\"\",0,('Trust - Frontsheet'!S77))","v":0},{"$f":"IF('Trust - Frontsheet'!T77=\"\",0,('Trust - Frontsheet'!T77))","v":0},{"$f":"'Trust - Frontsheet'!U77","v":0},{"$f":"IF('Trust - Frontsheet'!V77=\"\",0,('Trust - Frontsheet'!V77))","v":0},{"$f":"IF('Trust - Frontsheet'!W77=\"\",0,('Trust - Frontsheet'!W77))","v":0},{"$f":"IF('Trust - Frontsheet'!X77=\"\",0,('Trust - Frontsheet'!X77))","v":0},{"$f":"IF(A65=\"\",\"\",(IF(ISBLANK('Trust - Frontsheet'!F9),\"\",'Trust - Frontsheet'!F9)))","v":""}]
[{"$f":"IF('Trust - Frontsheet'!D78=0,\"\",IF('Trust - Frontsheet'!D78=\"\",\"\",'Trust - Frontsheet'!D78))","v":""},{"$f":"IF(ISBLANK('Trust - Frontsheet'!E78),\"\",'Trust - Frontsheet'!E78)","v":""},{"$f":"IF(ISBLANK('Trust - Frontsheet'!F78),\"\",'Trust - Frontsheet'!F78)","v":""},{"$f":"IF(ISBLANK('Trust - Frontsheet'!G78),\"\",'Trust - Frontsheet'!G78)","v":""},{"$f":"IF(ISBLANK('Trust - Frontsheet'!H78),\"\",'Trust - Frontsheet'!H78)","v":""},{"$f":"'Trust - Frontsheet'!I78","v":0},{"$f":"'Trust - Frontsheet'!J78","v":0},{"$f":"'Trust - Frontsheet'!K78","v":0},{"$f":"'Trust - Frontsheet'!L78","v":0},{"$f":"'Trust - Frontsheet'!M78","v":0},{"$f":"'Trust - Frontsheet'!N78","v":0},{"$f":"'Trust - Frontsheet'!O78","v":0},{"$f":"'Trust - Frontsheet'!P78","v":0},{"$f":"IF('Trust - Frontsheet'!Q78=\"\",0,('Trust - Frontsheet'!Q78))","v":0},{"$f":"IF('Trust - Frontsheet'!R78=\"\",0,('Trust - Frontsheet'!R78))","v":0},{"$f":"IF('Trust - Frontsheet'!S78=\"\",0,('Trust - Frontsheet'!S78))","v":0},{"$f":"IF('Trust - Frontsheet'!T78=\"\",0,('Trust - Frontsheet'!T78))","v":0},{"$f":"'Trust - Frontsheet'!U78","v":0},{"$f":"IF('Trust - Frontsheet'!V78=\"\",0,('Trust - Frontsheet'!V78))","v":0},{"$f":"IF('Trust - Frontsheet'!W78=\"\",0,('Trust - Frontsheet'!W78))","v":0},{"$f":"IF('Trust - Frontsheet'!X78=\"\",0,('Trust - Frontsheet'!X78))","v":0},{"$f":"IF(A66=\"\",\"\",(IF(ISBLANK('Trust - Frontsheet'!F9),\"\",'Trust - Frontsheet'!F9)))","v":""}]
[{"$f":"IF('Trust - Frontsheet'!D79=0,\"\",IF('Trust - Frontsheet'!D79=\"\",\"\",'Trust - Frontsheet'!D79))","v":""},{"$f":"IF(ISBLANK('Trust - Frontsheet'!E79),\"\",'Trust - Frontsheet'!E79)","v":""},{"$f":"IF(ISBLANK('Trust - Frontsheet'!F79),\"\",'Trust - Frontsheet'!F79)","v":""},{"$f":"IF(ISBLANK('Trust - Frontsheet'!G79),\"\",'Trust - Frontsheet'!G79)","v":""},{"$f":"IF(ISBLANK('Trust - Frontsheet'!H79),\"\",'Trust - Frontsheet'!H79)","v":""},{"$f":"'Trust - Frontsheet'!I79","v":0},{"$f":"'Trust - Frontsheet'!J79","v":0},{"$f":"'Trust - Frontsheet'!K79","v":0},{"$f":"'Trust - Frontsheet'!L79","v":0},{"$f":"'Trust - Frontsheet'!M79","v":0},{"$f":"'Trust - Frontsheet'!N79","v":0},{"$f":"'Trust - Frontsheet'!O79","v":0},{"$f":"'Trust - Frontsheet'!P79","v":0},{"$f":"IF('Trust - Frontsheet'!Q79=\"\",0,('Trust - Frontsheet'!Q79))","v":0},{"$f":"IF('Trust - Frontsheet'!R79=\"\",0,('Trust - Frontsheet'!R79))","v":0},{"$f":"IF('Trust - Frontsheet'!S79=\"\",0,('Trust - Frontsheet'!S79))","v":0},{"$f":"IF('Trust - Frontsheet'!T79=\"\",0,('Trust - Frontsheet'!T79))","v":0},{"$f":"'Trust - Frontsheet'!U79","v":0},{"$f":"IF('Trust - Frontsheet'!V79=\"\",0,('Trust - Frontsheet'!V79))","v":0},{"$f":"IF('Trust - Frontsheet'!W79=\"\",0,('Trust - Frontsheet'!W79))","v":0},{"$f":"IF('Trust - Frontsheet'!X79=\"\",0,('Trust - Frontsheet'!X79))","v":0},{"$f":"IF(A67=\"\",\"\",(IF(ISBLANK('Trust - Frontsheet'!F9),\"\",'Trust - Frontsheet'!F9)))","v":""}]
[{"$f":"IF('Trust - Frontsheet'!D80=0,\"\",IF('Trust - Frontsheet'!D80=\"\",\"\",'Trust - Frontsheet'!D80))","v":""},{"$f":"IF(ISBLANK('Trust - Frontsheet'!E80),\"\",'Trust - Frontsheet'!E80)","v":""},{"$f":"IF(ISBLANK('Trust - Frontsheet'!F80),\"\",'Trust - Frontsheet'!F80)","v":""},{"$f":"IF(ISBLANK('Trust - Frontsheet'!G80),\"\",'Trust - Frontsheet'!G80)","v":""},{"$f":"IF(ISBLANK('Trust - Frontsheet'!H80),\"\",'Trust - Frontsheet'!H80)","v":""},{"$f":"'Trust - Frontsheet'!I80","v":0},{"$f":"'Trust - Frontsheet'!J80","v":0},{"$f":"'Trust - Frontsheet'!K80","v":0},{"$f":"'Trust - Frontsheet'!L80","v":0},{"$f":"'Trust - Frontsheet'!M80","v":0},{"$f":"'Trust - Frontsheet'!N80","v":0},{"$f":"'Trust - Frontsheet'!O80","v":0},{"$f":"'Trust - Frontsheet'!P80","v":0},{"$f":"IF('Trust - Frontsheet'!Q80=\"\",0,('Trust - Frontsheet'!Q80))","v":0},{"$f":"IF('Trust - Frontsheet'!R80=\"\",0,('Trust - Frontsheet'!R80))","v":0},{"$f":"IF('Trust - Frontsheet'!S80=\"\",0,('Trust - Frontsheet'!S80))","v":0},{"$f":"IF('Trust - Frontsheet'!T80=\"\",0,('Trust - Frontsheet'!T80))","v":0},{"$f":"'Trust - Frontsheet'!U80","v":0},{"$f":"IF('Trust - Frontsheet'!V80=\"\",0,('Trust - Frontsheet'!V80))","v":0},{"$f":"IF('Trust - Frontsheet'!W80=\"\",0,('Trust - Frontsheet'!W80))","v":0},{"$f":"IF('Trust - Frontsheet'!X80=\"\",0,('Trust - Frontsheet'!X80))","v":0},{"$f":"IF(A68=\"\",\"\",(IF(ISBLANK('Trust - Frontsheet'!F9),\"\",'Trust - Frontsheet'!F9)))","v":""}]
[{"$f":"IF('Trust - Frontsheet'!D81=0,\"\",IF('Trust - Frontsheet'!D81=\"\",\"\",'Trust - Frontsheet'!D81))","v":""},{"$f":"IF(ISBLANK('Trust - Frontsheet'!E81),\"\",'Trust - Frontsheet'!E81)","v":""},{"$f":"IF(ISBLANK('Trust - Frontsheet'!F81),\"\",'Trust - Frontsheet'!F81)","v":""},{"$f":"IF(ISBLANK('Trust - Frontsheet'!G81),\"\",'Trust - Frontsheet'!G81)","v":""},{"$f":"IF(ISBLANK('Trust - Frontsheet'!H81),\"\",'Trust - Frontsheet'!H81)","v":""},{"$f":"'Trust - Frontsheet'!I81","v":0},{"$f":"'Trust - Frontsheet'!J81","v":0},{"$f":"'Trust - Frontsheet'!K81","v":0},{"$f":"'Trust - Frontsheet'!L81","v":0},{"$f":"'Trust - Frontsheet'!M81","v":0},{"$f":"'Trust - Frontsheet'!N81","v":0},{"$f":"'Trust - Frontsheet'!O81","v":0},{"$f":"'Trust - Frontsheet'!P81","v":0},{"$f":"IF('Trust - Frontsheet'!Q81=\"\",0,('Trust - Frontsheet'!Q81))","v":0},{"$f":"IF('Trust - Frontsheet'!R81=\"\",0,('Trust - Frontsheet'!R81))","v":0},{"$f":"IF('Trust - Frontsheet'!S81=\"\",0,('Trust - Frontsheet'!S81))","v":0},{"$f":"IF('Trust - Frontsheet'!T81=\"\",0,('Trust - Frontsheet'!T81))","v":0},{"$f":"'Trust - Frontsheet'!U81","v":0},{"$f":"IF('Trust - Frontsheet'!V81=\"\",0,('Trust - Frontsheet'!V81))","v":0},{"$f":"IF('Trust - Frontsheet'!W81=\"\",0,('Trust - Frontsheet'!W81))","v":0},{"$f":"IF('Trust - Frontsheet'!X81=\"\",0,('Trust - Frontsheet'!X81))","v":0},{"$f":"IF(A69=\"\",\"\",(IF(ISBLANK('Trust - Frontsheet'!F9),\"\",'Trust - Frontsheet'!F9)))","v":""}]
[{"$f":"IF('Trust - Frontsheet'!D82=0,\"\",IF('Trust - Frontsheet'!D82=\"\",\"\",'Trust - Frontsheet'!D82))","v":""},{"$f":"IF(ISBLANK('Trust - Frontsheet'!E82),\"\",'Trust - Frontsheet'!E82)","v":""},{"$f":"IF(ISBLANK('Trust - Frontsheet'!F82),\"\",'Trust - Frontsheet'!F82)","v":""},{"$f":"IF(ISBLANK('Trust - Frontsheet'!G82),\"\",'Trust - Frontsheet'!G82)","v":""},{"$f":"IF(ISBLANK('Trust - Frontsheet'!H82),\"\",'Trust - Frontsheet'!H82)","v":""},{"$f":"'Trust - Frontsheet'!I82","v":0},{"$f":"'Trust - Frontsheet'!J82","v":0},{"$f":"'Trust - Frontsheet'!K82","v":0},{"$f":"'Trust - Frontsheet'!L82","v":0},{"$f":"'Trust - Frontsheet'!M82","v":0},{"$f":"'Trust - Frontsheet'!N82","v":0},{"$f":"'Trust - Frontsheet'!O82","v":0},{"$f":"'Trust - Frontsheet'!P82","v":0},{"$f":"IF('Trust - Frontsheet'!Q82=\"\",0,('Trust - Frontsheet'!Q82))","v":0},{"$f":"IF('Trust - Frontsheet'!R82=\"\",0,('Trust - Frontsheet'!R82))","v":0},{"$f":"IF('Trust - Frontsheet'!S82=\"\",0,('Trust - Frontsheet'!S82))","v":0},{"$f":"IF('Trust - Frontsheet'!T82=\"\",0,('Trust - Frontsheet'!T82))","v":0},{"$f":"'Trust - Frontsheet'!U82","v":0},{"$f":"IF('Trust - Frontsheet'!V82=\"\",0,('Trust - Frontsheet'!V82))","v":0},{"$f":"IF('Trust - Frontsheet'!W82=\"\",0,('Trust - Frontsheet'!W82))","v":0},{"$f":"IF('Trust - Frontsheet'!X82=\"\",0,('Trust - Frontsheet'!X82))","v":0},{"$f":"IF(A70=\"\",\"\",(IF(ISBLANK('Trust - Frontsheet'!F9),\"\",'Trust - Frontsheet'!F9)))","v":""}]
[{"$f":"IF('Trust - Frontsheet'!D83=0,\"\",IF('Trust - Frontsheet'!D83=\"\",\"\",'Trust - Frontsheet'!D83))","v":""},{"$f":"IF(ISBLANK('Trust - Frontsheet'!E83),\"\",'Trust - Frontsheet'!E83)","v":""},{"$f":"IF(ISBLANK('Trust - Frontsheet'!F83),\"\",'Trust - Frontsheet'!F83)","v":""},{"$f":"IF(ISBLANK('Trust - Frontsheet'!G83),\"\",'Trust - Frontsheet'!G83)","v":""},{"$f":"IF(ISBLANK('Trust - Frontsheet'!H83),\"\",'Trust - Frontsheet'!H83)","v":""},{"$f":"'Trust - Frontsheet'!I83","v":0},{"$f":"'Trust - Frontsheet'!J83","v":0},{"$f":"'Trust - Frontsheet'!K83","v":0},{"$f":"'Trust - Frontsheet'!L83","v":0},{"$f":"'Trust - Frontsheet'!M83","v":0},{"$f":"'Trust - Frontsheet'!N83","v":0},{"$f":"'Trust - Frontsheet'!O83","v":0},{"$f":"'Trust - Frontsheet'!P83","v":0},{"$f":"IF('Trust - Frontsheet'!Q83=\"\",0,('Trust - Frontsheet'!Q83))","v":0},{"$f":"IF('Trust - Frontsheet'!R83=\"\",0,('Trust - Frontsheet'!R83))","v":0},{"$f":"IF('Trust - Frontsheet'!S83=\"\",0,('Trust - Frontsheet'!S83))","v":0},{"$f":"IF('Trust - Frontsheet'!T83=\"\",0,('Trust - Frontsheet'!T83))","v":0},{"$f":"'Trust - Frontsheet'!U83","v":0},{"$f":"IF('Trust - Frontsheet'!V83=\"\",0,('Trust - Frontsheet'!V83))","v":0},{"$f":"IF('Trust - Frontsheet'!W83=\"\",0,('Trust - Frontsheet'!W83))","v":0},{"$f":"IF('Trust - Frontsheet'!X83=\"\",0,('Trust - Frontsheet'!X83))","v":0},{"$f":"IF(A71=\"\",\"\",(IF(ISBLANK('Trust - Frontsheet'!F9),\"\",'Trust - Frontsheet'!F9)))","v":""}]
[{"$f":"IF('Trust - Frontsheet'!D84=0,\"\",IF('Trust - Frontsheet'!D84=\"\",\"\",'Trust - Frontsheet'!D84))","v":""},{"$f":"IF(ISBLANK('Trust - Frontsheet'!E84),\"\",'Trust - Frontsheet'!E84)","v":""},{"$f":"IF(ISBLANK('Trust - Frontsheet'!F84),\"\",'Trust - Frontsheet'!F84)","v":""},{"$f":"IF(ISBLANK('Trust - Frontsheet'!G84),\"\",'Trust - Frontsheet'!G84)","v":""},{"$f":"IF(ISBLANK('Trust - Frontsheet'!H84),\"\",'Trust - Frontsheet'!H84)","v":""},{"$f":"'Trust - Frontsheet'!I84","v":0},{"$f":"'Trust - Frontsheet'!J84","v":0},{"$f":"'Trust - Frontsheet'!K84","v":0},{"$f":"'Trust - Frontsheet'!L84","v":0},{"$f":"'Trust - Frontsheet'!M84","v":0},{"$f":"'Trust - Frontsheet'!N84","v":0},{"$f":"'Trust - Frontsheet'!O84","v":0},{"$f":"'Trust - Frontsheet'!P84","v":0},{"$f":"IF('Trust - Frontsheet'!Q84=\"\",0,('Trust - Frontsheet'!Q84))","v":0},{"$f":"IF('Trust - Frontsheet'!R84=\"\",0,('Trust - Frontsheet'!R84))","v":0},{"$f":"IF('Trust - Frontsheet'!S84=\"\",0,('Trust - Frontsheet'!S84))","v":0},{"$f":"IF('Trust - Frontsheet'!T84=\"\",0,('Trust - Frontsheet'!T84))","v":0},{"$f":"'Trust - Frontsheet'!U84","v":0},{"$f":"IF('Trust - Frontsheet'!V84=\"\",0,('Trust - Frontsheet'!V84))","v":0},{"$f":"IF('Trust - Frontsheet'!W84=\"\",0,('Trust - Frontsheet'!W84))","v":0},{"$f":"IF('Trust - Frontsheet'!X84=\"\",0,('Trust - Frontsheet'!X84))","v":0},{"$f":"IF(A72=\"\",\"\",(IF(ISBLANK('Trust - Frontsheet'!F9),\"\",'Trust - Frontsheet'!F9)))","v":""}]
[{"$f":"IF('Trust - Frontsheet'!D85=0,\"\",IF('Trust - Frontsheet'!D85=\"\",\"\",'Trust - Frontsheet'!D85))","v":""},{"$f":"IF(ISBLANK('Trust - Frontsheet'!E85),\"\",'Trust - Frontsheet'!E85)","v":""},{"$f":"IF(ISBLANK('Trust - Frontsheet'!F85),\"\",'Trust - Frontsheet'!F85)","v":""},{"$f":"IF(ISBLANK('Trust - Frontsheet'!G85),\"\",'Trust - Frontsheet'!G85)","v":""},{"$f":"IF(ISBLANK('Trust - Frontsheet'!H85),\"\",'Trust - Frontsheet'!H85)","v":""},{"$f":"'Trust - Frontsheet'!I85","v":0},{"$f":"'Trust - Frontsheet'!J85","v":0},{"$f":"'Trust - Frontsheet'!K85","v":0},{"$f":"'Trust - Frontsheet'!L85","v":0},{"$f":"'Trust - Frontsheet'!M85","v":0},{"$f":"'Trust - Frontsheet'!N85","v":0},{"$f":"'Trust - Frontsheet'!O85","v":0},{"$f":"'Trust - Frontsheet'!P85","v":0},{"$f":"IF('Trust - Frontsheet'!Q85=\"\",0,('Trust - Frontsheet'!Q85))","v":0},{"$f":"IF('Trust - Frontsheet'!R85=\"\",0,('Trust - Frontsheet'!R85))","v":0},{"$f":"IF('Trust - Frontsheet'!S85=\"\",0,('Trust - Frontsheet'!S85))","v":0},{"$f":"IF('Trust - Frontsheet'!T85=\"\",0,('Trust - Frontsheet'!T85))","v":0},{"$f":"'Trust - Frontsheet'!U85","v":0},{"$f":"IF('Trust - Frontsheet'!V85=\"\",0,('Trust - Frontsheet'!V85))","v":0},{"$f":"IF('Trust - Frontsheet'!W85=\"\",0,('Trust - Frontsheet'!W85))","v":0},{"$f":"IF('Trust - Frontsheet'!X85=\"\",0,('Trust - Frontsheet'!X85))","v":0},{"$f":"IF(A73=\"\",\"\",(IF(ISBLANK('Trust - Frontsheet'!F9),\"\",'Trust - Frontsheet'!F9)))","v":""}]
[{"$f":"IF('Trust - Frontsheet'!D86=0,\"\",IF('Trust - Frontsheet'!D86=\"\",\"\",'Trust - Frontsheet'!D86))","v":""},{"$f":"IF(ISBLANK('Trust - Frontsheet'!E86),\"\",'Trust - Frontsheet'!E86)","v":""},{"$f":"IF(ISBLANK('Trust - Frontsheet'!F86),\"\",'Trust - Frontsheet'!F86)","v":""},{"$f":"IF(ISBLANK('Trust - Frontsheet'!G86),\"\",'Trust - Frontsheet'!G86)","v":""},{"$f":"IF(ISBLANK('Trust - Frontsheet'!H86),\"\",'Trust - Frontsheet'!H86)","v":""},{"$f":"'Trust - Frontsheet'!I86","v":0},{"$f":"'Trust - Frontsheet'!J86","v":0},{"$f":"'Trust - Frontsheet'!K86","v":0},{"$f":"'Trust - Frontsheet'!L86","v":0},{"$f":"'Trust - Frontsheet'!M86","v":0},{"$f":"'Trust - Frontsheet'!N86","v":0},{"$f":"'Trust - Frontsheet'!O86","v":0},{"$f":"'Trust - Frontsheet'!P86","v":0},{"$f":"IF('Trust - Frontsheet'!Q86=\"\",0,('Trust - Frontsheet'!Q86))","v":0},{"$f":"IF('Trust - Frontsheet'!R86=\"\",0,('Trust - Frontsheet'!R86))","v":0},{"$f":"IF('Trust - Frontsheet'!S86=\"\",0,('Trust - Frontsheet'!S86))","v":0},{"$f":"IF('Trust - Frontsheet'!T86=\"\",0,('Trust - Frontsheet'!T86))","v":0},{"$f":"'Trust - Frontsheet'!U86","v":0},{"$f":"IF('Trust - Frontsheet'!V86=\"\",0,('Trust - Frontsheet'!V86))","v":0},{"$f":"IF('Trust - Frontsheet'!W86=\"\",0,('Trust - Frontsheet'!W86))","v":0},{"$f":"IF('Trust - Frontsheet'!X86=\"\",0,('Trust - Frontsheet'!X86))","v":0},{"$f":"IF(A74=\"\",\"\",(IF(ISBLANK('Trust - Frontsheet'!F9),\"\",'Trust - Frontsheet'!F9)))","v":""}]
[{"$f":"IF('Trust - Frontsheet'!D87=0,\"\",IF('Trust - Frontsheet'!D87=\"\",\"\",'Trust - Frontsheet'!D87))","v":""},{"$f":"IF(ISBLANK('Trust - Frontsheet'!E87),\"\",'Trust - Frontsheet'!E87)","v":""},{"$f":"IF(ISBLANK('Trust - Frontsheet'!F87),\"\",'Trust - Frontsheet'!F87)","v":""},{"$f":"IF(ISBLANK('Trust - Frontsheet'!G87),\"\",'Trust - Frontsheet'!G87)","v":""},{"$f":"IF(ISBLANK('Trust - Frontsheet'!H87),\"\",'Trust - Frontsheet'!H87)","v":""},{"$f":"'Trust - Frontsheet'!I87","v":0},{"$f":"'Trust - Frontsheet'!J87","v":0},{"$f":"'Trust - Frontsheet'!K87","v":0},{"$f":"'Trust - Frontsheet'!L87","v":0},{"$f":"'Trust - Frontsheet'!M87","v":0},{"$f":"'Trust - Frontsheet'!N87","v":0},{"$f":"'Trust - Frontsheet'!O87","v":0},{"$f":"'Trust - Frontsheet'!P87","v":0},{"$f":"IF('Trust - Frontsheet'!Q87=\"\",0,('Trust - Frontsheet'!Q87))","v":0},{"$f":"IF('Trust - Frontsheet'!R87=\"\",0,('Trust - Frontsheet'!R87))","v":0},{"$f":"IF('Trust - Frontsheet'!S87=\"\",0,('Trust - Frontsheet'!S87))","v":0},{"$f":"IF('Trust - Frontsheet'!T87=\"\",0,('Trust - Frontsheet'!T87))","v":0},{"$f":"'Trust - Frontsheet'!U87","v":0},{"$f":"IF('Trust - Frontsheet'!V87=\"\",0,('Trust - Frontsheet'!V87))","v":0},{"$f":"IF('Trust - Frontsheet'!W87=\"\",0,('Trust - Frontsheet'!W87))","v":0},{"$f":"IF('Trust - Frontsheet'!X87=\"\",0,('Trust - Frontsheet'!X87))","v":0},{"$f":"IF(A75=\"\",\"\",(IF(ISBLANK('Trust - Frontsheet'!F9),\"\",'Trust - Frontsheet'!F9)))","v":""}]
[{"$f":"IF('Trust - Frontsheet'!D88=0,\"\",IF('Trust - Frontsheet'!D88=\"\",\"\",'Trust - Frontsheet'!D88))","v":""},{"$f":"IF(ISBLANK('Trust - Frontsheet'!E88),\"\",'Trust - Frontsheet'!E88)","v":""},{"$f":"IF(ISBLANK('Trust - Frontsheet'!F88),\"\",'Trust - Frontsheet'!F88)","v":""},{"$f":"IF(ISBLANK('Trust - Frontsheet'!G88),\"\",'Trust - Frontsheet'!G88)","v":""},{"$f":"IF(ISBLANK('Trust - Frontsheet'!H88),\"\",'Trust - Frontsheet'!H88)","v":""},{"$f":"'Trust - Frontsheet'!I88","v":0},{"$f":"'Trust - Frontsheet'!J88","v":0},{"$f":"'Trust - Frontsheet'!K88","v":0},{"$f":"'Trust - Frontsheet'!L88","v":0},{"$f":"'Trust - Frontsheet'!M88","v":0},{"$f":"'Trust - Frontsheet'!N88","v":0},{"$f":"'Trust - Frontsheet'!O88","v":0},{"$f":"'Trust - Frontsheet'!P88","v":0},{"$f":"IF('Trust - Frontsheet'!Q88=\"\",0,('Trust - Frontsheet'!Q88))","v":0},{"$f":"IF('Trust - Frontsheet'!R88=\"\",0,('Trust - Frontsheet'!R88))","v":0},{"$f":"IF('Trust - Frontsheet'!S88=\"\",0,('Trust - Frontsheet'!S88))","v":0},{"$f":"IF('Trust - Frontsheet'!T88=\"\",0,('Trust - Frontsheet'!T88))","v":0},{"$f":"'Trust - Frontsheet'!U88","v":0},{"$f":"IF('Trust - Frontsheet'!V88=\"\",0,('Trust - Frontsheet'!V88))","v":0},{"$f":"IF('Trust - Frontsheet'!W88=\"\",0,('Trust - Frontsheet'!W88))","v":0},{"$f":"IF('Trust - Frontsheet'!X88=\"\",0,('Trust - Frontsheet'!X88))","v":0},{"$f":"IF(A76=\"\",\"\",(IF(ISBLANK('Trust - Frontsheet'!F9),\"\",'Trust - Frontsheet'!F9)))","v":""}]
[{"$f":"IF('Trust - Frontsheet'!D89=0,\"\",IF('Trust - Frontsheet'!D89=\"\",\"\",'Trust - Frontsheet'!D89))","v":""},{"$f":"IF(ISBLANK('Trust - Frontsheet'!E89),\"\",'Trust - Frontsheet'!E89)","v":""},{"$f":"IF(ISBLANK('Trust - Frontsheet'!F89),\"\",'Trust - Frontsheet'!F89)","v":""},{"$f":"IF(ISBLANK('Trust - Frontsheet'!G89),\"\",'Trust - Frontsheet'!G89)","v":""},{"$f":"IF(ISBLANK('Trust - Frontsheet'!H89),\"\",'Trust - Frontsheet'!H89)","v":""},{"$f":"'Trust - Frontsheet'!I89","v":0},{"$f":"'Trust - Frontsheet'!J89","v":0},{"$f":"'Trust - Frontsheet'!K89","v":0},{"$f":"'Trust - Frontsheet'!L89","v":0},{"$f":"'Trust - Frontsheet'!M89","v":0},{"$f":"'Trust - Frontsheet'!N89","v":0},{"$f":"'Trust - Frontsheet'!O89","v":0},{"$f":"'Trust - Frontsheet'!P89","v":0},{"$f":"IF('Trust - Frontsheet'!Q89=\"\",0,('Trust - Frontsheet'!Q89))","v":0},{"$f":"IF('Trust - Frontsheet'!R89=\"\",0,('Trust - Frontsheet'!R89))","v":0},{"$f":"IF('Trust - Frontsheet'!S89=\"\",0,('Trust - Frontsheet'!S89))","v":0},{"$f":"IF('Trust - Frontsheet'!T89=\"\",0,('Trust - Frontsheet'!T89))","v":0},{"$f":"'Trust - Frontsheet'!U89","v":0},{"$f":"IF('Trust - Frontsheet'!V89=\"\",0,('Trust - Frontsheet'!V89))","v":0},{"$f":"IF('Trust - Frontsheet'!W89=\"\",0,('Trust - Frontsheet'!W89))","v":0},{"$f":"IF('Trust - Frontsheet'!X89=\"\",0,('Trust - Frontsheet'!X89))","v":0},{"$f":"IF(A77=\"\",\"\",(IF(ISBLANK('Trust - Frontsheet'!F9),\"\",'Trust - Frontsheet'!F9)))","v":""}]
[{"$f":"IF('Trust - Frontsheet'!D90=0,\"\",IF('Trust - Frontsheet'!D90=\"\",\"\",'Trust - Frontsheet'!D90))","v":""},{"$f":"IF(ISBLANK('Trust - Frontsheet'!E90),\"\",'Trust - Frontsheet'!E90)","v":""},{"$f":"IF(ISBLANK('Trust - Frontsheet'!F90),\"\",'Trust - Frontsheet'!F90)","v":""},{"$f":"IF(ISBLANK('Trust - Frontsheet'!G90),\"\",'Trust - Frontsheet'!G90)","v":""},{"$f":"IF(ISBLANK('Trust - Frontsheet'!H90),\"\",'Trust - Frontsheet'!H90)","v":""},{"$f":"'Trust - Frontsheet'!I90","v":0},{"$f":"'Trust - Frontsheet'!J90","v":0},{"$f":"'Trust - Frontsheet'!K90","v":0},{"$f":"'Trust - Frontsheet'!L90","v":0},{"$f":"'Trust - Frontsheet'!M90","v":0},{"$f":"'Trust - Frontsheet'!N90","v":0},{"$f":"'Trust - Frontsheet'!O90","v":0},{"$f":"'Trust - Frontsheet'!P90","v":0},{"$f":"IF('Trust - Frontsheet'!Q90=\"\",0,('Trust - Frontsheet'!Q90))","v":0},{"$f":"IF('Trust - Frontsheet'!R90=\"\",0,('Trust - Frontsheet'!R90))","v":0},{"$f":"IF('Trust - Frontsheet'!S90=\"\",0,('Trust - Frontsheet'!S90))","v":0},{"$f":"IF('Trust - Frontsheet'!T90=\"\",0,('Trust - Frontsheet'!T90))","v":0},{"$f":"'Trust - Frontsheet'!U90","v":0},{"$f":"IF('Trust - Frontsheet'!V90=\"\",0,('Trust - Frontsheet'!V90))","v":0},{"$f":"IF('Trust - Frontsheet'!W90=\"\",0,('Trust - Frontsheet'!W90))","v":0},{"$f":"IF('Trust - Frontsheet'!X90=\"\",0,('Trust - Frontsheet'!X90))","v":0},{"$f":"IF(A78=\"\",\"\",(IF(ISBLANK('Trust - Frontsheet'!F9),\"\",'Trust - Frontsheet'!F9)))","v":""}]
[{"$f":"IF('Trust - Frontsheet'!D91=0,\"\",IF('Trust - Frontsheet'!D91=\"\",\"\",'Trust - Frontsheet'!D91))","v":""},{"$f":"IF(ISBLANK('Trust - Frontsheet'!E91),\"\",'Trust - Frontsheet'!E91)","v":""},{"$f":"IF(ISBLANK('Trust - Frontsheet'!F91),\"\",'Trust - Frontsheet'!F91)","v":""},{"$f":"IF(ISBLANK('Trust - Frontsheet'!G91),\"\",'Trust - Frontsheet'!G91)","v":""},{"$f":"IF(ISBLANK('Trust - Frontsheet'!H91),\"\",'Trust - Frontsheet'!H91)","v":""},{"$f":"'Trust - Frontsheet'!I91","v":0},{"$f":"'Trust - Frontsheet'!J91","v":0},{"$f":"'Trust - Frontsheet'!K91","v":0},{"$f":"'Trust - Frontsheet'!L91","v":0},{"$f":"'Trust - Frontsheet'!M91","v":0},{"$f":"'Trust - Frontsheet'!N91","v":0},{"$f":"'Trust - Frontsheet'!O91","v":0},{"$f":"'Trust - Frontsheet'!P91","v":0},{"$f":"IF('Trust - Frontsheet'!Q91=\"\",0,('Trust - Frontsheet'!Q91))","v":0},{"$f":"IF('Trust - Frontsheet'!R91=\"\",0,('Trust - Frontsheet'!R91))","v":0},{"$f":"IF('Trust - Frontsheet'!S91=\"\",0,('Trust - Frontsheet'!S91))","v":0},{"$f":"IF('Trust - Frontsheet'!T91=\"\",0,('Trust - Frontsheet'!T91))","v":0},{"$f":"'Trust - Frontsheet'!U91","v":0},{"$f":"IF('Trust - Frontsheet'!V91=\"\",0,('Trust - Frontsheet'!V91))","v":0},{"$f":"IF('Trust - Frontsheet'!W91=\"\",0,('Trust - Frontsheet'!W91))","v":0},{"$f":"IF('Trust - Frontsheet'!X91=\"\",0,('Trust - Frontsheet'!X91))","v":0},{"$f":"IF(A79=\"\",\"\",(IF(ISBLANK('Trust - Frontsheet'!F9),\"\",'Trust - Frontsheet'!F9)))","v":""}]
[{"$f":"IF('Trust - Frontsheet'!D92=0,\"\",IF('Trust - Frontsheet'!D92=\"\",\"\",'Trust - Frontsheet'!D92))","v":""},{"$f":"IF(ISBLANK('Trust - Frontsheet'!E92),\"\",'Trust - Frontsheet'!E92)","v":""},{"$f":"IF(ISBLANK('Trust - Frontsheet'!F92),\"\",'Trust - Frontsheet'!F92)","v":""},{"$f":"IF(ISBLANK('Trust - Frontsheet'!G92),\"\",'Trust - Frontsheet'!G92)","v":""},{"$f":"IF(ISBLANK('Trust - Frontsheet'!H92),\"\",'Trust - Frontsheet'!H92)","v":""},{"$f":"'Trust - Frontsheet'!I92","v":0},{"$f":"'Trust - Frontsheet'!J92","v":0},{"$f":"'Trust - Frontsheet'!K92","v":0},{"$f":"'Trust - Frontsheet'!L92","v":0},{"$f":"'Trust - Frontsheet'!M92","v":0},{"$f":"'Trust - Frontsheet'!N92","v":0},{"$f":"'Trust - Frontsheet'!O92","v":0},{"$f":"'Trust - Frontsheet'!P92","v":0},{"$f":"IF('Trust - Frontsheet'!Q92=\"\",0,('Trust - Frontsheet'!Q92))","v":0},{"$f":"IF('Trust - Frontsheet'!R92=\"\",0,('Trust - Frontsheet'!R92))","v":0},{"$f":"IF('Trust - Frontsheet'!S92=\"\",0,('Trust - Frontsheet'!S92))","v":0},{"$f":"IF('Trust - Frontsheet'!T92=\"\",0,('Trust - Frontsheet'!T92))","v":0},{"$f":"'Trust - Frontsheet'!U92","v":0},{"$f":"IF('Trust - Frontsheet'!V92=\"\",0,('Trust - Frontsheet'!V92))","v":0},{"$f":"IF('Trust - Frontsheet'!W92=\"\",0,('Trust - Frontsheet'!W92))","v":0},{"$f":"IF('Trust - Frontsheet'!X92=\"\",0,('Trust - Frontsheet'!X92))","v":0},{"$f":"IF(A80=\"\",\"\",(IF(ISBLANK('Trust - Frontsheet'!F9),\"\",'Trust - Frontsheet'!F9)))","v":""}]
[{"$f":"IF('Trust - Frontsheet'!D93=0,\"\",IF('Trust - Frontsheet'!D93=\"\",\"\",'Trust - Frontsheet'!D93))","v":""},{"$f":"IF(ISBLANK('Trust - Frontsheet'!E93),\"\",'Trust - Frontsheet'!E93)","v":""},{"$f":"IF(ISBLANK('Trust - Frontsheet'!F93),\"\",'Trust - Frontsheet'!F93)","v":""},{"$f":"IF(ISBLANK('Trust - Frontsheet'!G93),\"\",'Trust - Frontsheet'!G93)","v":""},{"$f":"IF(ISBLANK('Trust - Frontsheet'!H93),\"\",'Trust - Frontsheet'!H93)","v":""},{"$f":"'Trust - Frontsheet'!I93","v":0},{"$f":"'Trust - Frontsheet'!J93","v":0},{"$f":"'Trust - Frontsheet'!K93","v":0},{"$f":"'Trust - Frontsheet'!L93","v":0},{"$f":"'Trust - Frontsheet'!M93","v":0},{"$f":"'Trust - Frontsheet'!N93","v":0},{"$f":"'Trust - Frontsheet'!O93","v":0},{"$f":"'Trust - Frontsheet'!P93","v":0},{"$f":"IF('Trust - Frontsheet'!Q93=\"\",0,('Trust - Frontsheet'!Q93))","v":0},{"$f":"IF('Trust - Frontsheet'!R93=\"\",0,('Trust - Frontsheet'!R93))","v":0},{"$f":"IF('Trust - Frontsheet'!S93=\"\",0,('Trust - Frontsheet'!S93))","v":0},{"$f":"IF('Trust - Frontsheet'!T93=\"\",0,('Trust - Frontsheet'!T93))","v":0},{"$f":"'Trust - Frontsheet'!U93","v":0},{"$f":"IF('Trust - Frontsheet'!V93=\"\",0,('Trust - Frontsheet'!V93))","v":0},{"$f":"IF('Trust - Frontsheet'!W93=\"\",0,('Trust - Frontsheet'!W93))","v":0},{"$f":"IF('Trust - Frontsheet'!X93=\"\",0,('Trust - Frontsheet'!X93))","v":0},{"$f":"IF(A81=\"\",\"\",(IF(ISBLANK('Trust - Frontsheet'!F9),\"\",'Trust - Frontsheet'!F9)))","v":""}]
[{"$f":"IF('Trust - Frontsheet'!D94=0,\"\",IF('Trust - Frontsheet'!D94=\"\",\"\",'Trust - Frontsheet'!D94))","v":""},{"$f":"IF(ISBLANK('Trust - Frontsheet'!E94),\"\",'Trust - Frontsheet'!E94)","v":""},{"$f":"IF(ISBLANK('Trust - Frontsheet'!F94),\"\",'Trust - Frontsheet'!F94)","v":""},{"$f":"IF(ISBLANK('Trust - Frontsheet'!G94),\"\",'Trust - Frontsheet'!G94)","v":""},{"$f":"IF(ISBLANK('Trust - Frontsheet'!H94),\"\",'Trust - Frontsheet'!H94)","v":""},{"$f":"'Trust - Frontsheet'!I94","v":0},{"$f":"'Trust - Frontsheet'!J94","v":0},{"$f":"'Trust - Frontsheet'!K94","v":0},{"$f":"'Trust - Frontsheet'!L94","v":0},{"$f":"'Trust - Frontsheet'!M94","v":0},{"$f":"'Trust - Frontsheet'!N94","v":0},{"$f":"'Trust - Frontsheet'!O94","v":0},{"$f":"'Trust - Frontsheet'!P94","v":0},{"$f":"IF('Trust - Frontsheet'!Q94=\"\",0,('Trust - Frontsheet'!Q94))","v":0},{"$f":"IF('Trust - Frontsheet'!R94=\"\",0,('Trust - Frontsheet'!R94))","v":0},{"$f":"IF('Trust - Frontsheet'!S94=\"\",0,('Trust - Frontsheet'!S94))","v":0},{"$f":"IF('Trust - Frontsheet'!T94=\"\",0,('Trust - Frontsheet'!T94))","v":0},{"$f":"'Trust - Frontsheet'!U94","v":0},{"$f":"IF('Trust - Frontsheet'!V94=\"\",0,('Trust - Frontsheet'!V94))","v":0},{"$f":"IF('Trust - Frontsheet'!W94=\"\",0,('Trust - Frontsheet'!W94))","v":0},{"$f":"IF('Trust - Frontsheet'!X94=\"\",0,('Trust - Frontsheet'!X94))","v":0},{"$f":"IF(A82=\"\",\"\",(IF(ISBLANK('Trust - Frontsheet'!F9),\"\",'Trust - Frontsheet'!F9)))","v":""}]
[{"$f":"IF('Trust - Frontsheet'!D95=0,\"\",IF('Trust - Frontsheet'!D95=\"\",\"\",'Trust - Frontsheet'!D95))","v":""},{"$f":"IF(ISBLANK('Trust - Frontsheet'!E95),\"\",'Trust - Frontsheet'!E95)","v":""},{"$f":"IF(ISBLANK('Trust - Frontsheet'!F95),\"\",'Trust - Frontsheet'!F95)","v":""},{"$f":"IF(ISBLANK('Trust - Frontsheet'!G95),\"\",'Trust - Frontsheet'!G95)","v":""},{"$f":"IF(ISBLANK('Trust - Frontsheet'!H95),\"\",'Trust - Frontsheet'!H95)","v":""},{"$f":"'Trust - Frontsheet'!I95","v":0},{"$f":"'Trust - Frontsheet'!J95","v":0},{"$f":"'Trust - Frontsheet'!K95","v":0},{"$f":"'Trust - Frontsheet'!L95","v":0},{"$f":"'Trust - Frontsheet'!M95","v":0},{"$f":"'Trust - Frontsheet'!N95","v":0},{"$f":"'Trust - Frontsheet'!O95","v":0},{"$f":"'Trust - Frontsheet'!P95","v":0},{"$f":"IF('Trust - Frontsheet'!Q95=\"\",0,('Trust - Frontsheet'!Q95))","v":0},{"$f":"IF('Trust - Frontsheet'!R95=\"\",0,('Trust - Frontsheet'!R95))","v":0},{"$f":"IF('Trust - Frontsheet'!S95=\"\",0,('Trust - Frontsheet'!S95))","v":0},{"$f":"IF('Trust - Frontsheet'!T95=\"\",0,('Trust - Frontsheet'!T95))","v":0},{"$f":"'Trust - Frontsheet'!U95","v":0},{"$f":"IF('Trust - Frontsheet'!V95=\"\",0,('Trust - Frontsheet'!V95))","v":0},{"$f":"IF('Trust - Frontsheet'!W95=\"\",0,('Trust - Frontsheet'!W95))","v":0},{"$f":"IF('Trust - Frontsheet'!X95=\"\",0,('Trust - Frontsheet'!X95))","v":0},{"$f":"IF(A83=\"\",\"\",(IF(ISBLANK('Trust - Frontsheet'!F9),\"\",'Trust - Frontsheet'!F9)))","v":""}]
[{"$f":"IF('Trust - Frontsheet'!D96=0,\"\",IF('Trust - Frontsheet'!D96=\"\",\"\",'Trust - Frontsheet'!D96))","v":""},{"$f":"IF(ISBLANK('Trust - Frontsheet'!E96),\"\",'Trust - Frontsheet'!E96)","v":""},{"$f":"IF(ISBLANK('Trust - Frontsheet'!F96),\"\",'Trust - Frontsheet'!F96)","v":""},{"$f":"IF(ISBLANK('Trust - Frontsheet'!G96),\"\",'Trust - Frontsheet'!G96)","v":""},{"$f":"IF(ISBLANK('Trust - Frontsheet'!H96),\"\",'Trust - Frontsheet'!H96)","v":""},{"$f":"'Trust - Frontsheet'!I96","v":0},{"$f":"'Trust - Frontsheet'!J96","v":0},{"$f":"'Trust - Frontsheet'!K96","v":0},{"$f":"'Trust - Frontsheet'!L96","v":0},{"$f":"'Trust - Frontsheet'!M96","v":0},{"$f":"'Trust - Frontsheet'!N96","v":0},{"$f":"'Trust - Frontsheet'!O96","v":0},{"$f":"'Trust - Frontsheet'!P96","v":0},{"$f":"IF('Trust - Frontsheet'!Q96=\"\",0,('Trust - Frontsheet'!Q96))","v":0},{"$f":"IF('Trust - Frontsheet'!R96=\"\",0,('Trust - Frontsheet'!R96))","v":0},{"$f":"IF('Trust - Frontsheet'!S96=\"\",0,('Trust - Frontsheet'!S96))","v":0},{"$f":"IF('Trust - Frontsheet'!T96=\"\",0,('Trust - Frontsheet'!T96))","v":0},{"$f":"'Trust - Frontsheet'!U96","v":0},{"$f":"IF('Trust - Frontsheet'!V96=\"\",0,('Trust - Frontsheet'!V96))","v":0},{"$f":"IF('Trust - Frontsheet'!W96=\"\",0,('Trust - Frontsheet'!W96))","v":0},{"$f":"IF('Trust - Frontsheet'!X96=\"\",0,('Trust - Frontsheet'!X96))","v":0},{"$f":"IF(A84=\"\",\"\",(IF(ISBLANK('Trust - Frontsheet'!F9),\"\",'Trust - Frontsheet'!F9)))","v":""}]
[{"$f":"IF('Trust - Frontsheet'!D97=0,\"\",IF('Trust - Frontsheet'!D97=\"\",\"\",'Trust - Frontsheet'!D97))","v":""},{"$f":"IF(ISBLANK('Trust - Frontsheet'!E97),\"\",'Trust - Frontsheet'!E97)","v":""},{"$f":"IF(ISBLANK('Trust - Frontsheet'!F97),\"\",'Trust - Frontsheet'!F97)","v":""},{"$f":"IF(ISBLANK('Trust - Frontsheet'!G97),\"\",'Trust - Frontsheet'!G97)","v":""},{"$f":"IF(ISBLANK('Trust - Frontsheet'!H97),\"\",'Trust - Frontsheet'!H97)","v":""},{"$f":"'Trust - Frontsheet'!I97","v":0},{"$f":"'Trust - Frontsheet'!J97","v":0},{"$f":"'Trust - Frontsheet'!K97","v":0},{"$f":"'Trust - Frontsheet'!L97","v":0},{"$f":"'Trust - Frontsheet'!M97","v":0},{"$f":"'Trust - Frontsheet'!N97","v":0},{"$f":"'Trust - Frontsheet'!O97","v":0},{"$f":"'Trust - Frontsheet'!P97","v":0},{"$f":"IF('Trust - Frontsheet'!Q97=\"\",0,('Trust - Frontsheet'!Q97))","v":0},{"$f":"IF('Trust - Frontsheet'!R97=\"\",0,('Trust - Frontsheet'!R97))","v":0},{"$f":"IF('Trust - Frontsheet'!S97=\"\",0,('Trust - Frontsheet'!S97))","v":0},{"$f":"IF('Trust - Frontsheet'!T97=\"\",0,('Trust - Frontsheet'!T97))","v":0},{"$f":"'Trust - Frontsheet'!U97","v":0},{"$f":"IF('Trust - Frontsheet'!V97=\"\",0,('Trust - Frontsheet'!V97))","v":0},{"$f":"IF('Trust - Frontsheet'!W97=\"\",0,('Trust - Frontsheet'!W97))","v":0},{"$f":"IF('Trust - Frontsheet'!X97=\"\",0,('Trust - Frontsheet'!X97))","v":0},{"$f":"IF(A85=\"\",\"\",(IF(ISBLANK('Trust - Frontsheet'!F9),\"\",'Trust - Frontsheet'!F9)))","v":""}]
[{"$f":"IF('Trust - Frontsheet'!D98=0,\"\",IF('Trust - Frontsheet'!D98=\"\",\"\",'Trust - Frontsheet'!D98))","v":""},{"$f":"IF(ISBLANK('Trust - Frontsheet'!E98),\"\",'Trust - Frontsheet'!E98)","v":""},{"$f":"IF(ISBLANK('Trust - Frontsheet'!F98),\"\",'Trust - Frontsheet'!F98)","v":""},{"$f":"IF(ISBLANK('Trust - Frontsheet'!G98),\"\",'Trust - Frontsheet'!G98)","v":""},{"$f":"IF(ISBLANK('Trust - Frontsheet'!H98),\"\",'Trust - Frontsheet'!H98)","v":""},{"$f":"'Trust - Frontsheet'!I98","v":0},{"$f":"'Trust - Frontsheet'!J98","v":0},{"$f":"'Trust - Frontsheet'!K98","v":0},{"$f":"'Trust - Frontsheet'!L98","v":0},{"$f":"'Trust - Frontsheet'!M98","v":0},{"$f":"'Trust - Frontsheet'!N98","v":0},{"$f":"'Trust - Frontsheet'!O98","v":0},{"$f":"'Trust - Frontsheet'!P98","v":0},{"$f":"IF('Trust - Frontsheet'!Q98=\"\",0,('Trust - Frontsheet'!Q98))","v":0},{"$f":"IF('Trust - Frontsheet'!R98=\"\",0,('Trust - Frontsheet'!R98))","v":0},{"$f":"IF('Trust - Frontsheet'!S98=\"\",0,('Trust - Frontsheet'!S98))","v":0},{"$f":"IF('Trust - Frontsheet'!T98=\"\",0,('Trust - Frontsheet'!T98))","v":0},{"$f":"'Trust - Frontsheet'!U98","v":0},{"$f":"IF('Trust - Frontsheet'!V98=\"\",0,('Trust - Frontsheet'!V98))","v":0},{"$f":"IF('Trust - Frontsheet'!W98=\"\",0,('Trust - Frontsheet'!W98))","v":0},{"$f":"IF('Trust - Frontsheet'!X98=\"\",0,('Trust - Frontsheet'!X98))","v":0},{"$f":"IF(A86=\"\",\"\",(IF(ISBLANK('Trust - Frontsheet'!F9),\"\",'Trust - Frontsheet'!F9)))","v":""}]
[{"$f":"IF('Trust - Frontsheet'!D99=0,\"\",IF('Trust - Frontsheet'!D99=\"\",\"\",'Trust - Frontsheet'!D99))","v":""},{"$f":"IF(ISBLANK('Trust - Frontsheet'!E99),\"\",'Trust - Frontsheet'!E99)","v":""},{"$f":"IF(ISBLANK('Trust - Frontsheet'!F99),\"\",'Trust - Frontsheet'!F99)","v":""},{"$f":"IF(ISBLANK('Trust - Frontsheet'!G99),\"\",'Trust - Frontsheet'!G99)","v":""},{"$f":"IF(ISBLANK('Trust - Frontsheet'!H99),\"\",'Trust - Frontsheet'!H99)","v":""},{"$f":"'Trust - Frontsheet'!I99","v":0},{"$f":"'Trust - Frontsheet'!J99","v":0},{"$f":"'Trust - Frontsheet'!K99","v":0},{"$f":"'Trust - Frontsheet'!L99","v":0},{"$f":"'Trust - Frontsheet'!M99","v":0},{"$f":"'Trust - Frontsheet'!N99","v":0},{"$f":"'Trust - Frontsheet'!O99","v":0},{"$f":"'Trust - Frontsheet'!P99","v":0},{"$f":"IF('Trust - Frontsheet'!Q99=\"\",0,('Trust - Frontsheet'!Q99))","v":0},{"$f":"IF('Trust - Frontsheet'!R99=\"\",0,('Trust - Frontsheet'!R99))","v":0},{"$f":"IF('Trust - Frontsheet'!S99=\"\",0,('Trust - Frontsheet'!S99))","v":0},{"$f":"IF('Trust - Frontsheet'!T99=\"\",0,('Trust - Frontsheet'!T99))","v":0},{"$f":"'Trust - Frontsheet'!U99","v":0},{"$f":"IF('Trust - Frontsheet'!V99=\"\",0,('Trust - Frontsheet'!V99))","v":0},{"$f":"IF('Trust - Frontsheet'!W99=\"\",0,('Trust - Frontsheet'!W99))","v":0},{"$f":"IF('Trust - Frontsheet'!X99=\"\",0,('Trust - Frontsheet'!X99))","v":0},{"$f":"IF(A87=\"\",\"\",(IF(ISBLANK('Trust - Frontsheet'!F9),\"\",'Trust - Frontsheet'!F9)))","v":""}]
[{"$f":"IF('Trust - Frontsheet'!D100=0,\"\",IF('Trust - Frontsheet'!D100=\"\",\"\",'Trust - Frontsheet'!D100))","v":""},{"$f":"IF(ISBLANK('Trust - Frontsheet'!E100),\"\",'Trust - Frontsheet'!E100)","v":""},{"$f":"IF(ISBLANK('Trust - Frontsheet'!F100),\"\",'Trust - Frontsheet'!F100)","v":""},{"$f":"IF(ISBLANK('Trust - Frontsheet'!G100),\"\",'Trust - Frontsheet'!G100)","v":""},{"$f":"IF(ISBLANK('Trust - Frontsheet'!H100),\"\",'Trust - Frontsheet'!H100)","v":""},{"$f":"'Trust - Frontsheet'!I100","v":0},{"$f":"'Trust - Frontsheet'!J100","v":0},{"$f":"'Trust - Frontsheet'!K100","v":0},{"$f":"'Trust - Frontsheet'!L100","v":0},{"$f":"'Trust - Frontsheet'!M100","v":0},{"$f":"'Trust - Frontsheet'!N100","v":0},{"$f":"'Trust - Frontsheet'!O100","v":0},{"$f":"'Trust - Frontsheet'!P100","v":0},{"$f":"IF('Trust - Frontsheet'!Q100=\"\",0,('Trust - Frontsheet'!Q100))","v":0},{"$f":"IF('Trust - Frontsheet'!R100=\"\",0,('Trust - Frontsheet'!R100))","v":0},{"$f":"IF('Trust - Frontsheet'!S100=\"\",0,('Trust - Frontsheet'!S100))","v":0},{"$f":"IF('Trust - Frontsheet'!T100=\"\",0,('Trust - Frontsheet'!T100))","v":0},{"$f":"'Trust - Frontsheet'!U100","v":0},{"$f":"IF('Trust - Frontsheet'!V100=\"\",0,('Trust - Frontsheet'!V100))","v":0},{"$f":"IF('Trust - Frontsheet'!W100=\"\",0,('Trust - Frontsheet'!W100))","v":0},{"$f":"IF('Trust - Frontsheet'!X100=\"\",0,('Trust - Frontsheet'!X100))","v":0},{"$f":"IF(A88=\"\",\"\",(IF(ISBLANK('Trust - Frontsheet'!F9),\"\",'Trust - Frontsheet'!F9)))","v":""}]
[{"$f":"IF('Trust - Frontsheet'!D101=0,\"\",IF('Trust - Frontsheet'!D101=\"\",\"\",'Trust - Frontsheet'!D101))","v":""},{"$f":"IF(ISBLANK('Trust - Frontsheet'!E101),\"\",'Trust - Frontsheet'!E101)","v":""},{"$f":"IF(ISBLANK('Trust - Frontsheet'!F101),\"\",'Trust - Frontsheet'!F101)","v":""},{"$f":"IF(ISBLANK('Trust - Frontsheet'!G101),\"\",'Trust - Frontsheet'!G101)","v":""},{"$f":"IF(ISBLANK('Trust - Frontsheet'!H101),\"\",'Trust - Frontsheet'!H101)","v":""},{"$f":"'Trust - Frontsheet'!I101","v":0},{"$f":"'Trust - Frontsheet'!J101","v":0},{"$f":"'Trust - Frontsheet'!K101","v":0},{"$f":"'Trust - Frontsheet'!L101","v":0},{"$f":"'Trust - Frontsheet'!M101","v":0},{"$f":"'Trust - Frontsheet'!N101","v":0},{"$f":"'Trust - Frontsheet'!O101","v":0},{"$f":"'Trust - Frontsheet'!P101","v":0},{"$f":"IF('Trust - Frontsheet'!Q101=\"\",0,('Trust - Frontsheet'!Q101))","v":0},{"$f":"IF('Trust - Frontsheet'!R101=\"\",0,('Trust - Frontsheet'!R101))","v":0},{"$f":"IF('Trust - Frontsheet'!S101=\"\",0,('Trust - Frontsheet'!S101))","v":0},{"$f":"IF('Trust - Frontsheet'!T101=\"\",0,('Trust - Frontsheet'!T101))","v":0},{"$f":"'Trust - Frontsheet'!U101","v":0},{"$f":"IF('Trust - Frontsheet'!V101=\"\",0,('Trust - Frontsheet'!V101))","v":0},{"$f":"IF('Trust - Frontsheet'!W101=\"\",0,('Trust - Frontsheet'!W101))","v":0},{"$f":"IF('Trust - Frontsheet'!X101=\"\",0,('Trust - Frontsheet'!X101))","v":0},{"$f":"IF(A89=\"\",\"\",(IF(ISBLANK('Trust - Frontsheet'!F9),\"\",'Trust - Frontsheet'!F9)))","v":""}]
[{"$f":"IF('Trust - Frontsheet'!D102=0,\"\",IF('Trust - Frontsheet'!D102=\"\",\"\",'Trust - Frontsheet'!D102))","v":""},{"$f":"IF(ISBLANK('Trust - Frontsheet'!E102),\"\",'Trust - Frontsheet'!E102)","v":""},{"$f":"IF(ISBLANK('Trust - Frontsheet'!F102),\"\",'Trust - Frontsheet'!F102)","v":""},{"$f":"IF(ISBLANK('Trust - Frontsheet'!G102),\"\",'Trust - Frontsheet'!G102)","v":""},{"$f":"IF(ISBLANK('Trust - Frontsheet'!H102),\"\",'Trust - Frontsheet'!H102)","v":""},{"$f":"'Trust - Frontsheet'!I102","v":0},{"$f":"'Trust - Frontsheet'!J102","v":0},{"$f":"'Trust - Frontsheet'!K102","v":0},{"$f":"'Trust - Frontsheet'!L102","v":0},{"$f":"'Trust - Frontsheet'!M102","v":0},{"$f":"'Trust - Frontsheet'!N102","v":0},{"$f":"'Trust - Frontsheet'!O102","v":0},{"$f":"'Trust - Frontsheet'!P102","v":0},{"$f":"IF('Trust - Frontsheet'!Q102=\"\",0,('Trust - Frontsheet'!Q102))","v":0},{"$f":"IF('Trust - Frontsheet'!R102=\"\",0,('Trust - Frontsheet'!R102))","v":0},{"$f":"IF('Trust - Frontsheet'!S102=\"\",0,('Trust - Frontsheet'!S102))","v":0},{"$f":"IF('Trust - Frontsheet'!T102=\"\",0,('Trust - Frontsheet'!T102))","v":0},{"$f":"'Trust - Frontsheet'!U102","v":0},{"$f":"IF('Trust - Frontsheet'!V102=\"\",0,('Trust - Frontsheet'!V102))","v":0},{"$f":"IF('Trust - Frontsheet'!W102=\"\",0,('Trust - Frontsheet'!W102))","v":0},{"$f":"IF('Trust - Frontsheet'!X102=\"\",0,('Trust - Frontsheet'!X102))","v":0},{"$f":"IF(A90=\"\",\"\",(IF(ISBLANK('Trust - Frontsheet'!F9),\"\",'Trust - Frontsheet'!F9)))","v":""}]
[{"$f":"IF('Trust - Frontsheet'!D103=0,\"\",IF('Trust - Frontsheet'!D103=\"\",\"\",'Trust - Frontsheet'!D103))","v":""},{"$f":"IF(ISBLANK('Trust - Frontsheet'!E103),\"\",'Trust - Frontsheet'!E103)","v":""},{"$f":"IF(ISBLANK('Trust - Frontsheet'!F103),\"\",'Trust - Frontsheet'!F103)","v":""},{"$f":"IF(ISBLANK('Trust - Frontsheet'!G103),\"\",'Trust - Frontsheet'!G103)","v":""},{"$f":"IF(ISBLANK('Trust - Frontsheet'!H103),\"\",'Trust - Frontsheet'!H103)","v":""},{"$f":"'Trust - Frontsheet'!I103","v":0},{"$f":"'Trust - Frontsheet'!J103","v":0},{"$f":"'Trust - Frontsheet'!K103","v":0},{"$f":"'Trust - Frontsheet'!L103","v":0},{"$f":"'Trust - Frontsheet'!M103","v":0},{"$f":"'Trust - Frontsheet'!N103","v":0},{"$f":"'Trust - Frontsheet'!O103","v":0},{"$f":"'Trust - Frontsheet'!P103","v":0},{"$f":"IF('Trust - Frontsheet'!Q103=\"\",0,('Trust - Frontsheet'!Q103))","v":0},{"$f":"IF('Trust - Frontsheet'!R103=\"\",0,('Trust - Frontsheet'!R103))","v":0},{"$f":"IF('Trust - Frontsheet'!S103=\"\",0,('Trust - Frontsheet'!S103))","v":0},{"$f":"IF('Trust - Frontsheet'!T103=\"\",0,('Trust - Frontsheet'!T103))","v":0},{"$f":"'Trust - Frontsheet'!U103","v":0},{"$f":"IF('Trust - Frontsheet'!V103=\"\",0,('Trust - Frontsheet'!V103))","v":0},{"$f":"IF('Trust - Frontsheet'!W103=\"\",0,('Trust - Frontsheet'!W103))","v":0},{"$f":"IF('Trust - Frontsheet'!X103=\"\",0,('Trust - Frontsheet'!X103))","v":0},{"$f":"IF(A91=\"\",\"\",(IF(ISBLANK('Trust - Frontsheet'!F9),\"\",'Trust - Frontsheet'!F9)))","v":""}]
[{"$f":"IF('Trust - Frontsheet'!D104=0,\"\",IF('Trust - Frontsheet'!D104=\"\",\"\",'Trust - Frontsheet'!D104))","v":""},{"$f":"IF(ISBLANK('Trust - Frontsheet'!E104),\"\",'Trust - Frontsheet'!E104)","v":""},{"$f":"IF(ISBLANK('Trust - Frontsheet'!F104),\"\",'Trust - Frontsheet'!F104)","v":""},{"$f":"IF(ISBLANK('Trust - Frontsheet'!G104),\"\",'Trust - Frontsheet'!G104)","v":""},{"$f":"IF(ISBLANK('Trust - Frontsheet'!H104),\"\",'Trust - Frontsheet'!H104)","v":""},{"$f":"'Trust - Frontsheet'!I104","v":0},{"$f":"'Trust - Frontsheet'!J104","v":0},{"$f":"'Trust - Frontsheet'!K104","v":0},{"$f":"'Trust - Frontsheet'!L104","v":0},{"$f":"'Trust - Frontsheet'!M104","v":0},{"$f":"'Trust - Frontsheet'!N104","v":0},{"$f":"'Trust - Frontsheet'!O104","v":0},{"$f":"'Trust - Frontsheet'!P104","v":0},{"$f":"IF('Trust - Frontsheet'!Q104=\"\",0,('Trust - Frontsheet'!Q104))","v":0},{"$f":"IF('Trust - Frontsheet'!R104=\"\",0,('Trust - Frontsheet'!R104))","v":0},{"$f":"IF('Trust - Frontsheet'!S104=\"\",0,('Trust - Frontsheet'!S104))","v":0},{"$f":"IF('Trust - Frontsheet'!T104=\"\",0,('Trust - Frontsheet'!T104))","v":0},{"$f":"'Trust - Frontsheet'!U104","v":0},{"$f":"IF('Trust - Frontsheet'!V104=\"\",0,('Trust - Frontsheet'!V104))","v":0},{"$f":"IF('Trust - Frontsheet'!W104=\"\",0,('Trust - Frontsheet'!W104))","v":0},{"$f":"IF('Trust - Frontsheet'!X104=\"\",0,('Trust - Frontsheet'!X104))","v":0},{"$f":"IF(A92=\"\",\"\",(IF(ISBLANK('Trust - Frontsheet'!F9),\"\",'Trust - Frontsheet'!F9)))","v":""}]
[{"$f":"IF('Trust - Frontsheet'!D105=0,\"\",IF('Trust - Frontsheet'!D105=\"\",\"\",'Trust - Frontsheet'!D105))","v":""},{"$f":"IF(ISBLANK('Trust - Frontsheet'!E105),\"\",'Trust - Frontsheet'!E105)","v":""},{"$f":"IF(ISBLANK('Trust - Frontsheet'!F105),\"\",'Trust - Frontsheet'!F105)","v":""},{"$f":"IF(ISBLANK('Trust - Frontsheet'!G105),\"\",'Trust - Frontsheet'!G105)","v":""},{"$f":"IF(ISBLANK('Trust - Frontsheet'!H105),\"\",'Trust - Frontsheet'!H105)","v":""},{"$f":"'Trust - Frontsheet'!I105","v":0},{"$f":"'Trust - Frontsheet'!J105","v":0},{"$f":"'Trust - Frontsheet'!K105","v":0},{"$f":"'Trust - Frontsheet'!L105","v":0},{"$f":"'Trust - Frontsheet'!M105","v":0},{"$f":"'Trust - Frontsheet'!N105","v":0},{"$f":"'Trust - Frontsheet'!O105","v":0},{"$f":"'Trust - Frontsheet'!P105","v":0},{"$f":"IF('Trust - Frontsheet'!Q105=\"\",0,('Trust - Frontsheet'!Q105))","v":0},{"$f":"IF('Trust - Frontsheet'!R105=\"\",0,('Trust - Frontsheet'!R105))","v":0},{"$f":"IF('Trust - Frontsheet'!S105=\"\",0,('Trust - Frontsheet'!S105))","v":0},{"$f":"IF('Trust - Frontsheet'!T105=\"\",0,('Trust - Frontsheet'!T105))","v":0},{"$f":"'Trust - Frontsheet'!U105","v":0},{"$f":"IF('Trust - Frontsheet'!V105=\"\",0,('Trust - Frontsheet'!V105))","v":0},{"$f":"IF('Trust - Frontsheet'!W105=\"\",0,('Trust - Frontsheet'!W105))","v":0},{"$f":"IF('Trust - Frontsheet'!X105=\"\",0,('Trust - Frontsheet'!X105))","v":0},{"$f":"IF(A93=\"\",\"\",(IF(ISBLANK('Trust - Frontsheet'!F9),\"\",'Trust - Frontsheet'!F9)))","v":""}]
[{"$f":"IF('Trust - Frontsheet'!D106=0,\"\",IF('Trust - Frontsheet'!D106=\"\",\"\",'Trust - Frontsheet'!D106))","v":""},{"$f":"IF(ISBLANK('Trust - Frontsheet'!E106),\"\",'Trust - Frontsheet'!E106)","v":""},{"$f":"IF(ISBLANK('Trust - Frontsheet'!F106),\"\",'Trust - Frontsheet'!F106)","v":""},{"$f":"IF(ISBLANK('Trust - Frontsheet'!G106),\"\",'Trust - Frontsheet'!G106)","v":""},{"$f":"IF(ISBLANK('Trust - Frontsheet'!H106),\"\",'Trust - Frontsheet'!H106)","v":""},{"$f":"'Trust - Frontsheet'!I106","v":0},{"$f":"'Trust - Frontsheet'!J106","v":0},{"$f":"'Trust - Frontsheet'!K106","v":0},{"$f":"'Trust - Frontsheet'!L106","v":0},{"$f":"'Trust - Frontsheet'!M106","v":0},{"$f":"'Trust - Frontsheet'!N106","v":0},{"$f":"'Trust - Frontsheet'!O106","v":0},{"$f":"'Trust - Frontsheet'!P106","v":0},{"$f":"IF('Trust - Frontsheet'!Q106=\"\",0,('Trust - Frontsheet'!Q106))","v":0},{"$f":"IF('Trust - Frontsheet'!R106=\"\",0,('Trust - Frontsheet'!R106))","v":0},{"$f":"IF('Trust - Frontsheet'!S106=\"\",0,('Trust - Frontsheet'!S106))","v":0},{"$f":"IF('Trust - Frontsheet'!T106=\"\",0,('Trust - Frontsheet'!T106))","v":0},{"$f":"'Trust - Frontsheet'!U106","v":0},{"$f":"IF('Trust - Frontsheet'!V106=\"\",0,('Trust - Frontsheet'!V106))","v":0},{"$f":"IF('Trust - Frontsheet'!W106=\"\",0,('Trust - Frontsheet'!W106))","v":0},{"$f":"IF('Trust - Frontsheet'!X106=\"\",0,('Trust - Frontsheet'!X106))","v":0},{"$f":"IF(A94=\"\",\"\",(IF(ISBLANK('Trust - Frontsheet'!F9),\"\",'Trust - Frontsheet'!F9)))","v":""}]
[{"$f":"IF('Trust - Frontsheet'!D107=0,\"\",IF('Trust - Frontsheet'!D107=\"\",\"\",'Trust - Frontsheet'!D107))","v":""},{"$f":"IF(ISBLANK('Trust - Frontsheet'!E107),\"\",'Trust - Frontsheet'!E107)","v":""},{"$f":"IF(ISBLANK('Trust - Frontsheet'!F107),\"\",'Trust - Frontsheet'!F107)","v":""},{"$f":"IF(ISBLANK('Trust - Frontsheet'!G107),\"\",'Trust - Frontsheet'!G107)","v":""},{"$f":"IF(ISBLANK('Trust - Frontsheet'!H107),\"\",'Trust - Frontsheet'!H107)","v":""},{"$f":"'Trust - Frontsheet'!I107","v":0},{"$f":"'Trust - Frontsheet'!J107","v":0},{"$f":"'Trust - Frontsheet'!K107","v":0},{"$f":"'Trust - Frontsheet'!L107","v":0},{"$f":"'Trust - Frontsheet'!M107","v":0},{"$f":"'Trust - Frontsheet'!N107","v":0},{"$f":"'Trust - Frontsheet'!O107","v":0},{"$f":"'Trust - Frontsheet'!P107","v":0},{"$f":"IF('Trust - Frontsheet'!Q107=\"\",0,('Trust - Frontsheet'!Q107))","v":0},{"$f":"IF('Trust - Frontsheet'!R107=\"\",0,('Trust - Frontsheet'!R107))","v":0},{"$f":"IF('Trust - Frontsheet'!S107=\"\",0,('Trust - Frontsheet'!S107))","v":0},{"$f":"IF('Trust - Frontsheet'!T107=\"\",0,('Trust - Frontsheet'!T107))","v":0},{"$f":"'Trust - Frontsheet'!U107","v":0},{"$f":"IF('Trust - Frontsheet'!V107=\"\",0,('Trust - Frontsheet'!V107))","v":0},{"$f":"IF('Trust - Frontsheet'!W107=\"\",0,('Trust - Frontsheet'!W107))","v":0},{"$f":"IF('Trust - Frontsheet'!X107=\"\",0,('Trust - Frontsheet'!X107))","v":0},{"$f":"IF(A95=\"\",\"\",(IF(ISBLANK('Trust - Frontsheet'!F9),\"\",'Trust - Frontsheet'!F9)))","v":""}]
[{"$f":"IF('Trust - Frontsheet'!D108=0,\"\",IF('Trust - Frontsheet'!D108=\"\",\"\",'Trust - Frontsheet'!D108))","v":""},{"$f":"IF(ISBLANK('Trust - Frontsheet'!E108),\"\",'Trust - Frontsheet'!E108)","v":""},{"$f":"IF(ISBLANK('Trust - Frontsheet'!F108),\"\",'Trust - Frontsheet'!F108)","v":""},{"$f":"IF(ISBLANK('Trust - Frontsheet'!G108),\"\",'Trust - Frontsheet'!G108)","v":""},{"$f":"IF(ISBLANK('Trust - Frontsheet'!H108),\"\",'Trust - Frontsheet'!H108)","v":""},{"$f":"'Trust - Frontsheet'!I108","v":0},{"$f":"'Trust - Frontsheet'!J108","v":0},{"$f":"'Trust - Frontsheet'!K108","v":0},{"$f":"'Trust - Frontsheet'!L108","v":0},{"$f":"'Trust - Frontsheet'!M108","v":0},{"$f":"'Trust - Frontsheet'!N108","v":0},{"$f":"'Trust - Frontsheet'!O108","v":0},{"$f":"'Trust - Frontsheet'!P108","v":0},{"$f":"IF('Trust - Frontsheet'!Q108=\"\",0,('Trust - Frontsheet'!Q108))","v":0},{"$f":"IF('Trust - Frontsheet'!R108=\"\",0,('Trust - Frontsheet'!R108))","v":0},{"$f":"IF('Trust - Frontsheet'!S108=\"\",0,('Trust - Frontsheet'!S108))","v":0},{"$f":"IF('Trust - Frontsheet'!T108=\"\",0,('Trust - Frontsheet'!T108))","v":0},{"$f":"'Trust - Frontsheet'!U108","v":0},{"$f":"IF('Trust - Frontsheet'!V108=\"\",0,('Trust - Frontsheet'!V108))","v":0},{"$f":"IF('Trust - Frontsheet'!W108=\"\",0,('Trust - Frontsheet'!W108))","v":0},{"$f":"IF('Trust - Frontsheet'!X108=\"\",0,('Trust - Frontsheet'!X108))","v":0},{"$f":"IF(A96=\"\",\"\",(IF(ISBLANK('Trust - Frontsheet'!F9),\"\",'Trust - Frontsheet'!F9)))","v":""}]
[{"$f":"IF('Trust - Frontsheet'!D109=0,\"\",IF('Trust - Frontsheet'!D109=\"\",\"\",'Trust - Frontsheet'!D109))","v":""},{"$f":"IF(ISBLANK('Trust - Frontsheet'!E109),\"\",'Trust - Frontsheet'!E109)","v":""},{"$f":"IF(ISBLANK('Trust - Frontsheet'!F109),\"\",'Trust - Frontsheet'!F109)","v":""},{"$f":"IF(ISBLANK('Trust - Frontsheet'!G109),\"\",'Trust - Frontsheet'!G109)","v":""},{"$f":"IF(ISBLANK('Trust - Frontsheet'!H109),\"\",'Trust - Frontsheet'!H109)","v":""},{"$f":"'Trust - Frontsheet'!I109","v":0},{"$f":"'Trust - Frontsheet'!J109","v":0},{"$f":"'Trust - Frontsheet'!K109","v":0},{"$f":"'Trust - Frontsheet'!L109","v":0},{"$f":"'Trust - Frontsheet'!M109","v":0},{"$f":"'Trust - Frontsheet'!N109","v":0},{"$f":"'Trust - Frontsheet'!O109","v":0},{"$f":"'Trust - Frontsheet'!P109","v":0},{"$f":"IF('Trust - Frontsheet'!Q109=\"\",0,('Trust - Frontsheet'!Q109))","v":0},{"$f":"IF('Trust - Frontsheet'!R109=\"\",0,('Trust - Frontsheet'!R109))","v":0},{"$f":"IF('Trust - Frontsheet'!S109=\"\",0,('Trust - Frontsheet'!S109))","v":0},{"$f":"IF('Trust - Frontsheet'!T109=\"\",0,('Trust - Frontsheet'!T109))","v":0},{"$f":"'Trust - Frontsheet'!U109","v":0},{"$f":"IF('Trust - Frontsheet'!V109=\"\",0,('Trust - Frontsheet'!V109))","v":0},{"$f":"IF('Trust - Frontsheet'!W109=\"\",0,('Trust - Frontsheet'!W109))","v":0},{"$f":"IF('Trust - Frontsheet'!X109=\"\",0,('Trust - Frontsheet'!X109))","v":0},{"$f":"IF(A97=\"\",\"\",(IF(ISBLANK('Trust - Frontsheet'!F9),\"\",'Trust - Frontsheet'!F9)))","v":""}]
[{"$f":"IF('Trust - Frontsheet'!D110=0,\"\",IF('Trust - Frontsheet'!D110=\"\",\"\",'Trust - Frontsheet'!D110))","v":""},{"$f":"IF(ISBLANK('Trust - Frontsheet'!E110),\"\",'Trust - Frontsheet'!E110)","v":""},{"$f":"IF(ISBLANK('Trust - Frontsheet'!F110),\"\",'Trust - Frontsheet'!F110)","v":""},{"$f":"IF(ISBLANK('Trust - Frontsheet'!G110),\"\",'Trust - Frontsheet'!G110)","v":""},{"$f":"IF(ISBLANK('Trust - Frontsheet'!H110),\"\",'Trust - Frontsheet'!H110)","v":""},{"$f":"'Trust - Frontsheet'!I110","v":0},{"$f":"'Trust - Frontsheet'!J110","v":0},{"$f":"'Trust - Frontsheet'!K110","v":0},{"$f":"'Trust - Frontsheet'!L110","v":0},{"$f":"'Trust - Frontsheet'!M110","v":0},{"$f":"'Trust - Frontsheet'!N110","v":0},{"$f":"'Trust - Frontsheet'!O110","v":0},{"$f":"'Trust - Frontsheet'!P110","v":0},{"$f":"IF('Trust - Frontsheet'!Q110=\"\",0,('Trust - Frontsheet'!Q110))","v":0},{"$f":"IF('Trust - Frontsheet'!R110=\"\",0,('Trust - Frontsheet'!R110))","v":0},{"$f":"IF('Trust - Frontsheet'!S110=\"\",0,('Trust - Frontsheet'!S110))","v":0},{"$f":"IF('Trust - Frontsheet'!T110=\"\",0,('Trust - Frontsheet'!T110))","v":0},{"$f":"'Trust - Frontsheet'!U110","v":0},{"$f":"IF('Trust - Frontsheet'!V110=\"\",0,('Trust - Frontsheet'!V110))","v":0},{"$f":"IF('Trust - Frontsheet'!W110=\"\",0,('Trust - Frontsheet'!W110))","v":0},{"$f":"IF('Trust - Frontsheet'!X110=\"\",0,('Trust - Frontsheet'!X110))","v":0},{"$f":"IF(A98=\"\",\"\",(IF(ISBLANK('Trust - Frontsheet'!F9),\"\",'Trust - Frontsheet'!F9)))","v":""}]
[{"$f":"IF('Trust - Frontsheet'!D111=0,\"\",IF('Trust - Frontsheet'!D111=\"\",\"\",'Trust - Frontsheet'!D111))","v":""},{"$f":"IF(ISBLANK('Trust - Frontsheet'!E111),\"\",'Trust - Frontsheet'!E111)","v":""},{"$f":"IF(ISBLANK('Trust - Frontsheet'!F111),\"\",'Trust - Frontsheet'!F111)","v":""},{"$f":"IF(ISBLANK('Trust - Frontsheet'!G111),\"\",'Trust - Frontsheet'!G111)","v":""},{"$f":"IF(ISBLANK('Trust - Frontsheet'!H111),\"\",'Trust - Frontsheet'!H111)","v":""},{"$f":"'Trust - Frontsheet'!I111","v":0},{"$f":"'Trust - Frontsheet'!J111","v":0},{"$f":"'Trust - Frontsheet'!K111","v":0},{"$f":"'Trust - Frontsheet'!L111","v":0},{"$f":"'Trust - Frontsheet'!M111","v":0},{"$f":"'Trust - Frontsheet'!N111","v":0},{"$f":"'Trust - Frontsheet'!O111","v":0},{"$f":"'Trust - Frontsheet'!P111","v":0},{"$f":"IF('Trust - Frontsheet'!Q111=\"\",0,('Trust - Frontsheet'!Q111))","v":0},{"$f":"IF('Trust - Frontsheet'!R111=\"\",0,('Trust - Frontsheet'!R111))","v":0},{"$f":"IF('Trust - Frontsheet'!S111=\"\",0,('Trust - Frontsheet'!S111))","v":0},{"$f":"IF('Trust - Frontsheet'!T111=\"\",0,('Trust - Frontsheet'!T111))","v":0},{"$f":"'Trust - Frontsheet'!U111","v":0},{"$f":"IF('Trust - Frontsheet'!V111=\"\",0,('Trust - Frontsheet'!V111))","v":0},{"$f":"IF('Trust - Frontsheet'!W111=\"\",0,('Trust - Frontsheet'!W111))","v":0},{"$f":"IF('Trust - Frontsheet'!X111=\"\",0,('Trust - Frontsheet'!X111))","v":0},{"$f":"IF(A99=\"\",\"\",(IF(ISBLANK('Trust - Frontsheet'!F9),\"\",'Trust - Frontsheet'!F9)))","v":""}]
[{"$f":"IF('Trust - Frontsheet'!D112=0,\"\",IF('Trust - Frontsheet'!D112=\"\",\"\",'Trust - Frontsheet'!D112))","v":""},{"$f":"IF(ISBLANK('Trust - Frontsheet'!E112),\"\",'Trust - Frontsheet'!E112)","v":""},{"$f":"IF(ISBLANK('Trust - Frontsheet'!F112),\"\",'Trust - Frontsheet'!F112)","v":""},{"$f":"IF(ISBLANK('Trust - Frontsheet'!G112),\"\",'Trust - Frontsheet'!G112)","v":""},{"$f":"IF(ISBLANK('Trust - Frontsheet'!H112),\"\",'Trust - Frontsheet'!H112)","v":""},{"$f":"'Trust - Frontsheet'!I112","v":0},{"$f":"'Trust - Frontsheet'!J112","v":0},{"$f":"'Trust - Frontsheet'!K112","v":0},{"$f":"'Trust - Frontsheet'!L112","v":0},{"$f":"'Trust - Frontsheet'!M112","v":0},{"$f":"'Trust - Frontsheet'!N112","v":0},{"$f":"'Trust - Frontsheet'!O112","v":0},{"$f":"'Trust - Frontsheet'!P112","v":0},{"$f":"IF('Trust - Frontsheet'!Q112=\"\",0,('Trust - Frontsheet'!Q112))","v":0},{"$f":"IF('Trust - Frontsheet'!R112=\"\",0,('Trust - Frontsheet'!R112))","v":0},{"$f":"IF('Trust - Frontsheet'!S112=\"\",0,('Trust - Frontsheet'!S112))","v":0},{"$f":"IF('Trust - Frontsheet'!T112=\"\",0,('Trust - Frontsheet'!T112))","v":0},{"$f":"'Trust - Frontsheet'!U112","v":0},{"$f":"IF('Trust - Frontsheet'!V112=\"\",0,('Trust - Frontsheet'!V112))","v":0},{"$f":"IF('Trust - Frontsheet'!W112=\"\",0,('Trust - Frontsheet'!W112))","v":0},{"$f":"IF('Trust - Frontsheet'!X112=\"\",0,('Trust - Frontsheet'!X112))","v":0},{"$f":"IF(A100=\"\",\"\",(IF(ISBLANK('Trust - Frontsheet'!F9),\"\",'Trust - Frontsheet'!F9)))","v":""}]
[{"$f":"IF('Trust - Frontsheet'!D113=0,\"\",IF('Trust - Frontsheet'!D113=\"\",\"\",'Trust - Frontsheet'!D113))","v":""},{"$f":"IF(ISBLANK('Trust - Frontsheet'!E113),\"\",'Trust - Frontsheet'!E113)","v":""},{"$f":"IF(ISBLANK('Trust - Frontsheet'!F113),\"\",'Trust - Frontsheet'!F113)","v":""},{"$f":"IF(ISBLANK('Trust - Frontsheet'!G113),\"\",'Trust - Frontsheet'!G113)","v":""},{"$f":"IF(ISBLANK('Trust - Frontsheet'!H113),\"\",'Trust - Frontsheet'!H113)","v":""},{"$f":"'Trust - Frontsheet'!I113","v":0},{"$f":"'Trust - Frontsheet'!J113","v":0},{"$f":"'Trust - Frontsheet'!K113","v":0},{"$f":"'Trust - Frontsheet'!L113","v":0},{"$f":"'Trust - Frontsheet'!M113","v":0},{"$f":"'Trust - Frontsheet'!N113","v":0},{"$f":"'Trust - Frontsheet'!O113","v":0},{"$f":"'Trust - Frontsheet'!P113","v":0},{"$f":"IF('Trust - Frontsheet'!Q113=\"\",0,('Trust - Frontsheet'!Q113))","v":0},{"$f":"IF('Trust - Frontsheet'!R113=\"\",0,('Trust - Frontsheet'!R113))","v":0},{"$f":"IF('Trust - Frontsheet'!S113=\"\",0,('Trust - Frontsheet'!S113))","v":0},{"$f":"IF('Trust - Frontsheet'!T113=\"\",0,('Trust - Frontsheet'!T113))","v":0},{"$f":"'Trust - Frontsheet'!U113","v":0},{"$f":"IF('Trust - Frontsheet'!V113=\"\",0,('Trust - Frontsheet'!V113))","v":0},{"$f":"IF('Trust - Frontsheet'!W113=\"\",0,('Trust - Frontsheet'!W113))","v":0},{"$f":"IF('Trust - Frontsheet'!X113=\"\",0,('Trust - Frontsheet'!X113))","v":0},{"$f":"IF(A101=\"\",\"\",(IF(ISBLANK('Trust - Frontsheet'!F9),\"\",'Trust - Frontsheet'!F9)))","v":""}]
[{"$f":"IF('Trust - Frontsheet'!D114=0,\"\",IF('Trust - Frontsheet'!D114=\"\",\"\",'Trust - Frontsheet'!D114))","v":""},{"$f":"IF(ISBLANK('Trust - Frontsheet'!E114),\"\",'Trust - Frontsheet'!E114)","v":""},{"$f":"IF(ISBLANK('Trust - Frontsheet'!F114),\"\",'Trust - Frontsheet'!F114)","v":""},{"$f":"IF(ISBLANK('Trust - Frontsheet'!G114),\"\",'Trust - Frontsheet'!G114)","v":""},{"$f":"IF(ISBLANK('Trust - Frontsheet'!H114),\"\",'Trust - Frontsheet'!H114)","v":""},{"$f":"'Trust - Frontsheet'!I114","v":0},{"$f":"'Trust - Frontsheet'!J114","v":0},{"$f":"'Trust - Frontsheet'!K114","v":0},{"$f":"'Trust - Frontsheet'!L114","v":0},{"$f":"'Trust - Frontsheet'!M114","v":0},{"$f":"'Trust - Frontsheet'!N114","v":0},{"$f":"'Trust - Frontsheet'!O114","v":0},{"$f":"'Trust - Frontsheet'!P114","v":0},{"$f":"IF('Trust - Frontsheet'!Q114=\"\",0,('Trust - Frontsheet'!Q114))","v":0},{"$f":"IF('Trust - Frontsheet'!R114=\"\",0,('Trust - Frontsheet'!R114))","v":0},{"$f":"IF('Trust - Frontsheet'!S114=\"\",0,('Trust - Frontsheet'!S114))","v":0},{"$f":"IF('Trust - Frontsheet'!T114=\"\",0,('Trust - Frontsheet'!T114))","v":0},{"$f":"'Trust - Frontsheet'!U114","v":0},{"$f":"IF('Trust - Frontsheet'!V114=\"\",0,('Trust - Frontsheet'!V114))","v":0},{"$f":"IF('Trust - Frontsheet'!W114=\"\",0,('Trust - Frontsheet'!W114))","v":0},{"$f":"IF('Trust - Frontsheet'!X114=\"\",0,('Trust - Frontsheet'!X114))","v":0},{"$f":"IF(A102=\"\",\"\",(IF(ISBLANK('Trust - Frontsheet'!F9),\"\",'Trust - Frontsheet'!F9)))","v":""}]
[{"$f":"IF('Trust - Frontsheet'!D115=0,\"\",IF('Trust - Frontsheet'!D115=\"\",\"\",'Trust - Frontsheet'!D115))","v":""},{"$f":"IF(ISBLANK('Trust - Frontsheet'!E115),\"\",'Trust - Frontsheet'!E115)","v":""},{"$f":"IF(ISBLANK('Trust - Frontsheet'!F115),\"\",'Trust - Frontsheet'!F115)","v":""},{"$f":"IF(ISBLANK('Trust - Frontsheet'!G115),\"\",'Trust - Frontsheet'!G115)","v":""},{"$f":"IF(ISBLANK('Trust - Frontsheet'!H115),\"\",'Trust - Frontsheet'!H115)","v":""},{"$f":"'Trust - Frontsheet'!I115","v":0},{"$f":"'Trust - Frontsheet'!J115","v":0},{"$f":"'Trust - Frontsheet'!K115","v":0},{"$f":"'Trust - Frontsheet'!L115","v":0},{"$f":"'Trust - Frontsheet'!M115","v":0},{"$f":"'Trust - Frontsheet'!N115","v":0},{"$f":"'Trust - Frontsheet'!O115","v":0},{"$f":"'Trust - Frontsheet'!P115","v":0},{"$f":"IF('Trust - Frontsheet'!Q115=\"\",0,('Trust - Frontsheet'!Q115))","v":0},{"$f":"IF('Trust - Frontsheet'!R115=\"\",0,('Trust - Frontsheet'!R115))","v":0},{"$f":"IF('Trust - Frontsheet'!S115=\"\",0,('Trust - Frontsheet'!S115))","v":0},{"$f":"IF('Trust - Frontsheet'!T115=\"\",0,('Trust - Frontsheet'!T115))","v":0},{"$f":"'Trust - Frontsheet'!U115","v":0},{"$f":"IF('Trust - Frontsheet'!V115=\"\",0,('Trust - Frontsheet'!V115))","v":0},{"$f":"IF('Trust - Frontsheet'!W115=\"\",0,('Trust - Frontsheet'!W115))","v":0},{"$f":"IF('Trust - Frontsheet'!X115=\"\",0,('Trust - Frontsheet'!X115))","v":0},{"$f":"IF(A103=\"\",\"\",(IF(ISBLANK('Trust - Frontsheet'!F9),\"\",'Trust - Frontsheet'!F9)))","v":""}]
[{"$f":"IF('Trust - Frontsheet'!D116=0,\"\",IF('Trust - Frontsheet'!D116=\"\",\"\",'Trust - Frontsheet'!D116))","v":""},{"$f":"IF(ISBLANK('Trust - Frontsheet'!E116),\"\",'Trust - Frontsheet'!E116)","v":""},{"$f":"IF(ISBLANK('Trust - Frontsheet'!F116),\"\",'Trust - Frontsheet'!F116)","v":""},{"$f":"IF(ISBLANK('Trust - Frontsheet'!G116),\"\",'Trust - Frontsheet'!G116)","v":""},{"$f":"IF(ISBLANK('Trust - Frontsheet'!H116),\"\",'Trust - Frontsheet'!H116)","v":""},{"$f":"'Trust - Frontsheet'!I116","v":0},{"$f":"'Trust - Frontsheet'!J116","v":0},{"$f":"'Trust - Frontsheet'!K116","v":0},{"$f":"'Trust - Frontsheet'!L116","v":0},{"$f":"'Trust - Frontsheet'!M116","v":0},{"$f":"'Trust - Frontsheet'!N116","v":0},{"$f":"'Trust - Frontsheet'!O116","v":0},{"$f":"'Trust - Frontsheet'!P116","v":0},{"$f":"IF('Trust - Frontsheet'!Q116=\"\",0,('Trust - Frontsheet'!Q116))","v":0},{"$f":"IF('Trust - Frontsheet'!R116=\"\",0,('Trust - Frontsheet'!R116))","v":0},{"$f":"IF('Trust - Frontsheet'!S116=\"\",0,('Trust - Frontsheet'!S116))","v":0},{"$f":"IF('Trust - Frontsheet'!T116=\"\",0,('Trust - Frontsheet'!T116))","v":0},{"$f":"'Trust - Frontsheet'!U116","v":0},{"$f":"IF('Trust - Frontsheet'!V116=\"\",0,('Trust - Frontsheet'!V116))","v":0},{"$f":"IF('Trust - Frontsheet'!W116=\"\",0,('Trust - Frontsheet'!W116))","v":0},{"$f":"IF('Trust - Frontsheet'!X116=\"\",0,('Trust - Frontsheet'!X116))","v":0},{"$f":"IF(A104=\"\",\"\",(IF(ISBLANK('Trust - Frontsheet'!F9),\"\",'Trust - Frontsheet'!F9)))","v":""}]
[{"$f":"IF('Trust - Frontsheet'!D117=0,\"\",IF('Trust - Frontsheet'!D117=\"\",\"\",'Trust - Frontsheet'!D117))","v":""},{"$f":"IF(ISBLANK('Trust - Frontsheet'!E117),\"\",'Trust - Frontsheet'!E117)","v":""},{"$f":"IF(ISBLANK('Trust - Frontsheet'!F117),\"\",'Trust - Frontsheet'!F117)","v":""},{"$f":"IF(ISBLANK('Trust - Frontsheet'!G117),\"\",'Trust - Frontsheet'!G117)","v":""},{"$f":"IF(ISBLANK('Trust - Frontsheet'!H117),\"\",'Trust - Frontsheet'!H117)","v":""},{"$f":"'Trust - Frontsheet'!I117","v":0},{"$f":"'Trust - Frontsheet'!J117","v":0},{"$f":"'Trust - Frontsheet'!K117","v":0},{"$f":"'Trust - Frontsheet'!L117","v":0},{"$f":"'Trust - Frontsheet'!M117","v":0},{"$f":"'Trust - Frontsheet'!N117","v":0},{"$f":"'Trust - Frontsheet'!O117","v":0},{"$f":"'Trust - Frontsheet'!P117","v":0},{"$f":"IF('Trust - Frontsheet'!Q117=\"\",0,('Trust - Frontsheet'!Q117))","v":0},{"$f":"IF('Trust - Frontsheet'!R117=\"\",0,('Trust - Frontsheet'!R117))","v":0},{"$f":"IF('Trust - Frontsheet'!S117=\"\",0,('Trust - Frontsheet'!S117))","v":0},{"$f":"IF('Trust - Frontsheet'!T117=\"\",0,('Trust - Frontsheet'!T117))","v":0},{"$f":"'Trust - Frontsheet'!U117","v":0},{"$f":"IF('Trust - Frontsheet'!V117=\"\",0,('Trust - Frontsheet'!V117))","v":0},{"$f":"IF('Trust - Frontsheet'!W117=\"\",0,('Trust - Frontsheet'!W117))","v":0},{"$f":"IF('Trust - Frontsheet'!X117=\"\",0,('Trust - Frontsheet'!X117))","v":0},{"$f":"IF(A105=\"\",\"\",(IF(ISBLANK('Trust - Frontsheet'!F9),\"\",'Trust - Frontsheet'!F9)))","v":""}]
[{"$f":"IF('Trust - Frontsheet'!D118=0,\"\",IF('Trust - Frontsheet'!D118=\"\",\"\",'Trust - Frontsheet'!D118))","v":""},{"$f":"IF(ISBLANK('Trust - Frontsheet'!E118),\"\",'Trust - Frontsheet'!E118)","v":""},{"$f":"IF(ISBLANK('Trust - Frontsheet'!F118),\"\",'Trust - Frontsheet'!F118)","v":""},{"$f":"IF(ISBLANK('Trust - Frontsheet'!G118),\"\",'Trust - Frontsheet'!G118)","v":""},{"$f":"IF(ISBLANK('Trust - Frontsheet'!H118),\"\",'Trust - Frontsheet'!H118)","v":""},{"$f":"'Trust - Frontsheet'!I118","v":0},{"$f":"'Trust - Frontsheet'!J118","v":0},{"$f":"'Trust - Frontsheet'!K118","v":0},{"$f":"'Trust - Frontsheet'!L118","v":0},{"$f":"'Trust - Frontsheet'!M118","v":0},{"$f":"'Trust - Frontsheet'!N118","v":0},{"$f":"'Trust - Frontsheet'!O118","v":0},{"$f":"'Trust - Frontsheet'!P118","v":0},{"$f":"IF('Trust - Frontsheet'!Q118=\"\",0,('Trust - Frontsheet'!Q118))","v":0},{"$f":"IF('Trust - Frontsheet'!R118=\"\",0,('Trust - Frontsheet'!R118))","v":0},{"$f":"IF('Trust - Frontsheet'!S118=\"\",0,('Trust - Frontsheet'!S118))","v":0},{"$f":"IF('Trust - Frontsheet'!T118=\"\",0,('Trust - Frontsheet'!T118))","v":0},{"$f":"'Trust - Frontsheet'!U118","v":0},{"$f":"IF('Trust - Frontsheet'!V118=\"\",0,('Trust - Frontsheet'!V118))","v":0},{"$f":"IF('Trust - Frontsheet'!W118=\"\",0,('Trust - Frontsheet'!W118))","v":0},{"$f":"IF('Trust - Frontsheet'!X118=\"\",0,('Trust - Frontsheet'!X118))","v":0},{"$f":"IF(A106=\"\",\"\",(IF(ISBLANK('Trust - Frontsheet'!F9),\"\",'Trust - Frontsheet'!F9)))","v":""}]
[{"$f":"IF('Trust - Frontsheet'!D119=0,\"\",IF('Trust - Frontsheet'!D119=\"\",\"\",'Trust - Frontsheet'!D119))","v":""},{"$f":"IF(ISBLANK('Trust - Frontsheet'!E119),\"\",'Trust - Frontsheet'!E119)","v":""},{"$f":"IF(ISBLANK('Trust - Frontsheet'!F119),\"\",'Trust - Frontsheet'!F119)","v":""},{"$f":"IF(ISBLANK('Trust - Frontsheet'!G119),\"\",'Trust - Frontsheet'!G119)","v":""},{"$f":"IF(ISBLANK('Trust - Frontsheet'!H119),\"\",'Trust - Frontsheet'!H119)","v":""},{"$f":"'Trust - Frontsheet'!I119","v":0},{"$f":"'Trust - Frontsheet'!J119","v":0},{"$f":"'Trust - Frontsheet'!K119","v":0},{"$f":"'Trust - Frontsheet'!L119","v":0},{"$f":"'Trust - Frontsheet'!M119","v":0},{"$f":"'Trust - Frontsheet'!N119","v":0},{"$f":"'Trust - Frontsheet'!O119","v":0},{"$f":"'Trust - Frontsheet'!P119","v":0},{"$f":"IF('Trust - Frontsheet'!Q119=\"\",0,('Trust - Frontsheet'!Q119))","v":0},{"$f":"IF('Trust - Frontsheet'!R119=\"\",0,('Trust - Frontsheet'!R119))","v":0},{"$f":"IF('Trust - Frontsheet'!S119=\"\",0,('Trust - Frontsheet'!S119))","v":0},{"$f":"IF('Trust - Frontsheet'!T119=\"\",0,('Trust - Frontsheet'!T119))","v":0},{"$f":"'Trust - Frontsheet'!U119","v":0},{"$f":"IF('Trust - Frontsheet'!V119=\"\",0,('Trust - Frontsheet'!V119))","v":0},{"$f":"IF('Trust - Frontsheet'!W119=\"\",0,('Trust - Frontsheet'!W119))","v":0},{"$f":"IF('Trust - Frontsheet'!X119=\"\",0,('Trust - Frontsheet'!X119))","v":0},{"$f":"IF(A107=\"\",\"\",(IF(ISBLANK('Trust - Frontsheet'!F9),\"\",'Trust - Frontsheet'!F9)))","v":""}]
[{"$f":"IF('Trust - Frontsheet'!D120=0,\"\",IF('Trust - Frontsheet'!D120=\"\",\"\",'Trust - Frontsheet'!D120))","v":""},{"$f":"IF(ISBLANK('Trust - Frontsheet'!E120),\"\",'Trust - Frontsheet'!E120)","v":""},{"$f":"IF(ISBLANK('Trust - Frontsheet'!F120),\"\",'Trust - Frontsheet'!F120)","v":""},{"$f":"IF(ISBLANK('Trust - Frontsheet'!G120),\"\",'Trust - Frontsheet'!G120)","v":""},{"$f":"IF(ISBLANK('Trust - Frontsheet'!H120),\"\",'Trust - Frontsheet'!H120)","v":""},{"$f":"'Trust - Frontsheet'!I120","v":0},{"$f":"'Trust - Frontsheet'!J120","v":0},{"$f":"'Trust - Frontsheet'!K120","v":0},{"$f":"'Trust - Frontsheet'!L120","v":0},{"$f":"'Trust - Frontsheet'!M120","v":0},{"$f":"'Trust - Frontsheet'!N120","v":0},{"$f":"'Trust - Frontsheet'!O120","v":0},{"$f":"'Trust - Frontsheet'!P120","v":0},{"$f":"IF('Trust - Frontsheet'!Q120=\"\",0,('Trust - Frontsheet'!Q120))","v":0},{"$f":"IF('Trust - Frontsheet'!R120=\"\",0,('Trust - Frontsheet'!R120))","v":0},{"$f":"IF('Trust - Frontsheet'!S120=\"\",0,('Trust - Frontsheet'!S120))","v":0},{"$f":"IF('Trust - Frontsheet'!T120=\"\",0,('Trust - Frontsheet'!T120))","v":0},{"$f":"'Trust - Frontsheet'!U120","v":0},{"$f":"IF('Trust - Frontsheet'!V120=\"\",0,('Trust - Frontsheet'!V120))","v":0},{"$f":"IF('Trust - Frontsheet'!W120=\"\",0,('Trust - Frontsheet'!W120))","v":0},{"$f":"IF('Trust - Frontsheet'!X120=\"\",0,('Trust - Frontsheet'!X120))","v":0},{"$f":"IF(A108=\"\",\"\",(IF(ISBLANK('Trust - Frontsheet'!F9),\"\",'Trust - Frontsheet'!F9)))","v":""}]
[{"$f":"IF('Trust - Frontsheet'!D121=0,\"\",IF('Trust - Frontsheet'!D121=\"\",\"\",'Trust - Frontsheet'!D121))","v":""},{"$f":"IF(ISBLANK('Trust - Frontsheet'!E121),\"\",'Trust - Frontsheet'!E121)","v":""},{"$f":"IF(ISBLANK('Trust - Frontsheet'!F121),\"\",'Trust - Frontsheet'!F121)","v":""},{"$f":"IF(ISBLANK('Trust - Frontsheet'!G121),\"\",'Trust - Frontsheet'!G121)","v":""},{"$f":"IF(ISBLANK('Trust - Frontsheet'!H121),\"\",'Trust - Frontsheet'!H121)","v":""},{"$f":"'Trust - Frontsheet'!I121","v":0},{"$f":"'Trust - Frontsheet'!J121","v":0},{"$f":"'Trust - Frontsheet'!K121","v":0},{"$f":"'Trust - Frontsheet'!L121","v":0},{"$f":"'Trust - Frontsheet'!M121","v":0},{"$f":"'Trust - Frontsheet'!N121","v":0},{"$f":"'Trust - Frontsheet'!O121","v":0},{"$f":"'Trust - Frontsheet'!P121","v":0},{"$f":"IF('Trust - Frontsheet'!Q121=\"\",0,('Trust - Frontsheet'!Q121))","v":0},{"$f":"IF('Trust - Frontsheet'!R121=\"\",0,('Trust - Frontsheet'!R121))","v":0},{"$f":"IF('Trust - Frontsheet'!S121=\"\",0,('Trust - Frontsheet'!S121))","v":0},{"$f":"IF('Trust - Frontsheet'!T121=\"\",0,('Trust - Frontsheet'!T121))","v":0},{"$f":"'Trust - Frontsheet'!U121","v":0},{"$f":"IF('Trust - Frontsheet'!V121=\"\",0,('Trust - Frontsheet'!V121))","v":0},{"$f":"IF('Trust - Frontsheet'!W121=\"\",0,('Trust - Frontsheet'!W121))","v":0},{"$f":"IF('Trust - Frontsheet'!X121=\"\",0,('Trust - Frontsheet'!X121))","v":0},{"$f":"IF(A109=\"\",\"\",(IF(ISBLANK('Trust - Frontsheet'!F9),\"\",'Trust - Frontsheet'!F9)))","v":""}]
[{"$f":"IF('Trust - Frontsheet'!D122=0,\"\",IF('Trust - Frontsheet'!D122=\"\",\"\",'Trust - Frontsheet'!D122))","v":""},{"$f":"IF(ISBLANK('Trust - Frontsheet'!E122),\"\",'Trust - Frontsheet'!E122)","v":""},{"$f":"IF(ISBLANK('Trust - Frontsheet'!F122),\"\",'Trust - Frontsheet'!F122)","v":""},{"$f":"IF(ISBLANK('Trust - Frontsheet'!G122),\"\",'Trust - Frontsheet'!G122)","v":""},{"$f":"IF(ISBLANK('Trust - Frontsheet'!H122),\"\",'Trust - Frontsheet'!H122)","v":""},{"$f":"'Trust - Frontsheet'!I122","v":0},{"$f":"'Trust - Frontsheet'!J122","v":0},{"$f":"'Trust - Frontsheet'!K122","v":0},{"$f":"'Trust - Frontsheet'!L122","v":0},{"$f":"'Trust - Frontsheet'!M122","v":0},{"$f":"'Trust - Frontsheet'!N122","v":0},{"$f":"'Trust - Frontsheet'!O122","v":0},{"$f":"'Trust - Frontsheet'!P122","v":0},{"$f":"IF('Trust - Frontsheet'!Q122=\"\",0,('Trust - Frontsheet'!Q122))","v":0},{"$f":"IF('Trust - Frontsheet'!R122=\"\",0,('Trust - Frontsheet'!R122))","v":0},{"$f":"IF('Trust - Frontsheet'!S122=\"\",0,('Trust - Frontsheet'!S122))","v":0},{"$f":"IF('Trust - Frontsheet'!T122=\"\",0,('Trust - Frontsheet'!T122))","v":0},{"$f":"'Trust - Frontsheet'!U122","v":0},{"$f":"IF('Trust - Frontsheet'!V122=\"\",0,('Trust - Frontsheet'!V122))","v":0},{"$f":"IF('Trust - Frontsheet'!W122=\"\",0,('Trust - Frontsheet'!W122))","v":0},{"$f":"IF('Trust - Frontsheet'!X122=\"\",0,('Trust - Frontsheet'!X122))","v":0},{"$f":"IF(A110=\"\",\"\",(IF(ISBLANK('Trust - Frontsheet'!F9),\"\",'Trust - Frontsheet'!F9)))","v":""}]
[{"$f":"IF('Trust - Frontsheet'!D123=0,\"\",IF('Trust - Frontsheet'!D123=\"\",\"\",'Trust - Frontsheet'!D123))","v":""},{"$f":"IF(ISBLANK('Trust - Frontsheet'!E123),\"\",'Trust - Frontsheet'!E123)","v":""},{"$f":"IF(ISBLANK('Trust - Frontsheet'!F123),\"\",'Trust - Frontsheet'!F123)","v":""},{"$f":"IF(ISBLANK('Trust - Frontsheet'!G123),\"\",'Trust - Frontsheet'!G123)","v":""},{"$f":"IF(ISBLANK('Trust - Frontsheet'!H123),\"\",'Trust - Frontsheet'!H123)","v":""},{"$f":"'Trust - Frontsheet'!I123","v":0},{"$f":"'Trust - Frontsheet'!J123","v":0},{"$f":"'Trust - Frontsheet'!K123","v":0},{"$f":"'Trust - Frontsheet'!L123","v":0},{"$f":"'Trust - Frontsheet'!M123","v":0},{"$f":"'Trust - Frontsheet'!N123","v":0},{"$f":"'Trust - Frontsheet'!O123","v":0},{"$f":"'Trust - Frontsheet'!P123","v":0},{"$f":"IF('Trust - Frontsheet'!Q123=\"\",0,('Trust - Frontsheet'!Q123))","v":0},{"$f":"IF('Trust - Frontsheet'!R123=\"\",0,('Trust - Frontsheet'!R123))","v":0},{"$f":"IF('Trust - Frontsheet'!S123=\"\",0,('Trust - Frontsheet'!S123))","v":0},{"$f":"IF('Trust - Frontsheet'!T123=\"\",0,('Trust - Frontsheet'!T123))","v":0},{"$f":"'Trust - Frontsheet'!U123","v":0},{"$f":"IF('Trust - Frontsheet'!V123=\"\",0,('Trust - Frontsheet'!V123))","v":0},{"$f":"IF('Trust - Frontsheet'!W123=\"\",0,('Trust - Frontsheet'!W123))","v":0},{"$f":"IF('Trust - Frontsheet'!X123=\"\",0,('Trust - Frontsheet'!X123))","v":0},{"$f":"IF(A111=\"\",\"\",(IF(ISBLANK('Trust - Frontsheet'!F9),\"\",'Trust - Frontsheet'!F9)))","v":""}]
[{"$f":"IF('Trust - Frontsheet'!D124=0,\"\",IF('Trust - Frontsheet'!D124=\"\",\"\",'Trust - Frontsheet'!D124))","v":""},{"$f":"IF(ISBLANK('Trust - Frontsheet'!E124),\"\",'Trust - Frontsheet'!E124)","v":""},{"$f":"IF(ISBLANK('Trust - Frontsheet'!F124),\"\",'Trust - Frontsheet'!F124)","v":""},{"$f":"IF(ISBLANK('Trust - Frontsheet'!G124),\"\",'Trust - Frontsheet'!G124)","v":""},{"$f":"IF(ISBLANK('Trust - Frontsheet'!H124),\"\",'Trust - Frontsheet'!H124)","v":""},{"$f":"'Trust - Frontsheet'!I124","v":0},{"$f":"'Trust - Frontsheet'!J124","v":0},{"$f":"'Trust - Frontsheet'!K124","v":0},{"$f":"'Trust - Frontsheet'!L124","v":0},{"$f":"'Trust - Frontsheet'!M124","v":0},{"$f":"'Trust - Frontsheet'!N124","v":0},{"$f":"'Trust - Frontsheet'!O124","v":0},{"$f":"'Trust - Frontsheet'!P124","v":0},{"$f":"IF('Trust - Frontsheet'!Q124=\"\",0,('Trust - Frontsheet'!Q124))","v":0},{"$f":"IF('Trust - Frontsheet'!R124=\"\",0,('Trust - Frontsheet'!R124))","v":0},{"$f":"IF('Trust - Frontsheet'!S124=\"\",0,('Trust - Frontsheet'!S124))","v":0},{"$f":"IF('Trust - Frontsheet'!T124=\"\",0,('Trust - Frontsheet'!T124))","v":0},{"$f":"'Trust - Frontsheet'!U124","v":0},{"$f":"IF('Trust - Frontsheet'!V124=\"\",0,('Trust - Frontsheet'!V124))","v":0},{"$f":"IF('Trust - Frontsheet'!W124=\"\",0,('Trust - Frontsheet'!W124))","v":0},{"$f":"IF('Trust - Frontsheet'!X124=\"\",0,('Trust - Frontsheet'!X124))","v":0},{"$f":"IF(A112=\"\",\"\",(IF(ISBLANK('Trust - Frontsheet'!F9),\"\",'Trust - Frontsheet'!F9)))","v":""}]
[{"$f":"IF('Trust - Frontsheet'!D125=0,\"\",IF('Trust - Frontsheet'!D125=\"\",\"\",'Trust - Frontsheet'!D125))","v":""},{"$f":"IF(ISBLANK('Trust - Frontsheet'!E125),\"\",'Trust - Frontsheet'!E125)","v":""},{"$f":"IF(ISBLANK('Trust - Frontsheet'!F125),\"\",'Trust - Frontsheet'!F125)","v":""},{"$f":"IF(ISBLANK('Trust - Frontsheet'!G125),\"\",'Trust - Frontsheet'!G125)","v":""},{"$f":"IF(ISBLANK('Trust - Frontsheet'!H125),\"\",'Trust - Frontsheet'!H125)","v":""},{"$f":"'Trust - Frontsheet'!I125","v":0},{"$f":"'Trust - Frontsheet'!J125","v":0},{"$f":"'Trust - Frontsheet'!K125","v":0},{"$f":"'Trust - Frontsheet'!L125","v":0},{"$f":"'Trust - Frontsheet'!M125","v":0},{"$f":"'Trust - Frontsheet'!N125","v":0},{"$f":"'Trust - Frontsheet'!O125","v":0},{"$f":"'Trust - Frontsheet'!P125","v":0},{"$f":"IF('Trust - Frontsheet'!Q125=\"\",0,('Trust - Frontsheet'!Q125))","v":0},{"$f":"IF('Trust - Frontsheet'!R125=\"\",0,('Trust - Frontsheet'!R125))","v":0},{"$f":"IF('Trust - Frontsheet'!S125=\"\",0,('Trust - Frontsheet'!S125))","v":0},{"$f":"IF('Trust - Frontsheet'!T125=\"\",0,('Trust - Frontsheet'!T125))","v":0},{"$f":"'Trust - Frontsheet'!U125","v":0},{"$f":"IF('Trust - Frontsheet'!V125=\"\",0,('Trust - Frontsheet'!V125))","v":0},{"$f":"IF('Trust - Frontsheet'!W125=\"\",0,('Trust - Frontsheet'!W125))","v":0},{"$f":"IF('Trust - Frontsheet'!X125=\"\",0,('Trust - Frontsheet'!X125))","v":0},{"$f":"IF(A113=\"\",\"\",(IF(ISBLANK('Trust - Frontsheet'!F9),\"\",'Trust - Frontsheet'!F9)))","v":""}]
[{"$f":"IF('Trust - Frontsheet'!D126=0,\"\",IF('Trust - Frontsheet'!D126=\"\",\"\",'Trust - Frontsheet'!D126))","v":""},{"$f":"IF(ISBLANK('Trust - Frontsheet'!E126),\"\",'Trust - Frontsheet'!E126)","v":""},{"$f":"IF(ISBLANK('Trust - Frontsheet'!F126),\"\",'Trust - Frontsheet'!F126)","v":""},{"$f":"IF(ISBLANK('Trust - Frontsheet'!G126),\"\",'Trust - Frontsheet'!G126)","v":""},{"$f":"IF(ISBLANK('Trust - Frontsheet'!H126),\"\",'Trust - Frontsheet'!H126)","v":""},{"$f":"'Trust - Frontsheet'!I126","v":0},{"$f":"'Trust - Frontsheet'!J126","v":0},{"$f":"'Trust - Frontsheet'!K126","v":0},{"$f":"'Trust - Frontsheet'!L126","v":0},{"$f":"'Trust - Frontsheet'!M126","v":0},{"$f":"'Trust - Frontsheet'!N126","v":0},{"$f":"'Trust - Frontsheet'!O126","v":0},{"$f":"'Trust - Frontsheet'!P126","v":0},{"$f":"IF('Trust - Frontsheet'!Q126=\"\",0,('Trust - Frontsheet'!Q126))","v":0},{"$f":"IF('Trust - Frontsheet'!R126=\"\",0,('Trust - Frontsheet'!R126))","v":0},{"$f":"IF('Trust - Frontsheet'!S126=\"\",0,('Trust - Frontsheet'!S126))","v":0},{"$f":"IF('Trust - Frontsheet'!T126=\"\",0,('Trust - Frontsheet'!T126))","v":0},{"$f":"'Trust - Frontsheet'!U126","v":0},{"$f":"IF('Trust - Frontsheet'!V126=\"\",0,('Trust - Frontsheet'!V126))","v":0},{"$f":"IF('Trust - Frontsheet'!W126=\"\",0,('Trust - Frontsheet'!W126))","v":0},{"$f":"IF('Trust - Frontsheet'!X126=\"\",0,('Trust - Frontsheet'!X126))","v":0},{"$f":"IF(A114=\"\",\"\",(IF(ISBLANK('Trust - Frontsheet'!F9),\"\",'Trust - Frontsheet'!F9)))","v":""}]
[{"$f":"IF('Trust - Frontsheet'!D127=0,\"\",IF('Trust - Frontsheet'!D127=\"\",\"\",'Trust - Frontsheet'!D127))","v":""},{"$f":"IF(ISBLANK('Trust - Frontsheet'!E127),\"\",'Trust - Frontsheet'!E127)","v":""},{"$f":"IF(ISBLANK('Trust - Frontsheet'!F127),\"\",'Trust - Frontsheet'!F127)","v":""},{"$f":"IF(ISBLANK('Trust - Frontsheet'!G127),\"\",'Trust - Frontsheet'!G127)","v":""},{"$f":"IF(ISBLANK('Trust - Frontsheet'!H127),\"\",'Trust - Frontsheet'!H127)","v":""},{"$f":"'Trust - Frontsheet'!I127","v":0},{"$f":"'Trust - Frontsheet'!J127","v":0},{"$f":"'Trust - Frontsheet'!K127","v":0},{"$f":"'Trust - Frontsheet'!L127","v":0},{"$f":"'Trust - Frontsheet'!M127","v":0},{"$f":"'Trust - Frontsheet'!N127","v":0},{"$f":"'Trust - Frontsheet'!O127","v":0},{"$f":"'Trust - Frontsheet'!P127","v":0},{"$f":"IF('Trust - Frontsheet'!Q127=\"\",0,('Trust - Frontsheet'!Q127))","v":0},{"$f":"IF('Trust - Frontsheet'!R127=\"\",0,('Trust - Frontsheet'!R127))","v":0},{"$f":"IF('Trust - Frontsheet'!S127=\"\",0,('Trust - Frontsheet'!S127))","v":0},{"$f":"IF('Trust - Frontsheet'!T127=\"\",0,('Trust - Frontsheet'!T127))","v":0},{"$f":"'Trust - Frontsheet'!U127","v":0},{"$f":"IF('Trust - Frontsheet'!V127=\"\",0,('Trust - Frontsheet'!V127))","v":0},{"$f":"IF('Trust - Frontsheet'!W127=\"\",0,('Trust - Frontsheet'!W127))","v":0},{"$f":"IF('Trust - Frontsheet'!X127=\"\",0,('Trust - Frontsheet'!X127))","v":0},{"$f":"IF(A115=\"\",\"\",(IF(ISBLANK('Trust - Frontsheet'!F9),\"\",'Trust - Frontsheet'!F9)))","v":""}]
[{"$f":"IF('Trust - Frontsheet'!D128=0,\"\",IF('Trust - Frontsheet'!D128=\"\",\"\",'Trust - Frontsheet'!D128))","v":""},{"$f":"IF(ISBLANK('Trust - Frontsheet'!E128),\"\",'Trust - Frontsheet'!E128)","v":""},{"$f":"IF(ISBLANK('Trust - Frontsheet'!F128),\"\",'Trust - Frontsheet'!F128)","v":""},{"$f":"IF(ISBLANK('Trust - Frontsheet'!G128),\"\",'Trust - Frontsheet'!G128)","v":""},{"$f":"IF(ISBLANK('Trust - Frontsheet'!H128),\"\",'Trust - Frontsheet'!H128)","v":""},{"$f":"'Trust - Frontsheet'!I128","v":0},{"$f":"'Trust - Frontsheet'!J128","v":0},{"$f":"'Trust - Frontsheet'!K128","v":0},{"$f":"'Trust - Frontsheet'!L128","v":0},{"$f":"'Trust - Frontsheet'!M128","v":0},{"$f":"'Trust - Frontsheet'!N128","v":0},{"$f":"'Trust - Frontsheet'!O128","v":0},{"$f":"'Trust - Frontsheet'!P128","v":0},{"$f":"IF('Trust - Frontsheet'!Q128=\"\",0,('Trust - Frontsheet'!Q128))","v":0},{"$f":"IF('Trust - Frontsheet'!R128=\"\",0,('Trust - Frontsheet'!R128))","v":0},{"$f":"IF('Trust - Frontsheet'!S128=\"\",0,('Trust - Frontsheet'!S128))","v":0},{"$f":"IF('Trust - Frontsheet'!T128=\"\",0,('Trust - Frontsheet'!T128))","v":0},{"$f":"'Trust - Frontsheet'!U128","v":0},{"$f":"IF('Trust - Frontsheet'!V128=\"\",0,('Trust - Frontsheet'!V128))","v":0},{"$f":"IF('Trust - Frontsheet'!W128=\"\",0,('Trust - Frontsheet'!W128))","v":0},{"$f":"IF('Trust - Frontsheet'!X128=\"\",0,('Trust - Frontsheet'!X128))","v":0},{"$f":"IF(A116=\"\",\"\",(IF(ISBLANK('Trust - Frontsheet'!F9),\"\",'Trust - Frontsheet'!F9)))","v":""}]
[{"$f":"IF('Trust - Frontsheet'!D129=0,\"\",IF('Trust - Frontsheet'!D129=\"\",\"\",'Trust - Frontsheet'!D129))","v":""},{"$f":"IF(ISBLANK('Trust - Frontsheet'!E129),\"\",'Trust - Frontsheet'!E129)","v":""},{"$f":"IF(ISBLANK('Trust - Frontsheet'!F129),\"\",'Trust - Frontsheet'!F129)","v":""},{"$f":"IF(ISBLANK('Trust - Frontsheet'!G129),\"\",'Trust - Frontsheet'!G129)","v":""},{"$f":"IF(ISBLANK('Trust - Frontsheet'!H129),\"\",'Trust - Frontsheet'!H129)","v":""},{"$f":"'Trust - Frontsheet'!I129","v":0},{"$f":"'Trust - Frontsheet'!J129","v":0},{"$f":"'Trust - Frontsheet'!K129","v":0},{"$f":"'Trust - Frontsheet'!L129","v":0},{"$f":"'Trust - Frontsheet'!M129","v":0},{"$f":"'Trust - Frontsheet'!N129","v":0},{"$f":"'Trust - Frontsheet'!O129","v":0},{"$f":"'Trust - Frontsheet'!P129","v":0},{"$f":"IF('Trust - Frontsheet'!Q129=\"\",0,('Trust - Frontsheet'!Q129))","v":0},{"$f":"IF('Trust - Frontsheet'!R129=\"\",0,('Trust - Frontsheet'!R129))","v":0},{"$f":"IF('Trust - Frontsheet'!S129=\"\",0,('Trust - Frontsheet'!S129))","v":0},{"$f":"IF('Trust - Frontsheet'!T129=\"\",0,('Trust - Frontsheet'!T129))","v":0},{"$f":"'Trust - Frontsheet'!U129","v":0},{"$f":"IF('Trust - Frontsheet'!V129=\"\",0,('Trust - Frontsheet'!V129))","v":0},{"$f":"IF('Trust - Frontsheet'!W129=\"\",0,('Trust - Frontsheet'!W129))","v":0},{"$f":"IF('Trust - Frontsheet'!X129=\"\",0,('Trust - Frontsheet'!X129))","v":0},{"$f":"IF(A117=\"\",\"\",(IF(ISBLANK('Trust - Frontsheet'!F9),\"\",'Trust - Frontsheet'!F9)))","v":""}]
[{"$f":"IF('Trust - Frontsheet'!D130=0,\"\",IF('Trust - Frontsheet'!D130=\"\",\"\",'Trust - Frontsheet'!D130))","v":""},{"$f":"IF(ISBLANK('Trust - Frontsheet'!E130),\"\",'Trust - Frontsheet'!E130)","v":""},{"$f":"IF(ISBLANK('Trust - Frontsheet'!F130),\"\",'Trust - Frontsheet'!F130)","v":""},{"$f":"IF(ISBLANK('Trust - Frontsheet'!G130),\"\",'Trust - Frontsheet'!G130)","v":""},{"$f":"IF(ISBLANK('Trust - Frontsheet'!H130),\"\",'Trust - Frontsheet'!H130)","v":""},{"$f":"'Trust - Frontsheet'!I130","v":0},{"$f":"'Trust - Frontsheet'!J130","v":0},{"$f":"'Trust - Frontsheet'!K130","v":0},{"$f":"'Trust - Frontsheet'!L130","v":0},{"$f":"'Trust - Frontsheet'!M130","v":0},{"$f":"'Trust - Frontsheet'!N130","v":0},{"$f":"'Trust - Frontsheet'!O130","v":0},{"$f":"'Trust - Frontsheet'!P130","v":0},{"$f":"IF('Trust - Frontsheet'!Q130=\"\",0,('Trust - Frontsheet'!Q130))","v":0},{"$f":"IF('Trust - Frontsheet'!R130=\"\",0,('Trust - Frontsheet'!R130))","v":0},{"$f":"IF('Trust - Frontsheet'!S130=\"\",0,('Trust - Frontsheet'!S130))","v":0},{"$f":"IF('Trust - Frontsheet'!T130=\"\",0,('Trust - Frontsheet'!T130))","v":0},{"$f":"'Trust - Frontsheet'!U130","v":0},{"$f":"IF('Trust - Frontsheet'!V130=\"\",0,('Trust - Frontsheet'!V130))","v":0},{"$f":"IF('Trust - Frontsheet'!W130=\"\",0,('Trust - Frontsheet'!W130))","v":0},{"$f":"IF('Trust - Frontsheet'!X130=\"\",0,('Trust - Frontsheet'!X130))","v":0},{"$f":"IF(A118=\"\",\"\",(IF(ISBLANK('Trust - Frontsheet'!F9),\"\",'Trust - Frontsheet'!F9)))","v":""}]
[{"$f":"IF('Trust - Frontsheet'!D131=0,\"\",IF('Trust - Frontsheet'!D131=\"\",\"\",'Trust - Frontsheet'!D131))","v":""},{"$f":"IF(ISBLANK('Trust - Frontsheet'!E131),\"\",'Trust - Frontsheet'!E131)","v":""},{"$f":"IF(ISBLANK('Trust - Frontsheet'!F131),\"\",'Trust - Frontsheet'!F131)","v":""},{"$f":"IF(ISBLANK('Trust - Frontsheet'!G131),\"\",'Trust - Frontsheet'!G131)","v":""},{"$f":"IF(ISBLANK('Trust - Frontsheet'!H131),\"\",'Trust - Frontsheet'!H131)","v":""},{"$f":"'Trust - Frontsheet'!I131","v":0},{"$f":"'Trust - Frontsheet'!J131","v":0},{"$f":"'Trust - Frontsheet'!K131","v":0},{"$f":"'Trust - Frontsheet'!L131","v":0},{"$f":"'Trust - Frontsheet'!M131","v":0},{"$f":"'Trust - Frontsheet'!N131","v":0},{"$f":"'Trust - Frontsheet'!O131","v":0},{"$f":"'Trust - Frontsheet'!P131","v":0},{"$f":"IF('Trust - Frontsheet'!Q131=\"\",0,('Trust - Frontsheet'!Q131))","v":0},{"$f":"IF('Trust - Frontsheet'!R131=\"\",0,('Trust - Frontsheet'!R131))","v":0},{"$f":"IF('Trust - Frontsheet'!S131=\"\",0,('Trust - Frontsheet'!S131))","v":0},{"$f":"IF('Trust - Frontsheet'!T131=\"\",0,('Trust - Frontsheet'!T131))","v":0},{"$f":"'Trust - Frontsheet'!U131","v":0},{"$f":"IF('Trust - Frontsheet'!V131=\"\",0,('Trust - Frontsheet'!V131))","v":0},{"$f":"IF('Trust - Frontsheet'!W131=\"\",0,('Trust - Frontsheet'!W131))","v":0},{"$f":"IF('Trust - Frontsheet'!X131=\"\",0,('Trust - Frontsheet'!X131))","v":0},{"$f":"IF(A119=\"\",\"\",(IF(ISBLANK('Trust - Frontsheet'!F9),\"\",'Trust - Frontsheet'!F9)))","v":""}]
[{"$f":"IF('Trust - Frontsheet'!D132=0,\"\",IF('Trust - Frontsheet'!D132=\"\",\"\",'Trust - Frontsheet'!D132))","v":""},{"$f":"IF(ISBLANK('Trust - Frontsheet'!E132),\"\",'Trust - Frontsheet'!E132)","v":""},{"$f":"IF(ISBLANK('Trust - Frontsheet'!F132),\"\",'Trust - Frontsheet'!F132)","v":""},{"$f":"IF(ISBLANK('Trust - Frontsheet'!G132),\"\",'Trust - Frontsheet'!G132)","v":""},{"$f":"IF(ISBLANK('Trust - Frontsheet'!H132),\"\",'Trust - Frontsheet'!H132)","v":""},{"$f":"'Trust - Frontsheet'!I132","v":0},{"$f":"'Trust - Frontsheet'!J132","v":0},{"$f":"'Trust - Frontsheet'!K132","v":0},{"$f":"'Trust - Frontsheet'!L132","v":0},{"$f":"'Trust - Frontsheet'!M132","v":0},{"$f":"'Trust - Frontsheet'!N132","v":0},{"$f":"'Trust - Frontsheet'!O132","v":0},{"$f":"'Trust - Frontsheet'!P132","v":0},{"$f":"IF('Trust - Frontsheet'!Q132=\"\",0,('Trust - Frontsheet'!Q132))","v":0},{"$f":"IF('Trust - Frontsheet'!R132=\"\",0,('Trust - Frontsheet'!R132))","v":0},{"$f":"IF('Trust - Frontsheet'!S132=\"\",0,('Trust - Frontsheet'!S132))","v":0},{"$f":"IF('Trust - Frontsheet'!T132=\"\",0,('Trust - Frontsheet'!T132))","v":0},{"$f":"'Trust - Frontsheet'!U132","v":0},{"$f":"IF('Trust - Frontsheet'!V132=\"\",0,('Trust - Frontsheet'!V132))","v":0},{"$f":"IF('Trust - Frontsheet'!W132=\"\",0,('Trust - Frontsheet'!W132))","v":0},{"$f":"IF('Trust - Frontsheet'!X132=\"\",0,('Trust - Frontsheet'!X132))","v":0},{"$f":"IF(A120=\"\",\"\",(IF(ISBLANK('Trust - Frontsheet'!F9),\"\",'Trust - Frontsheet'!F9)))","v":""}]
[{"$f":"IF('Trust - Frontsheet'!D133=0,\"\",IF('Trust - Frontsheet'!D133=\"\",\"\",'Trust - Frontsheet'!D133))","v":""},{"$f":"IF(ISBLANK('Trust - Frontsheet'!E133),\"\",'Trust - Frontsheet'!E133)","v":""},{"$f":"IF(ISBLANK('Trust - Frontsheet'!F133),\"\",'Trust - Frontsheet'!F133)","v":""},{"$f":"IF(ISBLANK('Trust - Frontsheet'!G133),\"\",'Trust - Frontsheet'!G133)","v":""},{"$f":"IF(ISBLANK('Trust - Frontsheet'!H133),\"\",'Trust - Frontsheet'!H133)","v":""},{"$f":"'Trust - Frontsheet'!I133","v":0},{"$f":"'Trust - Frontsheet'!J133","v":0},{"$f":"'Trust - Frontsheet'!K133","v":0},{"$f":"'Trust - Frontsheet'!L133","v":0},{"$f":"'Trust - Frontsheet'!M133","v":0},{"$f":"'Trust - Frontsheet'!N133","v":0},{"$f":"'Trust - Frontsheet'!O133","v":0},{"$f":"'Trust - Frontsheet'!P133","v":0},{"$f":"IF('Trust - Frontsheet'!Q133=\"\",0,('Trust - Frontsheet'!Q133))","v":0},{"$f":"IF('Trust - Frontsheet'!R133=\"\",0,('Trust - Frontsheet'!R133))","v":0},{"$f":"IF('Trust - Frontsheet'!S133=\"\",0,('Trust - Frontsheet'!S133))","v":0},{"$f":"IF('Trust - Frontsheet'!T133=\"\",0,('Trust - Frontsheet'!T133))","v":0},{"$f":"'Trust - Frontsheet'!U133","v":0},{"$f":"IF('Trust - Frontsheet'!V133=\"\",0,('Trust - Frontsheet'!V133))","v":0},{"$f":"IF('Trust - Frontsheet'!W133=\"\",0,('Trust - Frontsheet'!W133))","v":0},{"$f":"IF('Trust - Frontsheet'!X133=\"\",0,('Trust - Frontsheet'!X133))","v":0},{"$f":"IF(A121=\"\",\"\",(IF(ISBLANK('Trust - Frontsheet'!F9),\"\",'Trust - Frontsheet'!F9)))","v":""}]
[{"$f":"IF('Trust - Frontsheet'!D134=0,\"\",IF('Trust - Frontsheet'!D134=\"\",\"\",'Trust - Frontsheet'!D134))","v":""},{"$f":"IF(ISBLANK('Trust - Frontsheet'!E134),\"\",'Trust - Frontsheet'!E134)","v":""},{"$f":"IF(ISBLANK('Trust - Frontsheet'!F134),\"\",'Trust - Frontsheet'!F134)","v":""},{"$f":"IF(ISBLANK('Trust - Frontsheet'!G134),\"\",'Trust - Frontsheet'!G134)","v":""},{"$f":"IF(ISBLANK('Trust - Frontsheet'!H134),\"\",'Trust - Frontsheet'!H134)","v":""},{"$f":"'Trust - Frontsheet'!I134","v":0},{"$f":"'Trust - Frontsheet'!J134","v":0},{"$f":"'Trust - Frontsheet'!K134","v":0},{"$f":"'Trust - Frontsheet'!L134","v":0},{"$f":"'Trust - Frontsheet'!M134","v":0},{"$f":"'Trust - Frontsheet'!N134","v":0},{"$f":"'Trust - Frontsheet'!O134","v":0},{"$f":"'Trust - Frontsheet'!P134","v":0},{"$f":"IF('Trust - Frontsheet'!Q134=\"\",0,('Trust - Frontsheet'!Q134))","v":0},{"$f":"IF('Trust - Frontsheet'!R134=\"\",0,('Trust - Frontsheet'!R134))","v":0},{"$f":"IF('Trust - Frontsheet'!S134=\"\",0,('Trust - Frontsheet'!S134))","v":0},{"$f":"IF('Trust - Frontsheet'!T134=\"\",0,('Trust - Frontsheet'!T134))","v":0},{"$f":"'Trust - Frontsheet'!U134","v":0},{"$f":"IF('Trust - Frontsheet'!V134=\"\",0,('Trust - Frontsheet'!V134))","v":0},{"$f":"IF('Trust - Frontsheet'!W134=\"\",0,('Trust - Frontsheet'!W134))","v":0},{"$f":"IF('Trust - Frontsheet'!X134=\"\",0,('Trust - Frontsheet'!X134))","v":0},{"$f":"IF(A122=\"\",\"\",(IF(ISBLANK('Trust - Frontsheet'!F9),\"\",'Trust - Frontsheet'!F9)))","v":""}]
[{"$f":"IF('Trust - Frontsheet'!D135=0,\"\",IF('Trust - Frontsheet'!D135=\"\",\"\",'Trust - Frontsheet'!D135))","v":""},{"$f":"IF(ISBLANK('Trust - Frontsheet'!E135),\"\",'Trust - Frontsheet'!E135)","v":""},{"$f":"IF(ISBLANK('Trust - Frontsheet'!F135),\"\",'Trust - Frontsheet'!F135)","v":""},{"$f":"IF(ISBLANK('Trust - Frontsheet'!G135),\"\",'Trust - Frontsheet'!G135)","v":""},{"$f":"IF(ISBLANK('Trust - Frontsheet'!H135),\"\",'Trust - Frontsheet'!H135)","v":""},{"$f":"'Trust - Frontsheet'!I135","v":0},{"$f":"'Trust - Frontsheet'!J135","v":0},{"$f":"'Trust - Frontsheet'!K135","v":0},{"$f":"'Trust - Frontsheet'!L135","v":0},{"$f":"'Trust - Frontsheet'!M135","v":0},{"$f":"'Trust - Frontsheet'!N135","v":0},{"$f":"'Trust - Frontsheet'!O135","v":0},{"$f":"'Trust - Frontsheet'!P135","v":0},{"$f":"IF('Trust - Frontsheet'!Q135=\"\",0,('Trust - Frontsheet'!Q135))","v":0},{"$f":"IF('Trust - Frontsheet'!R135=\"\",0,('Trust - Frontsheet'!R135))","v":0},{"$f":"IF('Trust - Frontsheet'!S135=\"\",0,('Trust - Frontsheet'!S135))","v":0},{"$f":"IF('Trust - Frontsheet'!T135=\"\",0,('Trust - Frontsheet'!T135))","v":0},{"$f":"'Trust - Frontsheet'!U135","v":0},{"$f":"IF('Trust - Frontsheet'!V135=\"\",0,('Trust - Frontsheet'!V135))","v":0},{"$f":"IF('Trust - Frontsheet'!W135=\"\",0,('Trust - Frontsheet'!W135))","v":0},{"$f":"IF('Trust - Frontsheet'!X135=\"\",0,('Trust - Frontsheet'!X135))","v":0},{"$f":"IF(A123=\"\",\"\",(IF(ISBLANK('Trust - Frontsheet'!F9),\"\",'Trust - Frontsheet'!F9)))","v":""}]
[{"$f":"IF('Trust - Frontsheet'!D136=0,\"\",IF('Trust - Frontsheet'!D136=\"\",\"\",'Trust - Frontsheet'!D136))","v":""},{"$f":"IF(ISBLANK('Trust - Frontsheet'!E136),\"\",'Trust - Frontsheet'!E136)","v":""},{"$f":"IF(ISBLANK('Trust - Frontsheet'!F136),\"\",'Trust - Frontsheet'!F136)","v":""},{"$f":"IF(ISBLANK('Trust - Frontsheet'!G136),\"\",'Trust - Frontsheet'!G136)","v":""},{"$f":"IF(ISBLANK('Trust - Frontsheet'!H136),\"\",'Trust - Frontsheet'!H136)","v":""},{"$f":"'Trust - Frontsheet'!I136","v":0},{"$f":"'Trust - Frontsheet'!J136","v":0},{"$f":"'Trust - Frontsheet'!K136","v":0},{"$f":"'Trust - Frontsheet'!L136","v":0},{"$f":"'Trust - Frontsheet'!M136","v":0},{"$f":"'Trust - Frontsheet'!N136","v":0},{"$f":"'Trust - Frontsheet'!O136","v":0},{"$f":"'Trust - Frontsheet'!P136","v":0},{"$f":"IF('Trust - Frontsheet'!Q136=\"\",0,('Trust - Frontsheet'!Q136))","v":0},{"$f":"IF('Trust - Frontsheet'!R136=\"\",0,('Trust - Frontsheet'!R136))","v":0},{"$f":"IF('Trust - Frontsheet'!S136=\"\",0,('Trust - Frontsheet'!S136))","v":0},{"$f":"IF('Trust - Frontsheet'!T136=\"\",0,('Trust - Frontsheet'!T136))","v":0},{"$f":"'Trust - Frontsheet'!U136","v":0},{"$f":"IF('Trust - Frontsheet'!V136=\"\",0,('Trust - Frontsheet'!V136))","v":0},{"$f":"IF('Trust - Frontsheet'!W136=\"\",0,('Trust - Frontsheet'!W136))","v":0},{"$f":"IF('Trust - Frontsheet'!X136=\"\",0,('Trust - Frontsheet'!X136))","v":0},{"$f":"IF(A124=\"\",\"\",(IF(ISBLANK('Trust - Frontsheet'!F9),\"\",'Trust - Frontsheet'!F9)))","v":""}]
[{"$f":"IF('Trust - Frontsheet'!D137=0,\"\",IF('Trust - Frontsheet'!D137=\"\",\"\",'Trust - Frontsheet'!D137))","v":""},{"$f":"IF(ISBLANK('Trust - Frontsheet'!E137),\"\",'Trust - Frontsheet'!E137)","v":""},{"$f":"IF(ISBLANK('Trust - Frontsheet'!F137),\"\",'Trust - Frontsheet'!F137)","v":""},{"$f":"IF(ISBLANK('Trust - Frontsheet'!G137),\"\",'Trust - Frontsheet'!G137)","v":""},{"$f":"IF(ISBLANK('Trust - Frontsheet'!H137),\"\",'Trust - Frontsheet'!H137)","v":""},{"$f":"'Trust - Frontsheet'!I137","v":0},{"$f":"'Trust - Frontsheet'!J137","v":0},{"$f":"'Trust - Frontsheet'!K137","v":0},{"$f":"'Trust - Frontsheet'!L137","v":0},{"$f":"'Trust - Frontsheet'!M137","v":0},{"$f":"'Trust - Frontsheet'!N137","v":0},{"$f":"'Trust - Frontsheet'!O137","v":0},{"$f":"'Trust - Frontsheet'!P137","v":0},{"$f":"IF('Trust - Frontsheet'!Q137=\"\",0,('Trust - Frontsheet'!Q137))","v":0},{"$f":"IF('Trust - Frontsheet'!R137=\"\",0,('Trust - Frontsheet'!R137))","v":0},{"$f":"IF('Trust - Frontsheet'!S137=\"\",0,('Trust - Frontsheet'!S137))","v":0},{"$f":"IF('Trust - Frontsheet'!T137=\"\",0,('Trust - Frontsheet'!T137))","v":0},{"$f":"'Trust - Frontsheet'!U137","v":0},{"$f":"IF('Trust - Frontsheet'!V137=\"\",0,('Trust - Frontsheet'!V137))","v":0},{"$f":"IF('Trust - Frontsheet'!W137=\"\",0,('Trust - Frontsheet'!W137))","v":0},{"$f":"IF('Trust - Frontsheet'!X137=\"\",0,('Trust - Frontsheet'!X137))","v":0},{"$f":"IF(A125=\"\",\"\",(IF(ISBLANK('Trust - Frontsheet'!F9),\"\",'Trust - Frontsheet'!F9)))","v":""}]
[{"$f":"IF('Trust - Frontsheet'!D138=0,\"\",IF('Trust - Frontsheet'!D138=\"\",\"\",'Trust - Frontsheet'!D138))","v":""},{"$f":"IF(ISBLANK('Trust - Frontsheet'!E138),\"\",'Trust - Frontsheet'!E138)","v":""},{"$f":"IF(ISBLANK('Trust - Frontsheet'!F138),\"\",'Trust - Frontsheet'!F138)","v":""},{"$f":"IF(ISBLANK('Trust - Frontsheet'!G138),\"\",'Trust - Frontsheet'!G138)","v":""},{"$f":"IF(ISBLANK('Trust - Frontsheet'!H138),\"\",'Trust - Frontsheet'!H138)","v":""},{"$f":"'Trust - Frontsheet'!I138","v":0},{"$f":"'Trust - Frontsheet'!J138","v":0},{"$f":"'Trust - Frontsheet'!K138","v":0},{"$f":"'Trust - Frontsheet'!L138","v":0},{"$f":"'Trust - Frontsheet'!M138","v":0},{"$f":"'Trust - Frontsheet'!N138","v":0},{"$f":"'Trust - Frontsheet'!O138","v":0},{"$f":"'Trust - Frontsheet'!P138","v":0},{"$f":"IF('Trust - Frontsheet'!Q138=\"\",0,('Trust - Frontsheet'!Q138))","v":0},{"$f":"IF('Trust - Frontsheet'!R138=\"\",0,('Trust - Frontsheet'!R138))","v":0},{"$f":"IF('Trust - Frontsheet'!S138=\"\",0,('Trust - Frontsheet'!S138))","v":0},{"$f":"IF('Trust - Frontsheet'!T138=\"\",0,('Trust - Frontsheet'!T138))","v":0},{"$f":"'Trust - Frontsheet'!U138","v":0},{"$f":"IF('Trust - Frontsheet'!V138=\"\",0,('Trust - Frontsheet'!V138))","v":0},{"$f":"IF('Trust - Frontsheet'!W138=\"\",0,('Trust - Frontsheet'!W138))","v":0},{"$f":"IF('Trust - Frontsheet'!X138=\"\",0,('Trust - Frontsheet'!X138))","v":0},{"$f":"IF(A126=\"\",\"\",(IF(ISBLANK('Trust - Frontsheet'!F9),\"\",'Trust - Frontsheet'!F9)))","v":""}]
[{"$f":"IF('Trust - Frontsheet'!D139=0,\"\",IF('Trust - Frontsheet'!D139=\"\",\"\",'Trust - Frontsheet'!D139))","v":""},{"$f":"IF(ISBLANK('Trust - Frontsheet'!E139),\"\",'Trust - Frontsheet'!E139)","v":""},{"$f":"IF(ISBLANK('Trust - Frontsheet'!F139),\"\",'Trust - Frontsheet'!F139)","v":""},{"$f":"IF(ISBLANK('Trust - Frontsheet'!G139),\"\",'Trust - Frontsheet'!G139)","v":""},{"$f":"IF(ISBLANK('Trust - Frontsheet'!H139),\"\",'Trust - Frontsheet'!H139)","v":""},{"$f":"'Trust - Frontsheet'!I139","v":0},{"$f":"'Trust - Frontsheet'!J139","v":0},{"$f":"'Trust - Frontsheet'!K139","v":0},{"$f":"'Trust - Frontsheet'!L139","v":0},{"$f":"'Trust - Frontsheet'!M139","v":0},{"$f":"'Trust - Frontsheet'!N139","v":0},{"$f":"'Trust - Frontsheet'!O139","v":0},{"$f":"'Trust - Frontsheet'!P139","v":0},{"$f":"IF('Trust - Frontsheet'!Q139=\"\",0,('Trust - Frontsheet'!Q139))","v":0},{"$f":"IF('Trust - Frontsheet'!R139=\"\",0,('Trust - Frontsheet'!R139))","v":0},{"$f":"IF('Trust - Frontsheet'!S139=\"\",0,('Trust - Frontsheet'!S139))","v":0},{"$f":"IF('Trust - Frontsheet'!T139=\"\",0,('Trust - Frontsheet'!T139))","v":0},{"$f":"'Trust - Frontsheet'!U139","v":0},{"$f":"IF('Trust - Frontsheet'!V139=\"\",0,('Trust - Frontsheet'!V139))","v":0},{"$f":"IF('Trust - Frontsheet'!W139=\"\",0,('Trust - Frontsheet'!W139))","v":0},{"$f":"IF('Trust - Frontsheet'!X139=\"\",0,('Trust - Frontsheet'!X139))","v":0},{"$f":"IF(A127=\"\",\"\",(IF(ISBLANK('Trust - Frontsheet'!F9),\"\",'Trust - Frontsheet'!F9)))","v":""}]
[{"$f":"IF('Trust - Frontsheet'!D140=0,\"\",IF('Trust - Frontsheet'!D140=\"\",\"\",'Trust - Frontsheet'!D140))","v":""},{"$f":"IF(ISBLANK('Trust - Frontsheet'!E140),\"\",'Trust - Frontsheet'!E140)","v":""},{"$f":"IF(ISBLANK('Trust - Frontsheet'!F140),\"\",'Trust - Frontsheet'!F140)","v":""},{"$f":"IF(ISBLANK('Trust - Frontsheet'!G140),\"\",'Trust - Frontsheet'!G140)","v":""},{"$f":"IF(ISBLANK('Trust - Frontsheet'!H140),\"\",'Trust - Frontsheet'!H140)","v":""},{"$f":"'Trust - Frontsheet'!I140","v":0},{"$f":"'Trust - Frontsheet'!J140","v":0},{"$f":"'Trust - Frontsheet'!K140","v":0},{"$f":"'Trust - Frontsheet'!L140","v":0},{"$f":"'Trust - Frontsheet'!M140","v":0},{"$f":"'Trust - Frontsheet'!N140","v":0},{"$f":"'Trust - Frontsheet'!O140","v":0},{"$f":"'Trust - Frontsheet'!P140","v":0},{"$f":"IF('Trust - Frontsheet'!Q140=\"\",0,('Trust - Frontsheet'!Q140))","v":0},{"$f":"IF('Trust - Frontsheet'!R140=\"\",0,('Trust - Frontsheet'!R140))","v":0},{"$f":"IF('Trust - Frontsheet'!S140=\"\",0,('Trust - Frontsheet'!S140))","v":0},{"$f":"IF('Trust - Frontsheet'!T140=\"\",0,('Trust - Frontsheet'!T140))","v":0},{"$f":"'Trust - Frontsheet'!U140","v":0},{"$f":"IF('Trust - Frontsheet'!V140=\"\",0,('Trust - Frontsheet'!V140))","v":0},{"$f":"IF('Trust - Frontsheet'!W140=\"\",0,('Trust - Frontsheet'!W140))","v":0},{"$f":"IF('Trust - Frontsheet'!X140=\"\",0,('Trust - Frontsheet'!X140))","v":0},{"$f":"IF(A128=\"\",\"\",(IF(ISBLANK('Trust - Frontsheet'!F9),\"\",'Trust - Frontsheet'!F9)))","v":""}]
[{"$f":"IF('Trust - Frontsheet'!D141=0,\"\",IF('Trust - Frontsheet'!D141=\"\",\"\",'Trust - Frontsheet'!D141))","v":""},{"$f":"IF(ISBLANK('Trust - Frontsheet'!E141),\"\",'Trust - Frontsheet'!E141)","v":""},{"$f":"IF(ISBLANK('Trust - Frontsheet'!F141),\"\",'Trust - Frontsheet'!F141)","v":""},{"$f":"IF(ISBLANK('Trust - Frontsheet'!G141),\"\",'Trust - Frontsheet'!G141)","v":""},{"$f":"IF(ISBLANK('Trust - Frontsheet'!H141),\"\",'Trust - Frontsheet'!H141)","v":""},{"$f":"'Trust - Frontsheet'!I141","v":0},{"$f":"'Trust - Frontsheet'!J141","v":0},{"$f":"'Trust - Frontsheet'!K141","v":0},{"$f":"'Trust - Frontsheet'!L141","v":0},{"$f":"'Trust - Frontsheet'!M141","v":0},{"$f":"'Trust - Frontsheet'!N141","v":0},{"$f":"'Trust - Frontsheet'!O141","v":0},{"$f":"'Trust - Frontsheet'!P141","v":0},{"$f":"IF('Trust - Frontsheet'!Q141=\"\",0,('Trust - Frontsheet'!Q141))","v":0},{"$f":"IF('Trust - Frontsheet'!R141=\"\",0,('Trust - Frontsheet'!R141))","v":0},{"$f":"IF('Trust - Frontsheet'!S141=\"\",0,('Trust - Frontsheet'!S141))","v":0},{"$f":"IF('Trust - Frontsheet'!T141=\"\",0,('Trust - Frontsheet'!T141))","v":0},{"$f":"'Trust - Frontsheet'!U141","v":0},{"$f":"IF('Trust - Frontsheet'!V141=\"\",0,('Trust - Frontsheet'!V141))","v":0},{"$f":"IF('Trust - Frontsheet'!W141=\"\",0,('Trust - Frontsheet'!W141))","v":0},{"$f":"IF('Trust - Frontsheet'!X141=\"\",0,('Trust - Frontsheet'!X141))","v":0},{"$f":"IF(A129=\"\",\"\",(IF(ISBLANK('Trust - Frontsheet'!F9),\"\",'Trust - Frontsheet'!F9)))","v":""}]
[{"$f":"IF('Trust - Frontsheet'!D142=0,\"\",IF('Trust - Frontsheet'!D142=\"\",\"\",'Trust - Frontsheet'!D142))","v":""},{"$f":"IF(ISBLANK('Trust - Frontsheet'!E142),\"\",'Trust - Frontsheet'!E142)","v":""},{"$f":"IF(ISBLANK('Trust - Frontsheet'!F142),\"\",'Trust - Frontsheet'!F142)","v":""},{"$f":"IF(ISBLANK('Trust - Frontsheet'!G142),\"\",'Trust - Frontsheet'!G142)","v":""},{"$f":"IF(ISBLANK('Trust - Frontsheet'!H142),\"\",'Trust - Frontsheet'!H142)","v":""},{"$f":"'Trust - Frontsheet'!I142","v":0},{"$f":"'Trust - Frontsheet'!J142","v":0},{"$f":"'Trust - Frontsheet'!K142","v":0},{"$f":"'Trust - Frontsheet'!L142","v":0},{"$f":"'Trust - Frontsheet'!M142","v":0},{"$f":"'Trust - Frontsheet'!N142","v":0},{"$f":"'Trust - Frontsheet'!O142","v":0},{"$f":"'Trust - Frontsheet'!P142","v":0},{"$f":"IF('Trust - Frontsheet'!Q142=\"\",0,('Trust - Frontsheet'!Q142))","v":0},{"$f":"IF('Trust - Frontsheet'!R142=\"\",0,('Trust - Frontsheet'!R142))","v":0},{"$f":"IF('Trust - Frontsheet'!S142=\"\",0,('Trust - Frontsheet'!S142))","v":0},{"$f":"IF('Trust - Frontsheet'!T142=\"\",0,('Trust - Frontsheet'!T142))","v":0},{"$f":"'Trust - Frontsheet'!U142","v":0},{"$f":"IF('Trust - Frontsheet'!V142=\"\",0,('Trust - Frontsheet'!V142))","v":0},{"$f":"IF('Trust - Frontsheet'!W142=\"\",0,('Trust - Frontsheet'!W142))","v":0},{"$f":"IF('Trust - Frontsheet'!X142=\"\",0,('Trust - Frontsheet'!X142))","v":0},{"$f":"IF(A130=\"\",\"\",(IF(ISBLANK('Trust - Frontsheet'!F9),\"\",'Trust - Frontsheet'!F9)))","v":""}]
[{"$f":"IF('Trust - Frontsheet'!D143=0,\"\",IF('Trust - Frontsheet'!D143=\"\",\"\",'Trust - Frontsheet'!D143))","v":""},{"$f":"IF(ISBLANK('Trust - Frontsheet'!E143),\"\",'Trust - Frontsheet'!E143)","v":""},{"$f":"IF(ISBLANK('Trust - Frontsheet'!F143),\"\",'Trust - Frontsheet'!F143)","v":""},{"$f":"IF(ISBLANK('Trust - Frontsheet'!G143),\"\",'Trust - Frontsheet'!G143)","v":""},{"$f":"IF(ISBLANK('Trust - Frontsheet'!H143),\"\",'Trust - Frontsheet'!H143)","v":""},{"$f":"'Trust - Frontsheet'!I143","v":0},{"$f":"'Trust - Frontsheet'!J143","v":0},{"$f":"'Trust - Frontsheet'!K143","v":0},{"$f":"'Trust - Frontsheet'!L143","v":0},{"$f":"'Trust - Frontsheet'!M143","v":0},{"$f":"'Trust - Frontsheet'!N143","v":0},{"$f":"'Trust - Frontsheet'!O143","v":0},{"$f":"'Trust - Frontsheet'!P143","v":0},{"$f":"IF('Trust - Frontsheet'!Q143=\"\",0,('Trust - Frontsheet'!Q143))","v":0},{"$f":"IF('Trust - Frontsheet'!R143=\"\",0,('Trust - Frontsheet'!R143))","v":0},{"$f":"IF('Trust - Frontsheet'!S143=\"\",0,('Trust - Frontsheet'!S143))","v":0},{"$f":"IF('Trust - Frontsheet'!T143=\"\",0,('Trust - Frontsheet'!T143))","v":0},{"$f":"'Trust - Frontsheet'!U143","v":0},{"$f":"IF('Trust - Frontsheet'!V143=\"\",0,('Trust - Frontsheet'!V143))","v":0},{"$f":"IF('Trust - Frontsheet'!W143=\"\",0,('Trust - Frontsheet'!W143))","v":0},{"$f":"IF('Trust - Frontsheet'!X143=\"\",0,('Trust - Frontsheet'!X143))","v":0},{"$f":"IF(A131=\"\",\"\",(IF(ISBLANK('Trust - Frontsheet'!F9),\"\",'Trust - Frontsheet'!F9)))","v":""}]
[{"$f":"IF('Trust - Frontsheet'!D144=0,\"\",IF('Trust - Frontsheet'!D144=\"\",\"\",'Trust - Frontsheet'!D144))","v":""},{"$f":"IF(ISBLANK('Trust - Frontsheet'!E144),\"\",'Trust - Frontsheet'!E144)","v":""},{"$f":"IF(ISBLANK('Trust - Frontsheet'!F144),\"\",'Trust - Frontsheet'!F144)","v":""},{"$f":"IF(ISBLANK('Trust - Frontsheet'!G144),\"\",'Trust - Frontsheet'!G144)","v":""},{"$f":"IF(ISBLANK('Trust - Frontsheet'!H144),\"\",'Trust - Frontsheet'!H144)","v":""},{"$f":"'Trust - Frontsheet'!I144","v":0},{"$f":"'Trust - Frontsheet'!J144","v":0},{"$f":"'Trust - Frontsheet'!K144","v":0},{"$f":"'Trust - Frontsheet'!L144","v":0},{"$f":"'Trust - Frontsheet'!M144","v":0},{"$f":"'Trust - Frontsheet'!N144","v":0},{"$f":"'Trust - Frontsheet'!O144","v":0},{"$f":"'Trust - Frontsheet'!P144","v":0},{"$f":"IF('Trust - Frontsheet'!Q144=\"\",0,('Trust - Frontsheet'!Q144))","v":0},{"$f":"IF('Trust - Frontsheet'!R144=\"\",0,('Trust - Frontsheet'!R144))","v":0},{"$f":"IF('Trust - Frontsheet'!S144=\"\",0,('Trust - Frontsheet'!S144))","v":0},{"$f":"IF('Trust - Frontsheet'!T144=\"\",0,('Trust - Frontsheet'!T144))","v":0},{"$f":"'Trust - Frontsheet'!U144","v":0},{"$f":"IF('Trust - Frontsheet'!V144=\"\",0,('Trust - Frontsheet'!V144))","v":0},{"$f":"IF('Trust - Frontsheet'!W144=\"\",0,('Trust - Frontsheet'!W144))","v":0},{"$f":"IF('Trust - Frontsheet'!X144=\"\",0,('Trust - Frontsheet'!X144))","v":0},{"$f":"IF(A132=\"\",\"\",(IF(ISBLANK('Trust - Frontsheet'!F9),\"\",'Trust - Frontsheet'!F9)))","v":""}]
[{"$f":"IF('Trust - Frontsheet'!D145=0,\"\",IF('Trust - Frontsheet'!D145=\"\",\"\",'Trust - Frontsheet'!D145))","v":""},{"$f":"IF(ISBLANK('Trust - Frontsheet'!E145),\"\",'Trust - Frontsheet'!E145)","v":""},{"$f":"IF(ISBLANK('Trust - Frontsheet'!F145),\"\",'Trust - Frontsheet'!F145)","v":""},{"$f":"IF(ISBLANK('Trust - Frontsheet'!G145),\"\",'Trust - Frontsheet'!G145)","v":""},{"$f":"IF(ISBLANK('Trust - Frontsheet'!H145),\"\",'Trust - Frontsheet'!H145)","v":""},{"$f":"'Trust - Frontsheet'!I145","v":0},{"$f":"'Trust - Frontsheet'!J145","v":0},{"$f":"'Trust - Frontsheet'!K145","v":0},{"$f":"'Trust - Frontsheet'!L145","v":0},{"$f":"'Trust - Frontsheet'!M145","v":0},{"$f":"'Trust - Frontsheet'!N145","v":0},{"$f":"'Trust - Frontsheet'!O145","v":0},{"$f":"'Trust - Frontsheet'!P145","v":0},{"$f":"IF('Trust - Frontsheet'!Q145=\"\",0,('Trust - Frontsheet'!Q145))","v":0},{"$f":"IF('Trust - Frontsheet'!R145=\"\",0,('Trust - Frontsheet'!R145))","v":0},{"$f":"IF('Trust - Frontsheet'!S145=\"\",0,('Trust - Frontsheet'!S145))","v":0},{"$f":"IF('Trust - Frontsheet'!T145=\"\",0,('Trust - Frontsheet'!T145))","v":0},{"$f":"'Trust - Frontsheet'!U145","v":0},{"$f":"IF('Trust - Frontsheet'!V145=\"\",0,('Trust - Frontsheet'!V145))","v":0},{"$f":"IF('Trust - Frontsheet'!W145=\"\",0,('Trust - Frontsheet'!W145))","v":0},{"$f":"IF('Trust - Frontsheet'!X145=\"\",0,('Trust - Frontsheet'!X145))","v":0},{"$f":"IF(A133=\"\",\"\",(IF(ISBLANK('Trust - Frontsheet'!F9),\"\",'Trust - Frontsheet'!F9)))","v":""}]
[{"$f":"IF('Trust - Frontsheet'!D146=0,\"\",IF('Trust - Frontsheet'!D146=\"\",\"\",'Trust - Frontsheet'!D146))","v":""},{"$f":"IF(ISBLANK('Trust - Frontsheet'!E146),\"\",'Trust - Frontsheet'!E146)","v":""},{"$f":"IF(ISBLANK('Trust - Frontsheet'!F146),\"\",'Trust - Frontsheet'!F146)","v":""},{"$f":"IF(ISBLANK('Trust - Frontsheet'!G146),\"\",'Trust - Frontsheet'!G146)","v":""},{"$f":"IF(ISBLANK('Trust - Frontsheet'!H146),\"\",'Trust - Frontsheet'!H146)","v":""},{"$f":"'Trust - Frontsheet'!I146","v":0},{"$f":"'Trust - Frontsheet'!J146","v":0},{"$f":"'Trust - Frontsheet'!K146","v":0},{"$f":"'Trust - Frontsheet'!L146","v":0},{"$f":"'Trust - Frontsheet'!M146","v":0},{"$f":"'Trust - Frontsheet'!N146","v":0},{"$f":"'Trust - Frontsheet'!O146","v":0},{"$f":"'Trust - Frontsheet'!P146","v":0},{"$f":"IF('Trust - Frontsheet'!Q146=\"\",0,('Trust - Frontsheet'!Q146))","v":0},{"$f":"IF('Trust - Frontsheet'!R146=\"\",0,('Trust - Frontsheet'!R146))","v":0},{"$f":"IF('Trust - Frontsheet'!S146=\"\",0,('Trust - Frontsheet'!S146))","v":0},{"$f":"IF('Trust - Frontsheet'!T146=\"\",0,('Trust - Frontsheet'!T146))","v":0},{"$f":"'Trust - Frontsheet'!U146","v":0},{"$f":"IF('Trust - Frontsheet'!V146=\"\",0,('Trust - Frontsheet'!V146))","v":0},{"$f":"IF('Trust - Frontsheet'!W146=\"\",0,('Trust - Frontsheet'!W146))","v":0},{"$f":"IF('Trust - Frontsheet'!X146=\"\",0,('Trust - Frontsheet'!X146))","v":0},{"$f":"IF(A134=\"\",\"\",(IF(ISBLANK('Trust - Frontsheet'!F9),\"\",'Trust - Frontsheet'!F9)))","v":""}]
[{"$f":"IF('Trust - Frontsheet'!D147=0,\"\",IF('Trust - Frontsheet'!D147=\"\",\"\",'Trust - Frontsheet'!D147))","v":""},{"$f":"IF(ISBLANK('Trust - Frontsheet'!E147),\"\",'Trust - Frontsheet'!E147)","v":""},{"$f":"IF(ISBLANK('Trust - Frontsheet'!F147),\"\",'Trust - Frontsheet'!F147)","v":""},{"$f":"IF(ISBLANK('Trust - Frontsheet'!G147),\"\",'Trust - Frontsheet'!G147)","v":""},{"$f":"IF(ISBLANK('Trust - Frontsheet'!H147),\"\",'Trust - Frontsheet'!H147)","v":""},{"$f":"'Trust - Frontsheet'!I147","v":0},{"$f":"'Trust - Frontsheet'!J147","v":0},{"$f":"'Trust - Frontsheet'!K147","v":0},{"$f":"'Trust - Frontsheet'!L147","v":0},{"$f":"'Trust - Frontsheet'!M147","v":0},{"$f":"'Trust - Frontsheet'!N147","v":0},{"$f":"'Trust - Frontsheet'!O147","v":0},{"$f":"'Trust - Frontsheet'!P147","v":0},{"$f":"IF('Trust - Frontsheet'!Q147=\"\",0,('Trust - Frontsheet'!Q147))","v":0},{"$f":"IF('Trust - Frontsheet'!R147=\"\",0,('Trust - Frontsheet'!R147))","v":0},{"$f":"IF('Trust - Frontsheet'!S147=\"\",0,('Trust - Frontsheet'!S147))","v":0},{"$f":"IF('Trust - Frontsheet'!T147=\"\",0,('Trust - Frontsheet'!T147))","v":0},{"$f":"'Trust - Frontsheet'!U147","v":0},{"$f":"IF('Trust - Frontsheet'!V147=\"\",0,('Trust - Frontsheet'!V147))","v":0},{"$f":"IF('Trust - Frontsheet'!W147=\"\",0,('Trust - Frontsheet'!W147))","v":0},{"$f":"IF('Trust - Frontsheet'!X147=\"\",0,('Trust - Frontsheet'!X147))","v":0},{"$f":"IF(A135=\"\",\"\",(IF(ISBLANK('Trust - Frontsheet'!F9),\"\",'Trust - Frontsheet'!F9)))","v":""}]
[{"$f":"IF('Trust - Frontsheet'!D148=0,\"\",IF('Trust - Frontsheet'!D148=\"\",\"\",'Trust - Frontsheet'!D148))","v":""},{"$f":"IF(ISBLANK('Trust - Frontsheet'!E148),\"\",'Trust - Frontsheet'!E148)","v":""},{"$f":"IF(ISBLANK('Trust - Frontsheet'!F148),\"\",'Trust - Frontsheet'!F148)","v":""},{"$f":"IF(ISBLANK('Trust - Frontsheet'!G148),\"\",'Trust - Frontsheet'!G148)","v":""},{"$f":"IF(ISBLANK('Trust - Frontsheet'!H148),\"\",'Trust - Frontsheet'!H148)","v":""},{"$f":"'Trust - Frontsheet'!I148","v":0},{"$f":"'Trust - Frontsheet'!J148","v":0},{"$f":"'Trust - Frontsheet'!K148","v":0},{"$f":"'Trust - Frontsheet'!L148","v":0},{"$f":"'Trust - Frontsheet'!M148","v":0},{"$f":"'Trust - Frontsheet'!N148","v":0},{"$f":"'Trust - Frontsheet'!O148","v":0},{"$f":"'Trust - Frontsheet'!P148","v":0},{"$f":"IF('Trust - Frontsheet'!Q148=\"\",0,('Trust - Frontsheet'!Q148))","v":0},{"$f":"IF('Trust - Frontsheet'!R148=\"\",0,('Trust - Frontsheet'!R148))","v":0},{"$f":"IF('Trust - Frontsheet'!S148=\"\",0,('Trust - Frontsheet'!S148))","v":0},{"$f":"IF('Trust - Frontsheet'!T148=\"\",0,('Trust - Frontsheet'!T148))","v":0},{"$f":"'Trust - Frontsheet'!U148","v":0},{"$f":"IF('Trust - Frontsheet'!V148=\"\",0,('Trust - Frontsheet'!V148))","v":0},{"$f":"IF('Trust - Frontsheet'!W148=\"\",0,('Trust - Frontsheet'!W148))","v":0},{"$f":"IF('Trust - Frontsheet'!X148=\"\",0,('Trust - Frontsheet'!X148))","v":0},{"$f":"IF(A136=\"\",\"\",(IF(ISBLANK('Trust - Frontsheet'!F9),\"\",'Trust - Frontsheet'!F9)))","v":""}]
[{"$f":"IF('Trust - Frontsheet'!D149=0,\"\",IF('Trust - Frontsheet'!D149=\"\",\"\",'Trust - Frontsheet'!D149))","v":""},{"$f":"IF(ISBLANK('Trust - Frontsheet'!E149),\"\",'Trust - Frontsheet'!E149)","v":""},{"$f":"IF(ISBLANK('Trust - Frontsheet'!F149),\"\",'Trust - Frontsheet'!F149)","v":""},{"$f":"IF(ISBLANK('Trust - Frontsheet'!G149),\"\",'Trust - Frontsheet'!G149)","v":""},{"$f":"IF(ISBLANK('Trust - Frontsheet'!H149),\"\",'Trust - Frontsheet'!H149)","v":""},{"$f":"'Trust - Frontsheet'!I149","v":0},{"$f":"'Trust - Frontsheet'!J149","v":0},{"$f":"'Trust - Frontsheet'!K149","v":0},{"$f":"'Trust - Frontsheet'!L149","v":0},{"$f":"'Trust - Frontsheet'!M149","v":0},{"$f":"'Trust - Frontsheet'!N149","v":0},{"$f":"'Trust - Frontsheet'!O149","v":0},{"$f":"'Trust - Frontsheet'!P149","v":0},{"$f":"IF('Trust - Frontsheet'!Q149=\"\",0,('Trust - Frontsheet'!Q149))","v":0},{"$f":"IF('Trust - Frontsheet'!R149=\"\",0,('Trust - Frontsheet'!R149))","v":0},{"$f":"IF('Trust - Frontsheet'!S149=\"\",0,('Trust - Frontsheet'!S149))","v":0},{"$f":"IF('Trust - Frontsheet'!T149=\"\",0,('Trust - Frontsheet'!T149))","v":0},{"$f":"'Trust - Frontsheet'!U149","v":0},{"$f":"IF('Trust - Frontsheet'!V149=\"\",0,('Trust - Frontsheet'!V149))","v":0},{"$f":"IF('Trust - Frontsheet'!W149=\"\",0,('Trust - Frontsheet'!W149))","v":0},{"$f":"IF('Trust - Frontsheet'!X149=\"\",0,('Trust - Frontsheet'!X149))","v":0},{"$f":"IF(A137=\"\",\"\",(IF(ISBLANK('Trust - Frontsheet'!F9),\"\",'Trust - Frontsheet'!F9)))","v":""}]
[{"$f":"IF('Trust - Frontsheet'!D150=0,\"\",IF('Trust - Frontsheet'!D150=\"\",\"\",'Trust - Frontsheet'!D150))","v":""},{"$f":"IF(ISBLANK('Trust - Frontsheet'!E150),\"\",'Trust - Frontsheet'!E150)","v":""},{"$f":"IF(ISBLANK('Trust - Frontsheet'!F150),\"\",'Trust - Frontsheet'!F150)","v":""},{"$f":"IF(ISBLANK('Trust - Frontsheet'!G150),\"\",'Trust - Frontsheet'!G150)","v":""},{"$f":"IF(ISBLANK('Trust - Frontsheet'!H150),\"\",'Trust - Frontsheet'!H150)","v":""},{"$f":"'Trust - Frontsheet'!I150","v":0},{"$f":"'Trust - Frontsheet'!J150","v":0},{"$f":"'Trust - Frontsheet'!K150","v":0},{"$f":"'Trust - Frontsheet'!L150","v":0},{"$f":"'Trust - Frontsheet'!M150","v":0},{"$f":"'Trust - Frontsheet'!N150","v":0},{"$f":"'Trust - Frontsheet'!O150","v":0},{"$f":"'Trust - Frontsheet'!P150","v":0},{"$f":"IF('Trust - Frontsheet'!Q150=\"\",0,('Trust - Frontsheet'!Q150))","v":0},{"$f":"IF('Trust - Frontsheet'!R150=\"\",0,('Trust - Frontsheet'!R150))","v":0},{"$f":"IF('Trust - Frontsheet'!S150=\"\",0,('Trust - Frontsheet'!S150))","v":0},{"$f":"IF('Trust - Frontsheet'!T150=\"\",0,('Trust - Frontsheet'!T150))","v":0},{"$f":"'Trust - Frontsheet'!U150","v":0},{"$f":"IF('Trust - Frontsheet'!V150=\"\",0,('Trust - Frontsheet'!V150))","v":0},{"$f":"IF('Trust - Frontsheet'!W150=\"\",0,('Trust - Frontsheet'!W150))","v":0},{"$f":"IF('Trust - Frontsheet'!X150=\"\",0,('Trust - Frontsheet'!X150))","v":0},{"$f":"IF(A138=\"\",\"\",(IF(ISBLANK('Trust - Frontsheet'!F9),\"\",'Trust - Frontsheet'!F9)))","v":""}]
[{"$f":"IF('Trust - Frontsheet'!D151=0,\"\",IF('Trust - Frontsheet'!D151=\"\",\"\",'Trust - Frontsheet'!D151))","v":""},{"$f":"IF(ISBLANK('Trust - Frontsheet'!E151),\"\",'Trust - Frontsheet'!E151)","v":""},{"$f":"IF(ISBLANK('Trust - Frontsheet'!F151),\"\",'Trust - Frontsheet'!F151)","v":""},{"$f":"IF(ISBLANK('Trust - Frontsheet'!G151),\"\",'Trust - Frontsheet'!G151)","v":""},{"$f":"IF(ISBLANK('Trust - Frontsheet'!H151),\"\",'Trust - Frontsheet'!H151)","v":""},{"$f":"'Trust - Frontsheet'!I151","v":0},{"$f":"'Trust - Frontsheet'!J151","v":0},{"$f":"'Trust - Frontsheet'!K151","v":0},{"$f":"'Trust - Frontsheet'!L151","v":0},{"$f":"'Trust - Frontsheet'!M151","v":0},{"$f":"'Trust - Frontsheet'!N151","v":0},{"$f":"'Trust - Frontsheet'!O151","v":0},{"$f":"'Trust - Frontsheet'!P151","v":0},{"$f":"IF('Trust - Frontsheet'!Q151=\"\",0,('Trust - Frontsheet'!Q151))","v":0},{"$f":"IF('Trust - Frontsheet'!R151=\"\",0,('Trust - Frontsheet'!R151))","v":0},{"$f":"IF('Trust - Frontsheet'!S151=\"\",0,('Trust - Frontsheet'!S151))","v":0},{"$f":"IF('Trust - Frontsheet'!T151=\"\",0,('Trust - Frontsheet'!T151))","v":0},{"$f":"'Trust - Frontsheet'!U151","v":0},{"$f":"IF('Trust - Frontsheet'!V151=\"\",0,('Trust - Frontsheet'!V151))","v":0},{"$f":"IF('Trust - Frontsheet'!W151=\"\",0,('Trust - Frontsheet'!W151))","v":0},{"$f":"IF('Trust - Frontsheet'!X151=\"\",0,('Trust - Frontsheet'!X151))","v":0},{"$f":"IF(A139=\"\",\"\",(IF(ISBLANK('Trust - Frontsheet'!F9),\"\",'Trust - Frontsheet'!F9)))","v":""}]
[{"$f":"IF('Trust - Frontsheet'!D152=0,\"\",IF('Trust - Frontsheet'!D152=\"\",\"\",'Trust - Frontsheet'!D152))","v":""},{"$f":"IF(ISBLANK('Trust - Frontsheet'!E152),\"\",'Trust - Frontsheet'!E152)","v":""},{"$f":"IF(ISBLANK('Trust - Frontsheet'!F152),\"\",'Trust - Frontsheet'!F152)","v":""},{"$f":"IF(ISBLANK('Trust - Frontsheet'!G152),\"\",'Trust - Frontsheet'!G152)","v":""},{"$f":"IF(ISBLANK('Trust - Frontsheet'!H152),\"\",'Trust - Frontsheet'!H152)","v":""},{"$f":"'Trust - Frontsheet'!I152","v":0},{"$f":"'Trust - Frontsheet'!J152","v":0},{"$f":"'Trust - Frontsheet'!K152","v":0},{"$f":"'Trust - Frontsheet'!L152","v":0},{"$f":"'Trust - Frontsheet'!M152","v":0},{"$f":"'Trust - Frontsheet'!N152","v":0},{"$f":"'Trust - Frontsheet'!O152","v":0},{"$f":"'Trust - Frontsheet'!P152","v":0},{"$f":"IF('Trust - Frontsheet'!Q152=\"\",0,('Trust - Frontsheet'!Q152))","v":0},{"$f":"IF('Trust - Frontsheet'!R152=\"\",0,('Trust - Frontsheet'!R152))","v":0},{"$f":"IF('Trust - Frontsheet'!S152=\"\",0,('Trust - Frontsheet'!S152))","v":0},{"$f":"IF('Trust - Frontsheet'!T152=\"\",0,('Trust - Frontsheet'!T152))","v":0},{"$f":"'Trust - Frontsheet'!U152","v":0},{"$f":"IF('Trust - Frontsheet'!V152=\"\",0,('Trust - Frontsheet'!V152))","v":0},{"$f":"IF('Trust - Frontsheet'!W152=\"\",0,('Trust - Frontsheet'!W152))","v":0},{"$f":"IF('Trust - Frontsheet'!X152=\"\",0,('Trust - Frontsheet'!X152))","v":0},{"$f":"IF(A140=\"\",\"\",(IF(ISBLANK('Trust - Frontsheet'!F9),\"\",'Trust - Frontsheet'!F9)))","v":""}]
[{"$f":"IF('Trust - Frontsheet'!D153=0,\"\",IF('Trust - Frontsheet'!D153=\"\",\"\",'Trust - Frontsheet'!D153))","v":""},{"$f":"IF(ISBLANK('Trust - Frontsheet'!E153),\"\",'Trust - Frontsheet'!E153)","v":""},{"$f":"IF(ISBLANK('Trust - Frontsheet'!F153),\"\",'Trust - Frontsheet'!F153)","v":""},{"$f":"IF(ISBLANK('Trust - Frontsheet'!G153),\"\",'Trust - Frontsheet'!G153)","v":""},{"$f":"IF(ISBLANK('Trust - Frontsheet'!H153),\"\",'Trust - Frontsheet'!H153)","v":""},{"$f":"'Trust - Frontsheet'!I153","v":0},{"$f":"'Trust - Frontsheet'!J153","v":0},{"$f":"'Trust - Frontsheet'!K153","v":0},{"$f":"'Trust - Frontsheet'!L153","v":0},{"$f":"'Trust - Frontsheet'!M153","v":0},{"$f":"'Trust - Frontsheet'!N153","v":0},{"$f":"'Trust - Frontsheet'!O153","v":0},{"$f":"'Trust - Frontsheet'!P153","v":0},{"$f":"IF('Trust - Frontsheet'!Q153=\"\",0,('Trust - Frontsheet'!Q153))","v":0},{"$f":"IF('Trust - Frontsheet'!R153=\"\",0,('Trust - Frontsheet'!R153))","v":0},{"$f":"IF('Trust - Frontsheet'!S153=\"\",0,('Trust - Frontsheet'!S153))","v":0},{"$f":"IF('Trust - Frontsheet'!T153=\"\",0,('Trust - Frontsheet'!T153))","v":0},{"$f":"'Trust - Frontsheet'!U153","v":0},{"$f":"IF('Trust - Frontsheet'!V153=\"\",0,('Trust - Frontsheet'!V153))","v":0},{"$f":"IF('Trust - Frontsheet'!W153=\"\",0,('Trust - Frontsheet'!W153))","v":0},{"$f":"IF('Trust - Frontsheet'!X153=\"\",0,('Trust - Frontsheet'!X153))","v":0},{"$f":"IF(A141=\"\",\"\",(IF(ISBLANK('Trust - Frontsheet'!F9),\"\",'Trust - Frontsheet'!F9)))","v":""}]
[{"$f":"IF('Trust - Frontsheet'!D154=0,\"\",IF('Trust - Frontsheet'!D154=\"\",\"\",'Trust - Frontsheet'!D154))","v":""},{"$f":"IF(ISBLANK('Trust - Frontsheet'!E154),\"\",'Trust - Frontsheet'!E154)","v":""},{"$f":"IF(ISBLANK('Trust - Frontsheet'!F154),\"\",'Trust - Frontsheet'!F154)","v":""},{"$f":"IF(ISBLANK('Trust - Frontsheet'!G154),\"\",'Trust - Frontsheet'!G154)","v":""},{"$f":"IF(ISBLANK('Trust - Frontsheet'!H154),\"\",'Trust - Frontsheet'!H154)","v":""},{"$f":"'Trust - Frontsheet'!I154","v":0},{"$f":"'Trust - Frontsheet'!J154","v":0},{"$f":"'Trust - Frontsheet'!K154","v":0},{"$f":"'Trust - Frontsheet'!L154","v":0},{"$f":"'Trust - Frontsheet'!M154","v":0},{"$f":"'Trust - Frontsheet'!N154","v":0},{"$f":"'Trust - Frontsheet'!O154","v":0},{"$f":"'Trust - Frontsheet'!P154","v":0},{"$f":"IF('Trust - Frontsheet'!Q154=\"\",0,('Trust - Frontsheet'!Q154))","v":0},{"$f":"IF('Trust - Frontsheet'!R154=\"\",0,('Trust - Frontsheet'!R154))","v":0},{"$f":"IF('Trust - Frontsheet'!S154=\"\",0,('Trust - Frontsheet'!S154))","v":0},{"$f":"IF('Trust - Frontsheet'!T154=\"\",0,('Trust - Frontsheet'!T154))","v":0},{"$f":"'Trust - Frontsheet'!U154","v":0},{"$f":"IF('Trust - Frontsheet'!V154=\"\",0,('Trust - Frontsheet'!V154))","v":0},{"$f":"IF('Trust - Frontsheet'!W154=\"\",0,('Trust - Frontsheet'!W154))","v":0},{"$f":"IF('Trust - Frontsheet'!X154=\"\",0,('Trust - Frontsheet'!X154))","v":0},{"$f":"IF(A142=\"\",\"\",(IF(ISBLANK('Trust - Frontsheet'!F9),\"\",'Trust - Frontsheet'!F9)))","v":""}]
[{"$f":"IF('Trust - Frontsheet'!D155=0,\"\",IF('Trust - Frontsheet'!D155=\"\",\"\",'Trust - Frontsheet'!D155))","v":""},{"$f":"IF(ISBLANK('Trust - Frontsheet'!E155),\"\",'Trust - Frontsheet'!E155)","v":""},{"$f":"IF(ISBLANK('Trust - Frontsheet'!F155),\"\",'Trust - Frontsheet'!F155)","v":""},{"$f":"IF(ISBLANK('Trust - Frontsheet'!G155),\"\",'Trust - Frontsheet'!G155)","v":""},{"$f":"IF(ISBLANK('Trust - Frontsheet'!H155),\"\",'Trust - Frontsheet'!H155)","v":""},{"$f":"'Trust - Frontsheet'!I155","v":0},{"$f":"'Trust - Frontsheet'!J155","v":0},{"$f":"'Trust - Frontsheet'!K155","v":0},{"$f":"'Trust - Frontsheet'!L155","v":0},{"$f":"'Trust - Frontsheet'!M155","v":0},{"$f":"'Trust - Frontsheet'!N155","v":0},{"$f":"'Trust - Frontsheet'!O155","v":0},{"$f":"'Trust - Frontsheet'!P155","v":0},{"$f":"IF('Trust - Frontsheet'!Q155=\"\",0,('Trust - Frontsheet'!Q155))","v":0},{"$f":"IF('Trust - Frontsheet'!R155=\"\",0,('Trust - Frontsheet'!R155))","v":0},{"$f":"IF('Trust - Frontsheet'!S155=\"\",0,('Trust - Frontsheet'!S155))","v":0},{"$f":"IF('Trust - Frontsheet'!T155=\"\",0,('Trust - Frontsheet'!T155))","v":0},{"$f":"'Trust - Frontsheet'!U155","v":0},{"$f":"IF('Trust - Frontsheet'!V155=\"\",0,('Trust - Frontsheet'!V155))","v":0},{"$f":"IF('Trust - Frontsheet'!W155=\"\",0,('Trust - Frontsheet'!W155))","v":0},{"$f":"IF('Trust - Frontsheet'!X155=\"\",0,('Trust - Frontsheet'!X155))","v":0},{"$f":"IF(A143=\"\",\"\",(IF(ISBLANK('Trust - Frontsheet'!F9),\"\",'Trust - Frontsheet'!F9)))","v":""}]
[{"$f":"IF('Trust - Frontsheet'!D156=0,\"\",IF('Trust - Frontsheet'!D156=\"\",\"\",'Trust - Frontsheet'!D156))","v":""},{"$f":"IF(ISBLANK('Trust - Frontsheet'!E156),\"\",'Trust - Frontsheet'!E156)","v":""},{"$f":"IF(ISBLANK('Trust - Frontsheet'!F156),\"\",'Trust - Frontsheet'!F156)","v":""},{"$f":"IF(ISBLANK('Trust - Frontsheet'!G156),\"\",'Trust - Frontsheet'!G156)","v":""},{"$f":"IF(ISBLANK('Trust - Frontsheet'!H156),\"\",'Trust - Frontsheet'!H156)","v":""},{"$f":"'Trust - Frontsheet'!I156","v":0},{"$f":"'Trust - Frontsheet'!J156","v":0},{"$f":"'Trust - Frontsheet'!K156","v":0},{"$f":"'Trust - Frontsheet'!L156","v":0},{"$f":"'Trust - Frontsheet'!M156","v":0},{"$f":"'Trust - Frontsheet'!N156","v":0},{"$f":"'Trust - Frontsheet'!O156","v":0},{"$f":"'Trust - Frontsheet'!P156","v":0},{"$f":"IF('Trust - Frontsheet'!Q156=\"\",0,('Trust - Frontsheet'!Q156))","v":0},{"$f":"IF('Trust - Frontsheet'!R156=\"\",0,('Trust - Frontsheet'!R156))","v":0},{"$f":"IF('Trust - Frontsheet'!S156=\"\",0,('Trust - Frontsheet'!S156))","v":0},{"$f":"IF('Trust - Frontsheet'!T156=\"\",0,('Trust - Frontsheet'!T156))","v":0},{"$f":"'Trust - Frontsheet'!U156","v":0},{"$f":"IF('Trust - Frontsheet'!V156=\"\",0,('Trust - Frontsheet'!V156))","v":0},{"$f":"IF('Trust - Frontsheet'!W156=\"\",0,('Trust - Frontsheet'!W156))","v":0},{"$f":"IF('Trust - Frontsheet'!X156=\"\",0,('Trust - Frontsheet'!X156))","v":0},{"$f":"IF(A144=\"\",\"\",(IF(ISBLANK('Trust - Frontsheet'!F9),\"\",'Trust - Frontsheet'!F9)))","v":""}]
[{"$f":"IF('Trust - Frontsheet'!D157=0,\"\",IF('Trust - Frontsheet'!D157=\"\",\"\",'Trust - Frontsheet'!D157))","v":""},{"$f":"IF(ISBLANK('Trust - Frontsheet'!E157),\"\",'Trust - Frontsheet'!E157)","v":""},{"$f":"IF(ISBLANK('Trust - Frontsheet'!F157),\"\",'Trust - Frontsheet'!F157)","v":""},{"$f":"IF(ISBLANK('Trust - Frontsheet'!G157),\"\",'Trust - Frontsheet'!G157)","v":""},{"$f":"IF(ISBLANK('Trust - Frontsheet'!H157),\"\",'Trust - Frontsheet'!H157)","v":""},{"$f":"'Trust - Frontsheet'!I157","v":0},{"$f":"'Trust - Frontsheet'!J157","v":0},{"$f":"'Trust - Frontsheet'!K157","v":0},{"$f":"'Trust - Frontsheet'!L157","v":0},{"$f":"'Trust - Frontsheet'!M157","v":0},{"$f":"'Trust - Frontsheet'!N157","v":0},{"$f":"'Trust - Frontsheet'!O157","v":0},{"$f":"'Trust - Frontsheet'!P157","v":0},{"$f":"IF('Trust - Frontsheet'!Q157=\"\",0,('Trust - Frontsheet'!Q157))","v":0},{"$f":"IF('Trust - Frontsheet'!R157=\"\",0,('Trust - Frontsheet'!R157))","v":0},{"$f":"IF('Trust - Frontsheet'!S157=\"\",0,('Trust - Frontsheet'!S157))","v":0},{"$f":"IF('Trust - Frontsheet'!T157=\"\",0,('Trust - Frontsheet'!T157))","v":0},{"$f":"'Trust - Frontsheet'!U157","v":0},{"$f":"IF('Trust - Frontsheet'!V157=\"\",0,('Trust - Frontsheet'!V157))","v":0},{"$f":"IF('Trust - Frontsheet'!W157=\"\",0,('Trust - Frontsheet'!W157))","v":0},{"$f":"IF('Trust - Frontsheet'!X157=\"\",0,('Trust - Frontsheet'!X157))","v":0},{"$f":"IF(A145=\"\",\"\",(IF(ISBLANK('Trust - Frontsheet'!F9),\"\",'Trust - Frontsheet'!F9)))","v":""}]
[{"$f":"IF('Trust - Frontsheet'!D158=0,\"\",IF('Trust - Frontsheet'!D158=\"\",\"\",'Trust - Frontsheet'!D158))","v":""},{"$f":"IF(ISBLANK('Trust - Frontsheet'!E158),\"\",'Trust - Frontsheet'!E158)","v":""},{"$f":"IF(ISBLANK('Trust - Frontsheet'!F158),\"\",'Trust - Frontsheet'!F158)","v":""},{"$f":"IF(ISBLANK('Trust - Frontsheet'!G158),\"\",'Trust - Frontsheet'!G158)","v":""},{"$f":"IF(ISBLANK('Trust - Frontsheet'!H158),\"\",'Trust - Frontsheet'!H158)","v":""},{"$f":"'Trust - Frontsheet'!I158","v":0},{"$f":"'Trust - Frontsheet'!J158","v":0},{"$f":"'Trust - Frontsheet'!K158","v":0},{"$f":"'Trust - Frontsheet'!L158","v":0},{"$f":"'Trust - Frontsheet'!M158","v":0},{"$f":"'Trust - Frontsheet'!N158","v":0},{"$f":"'Trust - Frontsheet'!O158","v":0},{"$f":"'Trust - Frontsheet'!P158","v":0},{"$f":"IF('Trust - Frontsheet'!Q158=\"\",0,('Trust - Frontsheet'!Q158))","v":0},{"$f":"IF('Trust - Frontsheet'!R158=\"\",0,('Trust - Frontsheet'!R158))","v":0},{"$f":"IF('Trust - Frontsheet'!S158=\"\",0,('Trust - Frontsheet'!S158))","v":0},{"$f":"IF('Trust - Frontsheet'!T158=\"\",0,('Trust - Frontsheet'!T158))","v":0},{"$f":"'Trust - Frontsheet'!U158","v":0},{"$f":"IF('Trust - Frontsheet'!V158=\"\",0,('Trust - Frontsheet'!V158))","v":0},{"$f":"IF('Trust - Frontsheet'!W158=\"\",0,('Trust - Frontsheet'!W158))","v":0},{"$f":"IF('Trust - Frontsheet'!X158=\"\",0,('Trust - Frontsheet'!X158))","v":0},{"$f":"IF(A146=\"\",\"\",(IF(ISBLANK('Trust - Frontsheet'!F9),\"\",'Trust - Frontsheet'!F9)))","v":""}]
[{"$f":"IF('Trust - Frontsheet'!D159=0,\"\",IF('Trust - Frontsheet'!D159=\"\",\"\",'Trust - Frontsheet'!D159))","v":""},{"$f":"IF(ISBLANK('Trust - Frontsheet'!E159),\"\",'Trust - Frontsheet'!E159)","v":""},{"$f":"IF(ISBLANK('Trust - Frontsheet'!F159),\"\",'Trust - Frontsheet'!F159)","v":""},{"$f":"IF(ISBLANK('Trust - Frontsheet'!G159),\"\",'Trust - Frontsheet'!G159)","v":""},{"$f":"IF(ISBLANK('Trust - Frontsheet'!H159),\"\",'Trust - Frontsheet'!H159)","v":""},{"$f":"'Trust - Frontsheet'!I159","v":0},{"$f":"'Trust - Frontsheet'!J159","v":0},{"$f":"'Trust - Frontsheet'!K159","v":0},{"$f":"'Trust - Frontsheet'!L159","v":0},{"$f":"'Trust - Frontsheet'!M159","v":0},{"$f":"'Trust - Frontsheet'!N159","v":0},{"$f":"'Trust - Frontsheet'!O159","v":0},{"$f":"'Trust - Frontsheet'!P159","v":0},{"$f":"IF('Trust - Frontsheet'!Q159=\"\",0,('Trust - Frontsheet'!Q159))","v":0},{"$f":"IF('Trust - Frontsheet'!R159=\"\",0,('Trust - Frontsheet'!R159))","v":0},{"$f":"IF('Trust - Frontsheet'!S159=\"\",0,('Trust - Frontsheet'!S159))","v":0},{"$f":"IF('Trust - Frontsheet'!T159=\"\",0,('Trust - Frontsheet'!T159))","v":0},{"$f":"'Trust - Frontsheet'!U159","v":0},{"$f":"IF('Trust - Frontsheet'!V159=\"\",0,('Trust - Frontsheet'!V159))","v":0},{"$f":"IF('Trust - Frontsheet'!W159=\"\",0,('Trust - Frontsheet'!W159))","v":0},{"$f":"IF('Trust - Frontsheet'!X159=\"\",0,('Trust - Frontsheet'!X159))","v":0},{"$f":"IF(A147=\"\",\"\",(IF(ISBLANK('Trust - Frontsheet'!F9),\"\",'Trust - Frontsheet'!F9)))","v":""}]
[{"$f":"IF('Trust - Frontsheet'!D160=0,\"\",IF('Trust - Frontsheet'!D160=\"\",\"\",'Trust - Frontsheet'!D160))","v":""},{"$f":"IF(ISBLANK('Trust - Frontsheet'!E160),\"\",'Trust - Frontsheet'!E160)","v":""},{"$f":"IF(ISBLANK('Trust - Frontsheet'!F160),\"\",'Trust - Frontsheet'!F160)","v":""},{"$f":"IF(ISBLANK('Trust - Frontsheet'!G160),\"\",'Trust - Frontsheet'!G160)","v":""},{"$f":"IF(ISBLANK('Trust - Frontsheet'!H160),\"\",'Trust - Frontsheet'!H160)","v":""},{"$f":"'Trust - Frontsheet'!I160","v":0},{"$f":"'Trust - Frontsheet'!J160","v":0},{"$f":"'Trust - Frontsheet'!K160","v":0},{"$f":"'Trust - Frontsheet'!L160","v":0},{"$f":"'Trust - Frontsheet'!M160","v":0},{"$f":"'Trust - Frontsheet'!N160","v":0},{"$f":"'Trust - Frontsheet'!O160","v":0},{"$f":"'Trust - Frontsheet'!P160","v":0},{"$f":"IF('Trust - Frontsheet'!Q160=\"\",0,('Trust - Frontsheet'!Q160))","v":0},{"$f":"IF('Trust - Frontsheet'!R160=\"\",0,('Trust - Frontsheet'!R160))","v":0},{"$f":"IF('Trust - Frontsheet'!S160=\"\",0,('Trust - Frontsheet'!S160))","v":0},{"$f":"IF('Trust - Frontsheet'!T160=\"\",0,('Trust - Frontsheet'!T160))","v":0},{"$f":"'Trust - Frontsheet'!U160","v":0},{"$f":"IF('Trust - Frontsheet'!V160=\"\",0,('Trust - Frontsheet'!V160))","v":0},{"$f":"IF('Trust - Frontsheet'!W160=\"\",0,('Trust - Frontsheet'!W160))","v":0},{"$f":"IF('Trust - Frontsheet'!X160=\"\",0,('Trust - Frontsheet'!X160))","v":0},{"$f":"IF(A148=\"\",\"\",(IF(ISBLANK('Trust - Frontsheet'!F9),\"\",'Trust - Frontsheet'!F9)))","v":""}]
[{"$f":"IF('Trust - Frontsheet'!D161=0,\"\",IF('Trust - Frontsheet'!D161=\"\",\"\",'Trust - Frontsheet'!D161))","v":""},{"$f":"IF(ISBLANK('Trust - Frontsheet'!E161),\"\",'Trust - Frontsheet'!E161)","v":""},{"$f":"IF(ISBLANK('Trust - Frontsheet'!F161),\"\",'Trust - Frontsheet'!F161)","v":""},{"$f":"IF(ISBLANK('Trust - Frontsheet'!G161),\"\",'Trust - Frontsheet'!G161)","v":""},{"$f":"IF(ISBLANK('Trust - Frontsheet'!H161),\"\",'Trust - Frontsheet'!H161)","v":""},{"$f":"'Trust - Frontsheet'!I161","v":0},{"$f":"'Trust - Frontsheet'!J161","v":0},{"$f":"'Trust - Frontsheet'!K161","v":0},{"$f":"'Trust - Frontsheet'!L161","v":0},{"$f":"'Trust - Frontsheet'!M161","v":0},{"$f":"'Trust - Frontsheet'!N161","v":0},{"$f":"'Trust - Frontsheet'!O161","v":0},{"$f":"'Trust - Frontsheet'!P161","v":0},{"$f":"IF('Trust - Frontsheet'!Q161=\"\",0,('Trust - Frontsheet'!Q161))","v":0},{"$f":"IF('Trust - Frontsheet'!R161=\"\",0,('Trust - Frontsheet'!R161))","v":0},{"$f":"IF('Trust - Frontsheet'!S161=\"\",0,('Trust - Frontsheet'!S161))","v":0},{"$f":"IF('Trust - Frontsheet'!T161=\"\",0,('Trust - Frontsheet'!T161))","v":0},{"$f":"'Trust - Frontsheet'!U161","v":0},{"$f":"IF('Trust - Frontsheet'!V161=\"\",0,('Trust - Frontsheet'!V161))","v":0},{"$f":"IF('Trust - Frontsheet'!W161=\"\",0,('Trust - Frontsheet'!W161))","v":0},{"$f":"IF('Trust - Frontsheet'!X161=\"\",0,('Trust - Frontsheet'!X161))","v":0},{"$f":"IF(A149=\"\",\"\",(IF(ISBLANK('Trust - Frontsheet'!F9),\"\",'Trust - Frontsheet'!F9)))","v":""}]
[{"$f":"IF('Trust - Frontsheet'!D162=0,\"\",IF('Trust - Frontsheet'!D162=\"\",\"\",'Trust - Frontsheet'!D162))","v":""},{"$f":"IF(ISBLANK('Trust - Frontsheet'!E162),\"\",'Trust - Frontsheet'!E162)","v":""},{"$f":"IF(ISBLANK('Trust - Frontsheet'!F162),\"\",'Trust - Frontsheet'!F162)","v":""},{"$f":"IF(ISBLANK('Trust - Frontsheet'!G162),\"\",'Trust - Frontsheet'!G162)","v":""},{"$f":"IF(ISBLANK('Trust - Frontsheet'!H162),\"\",'Trust - Frontsheet'!H162)","v":""},{"$f":"'Trust - Frontsheet'!I162","v":0},{"$f":"'Trust - Frontsheet'!J162","v":0},{"$f":"'Trust - Frontsheet'!K162","v":0},{"$f":"'Trust - Frontsheet'!L162","v":0},{"$f":"'Trust - Frontsheet'!M162","v":0},{"$f":"'Trust - Frontsheet'!N162","v":0},{"$f":"'Trust - Frontsheet'!O162","v":0},{"$f":"'Trust - Frontsheet'!P162","v":0},{"$f":"IF('Trust - Frontsheet'!Q162=\"\",0,('Trust - Frontsheet'!Q162))","v":0},{"$f":"IF('Trust - Frontsheet'!R162=\"\",0,('Trust - Frontsheet'!R162))","v":0},{"$f":"IF('Trust - Frontsheet'!S162=\"\",0,('Trust - Frontsheet'!S162))","v":0},{"$f":"IF('Trust - Frontsheet'!T162=\"\",0,('Trust - Frontsheet'!T162))","v":0},{"$f":"'Trust - Frontsheet'!U162","v":0},{"$f":"IF('Trust - Frontsheet'!V162=\"\",0,('Trust - Frontsheet'!V162))","v":0},{"$f":"IF('Trust - Frontsheet'!W162=\"\",0,('Trust - Frontsheet'!W162))","v":0},{"$f":"IF('Trust - Frontsheet'!X162=\"\",0,('Trust - Frontsheet'!X162))","v":0},{"$f":"IF(A150=\"\",\"\",(IF(ISBLANK('Trust - Frontsheet'!F9),\"\",'Trust - Frontsheet'!F9)))","v":""}]
[{"$f":"IF('Trust - Frontsheet'!D163=0,\"\",IF('Trust - Frontsheet'!D163=\"\",\"\",'Trust - Frontsheet'!D163))","v":""},{"$f":"IF(ISBLANK('Trust - Frontsheet'!E163),\"\",'Trust - Frontsheet'!E163)","v":""},{"$f":"IF(ISBLANK('Trust - Frontsheet'!F163),\"\",'Trust - Frontsheet'!F163)","v":""},{"$f":"IF(ISBLANK('Trust - Frontsheet'!G163),\"\",'Trust - Frontsheet'!G163)","v":""},{"$f":"IF(ISBLANK('Trust - Frontsheet'!H163),\"\",'Trust - Frontsheet'!H163)","v":""},{"$f":"'Trust - Frontsheet'!I163","v":0},{"$f":"'Trust - Frontsheet'!J163","v":0},{"$f":"'Trust - Frontsheet'!K163","v":0},{"$f":"'Trust - Frontsheet'!L163","v":0},{"$f":"'Trust - Frontsheet'!M163","v":0},{"$f":"'Trust - Frontsheet'!N163","v":0},{"$f":"'Trust - Frontsheet'!O163","v":0},{"$f":"'Trust - Frontsheet'!P163","v":0},{"$f":"IF('Trust - Frontsheet'!Q163=\"\",0,('Trust - Frontsheet'!Q163))","v":0},{"$f":"IF('Trust - Frontsheet'!R163=\"\",0,('Trust - Frontsheet'!R163))","v":0},{"$f":"IF('Trust - Frontsheet'!S163=\"\",0,('Trust - Frontsheet'!S163))","v":0},{"$f":"IF('Trust - Frontsheet'!T163=\"\",0,('Trust - Frontsheet'!T163))","v":0},{"$f":"'Trust - Frontsheet'!U163","v":0},{"$f":"IF('Trust - Frontsheet'!V163=\"\",0,('Trust - Frontsheet'!V163))","v":0},{"$f":"IF('Trust - Frontsheet'!W163=\"\",0,('Trust - Frontsheet'!W163))","v":0},{"$f":"IF('Trust - Frontsheet'!X163=\"\",0,('Trust - Frontsheet'!X163))","v":0},{"$f":"IF(A151=\"\",\"\",(IF(ISBLANK('Trust - Frontsheet'!F9),\"\",'Trust - Frontsheet'!F9)))","v":""}]
[{"$f":"IF('Trust - Frontsheet'!D164=0,\"\",IF('Trust - Frontsheet'!D164=\"\",\"\",'Trust - Frontsheet'!D164))","v":""},{"$f":"IF(ISBLANK('Trust - Frontsheet'!E164),\"\",'Trust - Frontsheet'!E164)","v":""},{"$f":"IF(ISBLANK('Trust - Frontsheet'!F164),\"\",'Trust - Frontsheet'!F164)","v":""},{"$f":"IF(ISBLANK('Trust - Frontsheet'!G164),\"\",'Trust - Frontsheet'!G164)","v":""},{"$f":"IF(ISBLANK('Trust - Frontsheet'!H164),\"\",'Trust - Frontsheet'!H164)","v":""},{"$f":"'Trust - Frontsheet'!I164","v":0},{"$f":"'Trust - Frontsheet'!J164","v":0},{"$f":"'Trust - Frontsheet'!K164","v":0},{"$f":"'Trust - Frontsheet'!L164","v":0},{"$f":"'Trust - Frontsheet'!M164","v":0},{"$f":"'Trust - Frontsheet'!N164","v":0},{"$f":"'Trust - Frontsheet'!O164","v":0},{"$f":"'Trust - Frontsheet'!P164","v":0},{"$f":"IF('Trust - Frontsheet'!Q164=\"\",0,('Trust - Frontsheet'!Q164))","v":0},{"$f":"IF('Trust - Frontsheet'!R164=\"\",0,('Trust - Frontsheet'!R164))","v":0},{"$f":"IF('Trust - Frontsheet'!S164=\"\",0,('Trust - Frontsheet'!S164))","v":0},{"$f":"IF('Trust - Frontsheet'!T164=\"\",0,('Trust - Frontsheet'!T164))","v":0},{"$f":"'Trust - Frontsheet'!U164","v":0},{"$f":"IF('Trust - Frontsheet'!V164=\"\",0,('Trust - Frontsheet'!V164))","v":0},{"$f":"IF('Trust - Frontsheet'!W164=\"\",0,('Trust - Frontsheet'!W164))","v":0},{"$f":"IF('Trust - Frontsheet'!X164=\"\",0,('Trust - Frontsheet'!X164))","v":0},{"$f":"IF(A152=\"\",\"\",(IF(ISBLANK('Trust - Frontsheet'!F9),\"\",'Trust - Frontsheet'!F9)))","v":""}]
[{"$f":"IF('Trust - Frontsheet'!D165=0,\"\",IF('Trust - Frontsheet'!D165=\"\",\"\",'Trust - Frontsheet'!D165))","v":""},{"$f":"IF(ISBLANK('Trust - Frontsheet'!E165),\"\",'Trust - Frontsheet'!E165)","v":""},{"$f":"IF(ISBLANK('Trust - Frontsheet'!F165),\"\",'Trust - Frontsheet'!F165)","v":""},{"$f":"IF(ISBLANK('Trust - Frontsheet'!G165),\"\",'Trust - Frontsheet'!G165)","v":""},{"$f":"IF(ISBLANK('Trust - Frontsheet'!H165),\"\",'Trust - Frontsheet'!H165)","v":""},{"$f":"'Trust - Frontsheet'!I165","v":0},{"$f":"'Trust - Frontsheet'!J165","v":0},{"$f":"'Trust - Frontsheet'!K165","v":0},{"$f":"'Trust - Frontsheet'!L165","v":0},{"$f":"'Trust - Frontsheet'!M165","v":0},{"$f":"'Trust - Frontsheet'!N165","v":0},{"$f":"'Trust - Frontsheet'!O165","v":0},{"$f":"'Trust - Frontsheet'!P165","v":0},{"$f":"IF('Trust - Frontsheet'!Q165=\"\",0,('Trust - Frontsheet'!Q165))","v":0},{"$f":"IF('Trust - Frontsheet'!R165=\"\",0,('Trust - Frontsheet'!R165))","v":0},{"$f":"IF('Trust - Frontsheet'!S165=\"\",0,('Trust - Frontsheet'!S165))","v":0},{"$f":"IF('Trust - Frontsheet'!T165=\"\",0,('Trust - Frontsheet'!T165))","v":0},{"$f":"'Trust - Frontsheet'!U165","v":0},{"$f":"IF('Trust - Frontsheet'!V165=\"\",0,('Trust - Frontsheet'!V165))","v":0},{"$f":"IF('Trust - Frontsheet'!W165=\"\",0,('Trust - Frontsheet'!W165))","v":0},{"$f":"IF('Trust - Frontsheet'!X165=\"\",0,('Trust - Frontsheet'!X165))","v":0},{"$f":"IF(A153=\"\",\"\",(IF(ISBLANK('Trust - Frontsheet'!F9),\"\",'Trust - Frontsheet'!F9)))","v":""}]
[{"$f":"IF('Trust - Frontsheet'!D166=0,\"\",IF('Trust - Frontsheet'!D166=\"\",\"\",'Trust - Frontsheet'!D166))","v":""},{"$f":"IF(ISBLANK('Trust - Frontsheet'!E166),\"\",'Trust - Frontsheet'!E166)","v":""},{"$f":"IF(ISBLANK('Trust - Frontsheet'!F166),\"\",'Trust - Frontsheet'!F166)","v":""},{"$f":"IF(ISBLANK('Trust - Frontsheet'!G166),\"\",'Trust - Frontsheet'!G166)","v":""},{"$f":"IF(ISBLANK('Trust - Frontsheet'!H166),\"\",'Trust - Frontsheet'!H166)","v":""},{"$f":"'Trust - Frontsheet'!I166","v":0},{"$f":"'Trust - Frontsheet'!J166","v":0},{"$f":"'Trust - Frontsheet'!K166","v":0},{"$f":"'Trust - Frontsheet'!L166","v":0},{"$f":"'Trust - Frontsheet'!M166","v":0},{"$f":"'Trust - Frontsheet'!N166","v":0},{"$f":"'Trust - Frontsheet'!O166","v":0},{"$f":"'Trust - Frontsheet'!P166","v":0},{"$f":"IF('Trust - Frontsheet'!Q166=\"\",0,('Trust - Frontsheet'!Q166))","v":0},{"$f":"IF('Trust - Frontsheet'!R166=\"\",0,('Trust - Frontsheet'!R166))","v":0},{"$f":"IF('Trust - Frontsheet'!S166=\"\",0,('Trust - Frontsheet'!S166))","v":0},{"$f":"IF('Trust - Frontsheet'!T166=\"\",0,('Trust - Frontsheet'!T166))","v":0},{"$f":"'Trust - Frontsheet'!U166","v":0},{"$f":"IF('Trust - Frontsheet'!V166=\"\",0,('Trust - Frontsheet'!V166))","v":0},{"$f":"IF('Trust - Frontsheet'!W166=\"\",0,('Trust - Frontsheet'!W166))","v":0},{"$f":"IF('Trust - Frontsheet'!X166=\"\",0,('Trust - Frontsheet'!X166))","v":0},{"$f":"IF(A154=\"\",\"\",(IF(ISBLANK('Trust - Frontsheet'!F9),\"\",'Trust - Frontsheet'!F9)))","v":""}]
[{"$f":"IF('Trust - Frontsheet'!D167=0,\"\",IF('Trust - Frontsheet'!D167=\"\",\"\",'Trust - Frontsheet'!D167))","v":""},{"$f":"IF(ISBLANK('Trust - Frontsheet'!E167),\"\",'Trust - Frontsheet'!E167)","v":""},{"$f":"IF(ISBLANK('Trust - Frontsheet'!F167),\"\",'Trust - Frontsheet'!F167)","v":""},{"$f":"IF(ISBLANK('Trust - Frontsheet'!G167),\"\",'Trust - Frontsheet'!G167)","v":""},{"$f":"IF(ISBLANK('Trust - Frontsheet'!H167),\"\",'Trust - Frontsheet'!H167)","v":""},{"$f":"'Trust - Frontsheet'!I167","v":0},{"$f":"'Trust - Frontsheet'!J167","v":0},{"$f":"'Trust - Frontsheet'!K167","v":0},{"$f":"'Trust - Frontsheet'!L167","v":0},{"$f":"'Trust - Frontsheet'!M167","v":0},{"$f":"'Trust - Frontsheet'!N167","v":0},{"$f":"'Trust - Frontsheet'!O167","v":0},{"$f":"'Trust - Frontsheet'!P167","v":0},{"$f":"IF('Trust - Frontsheet'!Q167=\"\",0,('Trust - Frontsheet'!Q167))","v":0},{"$f":"IF('Trust - Frontsheet'!R167=\"\",0,('Trust - Frontsheet'!R167))","v":0},{"$f":"IF('Trust - Frontsheet'!S167=\"\",0,('Trust - Frontsheet'!S167))","v":0},{"$f":"IF('Trust - Frontsheet'!T167=\"\",0,('Trust - Frontsheet'!T167))","v":0},{"$f":"'Trust - Frontsheet'!U167","v":0},{"$f":"IF('Trust - Frontsheet'!V167=\"\",0,('Trust - Frontsheet'!V167))","v":0},{"$f":"IF('Trust - Frontsheet'!W167=\"\",0,('Trust - Frontsheet'!W167))","v":0},{"$f":"IF('Trust - Frontsheet'!X167=\"\",0,('Trust - Frontsheet'!X167))","v":0},{"$f":"IF(A155=\"\",\"\",(IF(ISBLANK('Trust - Frontsheet'!F9),\"\",'Trust - Frontsheet'!F9)))","v":""}]
[{"$f":"IF('Trust - Frontsheet'!D168=0,\"\",IF('Trust - Frontsheet'!D168=\"\",\"\",'Trust - Frontsheet'!D168))","v":""},{"$f":"IF(ISBLANK('Trust - Frontsheet'!E168),\"\",'Trust - Frontsheet'!E168)","v":""},{"$f":"IF(ISBLANK('Trust - Frontsheet'!F168),\"\",'Trust - Frontsheet'!F168)","v":""},{"$f":"IF(ISBLANK('Trust - Frontsheet'!G168),\"\",'Trust - Frontsheet'!G168)","v":""},{"$f":"IF(ISBLANK('Trust - Frontsheet'!H168),\"\",'Trust - Frontsheet'!H168)","v":""},{"$f":"'Trust - Frontsheet'!I168","v":0},{"$f":"'Trust - Frontsheet'!J168","v":0},{"$f":"'Trust - Frontsheet'!K168","v":0},{"$f":"'Trust - Frontsheet'!L168","v":0},{"$f":"'Trust - Frontsheet'!M168","v":0},{"$f":"'Trust - Frontsheet'!N168","v":0},{"$f":"'Trust - Frontsheet'!O168","v":0},{"$f":"'Trust - Frontsheet'!P168","v":0},{"$f":"IF('Trust - Frontsheet'!Q168=\"\",0,('Trust - Frontsheet'!Q168))","v":0},{"$f":"IF('Trust - Frontsheet'!R168=\"\",0,('Trust - Frontsheet'!R168))","v":0},{"$f":"IF('Trust - Frontsheet'!S168=\"\",0,('Trust - Frontsheet'!S168))","v":0},{"$f":"IF('Trust - Frontsheet'!T168=\"\",0,('Trust - Frontsheet'!T168))","v":0},{"$f":"'Trust - Frontsheet'!U168","v":0},{"$f":"IF('Trust - Frontsheet'!V168=\"\",0,('Trust - Frontsheet'!V168))","v":0},{"$f":"IF('Trust - Frontsheet'!W168=\"\",0,('Trust - Frontsheet'!W168))","v":0},{"$f":"IF('Trust - Frontsheet'!X168=\"\",0,('Trust - Frontsheet'!X168))","v":0},{"$f":"IF(A156=\"\",\"\",(IF(ISBLANK('Trust - Frontsheet'!F9),\"\",'Trust - Frontsheet'!F9)))","v":""}]
[{"$f":"IF('Trust - Frontsheet'!D169=0,\"\",IF('Trust - Frontsheet'!D169=\"\",\"\",'Trust - Frontsheet'!D169))","v":""},{"$f":"IF(ISBLANK('Trust - Frontsheet'!E169),\"\",'Trust - Frontsheet'!E169)","v":""},{"$f":"IF(ISBLANK('Trust - Frontsheet'!F169),\"\",'Trust - Frontsheet'!F169)","v":""},{"$f":"IF(ISBLANK('Trust - Frontsheet'!G169),\"\",'Trust - Frontsheet'!G169)","v":""},{"$f":"IF(ISBLANK('Trust - Frontsheet'!H169),\"\",'Trust - Frontsheet'!H169)","v":""},{"$f":"'Trust - Frontsheet'!I169","v":0},{"$f":"'Trust - Frontsheet'!J169","v":0},{"$f":"'Trust - Frontsheet'!K169","v":0},{"$f":"'Trust - Frontsheet'!L169","v":0},{"$f":"'Trust - Frontsheet'!M169","v":0},{"$f":"'Trust - Frontsheet'!N169","v":0},{"$f":"'Trust - Frontsheet'!O169","v":0},{"$f":"'Trust - Frontsheet'!P169","v":0},{"$f":"IF('Trust - Frontsheet'!Q169=\"\",0,('Trust - Frontsheet'!Q169))","v":0},{"$f":"IF('Trust - Frontsheet'!R169=\"\",0,('Trust - Frontsheet'!R169))","v":0},{"$f":"IF('Trust - Frontsheet'!S169=\"\",0,('Trust - Frontsheet'!S169))","v":0},{"$f":"IF('Trust - Frontsheet'!T169=\"\",0,('Trust - Frontsheet'!T169))","v":0},{"$f":"'Trust - Frontsheet'!U169","v":0},{"$f":"IF('Trust - Frontsheet'!V169=\"\",0,('Trust - Frontsheet'!V169))","v":0},{"$f":"IF('Trust - Frontsheet'!W169=\"\",0,('Trust - Frontsheet'!W169))","v":0},{"$f":"IF('Trust - Frontsheet'!X169=\"\",0,('Trust - Frontsheet'!X169))","v":0},{"$f":"IF(A157=\"\",\"\",(IF(ISBLANK('Trust - Frontsheet'!F9),\"\",'Trust - Frontsheet'!F9)))","v":""}]
[{"$f":"IF('Trust - Frontsheet'!D170=0,\"\",IF('Trust - Frontsheet'!D170=\"\",\"\",'Trust - Frontsheet'!D170))","v":""},{"$f":"IF(ISBLANK('Trust - Frontsheet'!E170),\"\",'Trust - Frontsheet'!E170)","v":""},{"$f":"IF(ISBLANK('Trust - Frontsheet'!F170),\"\",'Trust - Frontsheet'!F170)","v":""},{"$f":"IF(ISBLANK('Trust - Frontsheet'!G170),\"\",'Trust - Frontsheet'!G170)","v":""},{"$f":"IF(ISBLANK('Trust - Frontsheet'!H170),\"\",'Trust - Frontsheet'!H170)","v":""},{"$f":"'Trust - Frontsheet'!I170","v":0},{"$f":"'Trust - Frontsheet'!J170","v":0},{"$f":"'Trust - Frontsheet'!K170","v":0},{"$f":"'Trust - Frontsheet'!L170","v":0},{"$f":"'Trust - Frontsheet'!M170","v":0},{"$f":"'Trust - Frontsheet'!N170","v":0},{"$f":"'Trust - Frontsheet'!O170","v":0},{"$f":"'Trust - Frontsheet'!P170","v":0},{"$f":"IF('Trust - Frontsheet'!Q170=\"\",0,('Trust - Frontsheet'!Q170))","v":0},{"$f":"IF('Trust - Frontsheet'!R170=\"\",0,('Trust - Frontsheet'!R170))","v":0},{"$f":"IF('Trust - Frontsheet'!S170=\"\",0,('Trust - Frontsheet'!S170))","v":0},{"$f":"IF('Trust - Frontsheet'!T170=\"\",0,('Trust - Frontsheet'!T170))","v":0},{"$f":"'Trust - Frontsheet'!U170","v":0},{"$f":"IF('Trust - Frontsheet'!V170=\"\",0,('Trust - Frontsheet'!V170))","v":0},{"$f":"IF('Trust - Frontsheet'!W170=\"\",0,('Trust - Frontsheet'!W170))","v":0},{"$f":"IF('Trust - Frontsheet'!X170=\"\",0,('Trust - Frontsheet'!X170))","v":0},{"$f":"IF(A158=\"\",\"\",(IF(ISBLANK('Trust - Frontsheet'!F9),\"\",'Trust - Frontsheet'!F9)))","v":""}]
[{"$f":"IF('Trust - Frontsheet'!D171=0,\"\",IF('Trust - Frontsheet'!D171=\"\",\"\",'Trust - Frontsheet'!D171))","v":""},{"$f":"IF(ISBLANK('Trust - Frontsheet'!E171),\"\",'Trust - Frontsheet'!E171)","v":""},{"$f":"IF(ISBLANK('Trust - Frontsheet'!F171),\"\",'Trust - Frontsheet'!F171)","v":""},{"$f":"IF(ISBLANK('Trust - Frontsheet'!G171),\"\",'Trust - Frontsheet'!G171)","v":""},{"$f":"IF(ISBLANK('Trust - Frontsheet'!H171),\"\",'Trust - Frontsheet'!H171)","v":""},{"$f":"'Trust - Frontsheet'!I171","v":0},{"$f":"'Trust - Frontsheet'!J171","v":0},{"$f":"'Trust - Frontsheet'!K171","v":0},{"$f":"'Trust - Frontsheet'!L171","v":0},{"$f":"'Trust - Frontsheet'!M171","v":0},{"$f":"'Trust - Frontsheet'!N171","v":0},{"$f":"'Trust - Frontsheet'!O171","v":0},{"$f":"'Trust - Frontsheet'!P171","v":0},{"$f":"IF('Trust - Frontsheet'!Q171=\"\",0,('Trust - Frontsheet'!Q171))","v":0},{"$f":"IF('Trust - Frontsheet'!R171=\"\",0,('Trust - Frontsheet'!R171))","v":0},{"$f":"IF('Trust - Frontsheet'!S171=\"\",0,('Trust - Frontsheet'!S171))","v":0},{"$f":"IF('Trust - Frontsheet'!T171=\"\",0,('Trust - Frontsheet'!T171))","v":0},{"$f":"'Trust - Frontsheet'!U171","v":0},{"$f":"IF('Trust - Frontsheet'!V171=\"\",0,('Trust - Frontsheet'!V171))","v":0},{"$f":"IF('Trust - Frontsheet'!W171=\"\",0,('Trust - Frontsheet'!W171))","v":0},{"$f":"IF('Trust - Frontsheet'!X171=\"\",0,('Trust - Frontsheet'!X171))","v":0},{"$f":"IF(A159=\"\",\"\",(IF(ISBLANK('Trust - Frontsheet'!F9),\"\",'Trust - Frontsheet'!F9)))","v":""}]
[{"$f":"IF('Trust - Frontsheet'!D172=0,\"\",IF('Trust - Frontsheet'!D172=\"\",\"\",'Trust - Frontsheet'!D172))","v":""},{"$f":"IF(ISBLANK('Trust - Frontsheet'!E172),\"\",'Trust - Frontsheet'!E172)","v":""},{"$f":"IF(ISBLANK('Trust - Frontsheet'!F172),\"\",'Trust - Frontsheet'!F172)","v":""},{"$f":"IF(ISBLANK('Trust - Frontsheet'!G172),\"\",'Trust - Frontsheet'!G172)","v":""},{"$f":"IF(ISBLANK('Trust - Frontsheet'!H172),\"\",'Trust - Frontsheet'!H172)","v":""},{"$f":"'Trust - Frontsheet'!I172","v":0},{"$f":"'Trust - Frontsheet'!J172","v":0},{"$f":"'Trust - Frontsheet'!K172","v":0},{"$f":"'Trust - Frontsheet'!L172","v":0},{"$f":"'Trust - Frontsheet'!M172","v":0},{"$f":"'Trust - Frontsheet'!N172","v":0},{"$f":"'Trust - Frontsheet'!O172","v":0},{"$f":"'Trust - Frontsheet'!P172","v":0},{"$f":"IF('Trust - Frontsheet'!Q172=\"\",0,('Trust - Frontsheet'!Q172))","v":0},{"$f":"IF('Trust - Frontsheet'!R172=\"\",0,('Trust - Frontsheet'!R172))","v":0},{"$f":"IF('Trust - Frontsheet'!S172=\"\",0,('Trust - Frontsheet'!S172))","v":0},{"$f":"IF('Trust - Frontsheet'!T172=\"\",0,('Trust - Frontsheet'!T172))","v":0},{"$f":"'Trust - Frontsheet'!U172","v":0},{"$f":"IF('Trust - Frontsheet'!V172=\"\",0,('Trust - Frontsheet'!V172))","v":0},{"$f":"IF('Trust - Frontsheet'!W172=\"\",0,('Trust - Frontsheet'!W172))","v":0},{"$f":"IF('Trust - Frontsheet'!X172=\"\",0,('Trust - Frontsheet'!X172))","v":0},{"$f":"IF(A160=\"\",\"\",(IF(ISBLANK('Trust - Frontsheet'!F9),\"\",'Trust - Frontsheet'!F9)))","v":""}]
[{"$f":"IF('Trust - Frontsheet'!D173=0,\"\",IF('Trust - Frontsheet'!D173=\"\",\"\",'Trust - Frontsheet'!D173))","v":""},{"$f":"IF(ISBLANK('Trust - Frontsheet'!E173),\"\",'Trust - Frontsheet'!E173)","v":""},{"$f":"IF(ISBLANK('Trust - Frontsheet'!F173),\"\",'Trust - Frontsheet'!F173)","v":""},{"$f":"IF(ISBLANK('Trust - Frontsheet'!G173),\"\",'Trust - Frontsheet'!G173)","v":""},{"$f":"IF(ISBLANK('Trust - Frontsheet'!H173),\"\",'Trust - Frontsheet'!H173)","v":""},{"$f":"'Trust - Frontsheet'!I173","v":0},{"$f":"'Trust - Frontsheet'!J173","v":0},{"$f":"'Trust - Frontsheet'!K173","v":0},{"$f":"'Trust - Frontsheet'!L173","v":0},{"$f":"'Trust - Frontsheet'!M173","v":0},{"$f":"'Trust - Frontsheet'!N173","v":0},{"$f":"'Trust - Frontsheet'!O173","v":0},{"$f":"'Trust - Frontsheet'!P173","v":0},{"$f":"IF('Trust - Frontsheet'!Q173=\"\",0,('Trust - Frontsheet'!Q173))","v":0},{"$f":"IF('Trust - Frontsheet'!R173=\"\",0,('Trust - Frontsheet'!R173))","v":0},{"$f":"IF('Trust - Frontsheet'!S173=\"\",0,('Trust - Frontsheet'!S173))","v":0},{"$f":"IF('Trust - Frontsheet'!T173=\"\",0,('Trust - Frontsheet'!T173))","v":0},{"$f":"'Trust - Frontsheet'!U173","v":0},{"$f":"IF('Trust - Frontsheet'!V173=\"\",0,('Trust - Frontsheet'!V173))","v":0},{"$f":"IF('Trust - Frontsheet'!W173=\"\",0,('Trust - Frontsheet'!W173))","v":0},{"$f":"IF('Trust - Frontsheet'!X173=\"\",0,('Trust - Frontsheet'!X173))","v":0},{"$f":"IF(A161=\"\",\"\",(IF(ISBLANK('Trust - Frontsheet'!F9),\"\",'Trust - Frontsheet'!F9)))","v":""}]
[{"$f":"IF('Trust - Frontsheet'!D174=0,\"\",IF('Trust - Frontsheet'!D174=\"\",\"\",'Trust - Frontsheet'!D174))","v":""},{"$f":"IF(ISBLANK('Trust - Frontsheet'!E174),\"\",'Trust - Frontsheet'!E174)","v":""},{"$f":"IF(ISBLANK('Trust - Frontsheet'!F174),\"\",'Trust - Frontsheet'!F174)","v":""},{"$f":"IF(ISBLANK('Trust - Frontsheet'!G174),\"\",'Trust - Frontsheet'!G174)","v":""},{"$f":"IF(ISBLANK('Trust - Frontsheet'!H174),\"\",'Trust - Frontsheet'!H174)","v":""},{"$f":"'Trust - Frontsheet'!I174","v":0},{"$f":"'Trust - Frontsheet'!J174","v":0},{"$f":"'Trust - Frontsheet'!K174","v":0},{"$f":"'Trust - Frontsheet'!L174","v":0},{"$f":"'Trust - Frontsheet'!M174","v":0},{"$f":"'Trust - Frontsheet'!N174","v":0},{"$f":"'Trust - Frontsheet'!O174","v":0},{"$f":"'Trust - Frontsheet'!P174","v":0},{"$f":"IF('Trust - Frontsheet'!Q174=\"\",0,('Trust - Frontsheet'!Q174))","v":0},{"$f":"IF('Trust - Frontsheet'!R174=\"\",0,('Trust - Frontsheet'!R174))","v":0},{"$f":"IF('Trust - Frontsheet'!S174=\"\",0,('Trust - Frontsheet'!S174))","v":0},{"$f":"IF('Trust - Frontsheet'!T174=\"\",0,('Trust - Frontsheet'!T174))","v":0},{"$f":"'Trust - Frontsheet'!U174","v":0},{"$f":"IF('Trust - Frontsheet'!V174=\"\",0,('Trust - Frontsheet'!V174))","v":0},{"$f":"IF('Trust - Frontsheet'!W174=\"\",0,('Trust - Frontsheet'!W174))","v":0},{"$f":"IF('Trust - Frontsheet'!X174=\"\",0,('Trust - Frontsheet'!X174))","v":0},{"$f":"IF(A162=\"\",\"\",(IF(ISBLANK('Trust - Frontsheet'!F9),\"\",'Trust - Frontsheet'!F9)))","v":""}]
[{"$f":"IF('Trust - Frontsheet'!D175=0,\"\",IF('Trust - Frontsheet'!D175=\"\",\"\",'Trust - Frontsheet'!D175))","v":""},{"$f":"IF(ISBLANK('Trust - Frontsheet'!E175),\"\",'Trust - Frontsheet'!E175)","v":""},{"$f":"IF(ISBLANK('Trust - Frontsheet'!F175),\"\",'Trust - Frontsheet'!F175)","v":""},{"$f":"IF(ISBLANK('Trust - Frontsheet'!G175),\"\",'Trust - Frontsheet'!G175)","v":""},{"$f":"IF(ISBLANK('Trust - Frontsheet'!H175),\"\",'Trust - Frontsheet'!H175)","v":""},{"$f":"'Trust - Frontsheet'!I175","v":0},{"$f":"'Trust - Frontsheet'!J175","v":0},{"$f":"'Trust - Frontsheet'!K175","v":0},{"$f":"'Trust - Frontsheet'!L175","v":0},{"$f":"'Trust - Frontsheet'!M175","v":0},{"$f":"'Trust - Frontsheet'!N175","v":0},{"$f":"'Trust - Frontsheet'!O175","v":0},{"$f":"'Trust - Frontsheet'!P175","v":0},{"$f":"IF('Trust - Frontsheet'!Q175=\"\",0,('Trust - Frontsheet'!Q175))","v":0},{"$f":"IF('Trust - Frontsheet'!R175=\"\",0,('Trust - Frontsheet'!R175))","v":0},{"$f":"IF('Trust - Frontsheet'!S175=\"\",0,('Trust - Frontsheet'!S175))","v":0},{"$f":"IF('Trust - Frontsheet'!T175=\"\",0,('Trust - Frontsheet'!T175))","v":0},{"$f":"'Trust - Frontsheet'!U175","v":0},{"$f":"IF('Trust - Frontsheet'!V175=\"\",0,('Trust - Frontsheet'!V175))","v":0},{"$f":"IF('Trust - Frontsheet'!W175=\"\",0,('Trust - Frontsheet'!W175))","v":0},{"$f":"IF('Trust - Frontsheet'!X175=\"\",0,('Trust - Frontsheet'!X175))","v":0},{"$f":"IF(A163=\"\",\"\",(IF(ISBLANK('Trust - Frontsheet'!F9),\"\",'Trust - Frontsheet'!F9)))","v":""}]
[{"$f":"IF('Trust - Frontsheet'!D176=0,\"\",IF('Trust - Frontsheet'!D176=\"\",\"\",'Trust - Frontsheet'!D176))","v":""},{"$f":"IF(ISBLANK('Trust - Frontsheet'!E176),\"\",'Trust - Frontsheet'!E176)","v":""},{"$f":"IF(ISBLANK('Trust - Frontsheet'!F176),\"\",'Trust - Frontsheet'!F176)","v":""},{"$f":"IF(ISBLANK('Trust - Frontsheet'!G176),\"\",'Trust - Frontsheet'!G176)","v":""},{"$f":"IF(ISBLANK('Trust - Frontsheet'!H176),\"\",'Trust - Frontsheet'!H176)","v":""},{"$f":"'Trust - Frontsheet'!I176","v":0},{"$f":"'Trust - Frontsheet'!J176","v":0},{"$f":"'Trust - Frontsheet'!K176","v":0},{"$f":"'Trust - Frontsheet'!L176","v":0},{"$f":"'Trust - Frontsheet'!M176","v":0},{"$f":"'Trust - Frontsheet'!N176","v":0},{"$f":"'Trust - Frontsheet'!O176","v":0},{"$f":"'Trust - Frontsheet'!P176","v":0},{"$f":"IF('Trust - Frontsheet'!Q176=\"\",0,('Trust - Frontsheet'!Q176))","v":0},{"$f":"IF('Trust - Frontsheet'!R176=\"\",0,('Trust - Frontsheet'!R176))","v":0},{"$f":"IF('Trust - Frontsheet'!S176=\"\",0,('Trust - Frontsheet'!S176))","v":0},{"$f":"IF('Trust - Frontsheet'!T176=\"\",0,('Trust - Frontsheet'!T176))","v":0},{"$f":"'Trust - Frontsheet'!U176","v":0},{"$f":"IF('Trust - Frontsheet'!V176=\"\",0,('Trust - Frontsheet'!V176))","v":0},{"$f":"IF('Trust - Frontsheet'!W176=\"\",0,('Trust - Frontsheet'!W176))","v":0},{"$f":"IF('Trust - Frontsheet'!X176=\"\",0,('Trust - Frontsheet'!X176))","v":0},{"$f":"IF(A164=\"\",\"\",(IF(ISBLANK('Trust - Frontsheet'!F9),\"\",'Trust - Frontsheet'!F9)))","v":""}]
[{"$f":"IF('Trust - Frontsheet'!D177=0,\"\",IF('Trust - Frontsheet'!D177=\"\",\"\",'Trust - Frontsheet'!D177))","v":""},{"$f":"IF(ISBLANK('Trust - Frontsheet'!E177),\"\",'Trust - Frontsheet'!E177)","v":""},{"$f":"IF(ISBLANK('Trust - Frontsheet'!F177),\"\",'Trust - Frontsheet'!F177)","v":""},{"$f":"IF(ISBLANK('Trust - Frontsheet'!G177),\"\",'Trust - Frontsheet'!G177)","v":""},{"$f":"IF(ISBLANK('Trust - Frontsheet'!H177),\"\",'Trust - Frontsheet'!H177)","v":""},{"$f":"'Trust - Frontsheet'!I177","v":0},{"$f":"'Trust - Frontsheet'!J177","v":0},{"$f":"'Trust - Frontsheet'!K177","v":0},{"$f":"'Trust - Frontsheet'!L177","v":0},{"$f":"'Trust - Frontsheet'!M177","v":0},{"$f":"'Trust - Frontsheet'!N177","v":0},{"$f":"'Trust - Frontsheet'!O177","v":0},{"$f":"'Trust - Frontsheet'!P177","v":0},{"$f":"IF('Trust - Frontsheet'!Q177=\"\",0,('Trust - Frontsheet'!Q177))","v":0},{"$f":"IF('Trust - Frontsheet'!R177=\"\",0,('Trust - Frontsheet'!R177))","v":0},{"$f":"IF('Trust - Frontsheet'!S177=\"\",0,('Trust - Frontsheet'!S177))","v":0},{"$f":"IF('Trust - Frontsheet'!T177=\"\",0,('Trust - Frontsheet'!T177))","v":0},{"$f":"'Trust - Frontsheet'!U177","v":0},{"$f":"IF('Trust - Frontsheet'!V177=\"\",0,('Trust - Frontsheet'!V177))","v":0},{"$f":"IF('Trust - Frontsheet'!W177=\"\",0,('Trust - Frontsheet'!W177))","v":0},{"$f":"IF('Trust - Frontsheet'!X177=\"\",0,('Trust - Frontsheet'!X177))","v":0},{"$f":"IF(A165=\"\",\"\",(IF(ISBLANK('Trust - Frontsheet'!F9),\"\",'Trust - Frontsheet'!F9)))","v":""}]
[{"$f":"IF('Trust - Frontsheet'!D178=0,\"\",IF('Trust - Frontsheet'!D178=\"\",\"\",'Trust - Frontsheet'!D178))","v":""},{"$f":"IF(ISBLANK('Trust - Frontsheet'!E178),\"\",'Trust - Frontsheet'!E178)","v":""},{"$f":"IF(ISBLANK('Trust - Frontsheet'!F178),\"\",'Trust - Frontsheet'!F178)","v":""},{"$f":"IF(ISBLANK('Trust - Frontsheet'!G178),\"\",'Trust - Frontsheet'!G178)","v":""},{"$f":"IF(ISBLANK('Trust - Frontsheet'!H178),\"\",'Trust - Frontsheet'!H178)","v":""},{"$f":"'Trust - Frontsheet'!I178","v":0},{"$f":"'Trust - Frontsheet'!J178","v":0},{"$f":"'Trust - Frontsheet'!K178","v":0},{"$f":"'Trust - Frontsheet'!L178","v":0},{"$f":"'Trust - Frontsheet'!M178","v":0},{"$f":"'Trust - Frontsheet'!N178","v":0},{"$f":"'Trust - Frontsheet'!O178","v":0},{"$f":"'Trust - Frontsheet'!P178","v":0},{"$f":"IF('Trust - Frontsheet'!Q178=\"\",0,('Trust - Frontsheet'!Q178))","v":0},{"$f":"IF('Trust - Frontsheet'!R178=\"\",0,('Trust - Frontsheet'!R178))","v":0},{"$f":"IF('Trust - Frontsheet'!S178=\"\",0,('Trust - Frontsheet'!S178))","v":0},{"$f":"IF('Trust - Frontsheet'!T178=\"\",0,('Trust - Frontsheet'!T178))","v":0},{"$f":"'Trust - Frontsheet'!U178","v":0},{"$f":"IF('Trust - Frontsheet'!V178=\"\",0,('Trust - Frontsheet'!V178))","v":0},{"$f":"IF('Trust - Frontsheet'!W178=\"\",0,('Trust - Frontsheet'!W178))","v":0},{"$f":"IF('Trust - Frontsheet'!X178=\"\",0,('Trust - Frontsheet'!X178))","v":0},{"$f":"IF(A166=\"\",\"\",(IF(ISBLANK('Trust - Frontsheet'!F9),\"\",'Trust - Frontsheet'!F9)))","v":""}]
[{"$f":"IF('Trust - Frontsheet'!D179=0,\"\",IF('Trust - Frontsheet'!D179=\"\",\"\",'Trust - Frontsheet'!D179))","v":""},{"$f":"IF(ISBLANK('Trust - Frontsheet'!E179),\"\",'Trust - Frontsheet'!E179)","v":""},{"$f":"IF(ISBLANK('Trust - Frontsheet'!F179),\"\",'Trust - Frontsheet'!F179)","v":""},{"$f":"IF(ISBLANK('Trust - Frontsheet'!G179),\"\",'Trust - Frontsheet'!G179)","v":""},{"$f":"IF(ISBLANK('Trust - Frontsheet'!H179),\"\",'Trust - Frontsheet'!H179)","v":""},{"$f":"'Trust - Frontsheet'!I179","v":0},{"$f":"'Trust - Frontsheet'!J179","v":0},{"$f":"'Trust - Frontsheet'!K179","v":0},{"$f":"'Trust - Frontsheet'!L179","v":0},{"$f":"'Trust - Frontsheet'!M179","v":0},{"$f":"'Trust - Frontsheet'!N179","v":0},{"$f":"'Trust - Frontsheet'!O179","v":0},{"$f":"'Trust - Frontsheet'!P179","v":0},{"$f":"IF('Trust - Frontsheet'!Q179=\"\",0,('Trust - Frontsheet'!Q179))","v":0},{"$f":"IF('Trust - Frontsheet'!R179=\"\",0,('Trust - Frontsheet'!R179))","v":0},{"$f":"IF('Trust - Frontsheet'!S179=\"\",0,('Trust - Frontsheet'!S179))","v":0},{"$f":"IF('Trust - Frontsheet'!T179=\"\",0,('Trust - Frontsheet'!T179))","v":0},{"$f":"'Trust - Frontsheet'!U179","v":0},{"$f":"IF('Trust - Frontsheet'!V179=\"\",0,('Trust - Frontsheet'!V179))","v":0},{"$f":"IF('Trust - Frontsheet'!W179=\"\",0,('Trust - Frontsheet'!W179))","v":0},{"$f":"IF('Trust - Frontsheet'!X179=\"\",0,('Trust - Frontsheet'!X179))","v":0},{"$f":"IF(A167=\"\",\"\",(IF(ISBLANK('Trust - Frontsheet'!F9),\"\",'Trust - Frontsheet'!F9)))","v":""}]
[{"$f":"IF('Trust - Frontsheet'!D180=0,\"\",IF('Trust - Frontsheet'!D180=\"\",\"\",'Trust - Frontsheet'!D180))","v":""},{"$f":"IF(ISBLANK('Trust - Frontsheet'!E180),\"\",'Trust - Frontsheet'!E180)","v":""},{"$f":"IF(ISBLANK('Trust - Frontsheet'!F180),\"\",'Trust - Frontsheet'!F180)","v":""},{"$f":"IF(ISBLANK('Trust - Frontsheet'!G180),\"\",'Trust - Frontsheet'!G180)","v":""},{"$f":"IF(ISBLANK('Trust - Frontsheet'!H180),\"\",'Trust - Frontsheet'!H180)","v":""},{"$f":"'Trust - Frontsheet'!I180","v":0},{"$f":"'Trust - Frontsheet'!J180","v":0},{"$f":"'Trust - Frontsheet'!K180","v":0},{"$f":"'Trust - Frontsheet'!L180","v":0},{"$f":"'Trust - Frontsheet'!M180","v":0},{"$f":"'Trust - Frontsheet'!N180","v":0},{"$f":"'Trust - Frontsheet'!O180","v":0},{"$f":"'Trust - Frontsheet'!P180","v":0},{"$f":"IF('Trust - Frontsheet'!Q180=\"\",0,('Trust - Frontsheet'!Q180))","v":0},{"$f":"IF('Trust - Frontsheet'!R180=\"\",0,('Trust - Frontsheet'!R180))","v":0},{"$f":"IF('Trust - Frontsheet'!S180=\"\",0,('Trust - Frontsheet'!S180))","v":0},{"$f":"IF('Trust - Frontsheet'!T180=\"\",0,('Trust - Frontsheet'!T180))","v":0},{"$f":"'Trust - Frontsheet'!U180","v":0},{"$f":"IF('Trust - Frontsheet'!V180=\"\",0,('Trust - Frontsheet'!V180))","v":0},{"$f":"IF('Trust - Frontsheet'!W180=\"\",0,('Trust - Frontsheet'!W180))","v":0},{"$f":"IF('Trust - Frontsheet'!X180=\"\",0,('Trust - Frontsheet'!X180))","v":0},{"$f":"IF(A168=\"\",\"\",(IF(ISBLANK('Trust - Frontsheet'!F9),\"\",'Trust - Frontsheet'!F9)))","v":""}]
[{"$f":"IF('Trust - Frontsheet'!D181=0,\"\",IF('Trust - Frontsheet'!D181=\"\",\"\",'Trust - Frontsheet'!D181))","v":""},{"$f":"IF(ISBLANK('Trust - Frontsheet'!E181),\"\",'Trust - Frontsheet'!E181)","v":""},{"$f":"IF(ISBLANK('Trust - Frontsheet'!F181),\"\",'Trust - Frontsheet'!F181)","v":""},{"$f":"IF(ISBLANK('Trust - Frontsheet'!G181),\"\",'Trust - Frontsheet'!G181)","v":""},{"$f":"IF(ISBLANK('Trust - Frontsheet'!H181),\"\",'Trust - Frontsheet'!H181)","v":""},{"$f":"'Trust - Frontsheet'!I181","v":0},{"$f":"'Trust - Frontsheet'!J181","v":0},{"$f":"'Trust - Frontsheet'!K181","v":0},{"$f":"'Trust - Frontsheet'!L181","v":0},{"$f":"'Trust - Frontsheet'!M181","v":0},{"$f":"'Trust - Frontsheet'!N181","v":0},{"$f":"'Trust - Frontsheet'!O181","v":0},{"$f":"'Trust - Frontsheet'!P181","v":0},{"$f":"IF('Trust - Frontsheet'!Q181=\"\",0,('Trust - Frontsheet'!Q181))","v":0},{"$f":"IF('Trust - Frontsheet'!R181=\"\",0,('Trust - Frontsheet'!R181))","v":0},{"$f":"IF('Trust - Frontsheet'!S181=\"\",0,('Trust - Frontsheet'!S181))","v":0},{"$f":"IF('Trust - Frontsheet'!T181=\"\",0,('Trust - Frontsheet'!T181))","v":0},{"$f":"'Trust - Frontsheet'!U181","v":0},{"$f":"IF('Trust - Frontsheet'!V181=\"\",0,('Trust - Frontsheet'!V181))","v":0},{"$f":"IF('Trust - Frontsheet'!W181=\"\",0,('Trust - Frontsheet'!W181))","v":0},{"$f":"IF('Trust - Frontsheet'!X181=\"\",0,('Trust - Frontsheet'!X181))","v":0},{"$f":"IF(A169=\"\",\"\",(IF(ISBLANK('Trust - Frontsheet'!F9),\"\",'Trust - Frontsheet'!F9)))","v":""}]
[{"$f":"IF('Trust - Frontsheet'!D182=0,\"\",IF('Trust - Frontsheet'!D182=\"\",\"\",'Trust - Frontsheet'!D182))","v":""},{"$f":"IF(ISBLANK('Trust - Frontsheet'!E182),\"\",'Trust - Frontsheet'!E182)","v":""},{"$f":"IF(ISBLANK('Trust - Frontsheet'!F182),\"\",'Trust - Frontsheet'!F182)","v":""},{"$f":"IF(ISBLANK('Trust - Frontsheet'!G182),\"\",'Trust - Frontsheet'!G182)","v":""},{"$f":"IF(ISBLANK('Trust - Frontsheet'!H182),\"\",'Trust - Frontsheet'!H182)","v":""},{"$f":"'Trust - Frontsheet'!I182","v":0},{"$f":"'Trust - Frontsheet'!J182","v":0},{"$f":"'Trust - Frontsheet'!K182","v":0},{"$f":"'Trust - Frontsheet'!L182","v":0},{"$f":"'Trust - Frontsheet'!M182","v":0},{"$f":"'Trust - Frontsheet'!N182","v":0},{"$f":"'Trust - Frontsheet'!O182","v":0},{"$f":"'Trust - Frontsheet'!P182","v":0},{"$f":"IF('Trust - Frontsheet'!Q182=\"\",0,('Trust - Frontsheet'!Q182))","v":0},{"$f":"IF('Trust - Frontsheet'!R182=\"\",0,('Trust - Frontsheet'!R182))","v":0},{"$f":"IF('Trust - Frontsheet'!S182=\"\",0,('Trust - Frontsheet'!S182))","v":0},{"$f":"IF('Trust - Frontsheet'!T182=\"\",0,('Trust - Frontsheet'!T182))","v":0},{"$f":"'Trust - Frontsheet'!U182","v":0},{"$f":"IF('Trust - Frontsheet'!V182=\"\",0,('Trust - Frontsheet'!V182))","v":0},{"$f":"IF('Trust - Frontsheet'!W182=\"\",0,('Trust - Frontsheet'!W182))","v":0},{"$f":"IF('Trust - Frontsheet'!X182=\"\",0,('Trust - Frontsheet'!X182))","v":0},{"$f":"IF(A170=\"\",\"\",(IF(ISBLANK('Trust - Frontsheet'!F9),\"\",'Trust - Frontsheet'!F9)))","v":""}]
[{"$f":"IF('Trust - Frontsheet'!D183=0,\"\",IF('Trust - Frontsheet'!D183=\"\",\"\",'Trust - Frontsheet'!D183))","v":""},{"$f":"IF(ISBLANK('Trust - Frontsheet'!E183),\"\",'Trust - Frontsheet'!E183)","v":""},{"$f":"IF(ISBLANK('Trust - Frontsheet'!F183),\"\",'Trust - Frontsheet'!F183)","v":""},{"$f":"IF(ISBLANK('Trust - Frontsheet'!G183),\"\",'Trust - Frontsheet'!G183)","v":""},{"$f":"IF(ISBLANK('Trust - Frontsheet'!H183),\"\",'Trust - Frontsheet'!H183)","v":""},{"$f":"'Trust - Frontsheet'!I183","v":0},{"$f":"'Trust - Frontsheet'!J183","v":0},{"$f":"'Trust - Frontsheet'!K183","v":0},{"$f":"'Trust - Frontsheet'!L183","v":0},{"$f":"'Trust - Frontsheet'!M183","v":0},{"$f":"'Trust - Frontsheet'!N183","v":0},{"$f":"'Trust - Frontsheet'!O183","v":0},{"$f":"'Trust - Frontsheet'!P183","v":0},{"$f":"IF('Trust - Frontsheet'!Q183=\"\",0,('Trust - Frontsheet'!Q183))","v":0},{"$f":"IF('Trust - Frontsheet'!R183=\"\",0,('Trust - Frontsheet'!R183))","v":0},{"$f":"IF('Trust - Frontsheet'!S183=\"\",0,('Trust - Frontsheet'!S183))","v":0},{"$f":"IF('Trust - Frontsheet'!T183=\"\",0,('Trust - Frontsheet'!T183))","v":0},{"$f":"'Trust - Frontsheet'!U183","v":0},{"$f":"IF('Trust - Frontsheet'!V183=\"\",0,('Trust - Frontsheet'!V183))","v":0},{"$f":"IF('Trust - Frontsheet'!W183=\"\",0,('Trust - Frontsheet'!W183))","v":0},{"$f":"IF('Trust - Frontsheet'!X183=\"\",0,('Trust - Frontsheet'!X183))","v":0},{"$f":"IF(A171=\"\",\"\",(IF(ISBLANK('Trust - Frontsheet'!F9),\"\",'Trust - Frontsheet'!F9)))","v":""}]
[{"$f":"IF('Trust - Frontsheet'!D184=0,\"\",IF('Trust - Frontsheet'!D184=\"\",\"\",'Trust - Frontsheet'!D184))","v":""},{"$f":"IF(ISBLANK('Trust - Frontsheet'!E184),\"\",'Trust - Frontsheet'!E184)","v":""},{"$f":"IF(ISBLANK('Trust - Frontsheet'!F184),\"\",'Trust - Frontsheet'!F184)","v":""},{"$f":"IF(ISBLANK('Trust - Frontsheet'!G184),\"\",'Trust - Frontsheet'!G184)","v":""},{"$f":"IF(ISBLANK('Trust - Frontsheet'!H184),\"\",'Trust - Frontsheet'!H184)","v":""},{"$f":"'Trust - Frontsheet'!I184","v":0},{"$f":"'Trust - Frontsheet'!J184","v":0},{"$f":"'Trust - Frontsheet'!K184","v":0},{"$f":"'Trust - Frontsheet'!L184","v":0},{"$f":"'Trust - Frontsheet'!M184","v":0},{"$f":"'Trust - Frontsheet'!N184","v":0},{"$f":"'Trust - Frontsheet'!O184","v":0},{"$f":"'Trust - Frontsheet'!P184","v":0},{"$f":"IF('Trust - Frontsheet'!Q184=\"\",0,('Trust - Frontsheet'!Q184))","v":0},{"$f":"IF('Trust - Frontsheet'!R184=\"\",0,('Trust - Frontsheet'!R184))","v":0},{"$f":"IF('Trust - Frontsheet'!S184=\"\",0,('Trust - Frontsheet'!S184))","v":0},{"$f":"IF('Trust - Frontsheet'!T184=\"\",0,('Trust - Frontsheet'!T184))","v":0},{"$f":"'Trust - Frontsheet'!U184","v":0},{"$f":"IF('Trust - Frontsheet'!V184=\"\",0,('Trust - Frontsheet'!V184))","v":0},{"$f":"IF('Trust - Frontsheet'!W184=\"\",0,('Trust - Frontsheet'!W184))","v":0},{"$f":"IF('Trust - Frontsheet'!X184=\"\",0,('Trust - Frontsheet'!X184))","v":0},{"$f":"IF(A172=\"\",\"\",(IF(ISBLANK('Trust - Frontsheet'!F9),\"\",'Trust - Frontsheet'!F9)))","v":""}]
[{"$f":"IF('Trust - Frontsheet'!D185=0,\"\",IF('Trust - Frontsheet'!D185=\"\",\"\",'Trust - Frontsheet'!D185))","v":""},{"$f":"IF(ISBLANK('Trust - Frontsheet'!E185),\"\",'Trust - Frontsheet'!E185)","v":""},{"$f":"IF(ISBLANK('Trust - Frontsheet'!F185),\"\",'Trust - Frontsheet'!F185)","v":""},{"$f":"IF(ISBLANK('Trust - Frontsheet'!G185),\"\",'Trust - Frontsheet'!G185)","v":""},{"$f":"IF(ISBLANK('Trust - Frontsheet'!H185),\"\",'Trust - Frontsheet'!H185)","v":""},{"$f":"'Trust - Frontsheet'!I185","v":0},{"$f":"'Trust - Frontsheet'!J185","v":0},{"$f":"'Trust - Frontsheet'!K185","v":0},{"$f":"'Trust - Frontsheet'!L185","v":0},{"$f":"'Trust - Frontsheet'!M185","v":0},{"$f":"'Trust - Frontsheet'!N185","v":0},{"$f":"'Trust - Frontsheet'!O185","v":0},{"$f":"'Trust - Frontsheet'!P185","v":0},{"$f":"IF('Trust - Frontsheet'!Q185=\"\",0,('Trust - Frontsheet'!Q185))","v":0},{"$f":"IF('Trust - Frontsheet'!R185=\"\",0,('Trust - Frontsheet'!R185))","v":0},{"$f":"IF('Trust - Frontsheet'!S185=\"\",0,('Trust - Frontsheet'!S185))","v":0},{"$f":"IF('Trust - Frontsheet'!T185=\"\",0,('Trust - Frontsheet'!T185))","v":0},{"$f":"'Trust - Frontsheet'!U185","v":0},{"$f":"IF('Trust - Frontsheet'!V185=\"\",0,('Trust - Frontsheet'!V185))","v":0},{"$f":"IF('Trust - Frontsheet'!W185=\"\",0,('Trust - Frontsheet'!W185))","v":0},{"$f":"IF('Trust - Frontsheet'!X185=\"\",0,('Trust - Frontsheet'!X185))","v":0},{"$f":"IF(A173=\"\",\"\",(IF(ISBLANK('Trust - Frontsheet'!F9),\"\",'Trust - Frontsheet'!F9)))","v":""}]
[{"$f":"IF('Trust - Frontsheet'!D186=0,\"\",IF('Trust - Frontsheet'!D186=\"\",\"\",'Trust - Frontsheet'!D186))","v":""},{"$f":"IF(ISBLANK('Trust - Frontsheet'!E186),\"\",'Trust - Frontsheet'!E186)","v":""},{"$f":"IF(ISBLANK('Trust - Frontsheet'!F186),\"\",'Trust - Frontsheet'!F186)","v":""},{"$f":"IF(ISBLANK('Trust - Frontsheet'!G186),\"\",'Trust - Frontsheet'!G186)","v":""},{"$f":"IF(ISBLANK('Trust - Frontsheet'!H186),\"\",'Trust - Frontsheet'!H186)","v":""},{"$f":"'Trust - Frontsheet'!I186","v":0},{"$f":"'Trust - Frontsheet'!J186","v":0},{"$f":"'Trust - Frontsheet'!K186","v":0},{"$f":"'Trust - Frontsheet'!L186","v":0},{"$f":"'Trust - Frontsheet'!M186","v":0},{"$f":"'Trust - Frontsheet'!N186","v":0},{"$f":"'Trust - Frontsheet'!O186","v":0},{"$f":"'Trust - Frontsheet'!P186","v":0},{"$f":"IF('Trust - Frontsheet'!Q186=\"\",0,('Trust - Frontsheet'!Q186))","v":0},{"$f":"IF('Trust - Frontsheet'!R186=\"\",0,('Trust - Frontsheet'!R186))","v":0},{"$f":"IF('Trust - Frontsheet'!S186=\"\",0,('Trust - Frontsheet'!S186))","v":0},{"$f":"IF('Trust - Frontsheet'!T186=\"\",0,('Trust - Frontsheet'!T186))","v":0},{"$f":"'Trust - Frontsheet'!U186","v":0},{"$f":"IF('Trust - Frontsheet'!V186=\"\",0,('Trust - Frontsheet'!V186))","v":0},{"$f":"IF('Trust - Frontsheet'!W186=\"\",0,('Trust - Frontsheet'!W186))","v":0},{"$f":"IF('Trust - Frontsheet'!X186=\"\",0,('Trust - Frontsheet'!X186))","v":0},{"$f":"IF(A174=\"\",\"\",(IF(ISBLANK('Trust - Frontsheet'!F9),\"\",'Trust - Frontsheet'!F9)))","v":""}]
[{"$f":"IF('Trust - Frontsheet'!D187=0,\"\",IF('Trust - Frontsheet'!D187=\"\",\"\",'Trust - Frontsheet'!D187))","v":""},{"$f":"IF(ISBLANK('Trust - Frontsheet'!E187),\"\",'Trust - Frontsheet'!E187)","v":""},{"$f":"IF(ISBLANK('Trust - Frontsheet'!F187),\"\",'Trust - Frontsheet'!F187)","v":""},{"$f":"IF(ISBLANK('Trust - Frontsheet'!G187),\"\",'Trust - Frontsheet'!G187)","v":""},{"$f":"IF(ISBLANK('Trust - Frontsheet'!H187),\"\",'Trust - Frontsheet'!H187)","v":""},{"$f":"'Trust - Frontsheet'!I187","v":0},{"$f":"'Trust - Frontsheet'!J187","v":0},{"$f":"'Trust - Frontsheet'!K187","v":0},{"$f":"'Trust - Frontsheet'!L187","v":0},{"$f":"'Trust - Frontsheet'!M187","v":0},{"$f":"'Trust - Frontsheet'!N187","v":0},{"$f":"'Trust - Frontsheet'!O187","v":0},{"$f":"'Trust - Frontsheet'!P187","v":0},{"$f":"IF('Trust - Frontsheet'!Q187=\"\",0,('Trust - Frontsheet'!Q187))","v":0},{"$f":"IF('Trust - Frontsheet'!R187=\"\",0,('Trust - Frontsheet'!R187))","v":0},{"$f":"IF('Trust - Frontsheet'!S187=\"\",0,('Trust - Frontsheet'!S187))","v":0},{"$f":"IF('Trust - Frontsheet'!T187=\"\",0,('Trust - Frontsheet'!T187))","v":0},{"$f":"'Trust - Frontsheet'!U187","v":0},{"$f":"IF('Trust - Frontsheet'!V187=\"\",0,('Trust - Frontsheet'!V187))","v":0},{"$f":"IF('Trust - Frontsheet'!W187=\"\",0,('Trust - Frontsheet'!W187))","v":0},{"$f":"IF('Trust - Frontsheet'!X187=\"\",0,('Trust - Frontsheet'!X187))","v":0},{"$f":"IF(A175=\"\",\"\",(IF(ISBLANK('Trust - Frontsheet'!F9),\"\",'Trust - Frontsheet'!F9)))","v":""}]
[{"$f":"IF('Trust - Frontsheet'!D188=0,\"\",IF('Trust - Frontsheet'!D188=\"\",\"\",'Trust - Frontsheet'!D188))","v":""},{"$f":"IF(ISBLANK('Trust - Frontsheet'!E188),\"\",'Trust - Frontsheet'!E188)","v":""},{"$f":"IF(ISBLANK('Trust - Frontsheet'!F188),\"\",'Trust - Frontsheet'!F188)","v":""},{"$f":"IF(ISBLANK('Trust - Frontsheet'!G188),\"\",'Trust - Frontsheet'!G188)","v":""},{"$f":"IF(ISBLANK('Trust - Frontsheet'!H188),\"\",'Trust - Frontsheet'!H188)","v":""},{"$f":"'Trust - Frontsheet'!I188","v":0},{"$f":"'Trust - Frontsheet'!J188","v":0},{"$f":"'Trust - Frontsheet'!K188","v":0},{"$f":"'Trust - Frontsheet'!L188","v":0},{"$f":"'Trust - Frontsheet'!M188","v":0},{"$f":"'Trust - Frontsheet'!N188","v":0},{"$f":"'Trust - Frontsheet'!O188","v":0},{"$f":"'Trust - Frontsheet'!P188","v":0},{"$f":"IF('Trust - Frontsheet'!Q188=\"\",0,('Trust - Frontsheet'!Q188))","v":0},{"$f":"IF('Trust - Frontsheet'!R188=\"\",0,('Trust - Frontsheet'!R188))","v":0},{"$f":"IF('Trust - Frontsheet'!S188=\"\",0,('Trust - Frontsheet'!S188))","v":0},{"$f":"IF('Trust - Frontsheet'!T188=\"\",0,('Trust - Frontsheet'!T188))","v":0},{"$f":"'Trust - Frontsheet'!U188","v":0},{"$f":"IF('Trust - Frontsheet'!V188=\"\",0,('Trust - Frontsheet'!V188))","v":0},{"$f":"IF('Trust - Frontsheet'!W188=\"\",0,('Trust - Frontsheet'!W188))","v":0},{"$f":"IF('Trust - Frontsheet'!X188=\"\",0,('Trust - Frontsheet'!X188))","v":0},{"$f":"IF(A176=\"\",\"\",(IF(ISBLANK('Trust - Frontsheet'!F9),\"\",'Trust - Frontsheet'!F9)))","v":""}]
[{"$f":"IF('Trust - Frontsheet'!D189=0,\"\",IF('Trust - Frontsheet'!D189=\"\",\"\",'Trust - Frontsheet'!D189))","v":""},{"$f":"IF(ISBLANK('Trust - Frontsheet'!E189),\"\",'Trust - Frontsheet'!E189)","v":""},{"$f":"IF(ISBLANK('Trust - Frontsheet'!F189),\"\",'Trust - Frontsheet'!F189)","v":""},{"$f":"IF(ISBLANK('Trust - Frontsheet'!G189),\"\",'Trust - Frontsheet'!G189)","v":""},{"$f":"IF(ISBLANK('Trust - Frontsheet'!H189),\"\",'Trust - Frontsheet'!H189)","v":""},{"$f":"'Trust - Frontsheet'!I189","v":0},{"$f":"'Trust - Frontsheet'!J189","v":0},{"$f":"'Trust - Frontsheet'!K189","v":0},{"$f":"'Trust - Frontsheet'!L189","v":0},{"$f":"'Trust - Frontsheet'!M189","v":0},{"$f":"'Trust - Frontsheet'!N189","v":0},{"$f":"'Trust - Frontsheet'!O189","v":0},{"$f":"'Trust - Frontsheet'!P189","v":0},{"$f":"IF('Trust - Frontsheet'!Q189=\"\",0,('Trust - Frontsheet'!Q189))","v":0},{"$f":"IF('Trust - Frontsheet'!R189=\"\",0,('Trust - Frontsheet'!R189))","v":0},{"$f":"IF('Trust - Frontsheet'!S189=\"\",0,('Trust - Frontsheet'!S189))","v":0},{"$f":"IF('Trust - Frontsheet'!T189=\"\",0,('Trust - Frontsheet'!T189))","v":0},{"$f":"'Trust - Frontsheet'!U189","v":0},{"$f":"IF('Trust - Frontsheet'!V189=\"\",0,('Trust - Frontsheet'!V189))","v":0},{"$f":"IF('Trust - Frontsheet'!W189=\"\",0,('Trust - Frontsheet'!W189))","v":0},{"$f":"IF('Trust - Frontsheet'!X189=\"\",0,('Trust - Frontsheet'!X189))","v":0},{"$f":"IF(A177=\"\",\"\",(IF(ISBLANK('Trust - Frontsheet'!F9),\"\",'Trust - Frontsheet'!F9)))","v":""}]
[{"$f":"IF('Trust - Frontsheet'!D190=0,\"\",IF('Trust - Frontsheet'!D190=\"\",\"\",'Trust - Frontsheet'!D190))","v":""},{"$f":"IF(ISBLANK('Trust - Frontsheet'!E190),\"\",'Trust - Frontsheet'!E190)","v":""},{"$f":"IF(ISBLANK('Trust - Frontsheet'!F190),\"\",'Trust - Frontsheet'!F190)","v":""},{"$f":"IF(ISBLANK('Trust - Frontsheet'!G190),\"\",'Trust - Frontsheet'!G190)","v":""},{"$f":"IF(ISBLANK('Trust - Frontsheet'!H190),\"\",'Trust - Frontsheet'!H190)","v":""},{"$f":"'Trust - Frontsheet'!I190","v":0},{"$f":"'Trust - Frontsheet'!J190","v":0},{"$f":"'Trust - Frontsheet'!K190","v":0},{"$f":"'Trust - Frontsheet'!L190","v":0},{"$f":"'Trust - Frontsheet'!M190","v":0},{"$f":"'Trust - Frontsheet'!N190","v":0},{"$f":"'Trust - Frontsheet'!O190","v":0},{"$f":"'Trust - Frontsheet'!P190","v":0},{"$f":"IF('Trust - Frontsheet'!Q190=\"\",0,('Trust - Frontsheet'!Q190))","v":0},{"$f":"IF('Trust - Frontsheet'!R190=\"\",0,('Trust - Frontsheet'!R190))","v":0},{"$f":"IF('Trust - Frontsheet'!S190=\"\",0,('Trust - Frontsheet'!S190))","v":0},{"$f":"IF('Trust - Frontsheet'!T190=\"\",0,('Trust - Frontsheet'!T190))","v":0},{"$f":"'Trust - Frontsheet'!U190","v":0},{"$f":"IF('Trust - Frontsheet'!V190=\"\",0,('Trust - Frontsheet'!V190))","v":0},{"$f":"IF('Trust - Frontsheet'!W190=\"\",0,('Trust - Frontsheet'!W190))","v":0},{"$f":"IF('Trust - Frontsheet'!X190=\"\",0,('Trust - Frontsheet'!X190))","v":0},{"$f":"IF(A178=\"\",\"\",(IF(ISBLANK('Trust - Frontsheet'!F9),\"\",'Trust - Frontsheet'!F9)))","v":""}]
[{"$f":"IF('Trust - Frontsheet'!D191=0,\"\",IF('Trust - Frontsheet'!D191=\"\",\"\",'Trust - Frontsheet'!D191))","v":""},{"$f":"IF(ISBLANK('Trust - Frontsheet'!E191),\"\",'Trust - Frontsheet'!E191)","v":""},{"$f":"IF(ISBLANK('Trust - Frontsheet'!F191),\"\",'Trust - Frontsheet'!F191)","v":""},{"$f":"IF(ISBLANK('Trust - Frontsheet'!G191),\"\",'Trust - Frontsheet'!G191)","v":""},{"$f":"IF(ISBLANK('Trust - Frontsheet'!H191),\"\",'Trust - Frontsheet'!H191)","v":""},{"$f":"'Trust - Frontsheet'!I191","v":0},{"$f":"'Trust - Frontsheet'!J191","v":0},{"$f":"'Trust - Frontsheet'!K191","v":0},{"$f":"'Trust - Frontsheet'!L191","v":0},{"$f":"'Trust - Frontsheet'!M191","v":0},{"$f":"'Trust - Frontsheet'!N191","v":0},{"$f":"'Trust - Frontsheet'!O191","v":0},{"$f":"'Trust - Frontsheet'!P191","v":0},{"$f":"IF('Trust - Frontsheet'!Q191=\"\",0,('Trust - Frontsheet'!Q191))","v":0},{"$f":"IF('Trust - Frontsheet'!R191=\"\",0,('Trust - Frontsheet'!R191))","v":0},{"$f":"IF('Trust - Frontsheet'!S191=\"\",0,('Trust - Frontsheet'!S191))","v":0},{"$f":"IF('Trust - Frontsheet'!T191=\"\",0,('Trust - Frontsheet'!T191))","v":0},{"$f":"'Trust - Frontsheet'!U191","v":0},{"$f":"IF('Trust - Frontsheet'!V191=\"\",0,('Trust - Frontsheet'!V191))","v":0},{"$f":"IF('Trust - Frontsheet'!W191=\"\",0,('Trust - Frontsheet'!W191))","v":0},{"$f":"IF('Trust - Frontsheet'!X191=\"\",0,('Trust - Frontsheet'!X191))","v":0},{"$f":"IF(A179=\"\",\"\",(IF(ISBLANK('Trust - Frontsheet'!F9),\"\",'Trust - Frontsheet'!F9)))","v":""}]
[{"$f":"IF('Trust - Frontsheet'!D192=0,\"\",IF('Trust - Frontsheet'!D192=\"\",\"\",'Trust - Frontsheet'!D192))","v":""},{"$f":"IF(ISBLANK('Trust - Frontsheet'!E192),\"\",'Trust - Frontsheet'!E192)","v":""},{"$f":"IF(ISBLANK('Trust - Frontsheet'!F192),\"\",'Trust - Frontsheet'!F192)","v":""},{"$f":"IF(ISBLANK('Trust - Frontsheet'!G192),\"\",'Trust - Frontsheet'!G192)","v":""},{"$f":"IF(ISBLANK('Trust - Frontsheet'!H192),\"\",'Trust - Frontsheet'!H192)","v":""},{"$f":"'Trust - Frontsheet'!I192","v":0},{"$f":"'Trust - Frontsheet'!J192","v":0},{"$f":"'Trust - Frontsheet'!K192","v":0},{"$f":"'Trust - Frontsheet'!L192","v":0},{"$f":"'Trust - Frontsheet'!M192","v":0},{"$f":"'Trust - Frontsheet'!N192","v":0},{"$f":"'Trust - Frontsheet'!O192","v":0},{"$f":"'Trust - Frontsheet'!P192","v":0},{"$f":"IF('Trust - Frontsheet'!Q192=\"\",0,('Trust - Frontsheet'!Q192))","v":0},{"$f":"IF('Trust - Frontsheet'!R192=\"\",0,('Trust - Frontsheet'!R192))","v":0},{"$f":"IF('Trust - Frontsheet'!S192=\"\",0,('Trust - Frontsheet'!S192))","v":0},{"$f":"IF('Trust - Frontsheet'!T192=\"\",0,('Trust - Frontsheet'!T192))","v":0},{"$f":"'Trust - Frontsheet'!U192","v":0},{"$f":"IF('Trust - Frontsheet'!V192=\"\",0,('Trust - Frontsheet'!V192))","v":0},{"$f":"IF('Trust - Frontsheet'!W192=\"\",0,('Trust - Frontsheet'!W192))","v":0},{"$f":"IF('Trust - Frontsheet'!X192=\"\",0,('Trust - Frontsheet'!X192))","v":0},{"$f":"IF(A180=\"\",\"\",(IF(ISBLANK('Trust - Frontsheet'!F9),\"\",'Trust - Frontsheet'!F9)))","v":""}]
[{"$f":"IF('Trust - Frontsheet'!D193=0,\"\",IF('Trust - Frontsheet'!D193=\"\",\"\",'Trust - Frontsheet'!D193))","v":""},{"$f":"IF(ISBLANK('Trust - Frontsheet'!E193),\"\",'Trust - Frontsheet'!E193)","v":""},{"$f":"IF(ISBLANK('Trust - Frontsheet'!F193),\"\",'Trust - Frontsheet'!F193)","v":""},{"$f":"IF(ISBLANK('Trust - Frontsheet'!G193),\"\",'Trust - Frontsheet'!G193)","v":""},{"$f":"IF(ISBLANK('Trust - Frontsheet'!H193),\"\",'Trust - Frontsheet'!H193)","v":""},{"$f":"'Trust - Frontsheet'!I193","v":0},{"$f":"'Trust - Frontsheet'!J193","v":0},{"$f":"'Trust - Frontsheet'!K193","v":0},{"$f":"'Trust - Frontsheet'!L193","v":0},{"$f":"'Trust - Frontsheet'!M193","v":0},{"$f":"'Trust - Frontsheet'!N193","v":0},{"$f":"'Trust - Frontsheet'!O193","v":0},{"$f":"'Trust - Frontsheet'!P193","v":0},{"$f":"IF('Trust - Frontsheet'!Q193=\"\",0,('Trust - Frontsheet'!Q193))","v":0},{"$f":"IF('Trust - Frontsheet'!R193=\"\",0,('Trust - Frontsheet'!R193))","v":0},{"$f":"IF('Trust - Frontsheet'!S193=\"\",0,('Trust - Frontsheet'!S193))","v":0},{"$f":"IF('Trust - Frontsheet'!T193=\"\",0,('Trust - Frontsheet'!T193))","v":0},{"$f":"'Trust - Frontsheet'!U193","v":0},{"$f":"IF('Trust - Frontsheet'!V193=\"\",0,('Trust - Frontsheet'!V193))","v":0},{"$f":"IF('Trust - Frontsheet'!W193=\"\",0,('Trust - Frontsheet'!W193))","v":0},{"$f":"IF('Trust - Frontsheet'!X193=\"\",0,('Trust - Frontsheet'!X193))","v":0},{"$f":"IF(A181=\"\",\"\",(IF(ISBLANK('Trust - Frontsheet'!F9),\"\",'Trust - Frontsheet'!F9)))","v":""}]
[{"$f":"IF('Trust - Frontsheet'!D194=0,\"\",IF('Trust - Frontsheet'!D194=\"\",\"\",'Trust - Frontsheet'!D194))","v":""},{"$f":"IF(ISBLANK('Trust - Frontsheet'!E194),\"\",'Trust - Frontsheet'!E194)","v":""},{"$f":"IF(ISBLANK('Trust - Frontsheet'!F194),\"\",'Trust - Frontsheet'!F194)","v":""},{"$f":"IF(ISBLANK('Trust - Frontsheet'!G194),\"\",'Trust - Frontsheet'!G194)","v":""},{"$f":"IF(ISBLANK('Trust - Frontsheet'!H194),\"\",'Trust - Frontsheet'!H194)","v":""},{"$f":"'Trust - Frontsheet'!I194","v":0},{"$f":"'Trust - Frontsheet'!J194","v":0},{"$f":"'Trust - Frontsheet'!K194","v":0},{"$f":"'Trust - Frontsheet'!L194","v":0},{"$f":"'Trust - Frontsheet'!M194","v":0},{"$f":"'Trust - Frontsheet'!N194","v":0},{"$f":"'Trust - Frontsheet'!O194","v":0},{"$f":"'Trust - Frontsheet'!P194","v":0},{"$f":"IF('Trust - Frontsheet'!Q194=\"\",0,('Trust - Frontsheet'!Q194))","v":0},{"$f":"IF('Trust - Frontsheet'!R194=\"\",0,('Trust - Frontsheet'!R194))","v":0},{"$f":"IF('Trust - Frontsheet'!S194=\"\",0,('Trust - Frontsheet'!S194))","v":0},{"$f":"IF('Trust - Frontsheet'!T194=\"\",0,('Trust - Frontsheet'!T194))","v":0},{"$f":"'Trust - Frontsheet'!U194","v":0},{"$f":"IF('Trust - Frontsheet'!V194=\"\",0,('Trust - Frontsheet'!V194))","v":0},{"$f":"IF('Trust - Frontsheet'!W194=\"\",0,('Trust - Frontsheet'!W194))","v":0},{"$f":"IF('Trust - Frontsheet'!X194=\"\",0,('Trust - Frontsheet'!X194))","v":0},{"$f":"IF(A182=\"\",\"\",(IF(ISBLANK('Trust - Frontsheet'!F9),\"\",'Trust - Frontsheet'!F9)))","v":""}]
[{"$f":"IF('Trust - Frontsheet'!D195=0,\"\",IF('Trust - Frontsheet'!D195=\"\",\"\",'Trust - Frontsheet'!D195))","v":""},{"$f":"IF(ISBLANK('Trust - Frontsheet'!E195),\"\",'Trust - Frontsheet'!E195)","v":""},{"$f":"IF(ISBLANK('Trust - Frontsheet'!F195),\"\",'Trust - Frontsheet'!F195)","v":""},{"$f":"IF(ISBLANK('Trust - Frontsheet'!G195),\"\",'Trust - Frontsheet'!G195)","v":""},{"$f":"IF(ISBLANK('Trust - Frontsheet'!H195),\"\",'Trust - Frontsheet'!H195)","v":""},{"$f":"'Trust - Frontsheet'!I195","v":0},{"$f":"'Trust - Frontsheet'!J195","v":0},{"$f":"'Trust - Frontsheet'!K195","v":0},{"$f":"'Trust - Frontsheet'!L195","v":0},{"$f":"'Trust - Frontsheet'!M195","v":0},{"$f":"'Trust - Frontsheet'!N195","v":0},{"$f":"'Trust - Frontsheet'!O195","v":0},{"$f":"'Trust - Frontsheet'!P195","v":0},{"$f":"IF('Trust - Frontsheet'!Q195=\"\",0,('Trust - Frontsheet'!Q195))","v":0},{"$f":"IF('Trust - Frontsheet'!R195=\"\",0,('Trust - Frontsheet'!R195))","v":0},{"$f":"IF('Trust - Frontsheet'!S195=\"\",0,('Trust - Frontsheet'!S195))","v":0},{"$f":"IF('Trust - Frontsheet'!T195=\"\",0,('Trust - Frontsheet'!T195))","v":0},{"$f":"'Trust - Frontsheet'!U195","v":0},{"$f":"IF('Trust - Frontsheet'!V195=\"\",0,('Trust - Frontsheet'!V195))","v":0},{"$f":"IF('Trust - Frontsheet'!W195=\"\",0,('Trust - Frontsheet'!W195))","v":0},{"$f":"IF('Trust - Frontsheet'!X195=\"\",0,('Trust - Frontsheet'!X195))","v":0},{"$f":"IF(A183=\"\",\"\",(IF(ISBLANK('Trust - Frontsheet'!F9),\"\",'Trust - Frontsheet'!F9)))","v":""}]
[{"$f":"IF('Trust - Frontsheet'!D196=0,\"\",IF('Trust - Frontsheet'!D196=\"\",\"\",'Trust - Frontsheet'!D196))","v":""},{"$f":"IF(ISBLANK('Trust - Frontsheet'!E196),\"\",'Trust - Frontsheet'!E196)","v":""},{"$f":"IF(ISBLANK('Trust - Frontsheet'!F196),\"\",'Trust - Frontsheet'!F196)","v":""},{"$f":"IF(ISBLANK('Trust - Frontsheet'!G196),\"\",'Trust - Frontsheet'!G196)","v":""},{"$f":"IF(ISBLANK('Trust - Frontsheet'!H196),\"\",'Trust - Frontsheet'!H196)","v":""},{"$f":"'Trust - Frontsheet'!I196","v":0},{"$f":"'Trust - Frontsheet'!J196","v":0},{"$f":"'Trust - Frontsheet'!K196","v":0},{"$f":"'Trust - Frontsheet'!L196","v":0},{"$f":"'Trust - Frontsheet'!M196","v":0},{"$f":"'Trust - Frontsheet'!N196","v":0},{"$f":"'Trust - Frontsheet'!O196","v":0},{"$f":"'Trust - Frontsheet'!P196","v":0},{"$f":"IF('Trust - Frontsheet'!Q196=\"\",0,('Trust - Frontsheet'!Q196))","v":0},{"$f":"IF('Trust - Frontsheet'!R196=\"\",0,('Trust - Frontsheet'!R196))","v":0},{"$f":"IF('Trust - Frontsheet'!S196=\"\",0,('Trust - Frontsheet'!S196))","v":0},{"$f":"IF('Trust - Frontsheet'!T196=\"\",0,('Trust - Frontsheet'!T196))","v":0},{"$f":"'Trust - Frontsheet'!U196","v":0},{"$f":"IF('Trust - Frontsheet'!V196=\"\",0,('Trust - Frontsheet'!V196))","v":0},{"$f":"IF('Trust - Frontsheet'!W196=\"\",0,('Trust - Frontsheet'!W196))","v":0},{"$f":"IF('Trust - Frontsheet'!X196=\"\",0,('Trust - Frontsheet'!X196))","v":0},{"$f":"IF(A184=\"\",\"\",(IF(ISBLANK('Trust - Frontsheet'!F9),\"\",'Trust - Frontsheet'!F9)))","v":""}]
[{"$f":"IF('Trust - Frontsheet'!D197=0,\"\",IF('Trust - Frontsheet'!D197=\"\",\"\",'Trust - Frontsheet'!D197))","v":""},{"$f":"IF(ISBLANK('Trust - Frontsheet'!E197),\"\",'Trust - Frontsheet'!E197)","v":""},{"$f":"IF(ISBLANK('Trust - Frontsheet'!F197),\"\",'Trust - Frontsheet'!F197)","v":""},{"$f":"IF(ISBLANK('Trust - Frontsheet'!G197),\"\",'Trust - Frontsheet'!G197)","v":""},{"$f":"IF(ISBLANK('Trust - Frontsheet'!H197),\"\",'Trust - Frontsheet'!H197)","v":""},{"$f":"'Trust - Frontsheet'!I197","v":0},{"$f":"'Trust - Frontsheet'!J197","v":0},{"$f":"'Trust - Frontsheet'!K197","v":0},{"$f":"'Trust - Frontsheet'!L197","v":0},{"$f":"'Trust - Frontsheet'!M197","v":0},{"$f":"'Trust - Frontsheet'!N197","v":0},{"$f":"'Trust - Frontsheet'!O197","v":0},{"$f":"'Trust - Frontsheet'!P197","v":0},{"$f":"IF('Trust - Frontsheet'!Q197=\"\",0,('Trust - Frontsheet'!Q197))","v":0},{"$f":"IF('Trust - Frontsheet'!R197=\"\",0,('Trust - Frontsheet'!R197))","v":0},{"$f":"IF('Trust - Frontsheet'!S197=\"\",0,('Trust - Frontsheet'!S197))","v":0},{"$f":"IF('Trust - Frontsheet'!T197=\"\",0,('Trust - Frontsheet'!T197))","v":0},{"$f":"'Trust - Frontsheet'!U197","v":0},{"$f":"IF('Trust - Frontsheet'!V197=\"\",0,('Trust - Frontsheet'!V197))","v":0},{"$f":"IF('Trust - Frontsheet'!W197=\"\",0,('Trust - Frontsheet'!W197))","v":0},{"$f":"IF('Trust - Frontsheet'!X197=\"\",0,('Trust - Frontsheet'!X197))","v":0},{"$f":"IF(A185=\"\",\"\",(IF(ISBLANK('Trust - Frontsheet'!F9),\"\",'Trust - Frontsheet'!F9)))","v":""}]
[{"$f":"IF('Trust - Frontsheet'!D198=0,\"\",IF('Trust - Frontsheet'!D198=\"\",\"\",'Trust - Frontsheet'!D198))","v":""},{"$f":"IF(ISBLANK('Trust - Frontsheet'!E198),\"\",'Trust - Frontsheet'!E198)","v":""},{"$f":"IF(ISBLANK('Trust - Frontsheet'!F198),\"\",'Trust - Frontsheet'!F198)","v":""},{"$f":"IF(ISBLANK('Trust - Frontsheet'!G198),\"\",'Trust - Frontsheet'!G198)","v":""},{"$f":"IF(ISBLANK('Trust - Frontsheet'!H198),\"\",'Trust - Frontsheet'!H198)","v":""},{"$f":"'Trust - Frontsheet'!I198","v":0},{"$f":"'Trust - Frontsheet'!J198","v":0},{"$f":"'Trust - Frontsheet'!K198","v":0},{"$f":"'Trust - Frontsheet'!L198","v":0},{"$f":"'Trust - Frontsheet'!M198","v":0},{"$f":"'Trust - Frontsheet'!N198","v":0},{"$f":"'Trust - Frontsheet'!O198","v":0},{"$f":"'Trust - Frontsheet'!P198","v":0},{"$f":"IF('Trust - Frontsheet'!Q198=\"\",0,('Trust - Frontsheet'!Q198))","v":0},{"$f":"IF('Trust - Frontsheet'!R198=\"\",0,('Trust - Frontsheet'!R198))","v":0},{"$f":"IF('Trust - Frontsheet'!S198=\"\",0,('Trust - Frontsheet'!S198))","v":0},{"$f":"IF('Trust - Frontsheet'!T198=\"\",0,('Trust - Frontsheet'!T198))","v":0},{"$f":"'Trust - Frontsheet'!U198","v":0},{"$f":"IF('Trust - Frontsheet'!V198=\"\",0,('Trust - Frontsheet'!V198))","v":0},{"$f":"IF('Trust - Frontsheet'!W198=\"\",0,('Trust - Frontsheet'!W198))","v":0},{"$f":"IF('Trust - Frontsheet'!X198=\"\",0,('Trust - Frontsheet'!X198))","v":0},{"$f":"IF(A186=\"\",\"\",(IF(ISBLANK('Trust - Frontsheet'!F9),\"\",'Trust - Frontsheet'!F9)))","v":""}]
[{"$f":"IF('Trust - Frontsheet'!D199=0,\"\",IF('Trust - Frontsheet'!D199=\"\",\"\",'Trust - Frontsheet'!D199))","v":""},{"$f":"IF(ISBLANK('Trust - Frontsheet'!E199),\"\",'Trust - Frontsheet'!E199)","v":""},{"$f":"IF(ISBLANK('Trust - Frontsheet'!F199),\"\",'Trust - Frontsheet'!F199)","v":""},{"$f":"IF(ISBLANK('Trust - Frontsheet'!G199),\"\",'Trust - Frontsheet'!G199)","v":""},{"$f":"IF(ISBLANK('Trust - Frontsheet'!H199),\"\",'Trust - Frontsheet'!H199)","v":""},{"$f":"'Trust - Frontsheet'!I199","v":0},{"$f":"'Trust - Frontsheet'!J199","v":0},{"$f":"'Trust - Frontsheet'!K199","v":0},{"$f":"'Trust - Frontsheet'!L199","v":0},{"$f":"'Trust - Frontsheet'!M199","v":0},{"$f":"'Trust - Frontsheet'!N199","v":0},{"$f":"'Trust - Frontsheet'!O199","v":0},{"$f":"'Trust - Frontsheet'!P199","v":0},{"$f":"IF('Trust - Frontsheet'!Q199=\"\",0,('Trust - Frontsheet'!Q199))","v":0},{"$f":"IF('Trust - Frontsheet'!R199=\"\",0,('Trust - Frontsheet'!R199))","v":0},{"$f":"IF('Trust - Frontsheet'!S199=\"\",0,('Trust - Frontsheet'!S199))","v":0},{"$f":"IF('Trust - Frontsheet'!T199=\"\",0,('Trust - Frontsheet'!T199))","v":0},{"$f":"'Trust - Frontsheet'!U199","v":0},{"$f":"IF('Trust - Frontsheet'!V199=\"\",0,('Trust - Frontsheet'!V199))","v":0},{"$f":"IF('Trust - Frontsheet'!W199=\"\",0,('Trust - Frontsheet'!W199))","v":0},{"$f":"IF('Trust - Frontsheet'!X199=\"\",0,('Trust - Frontsheet'!X199))","v":0},{"$f":"IF(A187=\"\",\"\",(IF(ISBLANK('Trust - Frontsheet'!F9),\"\",'Trust - Frontsheet'!F9)))","v":""}]
[{"$f":"IF('Trust - Frontsheet'!D200=0,\"\",IF('Trust - Frontsheet'!D200=\"\",\"\",'Trust - Frontsheet'!D200))","v":""},{"$f":"IF(ISBLANK('Trust - Frontsheet'!E200),\"\",'Trust - Frontsheet'!E200)","v":""},{"$f":"IF(ISBLANK('Trust - Frontsheet'!F200),\"\",'Trust - Frontsheet'!F200)","v":""},{"$f":"IF(ISBLANK('Trust - Frontsheet'!G200),\"\",'Trust - Frontsheet'!G200)","v":""},{"$f":"IF(ISBLANK('Trust - Frontsheet'!H200),\"\",'Trust - Frontsheet'!H200)","v":""},{"$f":"'Trust - Frontsheet'!I200","v":0},{"$f":"'Trust - Frontsheet'!J200","v":0},{"$f":"'Trust - Frontsheet'!K200","v":0},{"$f":"'Trust - Frontsheet'!L200","v":0},{"$f":"'Trust - Frontsheet'!M200","v":0},{"$f":"'Trust - Frontsheet'!N200","v":0},{"$f":"'Trust - Frontsheet'!O200","v":0},{"$f":"'Trust - Frontsheet'!P200","v":0},{"$f":"IF('Trust - Frontsheet'!Q200=\"\",0,('Trust - Frontsheet'!Q200))","v":0},{"$f":"IF('Trust - Frontsheet'!R200=\"\",0,('Trust - Frontsheet'!R200))","v":0},{"$f":"IF('Trust - Frontsheet'!S200=\"\",0,('Trust - Frontsheet'!S200))","v":0},{"$f":"IF('Trust - Frontsheet'!T200=\"\",0,('Trust - Frontsheet'!T200))","v":0},{"$f":"'Trust - Frontsheet'!U200","v":0},{"$f":"IF('Trust - Frontsheet'!V200=\"\",0,('Trust - Frontsheet'!V200))","v":0},{"$f":"IF('Trust - Frontsheet'!W200=\"\",0,('Trust - Frontsheet'!W200))","v":0},{"$f":"IF('Trust - Frontsheet'!X200=\"\",0,('Trust - Frontsheet'!X200))","v":0},{"$f":"IF(A188=\"\",\"\",(IF(ISBLANK('Trust - Frontsheet'!F9),\"\",'Trust - Frontsheet'!F9)))","v":""}]
[{"$f":"IF('Trust - Frontsheet'!D201=0,\"\",IF('Trust - Frontsheet'!D201=\"\",\"\",'Trust - Frontsheet'!D201))","v":""},{"$f":"IF(ISBLANK('Trust - Frontsheet'!E201),\"\",'Trust - Frontsheet'!E201)","v":""},{"$f":"IF(ISBLANK('Trust - Frontsheet'!F201),\"\",'Trust - Frontsheet'!F201)","v":""},{"$f":"IF(ISBLANK('Trust - Frontsheet'!G201),\"\",'Trust - Frontsheet'!G201)","v":""},{"$f":"IF(ISBLANK('Trust - Frontsheet'!H201),\"\",'Trust - Frontsheet'!H201)","v":""},{"$f":"'Trust - Frontsheet'!I201","v":0},{"$f":"'Trust - Frontsheet'!J201","v":0},{"$f":"'Trust - Frontsheet'!K201","v":0},{"$f":"'Trust - Frontsheet'!L201","v":0},{"$f":"'Trust - Frontsheet'!M201","v":0},{"$f":"'Trust - Frontsheet'!N201","v":0},{"$f":"'Trust - Frontsheet'!O201","v":0},{"$f":"'Trust - Frontsheet'!P201","v":0},{"$f":"IF('Trust - Frontsheet'!Q201=\"\",0,('Trust - Frontsheet'!Q201))","v":0},{"$f":"IF('Trust - Frontsheet'!R201=\"\",0,('Trust - Frontsheet'!R201))","v":0},{"$f":"IF('Trust - Frontsheet'!S201=\"\",0,('Trust - Frontsheet'!S201))","v":0},{"$f":"IF('Trust - Frontsheet'!T201=\"\",0,('Trust - Frontsheet'!T201))","v":0},{"$f":"'Trust - Frontsheet'!U201","v":0},{"$f":"IF('Trust - Frontsheet'!V201=\"\",0,('Trust - Frontsheet'!V201))","v":0},{"$f":"IF('Trust - Frontsheet'!W201=\"\",0,('Trust - Frontsheet'!W201))","v":0},{"$f":"IF('Trust - Frontsheet'!X201=\"\",0,('Trust - Frontsheet'!X201))","v":0},{"$f":"IF(A189=\"\",\"\",(IF(ISBLANK('Trust - Frontsheet'!F9),\"\",'Trust - Frontsheet'!F9)))","v":""}]
[{"$f":"IF('Trust - Frontsheet'!D202=0,\"\",IF('Trust - Frontsheet'!D202=\"\",\"\",'Trust - Frontsheet'!D202))","v":""},{"$f":"IF(ISBLANK('Trust - Frontsheet'!E202),\"\",'Trust - Frontsheet'!E202)","v":""},{"$f":"IF(ISBLANK('Trust - Frontsheet'!F202),\"\",'Trust - Frontsheet'!F202)","v":""},{"$f":"IF(ISBLANK('Trust - Frontsheet'!G202),\"\",'Trust - Frontsheet'!G202)","v":""},{"$f":"IF(ISBLANK('Trust - Frontsheet'!H202),\"\",'Trust - Frontsheet'!H202)","v":""},{"$f":"'Trust - Frontsheet'!I202","v":0},{"$f":"'Trust - Frontsheet'!J202","v":0},{"$f":"'Trust - Frontsheet'!K202","v":0},{"$f":"'Trust - Frontsheet'!L202","v":0},{"$f":"'Trust - Frontsheet'!M202","v":0},{"$f":"'Trust - Frontsheet'!N202","v":0},{"$f":"'Trust - Frontsheet'!O202","v":0},{"$f":"'Trust - Frontsheet'!P202","v":0},{"$f":"IF('Trust - Frontsheet'!Q202=\"\",0,('Trust - Frontsheet'!Q202))","v":0},{"$f":"IF('Trust - Frontsheet'!R202=\"\",0,('Trust - Frontsheet'!R202))","v":0},{"$f":"IF('Trust - Frontsheet'!S202=\"\",0,('Trust - Frontsheet'!S202))","v":0},{"$f":"IF('Trust - Frontsheet'!T202=\"\",0,('Trust - Frontsheet'!T202))","v":0},{"$f":"'Trust - Frontsheet'!U202","v":0},{"$f":"IF('Trust - Frontsheet'!V202=\"\",0,('Trust - Frontsheet'!V202))","v":0},{"$f":"IF('Trust - Frontsheet'!W202=\"\",0,('Trust - Frontsheet'!W202))","v":0},{"$f":"IF('Trust - Frontsheet'!X202=\"\",0,('Trust - Frontsheet'!X202))","v":0},{"$f":"IF(A190=\"\",\"\",(IF(ISBLANK('Trust - Frontsheet'!F9),\"\",'Trust - Frontsheet'!F9)))","v":""}]
[{"$f":"IF('Trust - Frontsheet'!D203=0,\"\",IF('Trust - Frontsheet'!D203=\"\",\"\",'Trust - Frontsheet'!D203))","v":""},{"$f":"IF(ISBLANK('Trust - Frontsheet'!E203),\"\",'Trust - Frontsheet'!E203)","v":""},{"$f":"IF(ISBLANK('Trust - Frontsheet'!F203),\"\",'Trust - Frontsheet'!F203)","v":""},{"$f":"IF(ISBLANK('Trust - Frontsheet'!G203),\"\",'Trust - Frontsheet'!G203)","v":""},{"$f":"IF(ISBLANK('Trust - Frontsheet'!H203),\"\",'Trust - Frontsheet'!H203)","v":""},{"$f":"'Trust - Frontsheet'!I203","v":0},{"$f":"'Trust - Frontsheet'!J203","v":0},{"$f":"'Trust - Frontsheet'!K203","v":0},{"$f":"'Trust - Frontsheet'!L203","v":0},{"$f":"'Trust - Frontsheet'!M203","v":0},{"$f":"'Trust - Frontsheet'!N203","v":0},{"$f":"'Trust - Frontsheet'!O203","v":0},{"$f":"'Trust - Frontsheet'!P203","v":0},{"$f":"IF('Trust - Frontsheet'!Q203=\"\",0,('Trust - Frontsheet'!Q203))","v":0},{"$f":"IF('Trust - Frontsheet'!R203=\"\",0,('Trust - Frontsheet'!R203))","v":0},{"$f":"IF('Trust - Frontsheet'!S203=\"\",0,('Trust - Frontsheet'!S203))","v":0},{"$f":"IF('Trust - Frontsheet'!T203=\"\",0,('Trust - Frontsheet'!T203))","v":0},{"$f":"'Trust - Frontsheet'!U203","v":0},{"$f":"IF('Trust - Frontsheet'!V203=\"\",0,('Trust - Frontsheet'!V203))","v":0},{"$f":"IF('Trust - Frontsheet'!W203=\"\",0,('Trust - Frontsheet'!W203))","v":0},{"$f":"IF('Trust - Frontsheet'!X203=\"\",0,('Trust - Frontsheet'!X203))","v":0},{"$f":"IF(A191=\"\",\"\",(IF(ISBLANK('Trust - Frontsheet'!F9),\"\",'Trust - Frontsheet'!F9)))","v":""}]
[{"$f":"IF('Trust - Frontsheet'!D204=0,\"\",IF('Trust - Frontsheet'!D204=\"\",\"\",'Trust - Frontsheet'!D204))","v":""},{"$f":"IF(ISBLANK('Trust - Frontsheet'!E204),\"\",'Trust - Frontsheet'!E204)","v":""},{"$f":"IF(ISBLANK('Trust - Frontsheet'!F204),\"\",'Trust - Frontsheet'!F204)","v":""},{"$f":"IF(ISBLANK('Trust - Frontsheet'!G204),\"\",'Trust - Frontsheet'!G204)","v":""},{"$f":"IF(ISBLANK('Trust - Frontsheet'!H204),\"\",'Trust - Frontsheet'!H204)","v":""},{"$f":"'Trust - Frontsheet'!I204","v":0},{"$f":"'Trust - Frontsheet'!J204","v":0},{"$f":"'Trust - Frontsheet'!K204","v":0},{"$f":"'Trust - Frontsheet'!L204","v":0},{"$f":"'Trust - Frontsheet'!M204","v":0},{"$f":"'Trust - Frontsheet'!N204","v":0},{"$f":"'Trust - Frontsheet'!O204","v":0},{"$f":"'Trust - Frontsheet'!P204","v":0},{"$f":"IF('Trust - Frontsheet'!Q204=\"\",0,('Trust - Frontsheet'!Q204))","v":0},{"$f":"IF('Trust - Frontsheet'!R204=\"\",0,('Trust - Frontsheet'!R204))","v":0},{"$f":"IF('Trust - Frontsheet'!S204=\"\",0,('Trust - Frontsheet'!S204))","v":0},{"$f":"IF('Trust - Frontsheet'!T204=\"\",0,('Trust - Frontsheet'!T204))","v":0},{"$f":"'Trust - Frontsheet'!U204","v":0},{"$f":"IF('Trust - Frontsheet'!V204=\"\",0,('Trust - Frontsheet'!V204))","v":0},{"$f":"IF('Trust - Frontsheet'!W204=\"\",0,('Trust - Frontsheet'!W204))","v":0},{"$f":"IF('Trust - Frontsheet'!X204=\"\",0,('Trust - Frontsheet'!X204))","v":0},{"$f":"IF(A192=\"\",\"\",(IF(ISBLANK('Trust - Frontsheet'!F9),\"\",'Trust - Frontsheet'!F9)))","v":""}]
[{"$f":"IF('Trust - Frontsheet'!D205=0,\"\",IF('Trust - Frontsheet'!D205=\"\",\"\",'Trust - Frontsheet'!D205))","v":""},{"$f":"IF(ISBLANK('Trust - Frontsheet'!E205),\"\",'Trust - Frontsheet'!E205)","v":""},{"$f":"IF(ISBLANK('Trust - Frontsheet'!F205),\"\",'Trust - Frontsheet'!F205)","v":""},{"$f":"IF(ISBLANK('Trust - Frontsheet'!G205),\"\",'Trust - Frontsheet'!G205)","v":""},{"$f":"IF(ISBLANK('Trust - Frontsheet'!H205),\"\",'Trust - Frontsheet'!H205)","v":""},{"$f":"'Trust - Frontsheet'!I205","v":0},{"$f":"'Trust - Frontsheet'!J205","v":0},{"$f":"'Trust - Frontsheet'!K205","v":0},{"$f":"'Trust - Frontsheet'!L205","v":0},{"$f":"'Trust - Frontsheet'!M205","v":0},{"$f":"'Trust - Frontsheet'!N205","v":0},{"$f":"'Trust - Frontsheet'!O205","v":0},{"$f":"'Trust - Frontsheet'!P205","v":0},{"$f":"IF('Trust - Frontsheet'!Q205=\"\",0,('Trust - Frontsheet'!Q205))","v":0},{"$f":"IF('Trust - Frontsheet'!R205=\"\",0,('Trust - Frontsheet'!R205))","v":0},{"$f":"IF('Trust - Frontsheet'!S205=\"\",0,('Trust - Frontsheet'!S205))","v":0},{"$f":"IF('Trust - Frontsheet'!T205=\"\",0,('Trust - Frontsheet'!T205))","v":0},{"$f":"'Trust - Frontsheet'!U205","v":0},{"$f":"IF('Trust - Frontsheet'!V205=\"\",0,('Trust - Frontsheet'!V205))","v":0},{"$f":"IF('Trust - Frontsheet'!W205=\"\",0,('Trust - Frontsheet'!W205))","v":0},{"$f":"IF('Trust - Frontsheet'!X205=\"\",0,('Trust - Frontsheet'!X205))","v":0},{"$f":"IF(A193=\"\",\"\",(IF(ISBLANK('Trust - Frontsheet'!F9),\"\",'Trust - Frontsheet'!F9)))","v":""}]
[{"$f":"IF('Trust - Frontsheet'!D206=0,\"\",IF('Trust - Frontsheet'!D206=\"\",\"\",'Trust - Frontsheet'!D206))","v":""},{"$f":"IF(ISBLANK('Trust - Frontsheet'!E206),\"\",'Trust - Frontsheet'!E206)","v":""},{"$f":"IF(ISBLANK('Trust - Frontsheet'!F206),\"\",'Trust - Frontsheet'!F206)","v":""},{"$f":"IF(ISBLANK('Trust - Frontsheet'!G206),\"\",'Trust - Frontsheet'!G206)","v":""},{"$f":"IF(ISBLANK('Trust - Frontsheet'!H206),\"\",'Trust - Frontsheet'!H206)","v":""},{"$f":"'Trust - Frontsheet'!I206","v":0},{"$f":"'Trust - Frontsheet'!J206","v":0},{"$f":"'Trust - Frontsheet'!K206","v":0},{"$f":"'Trust - Frontsheet'!L206","v":0},{"$f":"'Trust - Frontsheet'!M206","v":0},{"$f":"'Trust - Frontsheet'!N206","v":0},{"$f":"'Trust - Frontsheet'!O206","v":0},{"$f":"'Trust - Frontsheet'!P206","v":0},{"$f":"IF('Trust - Frontsheet'!Q206=\"\",0,('Trust - Frontsheet'!Q206))","v":0},{"$f":"IF('Trust - Frontsheet'!R206=\"\",0,('Trust - Frontsheet'!R206))","v":0},{"$f":"IF('Trust - Frontsheet'!S206=\"\",0,('Trust - Frontsheet'!S206))","v":0},{"$f":"IF('Trust - Frontsheet'!T206=\"\",0,('Trust - Frontsheet'!T206))","v":0},{"$f":"'Trust - Frontsheet'!U206","v":0},{"$f":"IF('Trust - Frontsheet'!V206=\"\",0,('Trust - Frontsheet'!V206))","v":0},{"$f":"IF('Trust - Frontsheet'!W206=\"\",0,('Trust - Frontsheet'!W206))","v":0},{"$f":"IF('Trust - Frontsheet'!X206=\"\",0,('Trust - Frontsheet'!X206))","v":0},{"$f":"IF(A194=\"\",\"\",(IF(ISBLANK('Trust - Frontsheet'!F9),\"\",'Trust - Frontsheet'!F9)))","v":""}]
[{"$f":"IF('Trust - Frontsheet'!D207=0,\"\",IF('Trust - Frontsheet'!D207=\"\",\"\",'Trust - Frontsheet'!D207))","v":""},{"$f":"IF(ISBLANK('Trust - Frontsheet'!E207),\"\",'Trust - Frontsheet'!E207)","v":""},{"$f":"IF(ISBLANK('Trust - Frontsheet'!F207),\"\",'Trust - Frontsheet'!F207)","v":""},{"$f":"IF(ISBLANK('Trust - Frontsheet'!G207),\"\",'Trust - Frontsheet'!G207)","v":""},{"$f":"IF(ISBLANK('Trust - Frontsheet'!H207),\"\",'Trust - Frontsheet'!H207)","v":""},{"$f":"'Trust - Frontsheet'!I207","v":0},{"$f":"'Trust - Frontsheet'!J207","v":0},{"$f":"'Trust - Frontsheet'!K207","v":0},{"$f":"'Trust - Frontsheet'!L207","v":0},{"$f":"'Trust - Frontsheet'!M207","v":0},{"$f":"'Trust - Frontsheet'!N207","v":0},{"$f":"'Trust - Frontsheet'!O207","v":0},{"$f":"'Trust - Frontsheet'!P207","v":0},{"$f":"IF('Trust - Frontsheet'!Q207=\"\",0,('Trust - Frontsheet'!Q207))","v":0},{"$f":"IF('Trust - Frontsheet'!R207=\"\",0,('Trust - Frontsheet'!R207))","v":0},{"$f":"IF('Trust - Frontsheet'!S207=\"\",0,('Trust - Frontsheet'!S207))","v":0},{"$f":"IF('Trust - Frontsheet'!T207=\"\",0,('Trust - Frontsheet'!T207))","v":0},{"$f":"'Trust - Frontsheet'!U207","v":0},{"$f":"IF('Trust - Frontsheet'!V207=\"\",0,('Trust - Frontsheet'!V207))","v":0},{"$f":"IF('Trust - Frontsheet'!W207=\"\",0,('Trust - Frontsheet'!W207))","v":0},{"$f":"IF('Trust - Frontsheet'!X207=\"\",0,('Trust - Frontsheet'!X207))","v":0},{"$f":"IF(A195=\"\",\"\",(IF(ISBLANK('Trust - Frontsheet'!F9),\"\",'Trust - Frontsheet'!F9)))","v":""}]
[{"$f":"IF('Trust - Frontsheet'!D208=0,\"\",IF('Trust - Frontsheet'!D208=\"\",\"\",'Trust - Frontsheet'!D208))","v":""},{"$f":"IF(ISBLANK('Trust - Frontsheet'!E208),\"\",'Trust - Frontsheet'!E208)","v":""},{"$f":"IF(ISBLANK('Trust - Frontsheet'!F208),\"\",'Trust - Frontsheet'!F208)","v":""},{"$f":"IF(ISBLANK('Trust - Frontsheet'!G208),\"\",'Trust - Frontsheet'!G208)","v":""},{"$f":"IF(ISBLANK('Trust - Frontsheet'!H208),\"\",'Trust - Frontsheet'!H208)","v":""},{"$f":"'Trust - Frontsheet'!I208","v":0},{"$f":"'Trust - Frontsheet'!J208","v":0},{"$f":"'Trust - Frontsheet'!K208","v":0},{"$f":"'Trust - Frontsheet'!L208","v":0},{"$f":"'Trust - Frontsheet'!M208","v":0},{"$f":"'Trust - Frontsheet'!N208","v":0},{"$f":"'Trust - Frontsheet'!O208","v":0},{"$f":"'Trust - Frontsheet'!P208","v":0},{"$f":"IF('Trust - Frontsheet'!Q208=\"\",0,('Trust - Frontsheet'!Q208))","v":0},{"$f":"IF('Trust - Frontsheet'!R208=\"\",0,('Trust - Frontsheet'!R208))","v":0},{"$f":"IF('Trust - Frontsheet'!S208=\"\",0,('Trust - Frontsheet'!S208))","v":0},{"$f":"IF('Trust - Frontsheet'!T208=\"\",0,('Trust - Frontsheet'!T208))","v":0},{"$f":"'Trust - Frontsheet'!U208","v":0},{"$f":"IF('Trust - Frontsheet'!V208=\"\",0,('Trust - Frontsheet'!V208))","v":0},{"$f":"IF('Trust - Frontsheet'!W208=\"\",0,('Trust - Frontsheet'!W208))","v":0},{"$f":"IF('Trust - Frontsheet'!X208=\"\",0,('Trust - Frontsheet'!X208))","v":0},{"$f":"IF(A196=\"\",\"\",(IF(ISBLANK('Trust - Frontsheet'!F9),\"\",'Trust - Frontsheet'!F9)))","v":""}]
[{"$f":"IF('Trust - Frontsheet'!D209=0,\"\",IF('Trust - Frontsheet'!D209=\"\",\"\",'Trust - Frontsheet'!D209))","v":""},{"$f":"IF(ISBLANK('Trust - Frontsheet'!E209),\"\",'Trust - Frontsheet'!E209)","v":""},{"$f":"IF(ISBLANK('Trust - Frontsheet'!F209),\"\",'Trust - Frontsheet'!F209)","v":""},{"$f":"IF(ISBLANK('Trust - Frontsheet'!G209),\"\",'Trust - Frontsheet'!G209)","v":""},{"$f":"IF(ISBLANK('Trust - Frontsheet'!H209),\"\",'Trust - Frontsheet'!H209)","v":""},{"$f":"'Trust - Frontsheet'!I209","v":0},{"$f":"'Trust - Frontsheet'!J209","v":0},{"$f":"'Trust - Frontsheet'!K209","v":0},{"$f":"'Trust - Frontsheet'!L209","v":0},{"$f":"'Trust - Frontsheet'!M209","v":0},{"$f":"'Trust - Frontsheet'!N209","v":0},{"$f":"'Trust - Frontsheet'!O209","v":0},{"$f":"'Trust - Frontsheet'!P209","v":0},{"$f":"IF('Trust - Frontsheet'!Q209=\"\",0,('Trust - Frontsheet'!Q209))","v":0},{"$f":"IF('Trust - Frontsheet'!R209=\"\",0,('Trust - Frontsheet'!R209))","v":0},{"$f":"IF('Trust - Frontsheet'!S209=\"\",0,('Trust - Frontsheet'!S209))","v":0},{"$f":"IF('Trust - Frontsheet'!T209=\"\",0,('Trust - Frontsheet'!T209))","v":0},{"$f":"'Trust - Frontsheet'!U209","v":0},{"$f":"IF('Trust - Frontsheet'!V209=\"\",0,('Trust - Frontsheet'!V209))","v":0},{"$f":"IF('Trust - Frontsheet'!W209=\"\",0,('Trust - Frontsheet'!W209))","v":0},{"$f":"IF('Trust - Frontsheet'!X209=\"\",0,('Trust - Frontsheet'!X209))","v":0},{"$f":"IF(A197=\"\",\"\",(IF(ISBLANK('Trust - Frontsheet'!F9),\"\",'Trust - Frontsheet'!F9)))","v":""}]
[{"$f":"IF('Trust - Frontsheet'!D210=0,\"\",IF('Trust - Frontsheet'!D210=\"\",\"\",'Trust - Frontsheet'!D210))","v":""},{"$f":"IF(ISBLANK('Trust - Frontsheet'!E210),\"\",'Trust - Frontsheet'!E210)","v":""},{"$f":"IF(ISBLANK('Trust - Frontsheet'!F210),\"\",'Trust - Frontsheet'!F210)","v":""},{"$f":"IF(ISBLANK('Trust - Frontsheet'!G210),\"\",'Trust - Frontsheet'!G210)","v":""},{"$f":"IF(ISBLANK('Trust - Frontsheet'!H210),\"\",'Trust - Frontsheet'!H210)","v":""},{"$f":"'Trust - Frontsheet'!I210","v":0},{"$f":"'Trust - Frontsheet'!J210","v":0},{"$f":"'Trust - Frontsheet'!K210","v":0},{"$f":"'Trust - Frontsheet'!L210","v":0},{"$f":"'Trust - Frontsheet'!M210","v":0},{"$f":"'Trust - Frontsheet'!N210","v":0},{"$f":"'Trust - Frontsheet'!O210","v":0},{"$f":"'Trust - Frontsheet'!P210","v":0},{"$f":"IF('Trust - Frontsheet'!Q210=\"\",0,('Trust - Frontsheet'!Q210))","v":0},{"$f":"IF('Trust - Frontsheet'!R210=\"\",0,('Trust - Frontsheet'!R210))","v":0},{"$f":"IF('Trust - Frontsheet'!S210=\"\",0,('Trust - Frontsheet'!S210))","v":0},{"$f":"IF('Trust - Frontsheet'!T210=\"\",0,('Trust - Frontsheet'!T210))","v":0},{"$f":"'Trust - Frontsheet'!U210","v":0},{"$f":"IF('Trust - Frontsheet'!V210=\"\",0,('Trust - Frontsheet'!V210))","v":0},{"$f":"IF('Trust - Frontsheet'!W210=\"\",0,('Trust - Frontsheet'!W210))","v":0},{"$f":"IF('Trust - Frontsheet'!X210=\"\",0,('Trust - Frontsheet'!X210))","v":0},{"$f":"IF(A198=\"\",\"\",(IF(ISBLANK('Trust - Frontsheet'!F9),\"\",'Trust - Frontsheet'!F9)))","v":""}]
[{"$f":"IF('Trust - Frontsheet'!D211=0,\"\",IF('Trust - Frontsheet'!D211=\"\",\"\",'Trust - Frontsheet'!D211))","v":""},{"$f":"IF(ISBLANK('Trust - Frontsheet'!E211),\"\",'Trust - Frontsheet'!E211)","v":""},{"$f":"IF(ISBLANK('Trust - Frontsheet'!F211),\"\",'Trust - Frontsheet'!F211)","v":""},{"$f":"IF(ISBLANK('Trust - Frontsheet'!G211),\"\",'Trust - Frontsheet'!G211)","v":""},{"$f":"IF(ISBLANK('Trust - Frontsheet'!H211),\"\",'Trust - Frontsheet'!H211)","v":""},{"$f":"'Trust - Frontsheet'!I211","v":0},{"$f":"'Trust - Frontsheet'!J211","v":0},{"$f":"'Trust - Frontsheet'!K211","v":0},{"$f":"'Trust - Frontsheet'!L211","v":0},{"$f":"'Trust - Frontsheet'!M211","v":0},{"$f":"'Trust - Frontsheet'!N211","v":0},{"$f":"'Trust - Frontsheet'!O211","v":0},{"$f":"'Trust - Frontsheet'!P211","v":0},{"$f":"IF('Trust - Frontsheet'!Q211=\"\",0,('Trust - Frontsheet'!Q211))","v":0},{"$f":"IF('Trust - Frontsheet'!R211=\"\",0,('Trust - Frontsheet'!R211))","v":0},{"$f":"IF('Trust - Frontsheet'!S211=\"\",0,('Trust - Frontsheet'!S211))","v":0},{"$f":"IF('Trust - Frontsheet'!T211=\"\",0,('Trust - Frontsheet'!T211))","v":0},{"$f":"'Trust - Frontsheet'!U211","v":0},{"$f":"IF('Trust - Frontsheet'!V211=\"\",0,('Trust - Frontsheet'!V211))","v":0},{"$f":"IF('Trust - Frontsheet'!W211=\"\",0,('Trust - Frontsheet'!W211))","v":0},{"$f":"IF('Trust - Frontsheet'!X211=\"\",0,('Trust - Frontsheet'!X211))","v":0},{"$f":"IF(A199=\"\",\"\",(IF(ISBLANK('Trust - Frontsheet'!F9),\"\",'Trust - Frontsheet'!F9)))","v":""}]
[{"$f":"IF('Trust - Frontsheet'!D212=0,\"\",IF('Trust - Frontsheet'!D212=\"\",\"\",'Trust - Frontsheet'!D212))","v":""},{"$f":"IF(ISBLANK('Trust - Frontsheet'!E212),\"\",'Trust - Frontsheet'!E212)","v":""},{"$f":"IF(ISBLANK('Trust - Frontsheet'!F212),\"\",'Trust - Frontsheet'!F212)","v":""},{"$f":"IF(ISBLANK('Trust - Frontsheet'!G212),\"\",'Trust - Frontsheet'!G212)","v":""},{"$f":"IF(ISBLANK('Trust - Frontsheet'!H212),\"\",'Trust - Frontsheet'!H212)","v":""},{"$f":"'Trust - Frontsheet'!I212","v":0},{"$f":"'Trust - Frontsheet'!J212","v":0},{"$f":"'Trust - Frontsheet'!K212","v":0},{"$f":"'Trust - Frontsheet'!L212","v":0},{"$f":"'Trust - Frontsheet'!M212","v":0},{"$f":"'Trust - Frontsheet'!N212","v":0},{"$f":"'Trust - Frontsheet'!O212","v":0},{"$f":"'Trust - Frontsheet'!P212","v":0},{"$f":"IF('Trust - Frontsheet'!Q212=\"\",0,('Trust - Frontsheet'!Q212))","v":0},{"$f":"IF('Trust - Frontsheet'!R212=\"\",0,('Trust - Frontsheet'!R212))","v":0},{"$f":"IF('Trust - Frontsheet'!S212=\"\",0,('Trust - Frontsheet'!S212))","v":0},{"$f":"IF('Trust - Frontsheet'!T212=\"\",0,('Trust - Frontsheet'!T212))","v":0},{"$f":"'Trust - Frontsheet'!U212","v":0},{"$f":"IF('Trust - Frontsheet'!V212=\"\",0,('Trust - Frontsheet'!V212))","v":0},{"$f":"IF('Trust - Frontsheet'!W212=\"\",0,('Trust - Frontsheet'!W212))","v":0},{"$f":"IF('Trust - Frontsheet'!X212=\"\",0,('Trust - Frontsheet'!X212))","v":0},{"$f":"IF(A200=\"\",\"\",(IF(ISBLANK('Trust - Frontsheet'!F9),\"\",'Trust - Frontsheet'!F9)))","v":""}]
[{"$f":"IF('Trust - Frontsheet'!D213=0,\"\",IF('Trust - Frontsheet'!D213=\"\",\"\",'Trust - Frontsheet'!D213))","v":""},{"$f":"IF(ISBLANK('Trust - Frontsheet'!E213),\"\",'Trust - Frontsheet'!E213)","v":""},{"$f":"IF(ISBLANK('Trust - Frontsheet'!F213),\"\",'Trust - Frontsheet'!F213)","v":""},{"$f":"IF(ISBLANK('Trust - Frontsheet'!G213),\"\",'Trust - Frontsheet'!G213)","v":""},{"$f":"IF(ISBLANK('Trust - Frontsheet'!H213),\"\",'Trust - Frontsheet'!H213)","v":""},{"$f":"'Trust - Frontsheet'!I213","v":0},{"$f":"'Trust - Frontsheet'!J213","v":0},{"$f":"'Trust - Frontsheet'!K213","v":0},{"$f":"'Trust - Frontsheet'!L213","v":0},{"$f":"'Trust - Frontsheet'!M213","v":0},{"$f":"'Trust - Frontsheet'!N213","v":0},{"$f":"'Trust - Frontsheet'!O213","v":0},{"$f":"'Trust - Frontsheet'!P213","v":0},{"$f":"IF('Trust - Frontsheet'!Q213=\"\",0,('Trust - Frontsheet'!Q213))","v":0},{"$f":"IF('Trust - Frontsheet'!R213=\"\",0,('Trust - Frontsheet'!R213))","v":0},{"$f":"IF('Trust - Frontsheet'!S213=\"\",0,('Trust - Frontsheet'!S213))","v":0},{"$f":"IF('Trust - Frontsheet'!T213=\"\",0,('Trust - Frontsheet'!T213))","v":0},{"$f":"'Trust - Frontsheet'!U213","v":0},{"$f":"IF('Trust - Frontsheet'!V213=\"\",0,('Trust - Frontsheet'!V213))","v":0},{"$f":"IF('Trust - Frontsheet'!W213=\"\",0,('Trust - Frontsheet'!W213))","v":0},{"$f":"IF('Trust - Frontsheet'!X213=\"\",0,('Trust - Frontsheet'!X213))","v":0},{"$f":"IF(A201=\"\",\"\",(IF(ISBLANK('Trust - Frontsheet'!F9),\"\",'Trust - Frontsheet'!F9)))","v":""}]