{"text_format":"1","workbook":"xlsx","n_sheets":3,"sheets":["Sheet1","Sheet2","Sheet3"],"not_rendered":{"charts":0,"images":0,"macros":0,"external_links":1,"defined_names":1,"comments":1,"pivot_tables":0},"unopened":[],"bounds":{"document_bytes":16777216,"sheet_cells":100000,"rows_first":2000,"rows_last":500,"rows_between":2000,"halvings":0,"cell_chars":16384,"cell_head_chars":4096},"cells_cut":0,"cells_raw":0,"read":"whole","date_system":"1900"}

{"sheet":"Sheet1","index":0,"n_rows":6493,"n_cols":91,"rows_kept":1125,"cut":true,"hidden":false,"merged":[[10,36,10,39],[1,3,2,45],[4,5,4,9],[6,5,6,17],[7,5,7,17],[8,5,8,17],[9,3,9,4],[11,28,12,28],[10,40,10,43],[10,44,10,45],[11,3,11,4],[11,5,12,5],[11,6,11,7],[11,8,11,9],[11,10,11,11],[11,12,11,13],[11,14,11,15],[11,16,11,17],[10,3,10,4],[10,8,10,15],[10,16,10,23],[10,24,10,27],[10,28,10,35],[11,45,12,45],[11,57,11,65],[11,35,12,35],[11,36,12,36],[11,37,12,37],[11,38,12,38],[11,39,12,39],[11,40,12,40],[12,0,12,1],[11,41,12,41],[11,42,12,42],[11,43,12,43],[11,44,12,44],[11,29,12,29],[11,30,12,30],[11,31,12,31],[11,32,12,32],[11,33,12,33],[11,34,12,34],[11,18,11,19],[11,20,11,21],[11,22,11,23],[11,24,11,25],[11,26,11,27]],"bounds":{"rows_first":500,"rows_last":125,"rows_between":500,"halvings":2}}
[null,null,"Y",null,null,null,null,null,null,null,null,null,null,null,null,null,null,null,null,null,null,null,null,null,null,null,null,null,null,null,null,null,null,null,null,null,null,null,null,null,null,null,null,null,null,null," ",null,null,null,"ERRORS",null,"WARNINGS",null,null,null,null,null,null,null,null,null,null,null,null,null,null,null,null,{"$f":"CONCATENATE(LEFT(BS1, 3),BT1)","v":"AXGSAVERNAKE COMMUNITY HOSPITAL"},"AXG02","SAVERNAKE COMMUNITY HOSPITAL","AXG02","SAVERNAKE COMMUNITY HOSPITAL","AXG",null,null,"BERKELEY HOUSE","Berkeley House"]
[null,null,null,"Safe Staffing (Rota Fill Rates and CHPPD) Collection",null,null,null,null,null,null,null,null,null,null,null,null,null,null,null,null,null,null,null,null,null,null,null,null,null,null,null,null,null,null,null,null,null,null,null,null,null,null,null,null,null,null,null,null,null,{"$f":"IF(BG44=0,\"\",\"Select Site Name in Column E\")","v":""},"SELECT SITE CODE",null,null,null,null,null,null,null,null,null,null,null,null,null,null,null,null,null,null,"AXGWARMINSTER COMMUNITY HOSPITAL","AXG03","WARMINSTER COMMUNITY HOSPITAL","AXG03","WARMINSTER COMMUNITY HOSPITAL","AXG",null,null,"CHARLTON LANE HOSPITAL","Chestnut"]
[null,null,null,null,null,null,null,null,null,null,null,null,null,null,null,null,null,null,null,null,null,null,null,null,null,null,null,null,null,null,null,null,null,null,null,null,null,null,null,null,null,null,null,null,null,null,null,null,null,null,"Select Ward Name",null,null,null,null,null,null,null,null,null,null,null,null,null,null,null,null,null,null,"AXGWILTSHIRE HEALTH & CARE (CHIPPENHAM COMMUNITY HOSPITAL)","AXG01","WILTSHIRE HEALTH & CARE (CHIPPENHAM COMMUNITY HOSPITAL)","AXG01","WILTSHIRE HEALTH & CARE (CHIPPENHAM COMMUNITY HOSPITAL)","AXG",null,null,"CHARLTON LANE HOSPITAL","Mulberry"]
[null,null,null,null,null,null,null,null,null,null,null,null,null,null,null,null,null,null,null,null,null,null,null,null,null,null,null,null,null,null,null,null,null,null,null,null,null,null,null,null,null,null,null,null,null,null,null,null,null,{"$f":"IF(BH44=0,\"\",\"Select Ward Name in Column F\")","v":""},"Select speciality",null,null,null,null,null,null,null,null,null,null,null,null,null,null,null,null,null,null,"NHMALDEBURGH COMMUNITY HOSPITAL","NHM02","ALDEBURGH COMMUNITY HOSPITAL","NHM02","ALDEBURGH COMMUNITY HOSPITAL","NHM",null,null,"CHARLTON LANE HOSPITAL","Willow"]
[null,null,null,"Organisation:","RWG","West Hertfordshire Hospitals NHS Trust",null,null,null,null,null,null,null,null,null,null,null,null,null,null,null,null,null,null,null,null,null,null,null,null,null,null,null,null,null,null,null,null,null,null,null,null,null,null,null,null,null,null,null,{"$f":"IF(E245=0,\"\",\"At least one specialty must be selected (Speciality 1) for each row\")","v":""},"Total planned hours > 0",{"$f":"IF(BM44=0,\"\",\"Check ward spelling and site-ward combination against ward list. If a new ward or site-ward combination, leave it in, and the ward list will be updated in time for the next collection.\")","v":""},null,null,null,null,null,null,null,null,null,null,null,null,null,null,null,null,null,"NHMBLUEBIRD LODGE ","NHM03","BLUEBIRD LODGE ","NHM03","BLUEBIRD LODGE ","NHM",null,null,"HONEYBOURNE","Honeybourne"]
[null,null,null,null,null,null,null,null,null,null,null,null,null,null,null,null,null,null,null,null,null,null,null,null,null,null,null,null,null,null,null,null,null,null,null,null,null,null,null,null,null,null,null,null,null,null,null,null,null,{"$f":"IF(F245=0,\"\",\"Total number of planned hours must be greater than 0\")","v":""},"Total actual hours > 0",{"$f":"IF(H245>0,\"One or more wards has less than 1448 actual hours (approx. 2 full time staff)\",\"\")","v":""},null,null,null,null,null,null,null,null,null,null,null,null,null,null,null,null,null,"NHMFELIXSTOWE COMMUNITY HOSPITAL","NHM05","FELIXSTOWE COMMUNITY HOSPITAL","NHM05","FELIXSTOWE COMMUNITY HOSPITAL","NHM",null,null,"LAUREL HOUSE CHELT","Laurel House"]
[null,null,null,null,null,"Please provide the URL to the page on your trust website where your staffing information is available",null,null,null,null,null,null,null,null,null,null,null,null,null,null,null,null,null,null,null,null,null,null,null,null,null,null,null,null,null,null,null,null,null,null,null,null,null,null,null,null,null,null,null,{"$f":"IF(G245=0,\"\",\"Total number of actual hours must be greater than 0\")","v":""},"duplicate ward/hospital and spec codes",{"$f":"IF(I245>0,\"One or more wards has greater than 30000 actual hours (approx. 40 full time staff)\",\"\")","v":""},null,null,null,null,null,null,null,null,null,null,null,null,null,null,null,null,null,"NHMGLASTONBURY COURT","NHM26","GLASTONBURY COURT","NHM26","GLASTONBURY COURT","NHM",null,null,"OAK HOUSE","Oak House"]
[null,null,null,null,null,"(Please can you ensure that the URL you attach to the spreadsheet is correct and links to the correct web page and include 'http://' in your URL)",null,null,null,null,null,null,null,null,null,null,null,null,null,null,null,null,null,null,null,null,null,null,null,null,null,null,null,null,null,null,null,null,null,null,null,null,null,null,null,null,null,null,null,{"$f":"IF(E5=\"\",\"\",IF(BI246>0,\"Duplicate Ward entry within site\",\"\"))","v":""},"Avoid gaps in between data rows",{"$f":"IF(AC245>0,\"One or more wards has submitted actual hours but zero CHPPD patients.\",\"\")","v":""},null,null,null,null,null,null,null,null,null,null,null,null,null,null,null,null,null,"NHMNEWMARKET COMMUNITY HOSPITAL","NHM04","NEWMARKET COMMUNITY HOSPITAL","NHM04","NEWMARKET COMMUNITY HOSPITAL","NHM",null,null,"STONEBOW UNIT","Cantilupe"]
[null,null,null,null,null,null,null,null,null,null,null,null,null,null,null,null,null,null,null,null,null,null,null,null,null,null,null,null,null,null,null,null,null,null,null,null,null,null,null,null,null,null,null,null,null,null,null,null,null,{"$f":"IF(BK246>0,\"Please do not leave gaps between rows of data.\",\"\")","v":""},"duplicate speciality codes",null,null,null,null,null,null,null,null,null,null,null,null,null,null,null,null,null,null,"NLXCHIPPENHAM COMMUNITY HOSPITAL","NLX17","CHIPPENHAM COMMUNITY HOSPITAL","NLX17","CHIPPENHAM COMMUNITY HOSPITAL","NLX",null,null,"STONEBOW UNIT","Jenny Lind"]
[{"$f":"IF(#REF!=\"\",1,0)","v":{"$error":"#REF!"}},null,null,null,null,null,null,null,null,null,null,null,null,null,null,null,null,null,null,null,null,null,null,null,null,null,null,null,null,null,null,null,null,null,null,null,null,null,null,null,null,null,null,null,null,null,null,null,null,{"$f":"IF(BL246>0,\"Duplicate speciality codes entered\",\"\")","v":{"$error":"#REF!"}},null,null,null,null,null,null,null,null,null,null,null,null,null,null,null,null,null,null,null,"NLXCOSSHAM HOSPITAL","NLX23","COSSHAM HOSPITAL","NLX23","COSSHAM HOSPITAL","NLX",null,null,"STONEBOW UNIT","Mortimer"]
[null,null,null,null,null,"Only complete sites your organisation is accountable for ",null,null,"Day",null,null,null,null,null,null,null,"Night",null,null,null,null,null,null,null,"Allied Health Professionals",null,null,null,"Care Hours Per Patient Day (CHPPD)",null,null,null,null,null,null,null,"Day",null,null,null,"Night",null,null,null,"Allied Health Professionals",null,null,null,null,"","Site code issue",null,null,null,null,null,null,null,null,null,null,null,null,null,null,null,null,null,null,"NLXDEVIZES COMMUNITY HOSPITAL","NLX18","DEVIZES COMMUNITY HOSPITAL","NLX18","DEVIZES COMMUNITY HOSPITAL","NLX",null,null,"WOTTON LAWN HOSPITAL","Abbey"]
[null,null,null,"Hospital Site Details",null,"Ward name","Main 2 Specialties on each ward",null,"Registered Nurses/Midwives",null,"Non-registered Nurses/Midwives (Care Staff)",null,"Registered Nursing Associates",null,"Non-registered Nursing Associates",null,"Registered Nurses/Midwives",null,"Non-registered Nurses/Midwives (Care Staff)",null,"Registered Nursing Associates",null,"Non-registered Nursing Associates",null,"Registered allied health professionals",null,"Non-registered allied health professionals",null,"Cumulative count over the month of patients at 23:59 each day","Registered Nurses/Midwives","Non-registered Nurses/Midwives","Registered Nursing Associates","Non-registered Nursing Associates","Registered allied health professionals","Non-registered allied health professionals","Overall","Average fill rate - Registered Nurses/Midwives  (%)","Average fill rate - Non-registered Nurses/Midwives (care staff) (%)","Average fill rate - Registered Nursing Associates  (%)","Average fill rate - Non-Registered Nursing Associates (%)","Average fill rate - Registered Nurses/Midwives  (%)","Average fill rate - Non-registered Nurses/Midwives (care staff) (%)","Average fill rate - Registered Nursing Associates  (%)","Average fill rate - Non-Registered Nursing Associates (%)","Average fill rate - registered allied health professionals (AHP)  (%)","Average fill rate - non-registered allied health professionals (AHP)  (%)",null,null,null,{"$f":"D456","v":{"$error":"#REF!"}},"Do not enter negative numbers",null,null,null,null,null,null,"VALIDATIONS",null,null,null,null,null,null,null,null,null,null,null,"NLXGREYSTONES","NLX12","GREYSTONES","NLX12","GREYSTONES","NLX",null,null,"WOTTON LAWN HOSPITAL","Dean"]
[null,null,null,"Site code *The Site code is automatically populated when a Site name is selected","Hospital Site name",null,"Specialty 1","Specialty 2","Total monthly planned staff hours","Total monthly actual staff hours","Total monthly planned staff hours","Total monthly actual staff hours","Total monthly planned staff hours","Total monthly actual staff hours","Total monthly planned staff hours","Total monthly actual staff hours","Total monthly planned staff hours","Total monthly actual staff hours","Total monthly planned staff hours","Total monthly actual staff hours","Total monthly planned staff hours","Total monthly actual staff hours","Total monthly planned staff hours","Total monthly actual staff hours","Total monthly planned staff hours","Total monthly actual staff hours","Total monthly planned staff hours","Total monthly actual staff hours",null,null,null,null,null,null,null,null,null,null,null,null,null,null,null,null,null,null,null,"Specialties",null,{"$f":"IF(J452>0, \"Please do not enter negative numbers\",\"\")","v":{"$error":"#REF!"}},"speciality codes not in list",null,null,null,null,null,null,null,"SITE CODE","WARD NAME","Carriage Return",null,null,null,null,null,null,null,null,"NLXHANHAM HEALTH","NLX27","HANHAM HEALTH","NLX27","HANHAM HEALTH","NLX",null,null,"WOTTON LAWN HOSPITAL","Greyfriars"]
[{"$f":"IF(Q49=1,\"No Site Selected\",IF(R49=1,\"No Ward Name\",\"\"))","v":""},2,null,{"$f":"IF(ISNA(VLOOKUP($E$5&E14,$BR:$BS,2,FALSE)),\"\",VLOOKUP($E$5&E14,$BR:$BS,2,FALSE))","v":"RWG02"},"WATFORD GENERAL HOSPITAL","AAU Level 1","326 - ACUTE INTERNAL MEDICINE",null,4134.25,3800.75,2760,3860.8333333333335,0,0,0,0,4137.25,3826.75,2758.5,4091,0,0,0,0,null,null,null,null,1436,{"$f":"(J14+R14)/AC14","v":5.3116295264623954},{"$f":"(L14+T14)/AC14","v":5.5374883936861661},{"$f":"(N14+V14)/AC14","v":0},{"$f":"(P14+X14)/AC14","v":0},{"$f":"Z14/AC14","v":0},{"$f":"AB14/AC14","v":0},{"$f":"(J14+L14+N14+P14+R14+T14+V14+X14+Z14+AB14)/AC14","v":10.849117920148561},{"$f":"J14/I14","v":0.91933240611961053},{"$f":"L14/K14","v":1.398852657004831},{"$f":"IFERROR(N14/M14,\"-\")","v":"-"},{"$f":"IFERROR(P14/O14,\"-\")","v":"-"},{"$f":"R14/Q14","v":0.92495014804519915},{"$f":"T14/S14","v":1.4830523835417799},{"$f":"IFERROR(V14/U14,\"-\")","v":"-"},{"$f":"IFERROR(X14/W14,\"-\")","v":"-"},"","",null,"120 - ENT",0,null,null,null,null,null,null,null,null,null,{"$f":"IF(Q49=1,\"No Site Selected\",\"\")","v":""},{"$f":"IF(R49=1,\"No Ward Name\",\"\")","v":""},"",null,null,null,{"$f":"IF(C49=1,\"Incorrect Ward Name\",\"\")","v":""},null,null,null,null,"NLXTHORNBURY HOSPITAL","NLX22","THORNBURY HOSPITAL","NLX22","THORNBURY HOSPITAL","NLX",null,"RWG","UNIVERSITY HOSPITAL AINTREE","ACCU","WATFORD GENERAL HOSPITAL",null,"Match:",6283,"Countif:",6312,"Concat Items:","$CA",":$CA",null,"Concat Final:","$CA6283:$CA6312"]
[null,null,null,null,null,"AAU Blue & Yellow Level 3 (inc Isolation)",null,null,3083.5833333333298,2580.4166666666665,1725,1901.75,0,0,0,0,3105,2644.5,1725,2265.5,0,11.5,0,0,null,null,null,null,1007,{"$f":"(J15+R15)/AC15","v":5.1885964912280693},{"$f":"(L15+T15)/AC15","v":4.1382820258192652},{"$f":"(N15+V15)/AC15","v":1.1420059582919563E-2},{"$f":"(P15+X15)/AC15","v":0},{"$f":"Z15/AC15","v":0},{"$f":"AB15/AC15","v":0},{"$f":"(J15+L15+N15+P15+R15+T15+V15+X15+Z15+AB15)/AC15","v":9.3382985766302546},{"$f":"J15/I15","v":0.83682404129395005},{"$f":"L15/K15","v":1.1024637681159419},{"$f":"IFERROR(N15/M15,\"-\")","v":"-"},{"$f":"IFERROR(P15/O15,\"-\")","v":"-"},{"$f":"R15/Q15","v":0.85169082125603868},{"$f":"T15/S15","v":1.3133333333333332},{"$f":"IFERROR(V15/U15,\"-\")","v":"-"},{"$f":"IFERROR(X15/W15,\"-\")","v":"-"}]
[{"$f":"IF(Q50=1,\"No Site Selected\",IF(R50=1,\"No Ward Name\",\"\"))","v":""},2,null,{"$f":"IF(ISNA(VLOOKUP($E$5&E16,$BR:$BS,2,FALSE)),\"\",VLOOKUP($E$5&E16,$BR:$BS,2,FALSE))","v":"RWG02"},"WATFORD GENERAL HOSPITAL","AAU Red Suite (Granger)","430 - GERIATRIC MEDICINE",null,977.52,892.25,769.08,878.83333333333337,0,57.5,0,0,1023.5,874,609.5,954.5,0,46,0,0,null,null,null,null,498,3.5466867469879517,3.6813922356091036,0.20783132530120482,0,0,0,7.4359103078982596,0.91276904820361737,1.1427073039649105,"-","-",0.8539325842696629,1.5660377358490567,"-","-","","",null,"130 - OPHTHALMOLOGY",0,null,null,null,null,null,null,null,null,null,{"$f":"IF(Q50=1,\"No Site Selected\",\"\")","v":""},{"$f":"IF(R50=1,\"No Ward Name\",\"\")","v":""},"",null,null,null,{"$f":"IF(C50=1,\"Incorrect Ward Name\",\"\")","v":""},null,null,null,null,{"$f":"CONCATENATE(LEFT(BS16, 3),BT16)","v":"NLXTROWBRIDGE COMMUNITY HOSPITAL"},"NLX20","TROWBRIDGE COMMUNITY HOSPITAL","NLX20","TROWBRIDGE COMMUNITY HOSPITAL","NLX",null,null,"UNIVERSITY HOSPITAL AINTREE","AMU","WATFORD GENERAL HOSPITAL",null,"Match:",6283,"Countif:",6312,"Concat Items:","$CA",":$CA",null,"Concat Final:","$CA6283:$CA6312"]
["",2,null,"RWG02","WATFORD GENERAL HOSPITAL","Acute Stroke Unit","328 - STROKE MEDICINE",null,2282.0833333333298,2003.25,1345.25,1451.75,46,0,0,0,2070,1851.5,1334,1862.5,46,0,0,0,null,null,null,null,815,4.7297546012269942,4.0665644171779141,0,0,0,0,8.7963190184049083,0.87781632280445632,1.0791674409960974,0,"-",0.89444444444444449,1.396176911544228,0,"-","","",null,"140 - ORAL SURGERY",0,null,null,null,null,null,null,null,null,null,"","","",null,null,null,"",null,null,null,null,"NQ1ACE (THE CRESCENT, COLCHESTER)","NQ114","ACE (THE CRESCENT, COLCHESTER)","NQ114","ACE (THE CRESCENT, COLCHESTER)","NQ1",null,"Match:","UNIVERSITY HOSPITAL AINTREE","Critical care","WATFORD GENERAL HOSPITAL",null,"Match:",6283,"Countif:",6312,"Concat Items:","$CA",":$CA",null,"Concat Final:","$CA6283:$CA6312"]
["",2,null,"RWG02","WATFORD GENERAL HOSPITAL","Aldenham","340 - RESPIRATORY MEDICINE",null,1380,1379,1426,1975.0833333333333,292,0,0,0,1035,1301.5,1081,1805.5,299,0,0,0,null,null,null,null,804,3.3339552238805972,4.7022180762852397,0,0,0,0,8.0361733001658369,0.99927536231884062,1.3850514258999531,0,"-",1.257487922705314,1.6702127659574468,0,"-","","",null,"141 - RESTORATIVE DENTISTRY",0,null,null,null,null,null,null,null,null,null,"","","",null,null,null,"",null,null,null,null,"NQ1ACE CIC (CLACTON ON SEA)","NQ101","ACE CIC (CLACTON ON SEA)","NQ101","ACE CIC (CLACTON ON SEA)","NQ1",null,3129,"UNIVERSITY HOSPITAL AINTREE","FAU","WATFORD GENERAL HOSPITAL",null,"Match:",6283,"Countif:",6312,"Concat Items:","$CA",":$CA",null,"Concat Final:","$CA6283:$CA6312"]
["",2,null,"RWG02","WATFORD GENERAL HOSPITAL","Bluebell ","430 - GERIATRIC MEDICINE",null,690,690,644,615.25,0,11.5,0,0,690,667,724.5,805,0,34.5,0,0,null,null,null,null,202,6.717821782178218,7.0309405940594063,0.22772277227722773,0,0,0,13.976485148514852,1,0.9553571428571429,"-","-",0.96666666666666667,1.1111111111111112,"-","-","","",null,"142 - PAEDIATRIC DENTISTRY",0,null,null,null,null,null,null,null,null,null,"","","",null,null,null,"",null,null,null,null,"NQ1CLACTON HOSPITAL","NQ108","CLACTON HOSPITAL","NQ108","CLACTON HOSPITAL","NQ1",null,"Countif:","UNIVERSITY HOSPITAL AINTREE","MTW","WATFORD GENERAL HOSPITAL",null,"Match:",6283,"Countif:",6312,"Concat Items:","$CA",":$CA",null,"Concat Final:","$CA6283:$CA6312"]
["",2,null,"RWG02","WATFORD GENERAL HOSPITAL","Cardiac Care","320 - CARDIOLOGY",null,2070,1815.1666666666667,690,678.5,0,0,0,0,1725,1702,345,391,0,0,0,0,null,null,null,null,698,5.0389207258834769,1.5322349570200573,0,0,0,0,6.5711556829035347,0.87689210950080521,0.98333333333333328,"-","-",0.98666666666666669,1.1333333333333333,"-","-","","",null,"143 - ORTHODONTICS",0,null,null,null,null,null,null,null,null,null,"","","",null,null,null,"",null,null,null,null,"NQ1COLCHESTER GENERAL HOSPITAL","NQ107","COLCHESTER GENERAL HOSPITAL","NQ107","COLCHESTER GENERAL HOSPITAL","NQ1",null,3133,"UNIVERSITY HOSPITAL AINTREE","Sefton Suite","WATFORD GENERAL HOSPITAL",null,"Match:",6283,"Countif:",6312,"Concat Items:","$CA",":$CA",null,"Concat Final:","$CA6283:$CA6312"]
["",2,null,"RWG02","WATFORD GENERAL HOSPITAL","Cassio","301 - GASTROENTEROLOGY",null,686.5,718.75,681.41666666666697,767.75,345,126.5,0,0,690,690,345,742.75,345,46,0,0,null,null,null,null,598,2.3557692307692308,2.5259197324414715,0.28846153846153844,0,0,0,5.1701505016722411,1.0469774217042971,1.1266968325791851,0.36666666666666664,"-",1,2.1528985507246379,0.13333333333333333,"-","","",null,"145 - ORAL & MAXILLO FACIAL SURGERY",0,null,null,null,null,null,null,null,null,null,"","","",null,null,null,"",null,null,null,null,"NQ1CONNAUGHT MEWS SUITES 6-10","NQ126","CONNAUGHT MEWS SUITES 6-10","NQ126","CONNAUGHT MEWS SUITES 6-10","NQ1",null,"Concat Items:","UNIVERSITY HOSPITAL AINTREE","Ward 01","WATFORD GENERAL HOSPITAL",null,"Match:",6283,"Countif:",6312,"Concat Items:","$CA",":$CA",null,"Concat Final:","$CA6283:$CA6312"]
["",2,null,"RWG02","WATFORD GENERAL HOSPITAL","Croxley","430 - GERIATRIC MEDICINE",null,1035,1092.5,1725,1517.8333333333333,0,0,0,0,1035,1059,1381,1483.5,0,0,0,0,null,null,null,null,831,2.5890493381468112,3.6117127958283191,0,0,0,0,6.2007621339751298,1.0555555555555556,0.87990338164251203,"-","-",1.0231884057971015,1.0742215785662563,"-","-","","",null,"150 - NEUROSURGERY",0,null,null,null,null,null,null,null,null,null,"","","",null,null,null,"",null,null,null,null,"NQ1CORNERSTONE","NQ123","CORNERSTONE","NQ123","CORNERSTONE","NQ1",null,"$BT","UNIVERSITY HOSPITAL AINTREE","Ward 10","WATFORD GENERAL HOSPITAL",null,"Match:",6283,"Countif:",6312,"Concat Items:","$CA",":$CA",null,"Concat Final:","$CA6283:$CA6312"]
["",2,null,"RWG02","WATFORD GENERAL HOSPITAL","Heronsgate","302 - ENDOCRINOLOGY",null,987.5,906.25,746.25,997.25,0,0,0,0,989,943,736,1471.6666666666667,0,0,0,0,null,null,null,null,582,3.1774054982817868,4.2421248568155789,0,0,0,0,7.4195303550973657,0.91772151898734178,1.3363484087102178,"-","-",0.95348837209302328,1.9995471014492754,"-","-","","",null,"160 - PLASTIC SURGERY",0,null,null,null,null,null,null,null,null,null,"","","",null,null,null,"",null,null,null,null,"NQ1FRYATT HOSPITAL","NQ106","FRYATT HOSPITAL","NQ106","FRYATT HOSPITAL","NQ1",null,":$BT","UNIVERSITY HOSPITAL AINTREE","Ward 11","WATFORD GENERAL HOSPITAL",null,"Match:",6283,"Countif:",6312,"Concat Items:","$CA",":$CA",null,"Concat Final:","$CA6283:$CA6312"]
["",2,null,"RWG02","WATFORD GENERAL HOSPITAL","Gade","302 - ENDOCRINOLOGY",null,678.5,683.83333333333337,1035,1086.25,0,0,0,0,690,690,1035,1127,0,0,0,0,null,null,null,null,491,2.7980312287847933,4.5076374745417516,0,0,0,0,7.3056687033265444,1.0078604765413903,1.0495169082125604,"-","-",1,1.0888888888888888,"-","-","","",null,"160 - PLASTIC SURGERY",0,null,null,null,null,null,null,null,null,null,"","","",null,null,null,"",null,null,null,null,"NQ1FRYATT HOSPITAL","NQ106","FRYATT HOSPITAL","NQ106","FRYATT HOSPITAL","NQ1",null,":$BT","UNIVERSITY HOSPITAL AINTREE","Ward 11","WATFORD GENERAL HOSPITAL",null,"Match:",6283,"Countif:",6312,"Concat Items:","$CA",":$CA",null,"Concat Final:","$CA6283:$CA6312"]
[{"$f":"IF(Q58=1,\"No Site Selected\",IF(R58=1,\"No Ward Name\",\"\"))","v":""},2,null,{"$f":"IF(ISNA(VLOOKUP($E$5&E25,$BR:$BS,2,FALSE)),\"\",VLOOKUP($E$5&E25,$BR:$BS,2,FALSE))","v":"RWG02"},"WATFORD GENERAL HOSPITAL","Oxhey","326 - ACUTE INTERNAL MEDICINE",null,673.75,673.75,1380,1499,0,69,0,0,690,690,1380,1700.5,0,34.5,0,0,null,null,null,null,347,3.9301152737752161,9.2204610951008643,0.29827089337175794,0,0,0,13.448847262247838,1,1.086231884057971,"-","-",1,1.2322463768115941,"-","-","","",null,"170 - CARDIOTHORACIC SURGERY",0,null,null,null,null,null,null,null,null,null,{"$f":"IF(Q58=1,\"No Site Selected\",\"\")","v":""},{"$f":"IF(R58=1,\"No Ward Name\",\"\")","v":""},"",null,null,null,{"$f":"IF(C58=1,\"Incorrect Ward Name\",\"\")","v":""},null,null,null,null,"NVCASHTEAD HOSPITAL","NVC01","ASHTEAD HOSPITAL","NVC01","ASHTEAD HOSPITAL","NVC",null,null,"UNIVERSITY HOSPITAL AINTREE","Ward 15","WATFORD GENERAL HOSPITAL",null,"Match:",6283,"Countif:",6312,"Concat Items:","$CA",":$CA",null,"Concat Final:","$CA6283:$CA6312"]
[{"$f":"IF(Q59=1,\"No Site Selected\",IF(R59=1,\"No Ward Name\",\"\"))","v":""},2,null,"RWG02","WATFORD GENERAL HOSPITAL","Sarratt","430 - GERIATRIC MEDICINE",null,1725,1671.6666666666667,1728.75,1902.25,0,57.5,0,0,1380,1449,2058.5,2426.5,0,23,0,0,null,null,null,null,1053,2.9635960747071861,4.1108736942070276,7.6448243114909775E-2,0,0,0,7.1509180120291234,0.96908212560386475,1.1003615328994938,"-","-",1.05,1.1787709497206704,"-","-","","",null,"171 - PAEDIATRIC SURGERY",0,null,null,null,null,null,null,null,null,null,{"$f":"IF(Q59=1,\"No Site Selected\",\"\")","v":""},{"$f":"IF(R59=1,\"No Ward Name\",\"\")","v":""},"",null,null,null,{"$f":"IF(C59=1,\"Incorrect Ward Name\",\"\")","v":""},null,null,null,null,"NVCBLAKELANDS HOSPITAL","NVC31","BLAKELANDS HOSPITAL","NVC31","BLAKELANDS HOSPITAL","NVC",null,"Concat Final:","UNIVERSITY HOSPITAL AINTREE","Ward 16","WATFORD GENERAL HOSPITAL",null,"Match:",6283,"Countif:",6312,"Concat Items:","$CA",":$CA",null,"Concat Final:","$CA6283:$CA6312"]
[{"$f":"IF(Q61=1,\"No Site Selected\",IF(R61=1,\"No Ward Name\",\"\"))","v":""},2,null,"RWG02","WATFORD GENERAL HOSPITAL","Tudor","430 - GERIATRIC MEDICINE",null,1035,1328.5,1679,1282.25,46,34.5,0,0,1035,1449,1679,1610,46,0,0,0,null,null,null,null,755,3.6788079470198674,3.830794701986755,4.5695364238410599E-2,0,0,0,7.5552980132450331,1.2835748792270532,0.76369863013698636,0.75,"-",1.4,0.95890410958904104,0,"-","","",null,"190 - ANAESTHETICS",0,null,null,null,null,null,null,null,null,null,{"$f":"IF(Q61=1,\"No Site Selected\",\"\")","v":""},{"$f":"IF(R61=1,\"No Ward Name\",\"\")","v":""},"",null,null,null,{"$f":"IF(C61=1,\"Incorrect Ward Name\",\"\")","v":""},null,null,null,null,"NVCBOSTON WEST HOSPITAL","NVC27","BOSTON WEST HOSPITAL","NVC27","BOSTON WEST HOSPITAL","NVC",null,null,"UNIVERSITY HOSPITAL AINTREE","Ward 20","WATFORD GENERAL HOSPITAL",null,"Match:",6283,"Countif:",6312,"Concat Items:","$CA",":$CA",null,"Concat Final:","$CA6283:$CA6312"]
[{"$f":"IF(Q62=1,\"No Site Selected\",IF(R62=1,\"No Ward Name\",\"\"))","v":""},2,null,"RWG02","WATFORD GENERAL HOSPITAL","Winyard","430 - GERIATRIC MEDICINE",null,874,736,1035,741.75,0,11.5,0,0,862.5,759,1035,1081,0,11.5,0,0,null,null,null,null,432,3.4606481481481484,4.2193287037037033,5.3240740740740741E-2,0,0,0,7.7332175925925926,0.84210526315789469,0.71666666666666667,"-","-",0.88,1.0444444444444445,"-","-","","",null,"192 - CRITICAL CARE MEDICINE",0,null,null,null,null,null,null,null,null,null,{"$f":"IF(Q62=1,\"No Site Selected\",\"\")","v":""},{"$f":"IF(R62=1,\"No Ward Name\",\"\")","v":""},"",null,null,null,{"$f":"IF(C62=1,\"Incorrect Ward Name\",\"\")","v":""},null,null,null,null,"NVCCLIFTON PARK HOSPITAL","NVC28","CLIFTON PARK HOSPITAL","NVC28","CLIFTON PARK HOSPITAL","NVC",null,null,"UNIVERSITY HOSPITAL AINTREE","Ward 21","WATFORD GENERAL HOSPITAL",null,"Match:",6283,"Countif:",6312,"Concat Items:","$CA",":$CA",null,"Concat Final:","$CA6283:$CA6312"]
["",2,null,"RWG02","WATFORD GENERAL HOSPITAL","Combined ITU","192 - CRITICAL CARE MEDICINE",null,3959.8333333333298,3757.8333333333335,419.5,442.5,0,0,0,0,4211,3797.5,264.5,276,0,0,0,0,null,null,null,null,385,19.624242424242425,1.8662337662337662,0,0,0,0,21.490476190476191,0.94898775200976559,1.0548271752085816,"-","-",0.90180479696034199,1.0434782608695652,"-","-","","",null,"300 - GENERAL MEDICINE",0,null,null,null,null,null,null,null,null,null,"","","",null,null,null,"",null,null,null,null,"NVCCOBALT HOSPITAL","NVC29","COBALT HOSPITAL","NVC29","COBALT HOSPITAL","NVC",null,null,"UNIVERSITY HOSPITAL AINTREE","Ward 22","WATFORD GENERAL HOSPITAL",null,"Match:",6283,"Countif:",6312,"Concat Items:","$CA",":$CA",null,"Concat Final:","$CA6283:$CA6312"]
["",2,null,"RWG02","WATFORD GENERAL HOSPITAL","Cleves","100 - GENERAL SURGERY",null,678.5,1027.5,1334,1016.75,46,0,0,0,1035,1035,688.75,746.25,0,0,0,0,null,null,null,null,603,3.4203980099502487,2.9237147595356552,0,0,0,0,6.3441127694859034,1.5143699336772292,0.76218140929535227,0,"-",1,1.0834845735027223,"-","-","","",null,"301 - GASTROENTEROLOGY",0,null,null,null,null,null,null,null,null,null,"","","",null,null,null,"",null,null,null,null,"NVCDUCHY HOSPITAL","NVC04","DUCHY HOSPITAL","NVC04","DUCHY HOSPITAL","NVC",null,null,"UNIVERSITY HOSPITAL AINTREE","Ward 23","WATFORD GENERAL HOSPITAL",null,"Match:",6283,"Countif:",6312,"Concat Items:","$CA",":$CA",null,"Concat Final:","$CA6283:$CA6312"]
["",2,null,"RWG03","ST ALBANS CITY HOSPITAL","De La Mare / Beckett","110 - TRAUMA & ORTHOPAEDICS",null,1538.25,1487.25,632.5,679.83333333333337,0,57.5,0,0,1115.5,1115.5,621,563.5,0,57.5,0,0,null,null,null,null,269,9.675650557620818,4.622057001239158,0.42750929368029739,0,0,0,14.725216852540273,0.96684544124817162,1.0748353096179184,"-","-",1,0.90740740740740744,"-","-","","",null,"302 - ENDOCRINOLOGY",0,null,null,null,null,null,null,null,null,null,"","","",null,null,null,"",null,null,null,null,"NVCEUXTON HALL HOSPITAL","NVC05","EUXTON HALL HOSPITAL","NVC05","EUXTON HALL HOSPITAL","NVC",null,null,"UNIVERSITY HOSPITAL AINTREE","Ward 24","ST ALBANS CITY HOSPITAL",null,"Match:",6282,"Countif:",6282,"Concat Items:","$CA",":$CA",null,"Concat Final:","$CA6282:$CA6282"]
["",2,null,"RWG02","WATFORD GENERAL HOSPITAL","Elizabeth","502 - GYNAECOLOGY",null,1035,1378.25,1380,1121.75,0,0,0,0,1035,1196,690,1035,0,0,0,0,null,null,null,null,849,3.0320965842167253,2.5403415783274439,0,0,0,0,5.5724381625441692,1.3316425120772948,0.81286231884057969,"-","-",1.1555555555555554,1.5,"-","-","","",null,"303 - CLINICAL HAEMATOLOGY",0,null,null,null,null,null,null,null,null,null,"","","",null,null,null,"",null,null,null,null,"NVCFITZWILLIAM HOSPITAL","NVC06","FITZWILLIAM HOSPITAL","NVC06","FITZWILLIAM HOSPITAL","NVC",null,null,"UNIVERSITY HOSPITAL AINTREE","Ward 25","WATFORD GENERAL HOSPITAL",null,"Match:",6283,"Countif:",6312,"Concat Items:","$CA",":$CA",null,"Concat Final:","$CA6283:$CA6312"]
["",2,null,"RWG02","WATFORD GENERAL HOSPITAL","Flaunden","100 - GENERAL SURGERY",null,1035,1268,1380,1644.5,345,0,0,0,1380,1299.5,1035,1414.5,0,0,0,0,null,null,null,null,568,4.520246478873239,5.38556338028169,0,0,0,0,9.90580985915493,1.2251207729468598,1.1916666666666667,0,"-",0.94166666666666665,1.3666666666666667,"-","-","","",null,"304 - CLINICAL PHYSIOLOGY",0,null,null,null,null,null,null,null,null,null,"","","",null,null,null,"",null,null,null,null,"NVCFULWOOD HALL HOSPITAL","NVC07","FULWOOD HALL HOSPITAL","NVC07","FULWOOD HALL HOSPITAL","NVC",null,null,"UNIVERSITY HOSPITAL AINTREE","Ward 28","WATFORD GENERAL HOSPITAL",null,"Match:",6283,"Countif:",6312,"Concat Items:","$CA",":$CA",null,"Concat Final:","$CA6283:$CA6312"]
["",2,null,"RWG02","WATFORD GENERAL HOSPITAL","Langley","110 - TRAUMA & ORTHOPAEDICS",null,690,702.25,690,911.25,0,0,0,0,678.5,690,345,609.5,0,0,0,0,null,null,null,null,458,3.0398471615720526,3.320414847161572,0,0,0,0,6.3602620087336241,1.0177536231884059,1.3206521739130435,"-","-",1.0169491525423728,1.7666666666666666,"-","-","","",null,"305 - CLINICAL PHARMACOLOGY",0,null,null,null,null,null,null,null,null,null,"","","",null,null,null,"",null,null,null,null,"NVCHORTON NHS TREATMENT CENTRE","NVC25","HORTON NHS TREATMENT CENTRE","NVC25","HORTON NHS TREATMENT CENTRE","NVC",null,null,"UNIVERSITY HOSPITAL AINTREE","Ward 29/SAU","WATFORD GENERAL HOSPITAL",null,"Match:",6283,"Countif:",6312,"Concat Items:","$CA",":$CA",null,"Concat Final:","$CA6283:$CA6312"]
["",2,null,"RWG02","WATFORD GENERAL HOSPITAL","Letchmore","100 - GENERAL SURGERY",null,1035,1063.25,1035,1364,0,0,0,0,1035,1138.5,690,1023.5,0,0,0,0,null,null,null,null,710,3.1010563380281688,3.362676056338028,0,0,0,0,6.4637323943661968,1.0272946859903382,1.3178743961352657,"-","-",1.1000000000000001,1.4833333333333334,"-","-","","",null,"307 - DIABETIC MEDICINE",0,null,null,null,null,null,null,null,null,null,"","","",null,null,null,"",null,null,null,null,"NVCMOUNT STUART HOSPITAL","NVC08","MOUNT STUART HOSPITAL","NVC08","MOUNT STUART HOSPITAL","NVC",null,null,"UNIVERSITY HOSPITAL AINTREE","Ward 3","WATFORD GENERAL HOSPITAL",null,"Match:",6283,"Countif:",6312,"Concat Items:","$CA",":$CA",null,"Concat Final:","$CA6283:$CA6312"]
["",2,null,"RWG02","WATFORD GENERAL HOSPITAL","Ridge","110 - TRAUMA & ORTHOPAEDICS",null,1391.5,1326.5,1385.75,1682.0833333333333,0,34.5,0,0,1380,1334,1035,1506.5,0,0,0,0,null,null,null,null,787,3.380559085133418,4.0515671325709439,4.3837357052096571E-2,0,0,0,7.4759635747564586,0.9532878189004671,1.2138432858259667,"-","-",0.96666666666666667,1.4555555555555555,"-","-","","",null,"310 - AUDIOLOGICAL MEDICINE",0,null,null,null,null,null,null,null,null,null,"","","",null,null,null,"",null,null,null,null,"NVCNEW HALL HOSPITAL","NVC09","NEW HALL HOSPITAL","NVC09","NEW HALL HOSPITAL","NVC",null,null,"UNIVERSITY HOSPITAL AINTREE","Ward 30","WATFORD GENERAL HOSPITAL",null,"Match:",6283,"Countif:",6312,"Concat Items:","$CA",":$CA",null,"Concat Final:","$CA6283:$CA6312"]
["",2,null,"RWG02","WATFORD GENERAL HOSPITAL","ABC","501 - OBSTETRICS",null,667,0,0,0,0,0,0,0,667,0,0,0,0,0,0,0,null,null,null,null,0,{"$error":"#DIV/0!"},{"$error":"#DIV/0!"},{"$error":"#DIV/0!"},{"$error":"#DIV/0!"},{"$error":"#DIV/0!"},{"$error":"#DIV/0!"},{"$error":"#DIV/0!"},0,{"$error":"#DIV/0!"},"-","-",0,{"$error":"#DIV/0!"},"-","-","","",null,"313 - CLINICAL IMMUNOLOGY AND ALLERGY",0,null,null,null,null,null,null,null,null,null,"","","",null,null,null,"",null,null,null,null,"NVCNORTH DOWNS HOSPITAL","NVC11","NORTH DOWNS HOSPITAL","NVC11","NORTH DOWNS HOSPITAL","NVC",null,null,"UNIVERSITY HOSPITAL AINTREE","Ward 32","WATFORD GENERAL HOSPITAL",null,"Match:",6283,"Countif:",6312,"Concat Items:","$CA",":$CA",null,"Concat Final:","$CA6283:$CA6312"]
["",2,null,"RWG02","WATFORD GENERAL HOSPITAL","Delivery Suite","501 - OBSTETRICS",null,2930.25,2516.8333333333335,816.5,724.5,0,0,null,null,2744.25,2185,931.5,902,0,0,0,0,null,null,null,null,277,16.974127557160049,5.871841155234657,0,0,0,0,22.845968712394708,0.85891419958479087,0.88732394366197187,"-","-",0.79621025781178834,0.96833064949006975,"-","-","","",null,"314 - REHABILITATION",0,null,null,null,null,null,null,null,null,null,"","","",null,null,null,"",null,null,null,null,"NVCNOTTINGHAM WOODTHORPE HOSPITAL","NVC40","NOTTINGHAM WOODTHORPE HOSPITAL","NVC40","NOTTINGHAM WOODTHORPE HOSPITAL","NVC",null,null,"UNIVERSITY HOSPITAL AINTREE","Ward 33","WATFORD GENERAL HOSPITAL",null,"Match:",6283,"Countif:",6312,"Concat Items:","$CA",":$CA",null,"Concat Final:","$CA6283:$CA6312"]
["",2,null,"RWG02","WATFORD GENERAL HOSPITAL","Katherine","501 - OBSTETRICS",null,1386.6666666666699,1139.0833333333333,1382.5,990.5,0,155.25,0,0,1035,937.5,1368.5,1161.5,0,80.5,0,0,null,null,null,null,863,2.4062379297025873,2.4936268829663963,0.27317497103128618,0,0,0,5.1730397837002702,0.82145432692307496,0.71645569620253169,"-","-",0.90579710144927539,0.84873949579831931,"-","-","","",null,"315 - PALLIATIVE MEDICINE",0,null,null,null,null,null,null,null,null,null,"","","",null,null,null,"",null,null,null,null,"NVCOAKLANDS HOSPITAL","NVC12","OAKLANDS HOSPITAL","NVC12","OAKLANDS HOSPITAL","NVC",null,null,"UNIVERSITY HOSPITAL AINTREE","Ward 34","WATFORD GENERAL HOSPITAL",null,"Match:",6283,"Countif:",6312,"Concat Items:","$CA",":$CA",null,"Concat Final:","$CA6283:$CA6312"]
["",2,null,"RWG02","WATFORD GENERAL HOSPITAL","Victoria","501 - OBSTETRICS",null,688.75,688.08333333333337,345,323.33333333333331,0,0,0,0,690,713,345,310.5,0,0,0,0,null,null,null,null,258,5.4305555555555562,2.4567183462532296,0,0,0,0,7.8872739018087854,0.99903206291591051,0.93719806763285018,"-","-",1.0333333333333334,0.9,"-","-","","",null,"318 - INTERMEDIATE CARE",0,null,null,null,null,null,null,null,null,null,"","","",null,null,null,"",null,null,null,null,"NVCOAKS HOSPITAL","NVC13","OAKS HOSPITAL","NVC13","OAKS HOSPITAL","NVC",null,null,"UNIVERSITY HOSPITAL AINTREE","Ward 4","WATFORD GENERAL HOSPITAL",null,"Match:",6283,"Countif:",6312,"Concat Items:","$CA",":$CA",null,"Concat Final:","$CA6283:$CA6312"]
["",2,null,"RWG02","WATFORD GENERAL HOSPITAL","SCBU incl TC","501 - OBSTETRICS",null,1430,1391.5,448.5,494.5,0,0,0,0,1564,1564,322,322,0,0,0,0,null,null,null,null,346,8.5419075144508678,2.3598265895953756,0,0,0,0,10.901734104046243,0.97307692307692306,1.1025641025641026,"-","-",1,1,"-","-","","",null,"319 - RESPITE CARE",0,null,null,null,null,null,null,null,null,null,"","","",null,null,null,"",null,null,null,null,"NVCPARK HILL HOSPITAL","NVC14","PARK HILL HOSPITAL","NVC14","PARK HILL HOSPITAL","NVC",null,null,"UNIVERSITY HOSPITAL AINTREE","Ward 6 ","WATFORD GENERAL HOSPITAL",null,"Match:",6283,"Countif:",6312,"Concat Items:","$CA",":$CA",null,"Concat Final:","$CA6283:$CA6312"]
["",2,null,"RWG02","WATFORD GENERAL HOSPITAL","Starfish","420 - PAEDIATRICS",null,1242,1380.25,276,189.5,0,103.5,0,0,1046.5,1058,333.5,299,0,184,0,0,null,null,null,null,346,7.0469653179190752,1.4118497109826589,0.83092485549132944,0,0,0,9.2897398843930628,1.1113123993558776,0.68659420289855078,"-","-",1.0109890109890109,0.89655172413793105,"-","-","","",null,"320 - CARDIOLOGY",0,null,null,null,null,null,null,null,null,null,"","","",null,null,null,"",null,null,null,null,"NVCPINEHILL HOSPITAL","NVC15","PINEHILL HOSPITAL","NVC15","PINEHILL HOSPITAL","NVC",null,null,"UNIVERSITY HOSPITAL AINTREE","Ward 8","WATFORD GENERAL HOSPITAL",null,"Match:",6283,"Countif:",6312,"Concat Items:","$CA",":$CA",null,"Concat Final:","$CA6283:$CA6312"]
[]
[null,null,null,null,null,"Total",null,null,{"$f":"SUM(I14:I43)","v":42020.436666666661},40098.666666666672,30894.996666666666,32741.333333333332,1120,718.75,0,0,40774,38659.75,26896.75,33987.666666666664,736,529,0,0,0,0,0,0,{"$f":"SUM(AC14:AC42)","v":17268},{"$f":"(J44+R44)/AC44","v":4.5609460659408541},{"$f":"(L44+T44)/AC44","v":3.8643154968728282},{"$f":"(N44+V44)/AC44","v":7.2257933750289549E-2},{"$f":"(P44+X44)/AC44","v":0},{"$f":"Z44/AC44","v":0},{"$f":"AB44/AC44","v":0},{"$f":"(J44+L44+N44+P44+R44+T44+V44+X44+Z44+AB44)/AC44","v":8.4975194965639709},{"$f":"J44/I44","v":0.95426582509732794},{"$f":"L44/K44","v":1.0597616723052998},{"$f":"IFERROR(N44/M44,\"-\")","v":0.6417410714285714},{"$f":"IFERROR(P44/O44,\"-\")","v":"-"},{"$f":"R44/Q44","v":0.94814710354637755},{"$f":"T44/S44","v":1.2636347018382021},{"$f":"IFERROR(V44/U44,\"-\")","v":0.71875},{"$f":"IFERROR(X44/W44,\"-\")","v":"-"},"-","-",null,null,null,null,null,null,null,null,null,null,null,null,{"$f":"COUNTIF(BG14:BG43,\"No Site Selected\")","v":0},{"$f":"COUNTIF(BH14:BH43,\"No Ward Name\")","v":0},0,null,null,null,{"$f":"COUNTIF(BM14:BM43,\"Incorrect Ward Name\")","v":0},null,null,null,null,{"$f":"CONCATENATE(LEFT(BS44, 3),BT44)","v":"R1CPRINCESS ANNE HOSPITAL"},"R1C36","PRINCESS ANNE HOSPITAL","R1C36","PRINCESS ANNE HOSPITAL","R1C",null,null,"BARNSLEY HOSPITAL NHS FOUNDATION TRUST HQ","Birthing Centre"]
[]
[{"$f":"IF(Q78=1,\"No Site Selected\",IF(R78=1,\"No Ward Name\",\"\"))","v":""},0,null,{"$f":"IF(ISNA(VLOOKUP($E$5&E46,$BR:$BS,2,FALSE)),\"\",VLOOKUP($E$5&E46,$BR:$BS,2,FALSE))","v":""},null,"ITU  minus SP shifts",null,null,3959.8333333333298,3734.8333333333298,419.5,442.5,0,0,null,null,4211,3797.5,264.5,276,0,0,null,null,null,null,null,null,385,19.564502164502155,1.8662337662337662,0,0,0,0,21.430735930735924,0.94317942674354971,1.0548271752085816,"-","-",0.90180479696034199,1.0434782608695652,"-","-","","",null,"323 - SPINAL INJURIES",0,null,null,null,null,null,null,null,null,null,{"$f":"IF(Q78=1,\"No Site Selected\",\"\")","v":""},{"$f":"IF(R78=1,\"No Ward Name\",\"\")","v":""},"",null,null,null,{"$f":"IF(C78=1,\"Incorrect Ward Name\",\"\")","v":""},null,null,null,null,{"$f":"CONCATENATE(LEFT(BS46, 3),BT46)","v":"NVCRIVERS HOSPITAL"},"NVC19","RIVERS HOSPITAL","NVC19","RIVERS HOSPITAL","NVC",null,null,"AIREDALE GENERAL HOSPITAL","Labour Suite",0,null,"Match:",{"$error":"#N/A"},"Countif:",{"$error":"#N/A"},"Concat Items:","$CA",":$CA",null,"Concat Final:",{"$error":"#N/A"}]
[]
[]
[]
[]
[]
[]
[]
[]
[]
[]
[]
[]
[]
[]
[]
[]
[]
[]
[]
[]
[]
[]
[]
[]
[]
[]
[]
[]
[]
[]
[]
[]
[]
[]
[]
[]
[]
[]
[]
[]
[]
[{"$error":"#N/A"},{"$error":"#N/A"},0,0,0,"","",0,0,0,0,0,0,0,0,0,0,0,null,null,null,null,null,null,null,null,null,null,0,null,null,null,null,null,null,null,0,0,0,0,0,0,0,0,0,0,0,null,null,null,{"$f":"IF(#REF!=\"\",0, IF(#REF!=\"-\",0,IF(#REF!>100%,1,0)))","v":{"$error":"#REF!"}},null,{"$f":"IF(#REF!=\"\",0, IF(#REF!=\"-\",0,IF(#REF!>100%,1,0)))","v":{"$error":"#REF!"}},{"$f":"IF(#REF!=\"\",0, IF(#REF!=\"-\",0,IF(#REF!>100%,1,0)))","v":{"$error":"#REF!"}},{"$f":"IF(#REF!=\"\",0, IF(#REF!=\"-\",0,IF(#REF!>100%,1,0)))","v":{"$error":"#REF!"}},null,null,null,{"$f":"CONCATENATE(#REF!,#REF!,#REF!)","v":{"$error":"#REF!"}},{"$f":"IF(BG88=\"\",\"\",(IF(COUNTIF($BG$46:$BG$244,BG88)>1,1,0))=1)","v":{"$error":"#REF!"}},0,false,0,{"$f":"IF(#REF!=\"\",0,IF(#REF!=#REF!,1,0))","v":{"$error":"#REF!"}},null,null,null,null,null,{"$f":"CONCATENATE(LEFT(BS88, 3),BT88)","v":"R1DLUDLOW HOSP OPD1"},"R1DJ2","LUDLOW HOSP OPD1","R1DJ2","LUDLOW HOSP OPD1","R1D",null,null,"St Bartholomew's Hospital","4B SBH"]
[{"$error":"#N/A"},{"$error":"#N/A"},0,0,0,"","",0,0,0,0,0,0,0,0,0,0,0,null,null,null,null,null,null,null,null,null,null,0,null,null,null,null,null,null,null,0,0,0,0,0,0,0,0,0,0,0,null,null,null,{"$f":"IF(#REF!=\"\",0, IF(#REF!=\"-\",0,IF(#REF!>100%,1,0)))","v":{"$error":"#REF!"}},null,{"$f":"IF(#REF!=\"\",0, IF(#REF!=\"-\",0,IF(#REF!>100%,1,0)))","v":{"$error":"#REF!"}},{"$f":"IF(#REF!=\"\",0, IF(#REF!=\"-\",0,IF(#REF!>100%,1,0)))","v":{"$error":"#REF!"}},{"$f":"IF(#REF!=\"\",0, IF(#REF!=\"-\",0,IF(#REF!>100%,1,0)))","v":{"$error":"#REF!"}},null,null,null,{"$f":"CONCATENATE(#REF!,#REF!,#REF!)","v":{"$error":"#REF!"}},{"$error":"#REF!"},0,false,0,{"$f":"IF(#REF!=\"\",0,IF(#REF!=#REF!,1,0))","v":{"$error":"#REF!"}},null,null,null,null,null,"R1DLUDLOW HOSPITAL","R1D21","LUDLOW HOSPITAL","R1D21","LUDLOW HOSPITAL","R1D",null,null,"St Bartholomew's Hospital","4C SBH"]
[{"$error":"#N/A"},{"$error":"#N/A"},0,0,0,"","",0,0,0,0,0,0,0,0,0,0,0,null,null,null,null,null,null,null,null,null,null,0,null,null,null,null,null,null,null,0,0,0,0,0,0,0,0,0,0,0,null,null,null,{"$f":"IF(#REF!=\"\",0, IF(#REF!=\"-\",0,IF(#REF!>100%,1,0)))","v":{"$error":"#REF!"}},null,{"$f":"IF(#REF!=\"\",0, IF(#REF!=\"-\",0,IF(#REF!>100%,1,0)))","v":{"$error":"#REF!"}},{"$f":"IF(#REF!=\"\",0, IF(#REF!=\"-\",0,IF(#REF!>100%,1,0)))","v":{"$error":"#REF!"}},{"$f":"IF(#REF!=\"\",0, IF(#REF!=\"-\",0,IF(#REF!>100%,1,0)))","v":{"$error":"#REF!"}},null,null,null,{"$f":"CONCATENATE(#REF!,#REF!,#REF!)","v":{"$error":"#REF!"}},{"$error":"#REF!"},0,false,0,{"$f":"IF(#REF!=\"\",0,IF(#REF!=#REF!,1,0))","v":{"$error":"#REF!"}},null,null,null,null,null,"R1DMARKET DRAYTON COTTAGE HOSPITAL","R1D07","MARKET DRAYTON COTTAGE HOSPITAL","R1D07","MARKET DRAYTON COTTAGE HOSPITAL","R1D",null,null,"St Bartholomew's Hospital","4D &  4E SBH"]
[{"$error":"#N/A"},{"$error":"#N/A"},0,0,0,"","",0,0,0,0,0,0,0,0,0,0,0,null,null,null,null,null,null,null,null,null,null,0,null,null,null,null,null,null,null,0,0,0,0,0,0,0,0,0,0,0,null,null,null,{"$f":"IF(#REF!=\"\",0, IF(#REF!=\"-\",0,IF(#REF!>100%,1,0)))","v":{"$error":"#REF!"}},null,{"$f":"IF(#REF!=\"\",0, IF(#REF!=\"-\",0,IF(#REF!>100%,1,0)))","v":{"$error":"#REF!"}},{"$f":"IF(#REF!=\"\",0, IF(#REF!=\"-\",0,IF(#REF!>100%,1,0)))","v":{"$error":"#REF!"}},{"$f":"IF(#REF!=\"\",0, IF(#REF!=\"-\",0,IF(#REF!>100%,1,0)))","v":{"$error":"#REF!"}},null,null,null,{"$f":"CONCATENATE(#REF!,#REF!,#REF!)","v":{"$error":"#REF!"}},{"$error":"#REF!"},0,false,0,{"$f":"IF(#REF!=\"\",0,IF(#REF!=#REF!,1,0))","v":{"$error":"#REF!"}},null,null,null,null,null,"R1DNEWPORT (GP)","R1D63","NEWPORT (GP)","R1D63","NEWPORT (GP)","R1D",null,null,"St Bartholomew's Hospital","5A SBH"]
[{"$error":"#N/A"},{"$error":"#N/A"},0,0,0,"","",0,0,0,0,0,0,0,0,0,0,0,null,null,null,null,null,null,null,null,null,null,0,null,null,null,null,null,null,null,0,0,0,0,0,0,0,0,0,0,0,null,null,null,{"$f":"IF(#REF!=\"\",0, IF(#REF!=\"-\",0,IF(#REF!>100%,1,0)))","v":{"$error":"#REF!"}},null,{"$f":"IF(#REF!=\"\",0, IF(#REF!=\"-\",0,IF(#REF!>100%,1,0)))","v":{"$error":"#REF!"}},{"$f":"IF(#REF!=\"\",0, IF(#REF!=\"-\",0,IF(#REF!>100%,1,0)))","v":{"$error":"#REF!"}},{"$f":"IF(#REF!=\"\",0, IF(#REF!=\"-\",0,IF(#REF!>100%,1,0)))","v":{"$error":"#REF!"}},null,null,null,{"$f":"CONCATENATE(#REF!,#REF!,#REF!)","v":{"$error":"#REF!"}},{"$error":"#REF!"},0,false,0,{"$f":"IF(#REF!=\"\",0,IF(#REF!=#REF!,1,0))","v":{"$error":"#REF!"}},null,null,null,null,null,"R1DNEWPORT HOSPITAL","R1DAF","NEWPORT HOSPITAL","R1DAF","NEWPORT HOSPITAL","R1D",null,null,"St Bartholomew's Hospital","5B SBH"]
[{"$error":"#N/A"},{"$error":"#N/A"},0,0,0,"","",0,0,0,0,0,0,0,0,0,0,0,null,null,null,null,null,null,null,null,null,null,0,null,null,null,null,null,null,null,0,0,0,0,0,0,0,0,0,0,0,null,null,null,{"$f":"IF(#REF!=\"\",0, IF(#REF!=\"-\",0,IF(#REF!>100%,1,0)))","v":{"$error":"#REF!"}},null,{"$f":"IF(#REF!=\"\",0, IF(#REF!=\"-\",0,IF(#REF!>100%,1,0)))","v":{"$error":"#REF!"}},{"$f":"IF(#REF!=\"\",0, IF(#REF!=\"-\",0,IF(#REF!>100%,1,0)))","v":{"$error":"#REF!"}},{"$f":"IF(#REF!=\"\",0, IF(#REF!=\"-\",0,IF(#REF!>100%,1,0)))","v":{"$error":"#REF!"}},null,null,null,{"$f":"CONCATENATE(#REF!,#REF!,#REF!)","v":{"$error":"#REF!"}},{"$error":"#REF!"},0,false,0,{"$f":"IF(#REF!=\"\",0,IF(#REF!=#REF!,1,0))","v":{"$error":"#REF!"}},null,null,null,null,null,"R1DOCCUPATIONAL HEALTH DEPARTMENT - FENTON","R1DEK","OCCUPATIONAL HEALTH DEPARTMENT - FENTON","R1DEK","OCCUPATIONAL HEALTH DEPARTMENT - FENTON","R1D",null,null,"St Bartholomew's Hospital","5C SBH"]
[{"$error":"#N/A"},{"$error":"#N/A"},0,0,0,"","",0,0,0,0,0,0,0,0,0,0,0,null,null,null,null,null,null,null,null,null,null,0,null,null,null,null,null,null,null,0,0,0,0,0,0,0,0,0,0,0,null,null,null,{"$f":"IF(#REF!=\"\",0, IF(#REF!=\"-\",0,IF(#REF!>100%,1,0)))","v":{"$error":"#REF!"}},null,{"$f":"IF(#REF!=\"\",0, IF(#REF!=\"-\",0,IF(#REF!>100%,1,0)))","v":{"$error":"#REF!"}},{"$f":"IF(#REF!=\"\",0, IF(#REF!=\"-\",0,IF(#REF!>100%,1,0)))","v":{"$error":"#REF!"}},{"$f":"IF(#REF!=\"\",0, IF(#REF!=\"-\",0,IF(#REF!>100%,1,0)))","v":{"$error":"#REF!"}},null,null,null,{"$f":"CONCATENATE(#REF!,#REF!,#REF!)","v":{"$error":"#REF!"}},{"$error":"#REF!"},0,false,0,{"$f":"IF(#REF!=\"\",0,IF(#REF!=#REF!,1,0))","v":{"$error":"#REF!"}},null,null,null,null,null,"R1DOCCUPATIONAL HEALTH FENTON","R1DG7","OCCUPATIONAL HEALTH FENTON","R1DG7","OCCUPATIONAL HEALTH FENTON","R1D",null,null,"St Bartholomew's Hospital","5D SBH"]
[{"$error":"#N/A"},{"$error":"#N/A"},0,0,0,"","",0,0,0,0,0,0,0,0,0,0,0,null,null,null,null,null,null,null,null,null,null,0,null,null,null,null,null,null,null,0,0,0,0,0,0,0,0,0,0,0,null,null,null,{"$f":"IF(#REF!=\"\",0, IF(#REF!=\"-\",0,IF(#REF!>100%,1,0)))","v":{"$error":"#REF!"}},null,{"$f":"IF(#REF!=\"\",0, IF(#REF!=\"-\",0,IF(#REF!>100%,1,0)))","v":{"$error":"#REF!"}},{"$f":"IF(#REF!=\"\",0, IF(#REF!=\"-\",0,IF(#REF!>100%,1,0)))","v":{"$error":"#REF!"}},{"$f":"IF(#REF!=\"\",0, IF(#REF!=\"-\",0,IF(#REF!>100%,1,0)))","v":{"$error":"#REF!"}},null,null,null,{"$f":"CONCATENATE(#REF!,#REF!,#REF!)","v":{"$error":"#REF!"}},{"$error":"#REF!"},0,false,0,{"$f":"IF(#REF!=\"\",0,IF(#REF!=#REF!,1,0))","v":{"$error":"#REF!"}},null,null,null,null,null,"R1DOCCUPATIONAL HEALTH GAINS PARK","R1DD9","OCCUPATIONAL HEALTH GAINS PARK","R1DD9","OCCUPATIONAL HEALTH GAINS PARK","R1D",null,null,"St Bartholomew's Hospital","6A SBH"]
[{"$error":"#N/A"},{"$error":"#N/A"},0,0,0,"","",0,0,0,0,0,0,0,0,0,0,0,null,null,null,null,null,null,null,null,null,null,0,null,null,null,null,null,null,null,0,0,0,0,0,0,0,0,0,0,0,null,null,null,{"$f":"IF(#REF!=\"\",0, IF(#REF!=\"-\",0,IF(#REF!>100%,1,0)))","v":{"$error":"#REF!"}},null,{"$f":"IF(#REF!=\"\",0, IF(#REF!=\"-\",0,IF(#REF!>100%,1,0)))","v":{"$error":"#REF!"}},{"$f":"IF(#REF!=\"\",0, IF(#REF!=\"-\",0,IF(#REF!>100%,1,0)))","v":{"$error":"#REF!"}},{"$f":"IF(#REF!=\"\",0, IF(#REF!=\"-\",0,IF(#REF!>100%,1,0)))","v":{"$error":"#REF!"}},null,null,null,{"$f":"CONCATENATE(#REF!,#REF!,#REF!)","v":{"$error":"#REF!"}},{"$error":"#REF!"},0,false,0,{"$f":"IF(#REF!=\"\",0,IF(#REF!=#REF!,1,0))","v":{"$error":"#REF!"}},null,null,null,null,null,"R1DOLDFIELD RESIDENTIAL HOME","R1D92","OLDFIELD RESIDENTIAL HOME","R1D92","OLDFIELD RESIDENTIAL HOME","R1D",null,null,"St Bartholomew's Hospital","6D SBH"]
[{"$error":"#N/A"},{"$error":"#N/A"},0,0,0,"","",0,0,0,0,0,0,0,0,0,0,0,null,null,null,null,null,null,null,null,null,null,0,null,null,null,null,null,null,null,0,0,0,0,0,0,0,0,0,0,0,null,null,null,{"$f":"IF(#REF!=\"\",0, IF(#REF!=\"-\",0,IF(#REF!>100%,1,0)))","v":{"$error":"#REF!"}},null,{"$f":"IF(#REF!=\"\",0, IF(#REF!=\"-\",0,IF(#REF!>100%,1,0)))","v":{"$error":"#REF!"}},{"$f":"IF(#REF!=\"\",0, IF(#REF!=\"-\",0,IF(#REF!>100%,1,0)))","v":{"$error":"#REF!"}},{"$f":"IF(#REF!=\"\",0, IF(#REF!=\"-\",0,IF(#REF!>100%,1,0)))","v":{"$error":"#REF!"}},null,null,null,{"$f":"CONCATENATE(#REF!,#REF!,#REF!)","v":{"$error":"#REF!"}},{"$error":"#REF!"},0,false,0,{"$f":"IF(#REF!=\"\",0,IF(#REF!=#REF!,1,0))","v":{"$error":"#REF!"}},null,null,null,null,null,"R1DOSWESTRY SOCIAL & HEALTH CARE","R1DDC","OSWESTRY SOCIAL & HEALTH CARE","R1DDC","OSWESTRY SOCIAL & HEALTH CARE","R1D",null,null,"The Royal London Hospital","10E RLH"]
[{"$error":"#N/A"},{"$error":"#N/A"},0,0,0,"","",0,0,0,0,0,0,0,0,0,0,0,null,null,null,null,null,null,null,null,null,null,0,null,null,null,null,null,null,null,0,0,0,0,0,0,0,0,0,0,0,null,null,null,{"$f":"IF(#REF!=\"\",0, IF(#REF!=\"-\",0,IF(#REF!>100%,1,0)))","v":{"$error":"#REF!"}},null,{"$f":"IF(#REF!=\"\",0, IF(#REF!=\"-\",0,IF(#REF!>100%,1,0)))","v":{"$error":"#REF!"}},{"$f":"IF(#REF!=\"\",0, IF(#REF!=\"-\",0,IF(#REF!>100%,1,0)))","v":{"$error":"#REF!"}},{"$f":"IF(#REF!=\"\",0, IF(#REF!=\"-\",0,IF(#REF!>100%,1,0)))","v":{"$error":"#REF!"}},null,null,null,{"$f":"CONCATENATE(#REF!,#REF!,#REF!)","v":{"$error":"#REF!"}},{"$error":"#REF!"},0,false,0,{"$f":"IF(#REF!=\"\",0,IF(#REF!=#REF!,1,0))","v":{"$error":"#REF!"}},null,null,null,null,null,"R1DPLAS NEWYDD","R1DA6","PLAS NEWYDD","R1DA6","PLAS NEWYDD","R1D",null,null,"The Royal London Hospital","10F RLH"]
[{"$error":"#N/A"},{"$error":"#N/A"},0,0,0,"","",0,0,0,0,0,0,0,0,0,0,0,null,null,null,null,null,null,null,null,null,null,0,null,null,null,null,null,null,null,0,0,0,0,0,0,0,0,0,0,0,null,null,null,{"$f":"IF(#REF!=\"\",0, IF(#REF!=\"-\",0,IF(#REF!>100%,1,0)))","v":{"$error":"#REF!"}},null,{"$f":"IF(#REF!=\"\",0, IF(#REF!=\"-\",0,IF(#REF!>100%,1,0)))","v":{"$error":"#REF!"}},{"$f":"IF(#REF!=\"\",0, IF(#REF!=\"-\",0,IF(#REF!>100%,1,0)))","v":{"$error":"#REF!"}},{"$f":"IF(#REF!=\"\",0, IF(#REF!=\"-\",0,IF(#REF!>100%,1,0)))","v":{"$error":"#REF!"}},null,null,null,{"$f":"CONCATENATE(#REF!,#REF!,#REF!)","v":{"$error":"#REF!"}},{"$error":"#REF!"},0,false,0,{"$f":"IF(#REF!=\"\",0,IF(#REF!=#REF!,1,0))","v":{"$error":"#REF!"}},null,null,null,null,null,"R1DPRINCESS ROYAL HOSPITAL","R1D03","PRINCESS ROYAL HOSPITAL","R1D03","PRINCESS ROYAL HOSPITAL","R1D",null,null,"The Royal London Hospital","11C RLH"]
[{"$error":"#N/A"},{"$error":"#N/A"},0,0,0,"","",0,0,0,0,0,0,0,0,0,0,0,null,null,null,null,null,null,null,null,null,null,0,null,null,null,null,null,null,null,0,0,0,0,0,0,0,0,0,0,0,null,null,null,{"$f":"IF(#REF!=\"\",0, IF(#REF!=\"-\",0,IF(#REF!>100%,1,0)))","v":{"$error":"#REF!"}},null,{"$f":"IF(#REF!=\"\",0, IF(#REF!=\"-\",0,IF(#REF!>100%,1,0)))","v":{"$error":"#REF!"}},{"$f":"IF(#REF!=\"\",0, IF(#REF!=\"-\",0,IF(#REF!>100%,1,0)))","v":{"$error":"#REF!"}},{"$f":"IF(#REF!=\"\",0, IF(#REF!=\"-\",0,IF(#REF!>100%,1,0)))","v":{"$error":"#REF!"}},null,null,null,{"$f":"CONCATENATE(#REF!,#REF!,#REF!)","v":{"$error":"#REF!"}},{"$error":"#REF!"},0,false,0,{"$f":"IF(#REF!=\"\",0,IF(#REF!=#REF!,1,0))","v":{"$error":"#REF!"}},null,null,null,null,null,"R1DROBERT JONES & AGNES HUNT ORTHOPAEDIC HOSPITAL","R1DAC","ROBERT JONES & AGNES HUNT ORTHOPAEDIC HOSPITAL","R1DAC","ROBERT JONES & AGNES HUNT ORTHOPAEDIC HOSPITAL","R1D",null,null,"The Royal London Hospital","11E & 11F AAU"]
[{"$error":"#N/A"},{"$error":"#N/A"},0,0,0,"","",0,0,0,0,0,0,0,0,0,0,0,null,null,null,null,null,null,null,null,null,null,0,null,null,null,null,null,null,null,0,0,0,0,0,0,0,0,0,0,0,null,null,null,{"$f":"IF(#REF!=\"\",0, IF(#REF!=\"-\",0,IF(#REF!>100%,1,0)))","v":{"$error":"#REF!"}},null,{"$f":"IF(#REF!=\"\",0, IF(#REF!=\"-\",0,IF(#REF!>100%,1,0)))","v":{"$error":"#REF!"}},{"$f":"IF(#REF!=\"\",0, IF(#REF!=\"-\",0,IF(#REF!>100%,1,0)))","v":{"$error":"#REF!"}},{"$f":"IF(#REF!=\"\",0, IF(#REF!=\"-\",0,IF(#REF!>100%,1,0)))","v":{"$error":"#REF!"}},null,null,null,{"$f":"CONCATENATE(#REF!,#REF!,#REF!)","v":{"$error":"#REF!"}},{"$error":"#REF!"},0,false,0,{"$f":"IF(#REF!=\"\",0,IF(#REF!=#REF!,1,0))","v":{"$error":"#REF!"}},null,null,null,null,null,"R1DROYAL SHREWSBURY HOSPITAL","R1D16","ROYAL SHREWSBURY HOSPITAL","R1D16","ROYAL SHREWSBURY HOSPITAL","R1D",null,null,"The Royal London Hospital","12C RLH"]
[{"$error":"#N/A"},{"$error":"#N/A"},0,0,0,"","",0,0,0,0,0,0,0,0,0,0,0,null,null,null,null,null,null,null,null,null,null,0,null,null,null,null,null,null,null,0,0,0,0,0,0,0,0,0,0,0,null,null,null,{"$f":"IF(#REF!=\"\",0, IF(#REF!=\"-\",0,IF(#REF!>100%,1,0)))","v":{"$error":"#REF!"}},null,{"$f":"IF(#REF!=\"\",0, IF(#REF!=\"-\",0,IF(#REF!>100%,1,0)))","v":{"$error":"#REF!"}},{"$f":"IF(#REF!=\"\",0, IF(#REF!=\"-\",0,IF(#REF!>100%,1,0)))","v":{"$error":"#REF!"}},{"$f":"IF(#REF!=\"\",0, IF(#REF!=\"-\",0,IF(#REF!>100%,1,0)))","v":{"$error":"#REF!"}},null,null,null,{"$f":"CONCATENATE(#REF!,#REF!,#REF!)","v":{"$error":"#REF!"}},{"$error":"#REF!"},0,false,0,{"$f":"IF(#REF!=\"\",0,IF(#REF!=#REF!,1,0))","v":{"$error":"#REF!"}},null,null,null,null,null,"R1DSEVERN FIELDS HEALTH VILLAGE","R1DFC","SEVERN FIELDS HEALTH VILLAGE","R1DFC","SEVERN FIELDS HEALTH VILLAGE","R1D",null,null,"The Royal London Hospital","12D RLH"]
[{"$error":"#N/A"},{"$error":"#N/A"},0,0,0,"","",0,0,0,0,0,0,0,0,0,0,0,null,null,null,null,null,null,null,null,null,null,0,null,null,null,null,null,null,null,0,0,0,0,0,0,0,0,0,0,0,null,null,null,{"$f":"IF(#REF!=\"\",0, IF(#REF!=\"-\",0,IF(#REF!>100%,1,0)))","v":{"$error":"#REF!"}},null,{"$f":"IF(#REF!=\"\",0, IF(#REF!=\"-\",0,IF(#REF!>100%,1,0)))","v":{"$error":"#REF!"}},{"$f":"IF(#REF!=\"\",0, IF(#REF!=\"-\",0,IF(#REF!>100%,1,0)))","v":{"$error":"#REF!"}},{"$f":"IF(#REF!=\"\",0, IF(#REF!=\"-\",0,IF(#REF!>100%,1,0)))","v":{"$error":"#REF!"}},null,null,null,{"$f":"CONCATENATE(#REF!,#REF!,#REF!)","v":{"$error":"#REF!"}},{"$error":"#REF!"},0,false,0,{"$f":"IF(#REF!=\"\",0,IF(#REF!=#REF!,1,0))","v":{"$error":"#REF!"}},null,null,null,null,null,"R1DSHELTON HOSPITAL","R1D01","SHELTON HOSPITAL","R1D01","SHELTON HOSPITAL","R1D",null,null,"The Royal London Hospital","12E RLH"]
[{"$error":"#N/A"},{"$error":"#N/A"},0,0,0,"","",0,0,0,0,0,0,0,0,0,0,0,null,null,null,null,null,null,null,null,null,null,0,null,null,null,null,null,null,null,0,0,0,0,0,0,0,0,0,0,0,null,null,null,{"$f":"IF(#REF!=\"\",0, IF(#REF!=\"-\",0,IF(#REF!>100%,1,0)))","v":{"$error":"#REF!"}},null,{"$f":"IF(#REF!=\"\",0, IF(#REF!=\"-\",0,IF(#REF!>100%,1,0)))","v":{"$error":"#REF!"}},{"$f":"IF(#REF!=\"\",0, IF(#REF!=\"-\",0,IF(#REF!>100%,1,0)))","v":{"$error":"#REF!"}},{"$f":"IF(#REF!=\"\",0, IF(#REF!=\"-\",0,IF(#REF!>100%,1,0)))","v":{"$error":"#REF!"}},null,null,null,{"$f":"CONCATENATE(#REF!,#REF!,#REF!)","v":{"$error":"#REF!"}},{"$error":"#REF!"},0,false,0,{"$f":"IF(#REF!=\"\",0,IF(#REF!=#REF!,1,0))","v":{"$error":"#REF!"}},null,null,null,null,null,"R1DSHERBOURNE","R1D90","SHERBOURNE","R1D90","SHERBOURNE","R1D",null,null,"The Royal London Hospital","12F RLH"]
[{"$error":"#N/A"},{"$error":"#N/A"},0,0,0,"","",0,0,0,0,0,0,0,0,0,0,0,null,null,null,null,null,null,null,null,null,null,0,null,null,null,null,null,null,null,0,0,0,0,0,0,0,0,0,0,0,null,null,null,{"$f":"IF(#REF!=\"\",0, IF(#REF!=\"-\",0,IF(#REF!>100%,1,0)))","v":{"$error":"#REF!"}},null,{"$f":"IF(#REF!=\"\",0, IF(#REF!=\"-\",0,IF(#REF!>100%,1,0)))","v":{"$error":"#REF!"}},{"$f":"IF(#REF!=\"\",0, IF(#REF!=\"-\",0,IF(#REF!>100%,1,0)))","v":{"$error":"#REF!"}},{"$f":"IF(#REF!=\"\",0, IF(#REF!=\"-\",0,IF(#REF!>100%,1,0)))","v":{"$error":"#REF!"}},null,null,null,{"$f":"CONCATENATE(#REF!,#REF!,#REF!)","v":{"$error":"#REF!"}},{"$error":"#REF!"},0,false,0,{"$f":"IF(#REF!=\"\",0,IF(#REF!=#REF!,1,0))","v":{"$error":"#REF!"}},null,null,null,null,null,"R1DSINGLE POINT OF ACCESS","R1DJ5","SINGLE POINT OF ACCESS","R1DJ5","SINGLE POINT OF ACCESS","R1D",null,null,"The Royal London Hospital","13C RLH"]
[{"$error":"#N/A"},{"$error":"#N/A"},0,0,0,"","",0,0,0,0,0,0,0,0,0,0,0,null,null,null,null,null,null,null,null,null,null,0,null,null,null,null,null,null,null,0,0,0,0,0,0,0,0,0,0,0,null,null,null,{"$f":"IF(#REF!=\"\",0, IF(#REF!=\"-\",0,IF(#REF!>100%,1,0)))","v":{"$error":"#REF!"}},null,{"$f":"IF(#REF!=\"\",0, IF(#REF!=\"-\",0,IF(#REF!>100%,1,0)))","v":{"$error":"#REF!"}},{"$f":"IF(#REF!=\"\",0, IF(#REF!=\"-\",0,IF(#REF!>100%,1,0)))","v":{"$error":"#REF!"}},{"$f":"IF(#REF!=\"\",0, IF(#REF!=\"-\",0,IF(#REF!>100%,1,0)))","v":{"$error":"#REF!"}},null,null,null,{"$f":"CONCATENATE(#REF!,#REF!,#REF!)","v":{"$error":"#REF!"}},{"$error":"#REF!"},0,false,0,{"$f":"IF(#REF!=\"\",0,IF(#REF!=#REF!,1,0))","v":{"$error":"#REF!"}},null,null,null,null,null,"R1DTELFORD AND WREKIN PCT COMMISSIONERS","R1DEJ","TELFORD AND WREKIN PCT COMMISSIONERS","R1DEJ","TELFORD AND WREKIN PCT COMMISSIONERS","R1D",null,null,"The Royal London Hospital","13D RLH"]
[{"$error":"#N/A"},{"$error":"#N/A"},0,0,0,"","",0,0,0,0,0,0,0,0,0,0,0,null,null,null,null,null,null,null,null,null,null,0,null,null,null,null,null,null,null,0,0,0,0,0,0,0,0,0,0,0,null,null,null,{"$f":"IF(#REF!=\"\",0, IF(#REF!=\"-\",0,IF(#REF!>100%,1,0)))","v":{"$error":"#REF!"}},null,{"$f":"IF(#REF!=\"\",0, IF(#REF!=\"-\",0,IF(#REF!>100%,1,0)))","v":{"$error":"#REF!"}},{"$f":"IF(#REF!=\"\",0, IF(#REF!=\"-\",0,IF(#REF!>100%,1,0)))","v":{"$error":"#REF!"}},{"$f":"IF(#REF!=\"\",0, IF(#REF!=\"-\",0,IF(#REF!>100%,1,0)))","v":{"$error":"#REF!"}},null,null,null,{"$f":"CONCATENATE(#REF!,#REF!,#REF!)","v":{"$error":"#REF!"}},{"$error":"#REF!"},0,false,0,{"$f":"IF(#REF!=\"\",0,IF(#REF!=#REF!,1,0))","v":{"$error":"#REF!"}},null,null,null,null,null,"R1DTERRENCE HIGGINS TRUST WELLINGTON","R1DFL","TERRENCE HIGGINS TRUST WELLINGTON","R1DFL","TERRENCE HIGGINS TRUST WELLINGTON","R1D",null,null,"The Royal London Hospital","13E RLH"]
[{"$error":"#N/A"},{"$error":"#N/A"},0,0,0,"","",0,0,0,0,0,0,0,0,0,0,0,null,null,null,null,null,null,null,null,null,null,0,null,null,null,null,null,null,null,0,0,0,0,0,0,0,0,0,0,0,null,null,null,{"$f":"IF(#REF!=\"\",0, IF(#REF!=\"-\",0,IF(#REF!>100%,1,0)))","v":{"$error":"#REF!"}},null,{"$f":"IF(#REF!=\"\",0, IF(#REF!=\"-\",0,IF(#REF!>100%,1,0)))","v":{"$error":"#REF!"}},{"$f":"IF(#REF!=\"\",0, IF(#REF!=\"-\",0,IF(#REF!>100%,1,0)))","v":{"$error":"#REF!"}},{"$f":"IF(#REF!=\"\",0, IF(#REF!=\"-\",0,IF(#REF!>100%,1,0)))","v":{"$error":"#REF!"}},null,null,null,{"$f":"CONCATENATE(#REF!,#REF!,#REF!)","v":{"$error":"#REF!"}},{"$error":"#REF!"},0,false,0,{"$f":"IF(#REF!=\"\",0,IF(#REF!=#REF!,1,0))","v":{"$error":"#REF!"}},null,null,null,null,null,"R1DTHE HEATHERS","R1D80","THE HEATHERS","R1D80","THE HEATHERS","R1D",null,null,"The Royal London Hospital","13F RLH"]
[{"$error":"#N/A"},{"$error":"#N/A"},0,0,0,"","",0,0,0,0,0,0,0,0,0,0,0,null,null,null,null,null,null,null,null,null,null,0,null,null,null,null,null,null,null,0,0,0,0,0,0,0,0,0,0,0,null,null,null,{"$f":"IF(#REF!=\"\",0, IF(#REF!=\"-\",0,IF(#REF!>100%,1,0)))","v":{"$error":"#REF!"}},null,{"$f":"IF(#REF!=\"\",0, IF(#REF!=\"-\",0,IF(#REF!>100%,1,0)))","v":{"$error":"#REF!"}},{"$f":"IF(#REF!=\"\",0, IF(#REF!=\"-\",0,IF(#REF!>100%,1,0)))","v":{"$error":"#REF!"}},{"$f":"IF(#REF!=\"\",0, IF(#REF!=\"-\",0,IF(#REF!>100%,1,0)))","v":{"$error":"#REF!"}},null,null,null,{"$f":"CONCATENATE(#REF!,#REF!,#REF!)","v":{"$error":"#REF!"}},{"$error":"#REF!"},0,false,0,{"$f":"IF(#REF!=\"\",0,IF(#REF!=#REF!,1,0))","v":{"$error":"#REF!"}},null,null,null,null,null,"R1DTHE LAUREL'S","R1DC1","THE LAUREL'S","R1DC1","THE LAUREL'S","R1D",null,null,"The Royal London Hospital","14E RLH"]
[{"$error":"#N/A"},{"$error":"#N/A"},0,0,0,"","",0,0,0,0,0,0,0,0,0,0,0,null,null,null,null,null,null,null,null,null,null,0,null,null,null,null,null,null,null,0,0,0,0,0,0,0,0,0,0,0,null,null,null,{"$f":"IF(#REF!=\"\",0, IF(#REF!=\"-\",0,IF(#REF!>100%,1,0)))","v":{"$error":"#REF!"}},null,{"$f":"IF(#REF!=\"\",0, IF(#REF!=\"-\",0,IF(#REF!>100%,1,0)))","v":{"$error":"#REF!"}},{"$f":"IF(#REF!=\"\",0, IF(#REF!=\"-\",0,IF(#REF!>100%,1,0)))","v":{"$error":"#REF!"}},{"$f":"IF(#REF!=\"\",0, IF(#REF!=\"-\",0,IF(#REF!>100%,1,0)))","v":{"$error":"#REF!"}},null,null,null,{"$f":"CONCATENATE(#REF!,#REF!,#REF!)","v":{"$error":"#REF!"}},{"$error":"#REF!"},0,false,0,{"$f":"IF(#REF!=\"\",0,IF(#REF!=#REF!,1,0))","v":{"$error":"#REF!"}},null,null,null,null,null,"R1DTHE MEWS","R1DDD","THE MEWS","R1DDD","THE MEWS","R1D",null,null,"The Royal London Hospital","14F RLH"]
[{"$error":"#N/A"},{"$error":"#N/A"},0,0,0,"","",0,0,0,0,0,0,0,0,0,0,0,null,null,null,null,null,null,null,null,null,null,0,null,null,null,null,null,null,null,0,0,0,0,0,0,0,0,0,0,0,null,null,null,{"$f":"IF(#REF!=\"\",0, IF(#REF!=\"-\",0,IF(#REF!>100%,1,0)))","v":{"$error":"#REF!"}},null,{"$f":"IF(#REF!=\"\",0, IF(#REF!=\"-\",0,IF(#REF!>100%,1,0)))","v":{"$error":"#REF!"}},{"$f":"IF(#REF!=\"\",0, IF(#REF!=\"-\",0,IF(#REF!>100%,1,0)))","v":{"$error":"#REF!"}},{"$f":"IF(#REF!=\"\",0, IF(#REF!=\"-\",0,IF(#REF!>100%,1,0)))","v":{"$error":"#REF!"}},null,null,null,{"$f":"CONCATENATE(#REF!,#REF!,#REF!)","v":{"$error":"#REF!"}},{"$error":"#REF!"},0,false,0,{"$f":"IF(#REF!=\"\",0,IF(#REF!=#REF!,1,0))","v":{"$error":"#REF!"}},null,null,null,null,null,"R1DTHE MOUNT","R1D02","THE MOUNT","R1D02","THE MOUNT","R1D",null,null,"The Royal London Hospital","3D RLH"]
[{"$error":"#N/A"},{"$error":"#N/A"},0,0,0,"","",0,0,0,0,0,0,0,0,0,0,0,null,null,null,null,null,null,null,null,null,null,0,null,null,null,null,null,null,null,0,0,0,0,0,0,0,0,0,0,0,null,null,null,{"$f":"IF(#REF!=\"\",0, IF(#REF!=\"-\",0,IF(#REF!>100%,1,0)))","v":{"$error":"#REF!"}},null,{"$f":"IF(#REF!=\"\",0, IF(#REF!=\"-\",0,IF(#REF!>100%,1,0)))","v":{"$error":"#REF!"}},{"$f":"IF(#REF!=\"\",0, IF(#REF!=\"-\",0,IF(#REF!>100%,1,0)))","v":{"$error":"#REF!"}},{"$f":"IF(#REF!=\"\",0, IF(#REF!=\"-\",0,IF(#REF!>100%,1,0)))","v":{"$error":"#REF!"}},null,null,null,{"$f":"CONCATENATE(#REF!,#REF!,#REF!)","v":{"$error":"#REF!"}},{"$error":"#REF!"},0,false,0,{"$f":"IF(#REF!=\"\",0,IF(#REF!=#REF!,1,0))","v":{"$error":"#REF!"}},null,null,null,null,null,"R1DTHE OLD BARN","R1D93","THE OLD BARN","R1D93","THE OLD BARN","R1D",null,null,"The Royal London Hospital","3E RLH"]
[{"$error":"#N/A"},{"$error":"#N/A"},0,0,0,"","",0,0,0,0,0,0,0,0,0,0,0,null,null,null,null,null,null,null,null,null,null,0,null,null,null,null,null,null,null,0,0,0,0,0,0,0,0,0,0,0,null,null,null,{"$f":"IF(#REF!=\"\",0, IF(#REF!=\"-\",0,IF(#REF!>100%,1,0)))","v":{"$error":"#REF!"}},null,{"$f":"IF(#REF!=\"\",0, IF(#REF!=\"-\",0,IF(#REF!>100%,1,0)))","v":{"$error":"#REF!"}},{"$f":"IF(#REF!=\"\",0, IF(#REF!=\"-\",0,IF(#REF!>100%,1,0)))","v":{"$error":"#REF!"}},{"$f":"IF(#REF!=\"\",0, IF(#REF!=\"-\",0,IF(#REF!>100%,1,0)))","v":{"$error":"#REF!"}},null,null,null,{"$f":"CONCATENATE(#REF!,#REF!,#REF!)","v":{"$error":"#REF!"}},{"$error":"#REF!"},0,false,0,{"$f":"IF(#REF!=\"\",0,IF(#REF!=#REF!,1,0))","v":{"$error":"#REF!"}},null,null,null,null,null,"R1DVISION HOMES (1A)","R1D84","VISION HOMES (1A)","R1D84","VISION HOMES (1A)","R1D",null,null,"The Royal London Hospital","3F RLH"]
[{"$error":"#N/A"},{"$error":"#N/A"},0,0,0,"","",0,0,0,0,0,0,0,0,0,0,0,null,null,null,null,null,null,null,null,null,null,0,null,null,null,null,null,null,null,0,0,0,0,0,0,0,0,0,0,0,null,null,null,{"$f":"IF(#REF!=\"\",0, IF(#REF!=\"-\",0,IF(#REF!>100%,1,0)))","v":{"$error":"#REF!"}},null,{"$f":"IF(#REF!=\"\",0, IF(#REF!=\"-\",0,IF(#REF!>100%,1,0)))","v":{"$error":"#REF!"}},{"$f":"IF(#REF!=\"\",0, IF(#REF!=\"-\",0,IF(#REF!>100%,1,0)))","v":{"$error":"#REF!"}},{"$f":"IF(#REF!=\"\",0, IF(#REF!=\"-\",0,IF(#REF!>100%,1,0)))","v":{"$error":"#REF!"}},null,null,null,{"$f":"CONCATENATE(#REF!,#REF!,#REF!)","v":{"$error":"#REF!"}},{"$error":"#REF!"},0,false,0,{"$f":"IF(#REF!=\"\",0,IF(#REF!=#REF!,1,0))","v":{"$error":"#REF!"}},null,null,null,null,null,"R1DWEST BANK","R1D11","WEST BANK","R1D11","WEST BANK","R1D",null,null,"The Royal London Hospital","4E RLH"]
[{"$error":"#N/A"},{"$error":"#N/A"},0,0,0,"","",0,0,0,0,0,0,0,0,0,0,0,null,null,null,null,null,null,null,null,null,null,0,null,null,null,null,null,null,null,0,0,0,0,0,0,0,0,0,0,0,null,null,null,{"$f":"IF(#REF!=\"\",0, IF(#REF!=\"-\",0,IF(#REF!>100%,1,0)))","v":{"$error":"#REF!"}},null,{"$f":"IF(#REF!=\"\",0, IF(#REF!=\"-\",0,IF(#REF!>100%,1,0)))","v":{"$error":"#REF!"}},{"$f":"IF(#REF!=\"\",0, IF(#REF!=\"-\",0,IF(#REF!>100%,1,0)))","v":{"$error":"#REF!"}},{"$f":"IF(#REF!=\"\",0, IF(#REF!=\"-\",0,IF(#REF!>100%,1,0)))","v":{"$error":"#REF!"}},null,null,null,{"$f":"CONCATENATE(#REF!,#REF!,#REF!)","v":{"$error":"#REF!"}},{"$error":"#REF!"},0,false,0,{"$f":"IF(#REF!=\"\",0,IF(#REF!=#REF!,1,0))","v":{"$error":"#REF!"}},null,null,null,null,null,"R1DWHITCHURCH COMMUNITY HOSPITAL","R1DG5","WHITCHURCH COMMUNITY HOSPITAL","R1DG5","WHITCHURCH COMMUNITY HOSPITAL","R1D",null,null,"The Royal London Hospital","6C RLH"]
[{"$error":"#N/A"},{"$error":"#N/A"},0,0,0,"","",0,0,0,0,0,0,0,0,0,0,0,null,null,null,null,null,null,null,null,null,null,0,null,null,null,null,null,null,null,0,0,0,0,0,0,0,0,0,0,0,null,null,null,{"$f":"IF(#REF!=\"\",0, IF(#REF!=\"-\",0,IF(#REF!>100%,1,0)))","v":{"$error":"#REF!"}},null,{"$f":"IF(#REF!=\"\",0, IF(#REF!=\"-\",0,IF(#REF!>100%,1,0)))","v":{"$error":"#REF!"}},{"$f":"IF(#REF!=\"\",0, IF(#REF!=\"-\",0,IF(#REF!>100%,1,0)))","v":{"$error":"#REF!"}},{"$f":"IF(#REF!=\"\",0, IF(#REF!=\"-\",0,IF(#REF!>100%,1,0)))","v":{"$error":"#REF!"}},null,null,null,{"$f":"CONCATENATE(#REF!,#REF!,#REF!)","v":{"$error":"#REF!"}},{"$error":"#REF!"},0,false,0,{"$f":"IF(#REF!=\"\",0,IF(#REF!=#REF!,1,0))","v":{"$error":"#REF!"}},null,null,null,null,null,"R1DWHITCHURCH HOSP OPD1","R1DJ4","WHITCHURCH HOSP OPD1","R1DJ4","WHITCHURCH HOSP OPD1","R1D",null,null,"The Royal London Hospital","6E & 6F RLH"]
[{"$error":"#N/A"},{"$error":"#N/A"},0,0,0,"","",0,0,0,0,0,0,0,0,0,0,0,null,null,null,null,null,null,null,null,null,null,0,null,null,null,null,null,null,null,0,0,0,0,0,0,0,0,0,0,0,null,null,null,{"$f":"IF(#REF!=\"\",0, IF(#REF!=\"-\",0,IF(#REF!>100%,1,0)))","v":{"$error":"#REF!"}},null,{"$f":"IF(#REF!=\"\",0, IF(#REF!=\"-\",0,IF(#REF!>100%,1,0)))","v":{"$error":"#REF!"}},{"$f":"IF(#REF!=\"\",0, IF(#REF!=\"-\",0,IF(#REF!>100%,1,0)))","v":{"$error":"#REF!"}},{"$f":"IF(#REF!=\"\",0, IF(#REF!=\"-\",0,IF(#REF!>100%,1,0)))","v":{"$error":"#REF!"}},null,null,null,{"$f":"CONCATENATE(#REF!,#REF!,#REF!)","v":{"$error":"#REF!"}},{"$error":"#REF!"},0,false,0,{"$f":"IF(#REF!=\"\",0,IF(#REF!=#REF!,1,0))","v":{"$error":"#REF!"}},null,null,null,null,null,"R1DWHITCHURCH HOSPITAL ","R1D34","WHITCHURCH HOSPITAL ","R1D34","WHITCHURCH HOSPITAL ","R1D",null,null,"The Royal London Hospital","7C RLH"]
[{"$error":"#N/A"},{"$error":"#N/A"},0,0,0,"","",0,0,0,0,0,0,0,0,0,0,0,null,null,null,null,null,null,null,null,null,null,0,null,null,null,null,null,null,null,0,0,0,0,0,0,0,0,0,0,0,null,null,null,{"$f":"IF(#REF!=\"\",0, IF(#REF!=\"-\",0,IF(#REF!>100%,1,0)))","v":{"$error":"#REF!"}},null,{"$f":"IF(#REF!=\"\",0, IF(#REF!=\"-\",0,IF(#REF!>100%,1,0)))","v":{"$error":"#REF!"}},{"$f":"IF(#REF!=\"\",0, IF(#REF!=\"-\",0,IF(#REF!>100%,1,0)))","v":{"$error":"#REF!"}},{"$f":"IF(#REF!=\"\",0, IF(#REF!=\"-\",0,IF(#REF!>100%,1,0)))","v":{"$error":"#REF!"}},null,null,null,{"$f":"CONCATENATE(#REF!,#REF!,#REF!)","v":{"$error":"#REF!"}},{"$error":"#REF!"},0,false,0,{"$f":"IF(#REF!=\"\",0,IF(#REF!=#REF!,1,0))","v":{"$error":"#REF!"}},null,null,null,null,null,"R1DWREXHAM MAELOR HOSPITAL","R1DD4","WREXHAM MAELOR HOSPITAL","R1DD4","WREXHAM MAELOR HOSPITAL","R1D",null,null,"The Royal London Hospital","7D RLH"]
[{"$error":"#N/A"},{"$error":"#N/A"},0,0,0,"","",0,0,0,0,0,0,0,0,0,0,0,null,null,null,null,null,null,null,null,null,null,0,null,null,null,null,null,null,null,0,0,0,0,0,0,0,0,0,0,0,null,null,null,{"$f":"IF(#REF!=\"\",0, IF(#REF!=\"-\",0,IF(#REF!>100%,1,0)))","v":{"$error":"#REF!"}},null,{"$f":"IF(#REF!=\"\",0, IF(#REF!=\"-\",0,IF(#REF!>100%,1,0)))","v":{"$error":"#REF!"}},{"$f":"IF(#REF!=\"\",0, IF(#REF!=\"-\",0,IF(#REF!>100%,1,0)))","v":{"$error":"#REF!"}},{"$f":"IF(#REF!=\"\",0, IF(#REF!=\"-\",0,IF(#REF!>100%,1,0)))","v":{"$error":"#REF!"}},null,null,null,{"$f":"CONCATENATE(#REF!,#REF!,#REF!)","v":{"$error":"#REF!"}},{"$error":"#REF!"},0,false,0,{"$f":"IF(#REF!=\"\",0,IF(#REF!=#REF!,1,0))","v":{"$error":"#REF!"}},null,null,null,null,null,"R1EAIRS - CHEADLE HOSPITAL","R1EL7","AIRS - CHEADLE HOSPITAL","R1EL7","AIRS - CHEADLE HOSPITAL","R1E",null,null,"The Royal London Hospital","7E NORTH RLH"]
[{"$error":"#N/A"},{"$error":"#N/A"},0,0,0,"","",0,0,0,0,0,0,0,0,0,0,0,null,null,null,null,null,null,null,null,null,null,0,null,null,null,null,null,null,null,0,0,0,0,0,0,0,0,0,0,0,null,null,null,{"$f":"IF(#REF!=\"\",0, IF(#REF!=\"-\",0,IF(#REF!>100%,1,0)))","v":{"$error":"#REF!"}},null,{"$f":"IF(#REF!=\"\",0, IF(#REF!=\"-\",0,IF(#REF!>100%,1,0)))","v":{"$error":"#REF!"}},{"$f":"IF(#REF!=\"\",0, IF(#REF!=\"-\",0,IF(#REF!>100%,1,0)))","v":{"$error":"#REF!"}},{"$f":"IF(#REF!=\"\",0, IF(#REF!=\"-\",0,IF(#REF!>100%,1,0)))","v":{"$error":"#REF!"}},null,null,null,{"$f":"CONCATENATE(#REF!,#REF!,#REF!)","v":{"$error":"#REF!"}},{"$f":"IF(BG120=\"\",\"\",(IF(COUNTIF($BG$46:$BG$244,BG120)>1,1,0))=1)","v":{"$error":"#REF!"}},0,false,0,{"$f":"IF(#REF!=\"\",0,IF(#REF!=#REF!,1,0))","v":{"$error":"#REF!"}},null,null,null,null,null,"R1EAIRS - HAYWOOD HOSPTIAL","R1EK8","AIRS - HAYWOOD HOSPTIAL","R1EK8","AIRS - HAYWOOD HOSPTIAL","R1E",null,null,"The Royal London Hospital","7E RLH"]
[{"$error":"#N/A"},{"$error":"#N/A"},0,0,0,"","",0,0,0,0,0,0,0,0,0,0,0,null,null,null,null,null,null,null,null,null,null,0,null,null,null,null,null,null,null,0,0,0,0,0,0,0,0,0,0,0,null,null,null,{"$f":"IF(#REF!=\"\",0, IF(#REF!=\"-\",0,IF(#REF!>100%,1,0)))","v":{"$error":"#REF!"}},null,{"$f":"IF(#REF!=\"\",0, IF(#REF!=\"-\",0,IF(#REF!>100%,1,0)))","v":{"$error":"#REF!"}},{"$f":"IF(#REF!=\"\",0, IF(#REF!=\"-\",0,IF(#REF!>100%,1,0)))","v":{"$error":"#REF!"}},{"$f":"IF(#REF!=\"\",0, IF(#REF!=\"-\",0,IF(#REF!>100%,1,0)))","v":{"$error":"#REF!"}},null,null,null,{"$f":"CONCATENATE(#REF!,#REF!,#REF!)","v":{"$error":"#REF!"}},{"$error":"#REF!"},0,false,0,{"$f":"IF(#REF!=\"\",0,IF(#REF!=#REF!,1,0))","v":{"$error":"#REF!"}},null,null,null,null,null,"R1EAIRS - LEEK MOORLANDS HOSPITAL","R1EL8","AIRS - LEEK MOORLANDS HOSPITAL","R1EL8","AIRS - LEEK MOORLANDS HOSPITAL","R1E",null,null,"The Royal London Hospital","7F RLH"]
[{"$error":"#N/A"},{"$error":"#N/A"},0,0,0,"","",0,0,0,0,0,0,0,0,0,0,0,null,null,null,null,null,null,null,null,null,null,0,null,null,null,null,null,null,null,0,0,0,0,0,0,0,0,0,0,0,null,null,null,{"$f":"IF(#REF!=\"\",0, IF(#REF!=\"-\",0,IF(#REF!>100%,1,0)))","v":{"$error":"#REF!"}},null,{"$f":"IF(#REF!=\"\",0, IF(#REF!=\"-\",0,IF(#REF!>100%,1,0)))","v":{"$error":"#REF!"}},{"$f":"IF(#REF!=\"\",0, IF(#REF!=\"-\",0,IF(#REF!>100%,1,0)))","v":{"$error":"#REF!"}},{"$f":"IF(#REF!=\"\",0, IF(#REF!=\"-\",0,IF(#REF!>100%,1,0)))","v":{"$error":"#REF!"}},null,null,null,{"$f":"CONCATENATE(#REF!,#REF!,#REF!)","v":{"$error":"#REF!"}},{"$error":"#REF!"},0,false,0,{"$f":"IF(#REF!=\"\",0,IF(#REF!=#REF!,1,0))","v":{"$error":"#REF!"}},null,null,null,null,null,"R1EAIRS - LONGTON COTTAGE HOSPTIAL","R1EK7","AIRS - LONGTON COTTAGE HOSPTIAL","R1EK7","AIRS - LONGTON COTTAGE HOSPTIAL","R1E",null,null,"The Royal London Hospital","8C RLH"]
[{"$error":"#N/A"},{"$error":"#N/A"},0,0,0,"","",0,0,0,0,0,0,0,0,0,0,0,null,null,null,null,null,null,null,null,null,null,0,null,null,null,null,null,null,null,0,0,0,0,0,0,0,0,0,0,0,null,null,null,{"$f":"IF(#REF!=\"\",0, IF(#REF!=\"-\",0,IF(#REF!>100%,1,0)))","v":{"$error":"#REF!"}},null,{"$f":"IF(#REF!=\"\",0, IF(#REF!=\"-\",0,IF(#REF!>100%,1,0)))","v":{"$error":"#REF!"}},{"$f":"IF(#REF!=\"\",0, IF(#REF!=\"-\",0,IF(#REF!>100%,1,0)))","v":{"$error":"#REF!"}},{"$f":"IF(#REF!=\"\",0, IF(#REF!=\"-\",0,IF(#REF!>100%,1,0)))","v":{"$error":"#REF!"}},null,null,null,{"$f":"CONCATENATE(#REF!,#REF!,#REF!)","v":{"$error":"#REF!"}},{"$error":"#REF!"},0,false,0,{"$f":"IF(#REF!=\"\",0,IF(#REF!=#REF!,1,0))","v":{"$error":"#REF!"}},null,null,null,null,null,"R1EAIRS -BRADWELL HOSPITAL","R1EL6","AIRS -BRADWELL HOSPITAL","R1EL6","AIRS -BRADWELL HOSPITAL","R1E",null,null,"The Royal London Hospital","8D RLH"]
[{"$error":"#N/A"},{"$error":"#N/A"},0,0,0,"","",0,0,0,0,0,0,0,0,0,0,0,null,null,null,null,null,null,null,null,null,null,0,null,null,null,null,null,null,null,0,0,0,0,0,0,0,0,0,0,0,null,null,null,{"$f":"IF(#REF!=\"\",0, IF(#REF!=\"-\",0,IF(#REF!>100%,1,0)))","v":{"$error":"#REF!"}},null,{"$f":"IF(#REF!=\"\",0, IF(#REF!=\"-\",0,IF(#REF!>100%,1,0)))","v":{"$error":"#REF!"}},{"$f":"IF(#REF!=\"\",0, IF(#REF!=\"-\",0,IF(#REF!>100%,1,0)))","v":{"$error":"#REF!"}},{"$f":"IF(#REF!=\"\",0, IF(#REF!=\"-\",0,IF(#REF!>100%,1,0)))","v":{"$error":"#REF!"}},null,null,null,{"$f":"CONCATENATE(#REF!,#REF!,#REF!)","v":{"$error":"#REF!"}},{"$error":"#REF!"},0,false,0,{"$f":"IF(#REF!=\"\",0,IF(#REF!=#REF!,1,0))","v":{"$error":"#REF!"}},null,null,null,null,null,"R1EAQUEDUCT","R1EM1","AQUEDUCT","R1EM1","AQUEDUCT","R1E",null,null,"The Royal London Hospital","8F RLH"]
[{"$error":"#N/A"},{"$error":"#N/A"},0,0,0,"","",0,0,0,0,0,0,0,0,0,0,0,null,null,null,null,null,null,null,null,null,null,0,null,null,null,null,null,null,null,0,0,0,0,0,0,0,0,0,0,0,null,null,null,{"$f":"IF(#REF!=\"\",0, IF(#REF!=\"-\",0,IF(#REF!>100%,1,0)))","v":{"$error":"#REF!"}},null,{"$f":"IF(#REF!=\"\",0, IF(#REF!=\"-\",0,IF(#REF!>100%,1,0)))","v":{"$error":"#REF!"}},{"$f":"IF(#REF!=\"\",0, IF(#REF!=\"-\",0,IF(#REF!>100%,1,0)))","v":{"$error":"#REF!"}},{"$f":"IF(#REF!=\"\",0, IF(#REF!=\"-\",0,IF(#REF!>100%,1,0)))","v":{"$error":"#REF!"}},null,null,null,{"$f":"CONCATENATE(#REF!,#REF!,#REF!)","v":{"$error":"#REF!"}},{"$error":"#REF!"},0,false,0,{"$f":"IF(#REF!=\"\",0,IF(#REF!=#REF!,1,0))","v":{"$error":"#REF!"}},null,null,null,null,null,"R1EBARTON UNDER NEEDWOOD COTTAGE HOSPITAL","R1E04","BARTON UNDER NEEDWOOD COTTAGE HOSPITAL","R1E04","BARTON UNDER NEEDWOOD COTTAGE HOSPITAL","R1E",null,null,"The Royal London Hospital","9E HDU RLH"]
[{"$error":"#N/A"},{"$error":"#N/A"},0,0,0,"","",0,0,0,0,0,0,0,0,0,0,0,null,null,null,null,null,null,null,null,null,null,0,null,null,null,null,null,null,null,0,0,0,0,0,0,0,0,0,0,0,null,null,null,{"$f":"IF(#REF!=\"\",0, IF(#REF!=\"-\",0,IF(#REF!>100%,1,0)))","v":{"$error":"#REF!"}},null,{"$f":"IF(#REF!=\"\",0, IF(#REF!=\"-\",0,IF(#REF!>100%,1,0)))","v":{"$error":"#REF!"}},{"$f":"IF(#REF!=\"\",0, IF(#REF!=\"-\",0,IF(#REF!>100%,1,0)))","v":{"$error":"#REF!"}},{"$f":"IF(#REF!=\"\",0, IF(#REF!=\"-\",0,IF(#REF!>100%,1,0)))","v":{"$error":"#REF!"}},null,null,null,{"$f":"CONCATENATE(#REF!,#REF!,#REF!)","v":{"$error":"#REF!"}},{"$error":"#REF!"},0,false,0,{"$f":"IF(#REF!=\"\",0,IF(#REF!=#REF!,1,0))","v":{"$error":"#REF!"}},null,null,null,null,null,"R1EBRADWELL HOSPITAL","R1EE5","BRADWELL HOSPITAL","R1EE5","BRADWELL HOSPITAL","R1E",null,null,"The Royal London Hospital","9E RLH"]
[{"$error":"#N/A"},{"$error":"#N/A"},0,0,0,"","",0,0,0,0,0,0,0,0,0,0,0,null,null,null,null,null,null,null,null,null,null,0,null,null,null,null,null,null,null,0,0,0,0,0,0,0,0,0,0,0,null,null,null,{"$f":"IF(#REF!=\"\",0, IF(#REF!=\"-\",0,IF(#REF!>100%,1,0)))","v":{"$error":"#REF!"}},null,{"$f":"IF(#REF!=\"\",0, IF(#REF!=\"-\",0,IF(#REF!>100%,1,0)))","v":{"$error":"#REF!"}},{"$f":"IF(#REF!=\"\",0, IF(#REF!=\"-\",0,IF(#REF!>100%,1,0)))","v":{"$error":"#REF!"}},{"$f":"IF(#REF!=\"\",0, IF(#REF!=\"-\",0,IF(#REF!>100%,1,0)))","v":{"$error":"#REF!"}},null,null,null,{"$f":"CONCATENATE(#REF!,#REF!,#REF!)","v":{"$error":"#REF!"}},{"$error":"#REF!"},0,false,0,{"$f":"IF(#REF!=\"\",0,IF(#REF!=#REF!,1,0))","v":{"$error":"#REF!"}},null,null,null,null,null,"R1EBUCKNALL HOSPITAL","R1E74","BUCKNALL HOSPITAL","R1E74","BUCKNALL HOSPITAL","R1E",null,null,"The Royal London Hospital","9F RLH"]
[{"$error":"#N/A"},{"$error":"#N/A"},0,0,0,"","",0,0,0,0,0,0,0,0,0,0,0,null,null,null,null,null,null,null,null,null,null,0,null,null,null,null,null,null,null,0,0,0,0,0,0,0,0,0,0,0,null,null,null,{"$f":"IF(#REF!=\"\",0, IF(#REF!=\"-\",0,IF(#REF!>100%,1,0)))","v":{"$error":"#REF!"}},null,{"$f":"IF(#REF!=\"\",0, IF(#REF!=\"-\",0,IF(#REF!>100%,1,0)))","v":{"$error":"#REF!"}},{"$f":"IF(#REF!=\"\",0, IF(#REF!=\"-\",0,IF(#REF!>100%,1,0)))","v":{"$error":"#REF!"}},{"$f":"IF(#REF!=\"\",0, IF(#REF!=\"-\",0,IF(#REF!>100%,1,0)))","v":{"$error":"#REF!"}},null,null,null,{"$f":"CONCATENATE(#REF!,#REF!,#REF!)","v":{"$error":"#REF!"}},{"$error":"#REF!"},0,false,0,{"$f":"IF(#REF!=\"\",0,IF(#REF!=#REF!,1,0))","v":{"$error":"#REF!"}},null,null,null,null,null,"R1ECANNOCK CHASE HOSPITAL","R1E07","CANNOCK CHASE HOSPITAL","R1E07","CANNOCK CHASE HOSPITAL","R1E",null,null,"Whipps Cross University Hospital","AAU WXH"]
[{"$error":"#N/A"},{"$error":"#N/A"},0,0,0,"","",0,0,0,0,0,0,0,0,0,0,0,null,null,null,null,null,null,null,null,null,null,0,null,null,null,null,null,null,null,0,0,0,0,0,0,0,0,0,0,0,null,null,null,{"$f":"IF(#REF!=\"\",0, IF(#REF!=\"-\",0,IF(#REF!>100%,1,0)))","v":{"$error":"#REF!"}},null,{"$f":"IF(#REF!=\"\",0, IF(#REF!=\"-\",0,IF(#REF!>100%,1,0)))","v":{"$error":"#REF!"}},{"$f":"IF(#REF!=\"\",0, IF(#REF!=\"-\",0,IF(#REF!>100%,1,0)))","v":{"$error":"#REF!"}},{"$f":"IF(#REF!=\"\",0, IF(#REF!=\"-\",0,IF(#REF!>100%,1,0)))","v":{"$error":"#REF!"}},null,null,null,{"$f":"CONCATENATE(#REF!,#REF!,#REF!)","v":{"$error":"#REF!"}},{"$error":"#REF!"},0,false,0,{"$f":"IF(#REF!=\"\",0,IF(#REF!=#REF!,1,0))","v":{"$error":"#REF!"}},null,null,null,null,null,"R1ECHEADLE HOSPITAL","R1EE4","CHEADLE HOSPITAL","R1EE4","CHEADLE HOSPITAL","R1E",null,null,"Whipps Cross University Hospital","ACACIA"]
[{"$error":"#N/A"},{"$error":"#N/A"},0,0,0,"","",0,0,0,0,0,0,0,0,0,0,0,null,null,null,null,null,null,null,null,null,null,0,null,null,null,null,null,null,null,0,0,0,0,0,0,0,0,0,0,0,null,null,null,{"$f":"IF(#REF!=\"\",0, IF(#REF!=\"-\",0,IF(#REF!>100%,1,0)))","v":{"$error":"#REF!"}},null,{"$f":"IF(#REF!=\"\",0, IF(#REF!=\"-\",0,IF(#REF!>100%,1,0)))","v":{"$error":"#REF!"}},{"$f":"IF(#REF!=\"\",0, IF(#REF!=\"-\",0,IF(#REF!>100%,1,0)))","v":{"$error":"#REF!"}},{"$f":"IF(#REF!=\"\",0, IF(#REF!=\"-\",0,IF(#REF!>100%,1,0)))","v":{"$error":"#REF!"}},null,null,null,{"$f":"CONCATENATE(#REF!,#REF!,#REF!)","v":{"$error":"#REF!"}},{"$error":"#REF!"},0,false,0,{"$f":"IF(#REF!=\"\",0,IF(#REF!=#REF!,1,0))","v":{"$error":"#REF!"}},null,null,null,null,null,"R1EDR PARIKH AND PARTNER","R1E97","DR PARIKH AND PARTNER","R1E97","DR PARIKH AND PARTNER","R1E",null,null,"Whipps Cross University Hospital","ACORN"]
[{"$error":"#N/A"},{"$error":"#N/A"},0,0,0,"","",0,0,0,0,0,0,0,0,0,0,0,null,null,null,null,null,null,null,null,null,null,0,null,null,null,null,null,null,null,0,0,0,0,0,0,0,0,0,0,0,null,null,null,{"$f":"IF(#REF!=\"\",0, IF(#REF!=\"-\",0,IF(#REF!>100%,1,0)))","v":{"$error":"#REF!"}},null,{"$f":"IF(#REF!=\"\",0, IF(#REF!=\"-\",0,IF(#REF!>100%,1,0)))","v":{"$error":"#REF!"}},{"$f":"IF(#REF!=\"\",0, IF(#REF!=\"-\",0,IF(#REF!>100%,1,0)))","v":{"$error":"#REF!"}},{"$f":"IF(#REF!=\"\",0, IF(#REF!=\"-\",0,IF(#REF!>100%,1,0)))","v":{"$error":"#REF!"}},null,null,null,{"$f":"CONCATENATE(#REF!,#REF!,#REF!)","v":{"$error":"#REF!"}},{"$error":"#REF!"},0,false,0,{"$f":"IF(#REF!=\"\",0,IF(#REF!=#REF!,1,0))","v":{"$error":"#REF!"}},null,null,null,null,null,"R1EDRUG LINK","R1EA2","DRUG LINK","R1EA2","DRUG LINK","R1E",null,null,"Whipps Cross University Hospital","BIRCH"]
[{"$error":"#N/A"},{"$error":"#N/A"},0,0,0,"","",0,0,0,0,0,0,0,0,0,0,0,null,null,null,null,null,null,null,null,null,null,0,null,null,null,null,null,null,null,0,0,0,0,0,0,0,0,0,0,0,null,null,null,{"$f":"IF(#REF!=\"\",0, IF(#REF!=\"-\",0,IF(#REF!>100%,1,0)))","v":{"$error":"#REF!"}},null,{"$f":"IF(#REF!=\"\",0, IF(#REF!=\"-\",0,IF(#REF!>100%,1,0)))","v":{"$error":"#REF!"}},{"$f":"IF(#REF!=\"\",0, IF(#REF!=\"-\",0,IF(#REF!>100%,1,0)))","v":{"$error":"#REF!"}},{"$f":"IF(#REF!=\"\",0, IF(#REF!=\"-\",0,IF(#REF!>100%,1,0)))","v":{"$error":"#REF!"}},null,null,null,{"$f":"CONCATENATE(#REF!,#REF!,#REF!)","v":{"$error":"#REF!"}},{"$error":"#REF!"},0,false,0,{"$f":"IF(#REF!=\"\",0,IF(#REF!=#REF!,1,0))","v":{"$error":"#REF!"}},null,null,null,null,null,"R1EHAYWOOD HOSPITAL","R1E56","HAYWOOD HOSPITAL","R1E56","HAYWOOD HOSPITAL","R1E",null,null,"Whipps Cross University Hospital","Bracken"]
[{"$error":"#N/A"},{"$error":"#N/A"},0,0,0,"","",0,0,0,0,0,0,0,0,0,0,0,null,null,null,null,null,null,null,null,null,null,0,null,null,null,null,null,null,null,0,0,0,0,0,0,0,0,0,0,0,null,null,null,{"$f":"IF(#REF!=\"\",0, IF(#REF!=\"-\",0,IF(#REF!>100%,1,0)))","v":{"$error":"#REF!"}},null,{"$f":"IF(#REF!=\"\",0, IF(#REF!=\"-\",0,IF(#REF!>100%,1,0)))","v":{"$error":"#REF!"}},{"$f":"IF(#REF!=\"\",0, IF(#REF!=\"-\",0,IF(#REF!>100%,1,0)))","v":{"$error":"#REF!"}},{"$f":"IF(#REF!=\"\",0, IF(#REF!=\"-\",0,IF(#REF!>100%,1,0)))","v":{"$error":"#REF!"}},null,null,null,{"$f":"CONCATENATE(#REF!,#REF!,#REF!)","v":{"$error":"#REF!"}},{"$error":"#REF!"},0,false,0,{"$f":"IF(#REF!=\"\",0,IF(#REF!=#REF!,1,0))","v":{"$error":"#REF!"}},null,null,null,null,null,"R1EHILLTOP / ST MICHAELS","R1EA4","HILLTOP / ST MICHAELS","R1EA4","HILLTOP / ST MICHAELS","R1E",null,null,"Whipps Cross University Hospital","CEDAR"]
[{"$error":"#N/A"},{"$error":"#N/A"},0,0,0,"","",0,0,0,0,0,0,0,0,0,0,0,null,null,null,null,null,null,null,null,null,null,0,null,null,null,null,null,null,null,0,0,0,0,0,0,0,0,0,0,0,null,null,null,{"$f":"IF(#REF!=\"\",0, IF(#REF!=\"-\",0,IF(#REF!>100%,1,0)))","v":{"$error":"#REF!"}},null,{"$f":"IF(#REF!=\"\",0, IF(#REF!=\"-\",0,IF(#REF!>100%,1,0)))","v":{"$error":"#REF!"}},{"$f":"IF(#REF!=\"\",0, IF(#REF!=\"-\",0,IF(#REF!>100%,1,0)))","v":{"$error":"#REF!"}},{"$f":"IF(#REF!=\"\",0, IF(#REF!=\"-\",0,IF(#REF!>100%,1,0)))","v":{"$error":"#REF!"}},null,null,null,{"$f":"CONCATENATE(#REF!,#REF!,#REF!)","v":{"$error":"#REF!"}},{"$error":"#REF!"},0,false,0,{"$f":"IF(#REF!=\"\",0,IF(#REF!=#REF!,1,0))","v":{"$error":"#REF!"}},null,null,null,null,null,"R1EKEELE UNIVERSITY","R1ED4","KEELE UNIVERSITY","R1ED4","KEELE UNIVERSITY","R1E",null,null,"Whipps Cross University Hospital","CHESTNUT"]
[{"$error":"#N/A"},{"$error":"#N/A"},0,0,0,"","",0,0,0,0,0,0,0,0,0,0,0,null,null,null,null,null,null,null,null,null,null,0,null,null,null,null,null,null,null,0,0,0,0,0,0,0,0,0,0,0,null,null,null,{"$f":"IF(#REF!=\"\",0, IF(#REF!=\"-\",0,IF(#REF!>100%,1,0)))","v":{"$error":"#REF!"}},null,{"$f":"IF(#REF!=\"\",0, IF(#REF!=\"-\",0,IF(#REF!>100%,1,0)))","v":{"$error":"#REF!"}},{"$f":"IF(#REF!=\"\",0, IF(#REF!=\"-\",0,IF(#REF!>100%,1,0)))","v":{"$error":"#REF!"}},{"$f":"IF(#REF!=\"\",0, IF(#REF!=\"-\",0,IF(#REF!>100%,1,0)))","v":{"$error":"#REF!"}},null,null,null,{"$f":"CONCATENATE(#REF!,#REF!,#REF!)","v":{"$error":"#REF!"}},{"$error":"#REF!"},0,false,0,{"$f":"IF(#REF!=\"\",0,IF(#REF!=#REF!,1,0))","v":{"$error":"#REF!"}},null,null,null,null,null,"R1ELEEK MOORLANDS HOSPITAL","R1EE3","LEEK MOORLANDS HOSPITAL","R1EE3","LEEK MOORLANDS HOSPITAL","R1E",null,null,"Whipps Cross University Hospital","CONIFER"]
[{"$error":"#N/A"},{"$error":"#N/A"},0,0,0,"","",0,0,0,0,0,0,0,0,0,0,0,null,null,null,null,null,null,null,null,null,null,0,null,null,null,null,null,null,null,0,0,0,0,0,0,0,0,0,0,0,null,null,null,{"$f":"IF(#REF!=\"\",0, IF(#REF!=\"-\",0,IF(#REF!>100%,1,0)))","v":{"$error":"#REF!"}},null,{"$f":"IF(#REF!=\"\",0, IF(#REF!=\"-\",0,IF(#REF!>100%,1,0)))","v":{"$error":"#REF!"}},{"$f":"IF(#REF!=\"\",0, IF(#REF!=\"-\",0,IF(#REF!>100%,1,0)))","v":{"$error":"#REF!"}},{"$f":"IF(#REF!=\"\",0, IF(#REF!=\"-\",0,IF(#REF!>100%,1,0)))","v":{"$error":"#REF!"}},null,null,null,{"$f":"CONCATENATE(#REF!,#REF!,#REF!)","v":{"$error":"#REF!"}},{"$error":"#REF!"},0,false,0,{"$f":"IF(#REF!=\"\",0,IF(#REF!=#REF!,1,0))","v":{"$error":"#REF!"}},null,null,null,null,null,"R1ELONGTON HOSPITAL","R1E75","LONGTON HOSPITAL","R1E75","LONGTON HOSPITAL","R1E",null,null,"Whipps Cross University Hospital","CURIE"]
[{"$error":"#N/A"},{"$error":"#N/A"},0,0,0,"","",0,0,0,0,0,0,0,0,0,0,0,null,null,null,null,null,null,null,null,null,null,0,null,null,null,null,null,null,null,0,0,0,0,0,0,0,0,0,0,0,null,null,null,{"$f":"IF(#REF!=\"\",0, IF(#REF!=\"-\",0,IF(#REF!>100%,1,0)))","v":{"$error":"#REF!"}},null,{"$f":"IF(#REF!=\"\",0, IF(#REF!=\"-\",0,IF(#REF!>100%,1,0)))","v":{"$error":"#REF!"}},{"$f":"IF(#REF!=\"\",0, IF(#REF!=\"-\",0,IF(#REF!>100%,1,0)))","v":{"$error":"#REF!"}},{"$f":"IF(#REF!=\"\",0, IF(#REF!=\"-\",0,IF(#REF!>100%,1,0)))","v":{"$error":"#REF!"}},null,null,null,{"$f":"CONCATENATE(#REF!,#REF!,#REF!)","v":{"$error":"#REF!"}},{"$error":"#REF!"},0,false,0,{"$f":"IF(#REF!=\"\",0,IF(#REF!=#REF!,1,0))","v":{"$error":"#REF!"}},null,null,null,null,null,"R1EMAIN BUILDING CITY GENERAL HOSPITAL","R1EH2","MAIN BUILDING CITY GENERAL HOSPITAL","R1EH2","MAIN BUILDING CITY GENERAL HOSPITAL","R1E",null,null,"Whipps Cross University Hospital","DELIVERY SUITE WXH"]
[{"$error":"#N/A"},{"$error":"#N/A"},0,0,0,"","",0,0,0,0,0,0,0,0,0,0,0,null,null,null,null,null,null,null,null,null,null,0,null,null,null,null,null,null,null,0,0,0,0,0,0,0,0,0,0,0,null,null,null,{"$f":"IF(#REF!=\"\",0, IF(#REF!=\"-\",0,IF(#REF!>100%,1,0)))","v":{"$error":"#REF!"}},null,{"$f":"IF(#REF!=\"\",0, IF(#REF!=\"-\",0,IF(#REF!>100%,1,0)))","v":{"$error":"#REF!"}},{"$f":"IF(#REF!=\"\",0, IF(#REF!=\"-\",0,IF(#REF!>100%,1,0)))","v":{"$error":"#REF!"}},{"$f":"IF(#REF!=\"\",0, IF(#REF!=\"-\",0,IF(#REF!>100%,1,0)))","v":{"$error":"#REF!"}},null,null,null,{"$f":"CONCATENATE(#REF!,#REF!,#REF!)","v":{"$error":"#REF!"}},{"$error":"#REF!"},0,false,0,{"$f":"IF(#REF!=\"\",0,IF(#REF!=#REF!,1,0))","v":{"$error":"#REF!"}},null,null,null,null,null,"R1ENORTH STAFFS URGENT CARE","R1E89","NORTH STAFFS URGENT CARE","R1E89","NORTH STAFFS URGENT CARE","R1E",null,null,"Whipps Cross University Hospital","ELIZABETH"]
[{"$error":"#N/A"},{"$error":"#N/A"},0,0,0,"","",0,0,0,0,0,0,0,0,0,0,0,null,null,null,null,null,null,null,null,null,null,0,null,null,null,null,null,null,null,0,0,0,0,0,0,0,0,0,0,0,null,null,null,{"$f":"IF(#REF!=\"\",0, IF(#REF!=\"-\",0,IF(#REF!>100%,1,0)))","v":{"$error":"#REF!"}},null,{"$f":"IF(#REF!=\"\",0, IF(#REF!=\"-\",0,IF(#REF!>100%,1,0)))","v":{"$error":"#REF!"}},{"$f":"IF(#REF!=\"\",0, IF(#REF!=\"-\",0,IF(#REF!>100%,1,0)))","v":{"$error":"#REF!"}},{"$f":"IF(#REF!=\"\",0, IF(#REF!=\"-\",0,IF(#REF!>100%,1,0)))","v":{"$error":"#REF!"}},null,null,null,{"$f":"CONCATENATE(#REF!,#REF!,#REF!)","v":{"$error":"#REF!"}},{"$error":"#REF!"},0,false,0,{"$f":"IF(#REF!=\"\",0,IF(#REF!=#REF!,1,0))","v":{"$error":"#REF!"}},null,null,null,null,null,"R1EOAKWOOD","R1EH1","OAKWOOD","R1EH1","OAKWOOD","R1E",null,null,"Whipps Cross University Hospital","FARADAY"]
[{"$error":"#N/A"},{"$error":"#N/A"},0,0,0,"","",0,0,0,0,0,0,0,0,0,0,0,null,null,null,null,null,null,null,null,null,null,0,null,null,null,null,null,null,null,0,0,0,0,0,0,0,0,0,0,0,null,null,null,{"$f":"IF(#REF!=\"\",0, IF(#REF!=\"-\",0,IF(#REF!>100%,1,0)))","v":{"$error":"#REF!"}},null,{"$f":"IF(#REF!=\"\",0, IF(#REF!=\"-\",0,IF(#REF!>100%,1,0)))","v":{"$error":"#REF!"}},{"$f":"IF(#REF!=\"\",0, IF(#REF!=\"-\",0,IF(#REF!>100%,1,0)))","v":{"$error":"#REF!"}},{"$f":"IF(#REF!=\"\",0, IF(#REF!=\"-\",0,IF(#REF!>100%,1,0)))","v":{"$error":"#REF!"}},null,null,null,{"$f":"CONCATENATE(#REF!,#REF!,#REF!)","v":{"$error":"#REF!"}},{"$error":"#REF!"},0,false,0,{"$f":"IF(#REF!=\"\",0,IF(#REF!=#REF!,1,0))","v":{"$error":"#REF!"}},null,null,null,null,null,"R1EREHABILITATION MEDICINE","R1EL9","REHABILITATION MEDICINE","R1EL9","REHABILITATION MEDICINE","R1E",null,null,"Whipps Cross University Hospital","Frail Elderly WXH"]
[{"$error":"#N/A"},{"$error":"#N/A"},0,0,0,"","",0,0,0,0,0,0,0,0,0,0,0,null,null,null,null,null,null,null,null,null,null,0,null,null,null,null,null,null,null,0,0,0,0,0,0,0,0,0,0,0,null,null,null,{"$f":"IF(#REF!=\"\",0, IF(#REF!=\"-\",0,IF(#REF!>100%,1,0)))","v":{"$error":"#REF!"}},null,{"$f":"IF(#REF!=\"\",0, IF(#REF!=\"-\",0,IF(#REF!>100%,1,0)))","v":{"$error":"#REF!"}},{"$f":"IF(#REF!=\"\",0, IF(#REF!=\"-\",0,IF(#REF!>100%,1,0)))","v":{"$error":"#REF!"}},{"$f":"IF(#REF!=\"\",0, IF(#REF!=\"-\",0,IF(#REF!>100%,1,0)))","v":{"$error":"#REF!"}},null,null,null,{"$f":"CONCATENATE(#REF!,#REF!,#REF!)","v":{"$error":"#REF!"}},{"$error":"#REF!"},0,false,0,{"$f":"IF(#REF!=\"\",0,IF(#REF!=#REF!,1,0))","v":{"$error":"#REF!"}},null,null,null,null,null,"R1ESAMUEL JOHNSON COMMUNITY HOSPITAL","R1E28","SAMUEL JOHNSON COMMUNITY HOSPITAL","R1E28","SAMUEL JOHNSON COMMUNITY HOSPITAL","R1E",null,null,"Whipps Cross University Hospital","ICU WXH"]
[{"$error":"#N/A"},{"$error":"#N/A"},0,0,0,"","",0,0,0,0,0,0,0,0,0,0,0,null,null,null,null,null,null,null,null,null,null,0,null,null,null,null,null,null,null,0,0,0,0,0,0,0,0,0,0,0,null,null,null,{"$f":"IF(#REF!=\"\",0, IF(#REF!=\"-\",0,IF(#REF!>100%,1,0)))","v":{"$error":"#REF!"}},null,{"$f":"IF(#REF!=\"\",0, IF(#REF!=\"-\",0,IF(#REF!>100%,1,0)))","v":{"$error":"#REF!"}},{"$f":"IF(#REF!=\"\",0, IF(#REF!=\"-\",0,IF(#REF!>100%,1,0)))","v":{"$error":"#REF!"}},{"$f":"IF(#REF!=\"\",0, IF(#REF!=\"-\",0,IF(#REF!>100%,1,0)))","v":{"$error":"#REF!"}},null,null,null,{"$f":"CONCATENATE(#REF!,#REF!,#REF!)","v":{"$error":"#REF!"}},{"$error":"#REF!"},0,false,0,{"$f":"IF(#REF!=\"\",0,IF(#REF!=#REF!,1,0))","v":{"$error":"#REF!"}},null,null,null,null,null,"R1ESIR ROBERT PEEL HOSPITAL","R1E30","SIR ROBERT PEEL HOSPITAL","R1E30","SIR ROBERT PEEL HOSPITAL","R1E",null,null,"Whipps Cross University Hospital","MARGARET"]
[{"$error":"#N/A"},{"$error":"#N/A"},0,0,0,"","",0,0,0,0,0,0,0,0,0,0,0,null,null,null,null,null,null,null,null,null,null,0,null,null,null,null,null,null,null,0,0,0,0,0,0,0,0,0,0,0,null,null,null,{"$f":"IF(#REF!=\"\",0, IF(#REF!=\"-\",0,IF(#REF!>100%,1,0)))","v":{"$error":"#REF!"}},null,{"$f":"IF(#REF!=\"\",0, IF(#REF!=\"-\",0,IF(#REF!>100%,1,0)))","v":{"$error":"#REF!"}},{"$f":"IF(#REF!=\"\",0, IF(#REF!=\"-\",0,IF(#REF!>100%,1,0)))","v":{"$error":"#REF!"}},{"$f":"IF(#REF!=\"\",0, IF(#REF!=\"-\",0,IF(#REF!>100%,1,0)))","v":{"$error":"#REF!"}},null,null,null,{"$f":"CONCATENATE(#REF!,#REF!,#REF!)","v":{"$error":"#REF!"}},{"$error":"#REF!"},0,false,0,{"$f":"IF(#REF!=\"\",0,IF(#REF!=#REF!,1,0))","v":{"$error":"#REF!"}},null,null,null,null,null,"R1EST MICHAEL'S HOSPITAL","R1E33","ST MICHAEL'S HOSPITAL","R1E33","ST MICHAEL'S HOSPITAL","R1E",null,null,"Whipps Cross University Hospital","Mary"]
[{"$error":"#N/A"},{"$error":"#N/A"},0,0,0,"","",0,0,0,0,0,0,0,0,0,0,0,null,null,null,null,null,null,null,null,null,null,0,null,null,null,null,null,null,null,0,0,0,0,0,0,0,0,0,0,0,null,null,null,{"$f":"IF(#REF!=\"\",0, IF(#REF!=\"-\",0,IF(#REF!>100%,1,0)))","v":{"$error":"#REF!"}},null,{"$f":"IF(#REF!=\"\",0, IF(#REF!=\"-\",0,IF(#REF!>100%,1,0)))","v":{"$error":"#REF!"}},{"$f":"IF(#REF!=\"\",0, IF(#REF!=\"-\",0,IF(#REF!>100%,1,0)))","v":{"$error":"#REF!"}},{"$f":"IF(#REF!=\"\",0, IF(#REF!=\"-\",0,IF(#REF!>100%,1,0)))","v":{"$error":"#REF!"}},null,null,null,{"$f":"CONCATENATE(#REF!,#REF!,#REF!)","v":{"$error":"#REF!"}},{"$error":"#REF!"},0,false,0,{"$f":"IF(#REF!=\"\",0,IF(#REF!=#REF!,1,0))","v":{"$error":"#REF!"}},null,null,null,null,null,"R1ESTOKE SPEAKS OUT","R1EC4","STOKE SPEAKS OUT","R1EC4","STOKE SPEAKS OUT","R1E",null,null,"Whipps Cross University Hospital","MIDWIFERY WXH"]
[{"$error":"#N/A"},{"$error":"#N/A"},0,0,0,"","",0,0,0,0,0,0,0,0,0,0,0,null,null,null,null,null,null,null,null,null,null,0,null,null,null,null,null,null,null,0,0,0,0,0,0,0,0,0,0,0,null,null,null,{"$f":"IF(#REF!=\"\",0, IF(#REF!=\"-\",0,IF(#REF!>100%,1,0)))","v":{"$error":"#REF!"}},null,{"$f":"IF(#REF!=\"\",0, IF(#REF!=\"-\",0,IF(#REF!>100%,1,0)))","v":{"$error":"#REF!"}},{"$f":"IF(#REF!=\"\",0, IF(#REF!=\"-\",0,IF(#REF!>100%,1,0)))","v":{"$error":"#REF!"}},{"$f":"IF(#REF!=\"\",0, IF(#REF!=\"-\",0,IF(#REF!>100%,1,0)))","v":{"$error":"#REF!"}},null,null,null,{"$f":"CONCATENATE(#REF!,#REF!,#REF!)","v":{"$error":"#REF!"}},{"$error":"#REF!"},0,false,0,{"$f":"IF(#REF!=\"\",0,IF(#REF!=#REF!,1,0))","v":{"$error":"#REF!"}},null,null,null,null,null,"R1ETHE MEADOWS RETIREMENT HOME","R1ED5","THE MEADOWS RETIREMENT HOME","R1ED5","THE MEADOWS RETIREMENT HOME","R1E",null,null,"Whipps Cross University Hospital","MULBERRY"]
[{"$error":"#N/A"},{"$error":"#N/A"},0,0,0,"","",0,0,0,0,0,0,0,0,0,0,0,null,null,null,null,null,null,null,null,null,null,0,null,null,null,null,null,null,null,0,0,0,0,0,0,0,0,0,0,0,null,null,null,{"$f":"IF(#REF!=\"\",0, IF(#REF!=\"-\",0,IF(#REF!>100%,1,0)))","v":{"$error":"#REF!"}},null,{"$f":"IF(#REF!=\"\",0, IF(#REF!=\"-\",0,IF(#REF!>100%,1,0)))","v":{"$error":"#REF!"}},{"$f":"IF(#REF!=\"\",0, IF(#REF!=\"-\",0,IF(#REF!>100%,1,0)))","v":{"$error":"#REF!"}},{"$f":"IF(#REF!=\"\",0, IF(#REF!=\"-\",0,IF(#REF!>100%,1,0)))","v":{"$error":"#REF!"}},null,null,null,{"$f":"CONCATENATE(#REF!,#REF!,#REF!)","v":{"$error":"#REF!"}},{"$error":"#REF!"},0,false,0,{"$f":"IF(#REF!=\"\",0,IF(#REF!=#REF!,1,0))","v":{"$error":"#REF!"}},null,null,null,null,null,"R1EUNIVERSITY HOSPITAL OF NORTH STAFFS","R1E58","UNIVERSITY HOSPITAL OF NORTH STAFFS","R1E58","UNIVERSITY HOSPITAL OF NORTH STAFFS","R1E",null,null,"Whipps Cross University Hospital","NEONATAL WXH"]
[{"$error":"#N/A"},{"$error":"#N/A"},0,0,0,"","",0,0,0,0,0,0,0,0,0,0,0,null,null,null,null,null,null,null,null,null,null,0,null,null,null,null,null,null,null,0,0,0,0,0,0,0,0,0,0,0,null,null,null,{"$f":"IF(#REF!=\"\",0, IF(#REF!=\"-\",0,IF(#REF!>100%,1,0)))","v":{"$error":"#REF!"}},null,{"$f":"IF(#REF!=\"\",0, IF(#REF!=\"-\",0,IF(#REF!>100%,1,0)))","v":{"$error":"#REF!"}},{"$f":"IF(#REF!=\"\",0, IF(#REF!=\"-\",0,IF(#REF!>100%,1,0)))","v":{"$error":"#REF!"}},{"$f":"IF(#REF!=\"\",0, IF(#REF!=\"-\",0,IF(#REF!>100%,1,0)))","v":{"$error":"#REF!"}},null,null,null,{"$f":"CONCATENATE(#REF!,#REF!,#REF!)","v":{"$error":"#REF!"}},{"$error":"#REF!"},0,false,0,{"$f":"IF(#REF!=\"\",0,IF(#REF!=#REF!,1,0))","v":{"$error":"#REF!"}},null,null,null,null,null,"R1EWHITFIELD UNIT","R1EL4","WHITFIELD UNIT","R1EL4","WHITFIELD UNIT","R1E",null,null,"Whipps Cross University Hospital","NIGHTINGALE"]
[{"$error":"#N/A"},{"$error":"#N/A"},0,0,0,"","",0,0,0,0,0,0,0,0,0,0,0,null,null,null,null,null,null,null,null,null,null,0,null,null,null,null,null,null,null,0,0,0,0,0,0,0,0,0,0,0,null,null,null,{"$f":"IF(#REF!=\"\",0, IF(#REF!=\"-\",0,IF(#REF!>100%,1,0)))","v":{"$error":"#REF!"}},null,{"$f":"IF(#REF!=\"\",0, IF(#REF!=\"-\",0,IF(#REF!>100%,1,0)))","v":{"$error":"#REF!"}},{"$f":"IF(#REF!=\"\",0, IF(#REF!=\"-\",0,IF(#REF!>100%,1,0)))","v":{"$error":"#REF!"}},{"$f":"IF(#REF!=\"\",0, IF(#REF!=\"-\",0,IF(#REF!>100%,1,0)))","v":{"$error":"#REF!"}},null,null,null,{"$f":"CONCATENATE(#REF!,#REF!,#REF!)","v":{"$error":"#REF!"}},{"$error":"#REF!"},0,false,0,{"$f":"IF(#REF!=\"\",0,IF(#REF!=#REF!,1,0))","v":{"$error":"#REF!"}},null,null,null,null,null,"R1FST MARY'S HOSPITAL","R1F01","ST MARY'S HOSPITAL","R1F01","ST MARY'S HOSPITAL","R1F",null,null,"Whipps Cross University Hospital","PEACE"]
[{"$error":"#N/A"},{"$error":"#N/A"},0,0,0,"","",0,0,0,0,0,0,0,0,0,0,0,null,null,null,null,null,null,null,null,null,null,0,null,null,null,null,null,null,null,0,0,0,0,0,0,0,0,0,0,0,null,null,null,{"$f":"IF(#REF!=\"\",0, IF(#REF!=\"-\",0,IF(#REF!>100%,1,0)))","v":{"$error":"#REF!"}},null,{"$f":"IF(#REF!=\"\",0, IF(#REF!=\"-\",0,IF(#REF!>100%,1,0)))","v":{"$error":"#REF!"}},{"$f":"IF(#REF!=\"\",0, IF(#REF!=\"-\",0,IF(#REF!>100%,1,0)))","v":{"$error":"#REF!"}},{"$f":"IF(#REF!=\"\",0, IF(#REF!=\"-\",0,IF(#REF!>100%,1,0)))","v":{"$error":"#REF!"}},null,null,null,{"$f":"CONCATENATE(#REF!,#REF!,#REF!)","v":{"$error":"#REF!"}},{"$error":"#REF!"},0,false,0,{"$f":"IF(#REF!=\"\",0,IF(#REF!=#REF!,1,0))","v":{"$error":"#REF!"}},null,null,null,null,null,"R1GASHBURTON AND BUCKFASTLEIGH HOSPITAL","R1G09","ASHBURTON AND BUCKFASTLEIGH HOSPITAL","R1G09","ASHBURTON AND BUCKFASTLEIGH HOSPITAL","R1G",null,null,"Whipps Cross University Hospital","POPLAR"]
[{"$error":"#N/A"},{"$error":"#N/A"},0,0,0,"","",0,0,0,0,0,0,0,0,0,0,0,null,null,null,null,null,null,null,null,null,null,0,null,null,null,null,null,null,null,0,0,0,0,0,0,0,0,0,0,0,null,null,null,{"$f":"IF(#REF!=\"\",0, IF(#REF!=\"-\",0,IF(#REF!>100%,1,0)))","v":{"$error":"#REF!"}},null,{"$f":"IF(#REF!=\"\",0, IF(#REF!=\"-\",0,IF(#REF!>100%,1,0)))","v":{"$error":"#REF!"}},{"$f":"IF(#REF!=\"\",0, IF(#REF!=\"-\",0,IF(#REF!>100%,1,0)))","v":{"$error":"#REF!"}},{"$f":"IF(#REF!=\"\",0, IF(#REF!=\"-\",0,IF(#REF!>100%,1,0)))","v":{"$error":"#REF!"}},null,null,null,{"$f":"CONCATENATE(#REF!,#REF!,#REF!)","v":{"$error":"#REF!"}},{"$error":"#REF!"},0,false,0,{"$f":"IF(#REF!=\"\",0,IF(#REF!=#REF!,1,0))","v":{"$error":"#REF!"}},null,null,null,null,null,"R1GBOVEY TRACEY HOSPITAL","R1G54","BOVEY TRACEY HOSPITAL","R1G54","BOVEY TRACEY HOSPITAL","R1G",null,null,"Whipps Cross University Hospital","PRIMROSE"]
[{"$error":"#N/A"},{"$error":"#N/A"},0,0,0,"","",0,0,0,0,0,0,0,0,0,0,0,null,null,null,null,null,null,null,null,null,null,0,null,null,null,null,null,null,null,0,0,0,0,0,0,0,0,0,0,0,null,null,null,{"$f":"IF(#REF!=\"\",0, IF(#REF!=\"-\",0,IF(#REF!>100%,1,0)))","v":{"$error":"#REF!"}},null,{"$f":"IF(#REF!=\"\",0, IF(#REF!=\"-\",0,IF(#REF!>100%,1,0)))","v":{"$error":"#REF!"}},{"$f":"IF(#REF!=\"\",0, IF(#REF!=\"-\",0,IF(#REF!>100%,1,0)))","v":{"$error":"#REF!"}},{"$f":"IF(#REF!=\"\",0, IF(#REF!=\"-\",0,IF(#REF!>100%,1,0)))","v":{"$error":"#REF!"}},null,null,null,{"$f":"CONCATENATE(#REF!,#REF!,#REF!)","v":{"$error":"#REF!"}},{"$error":"#REF!"},0,false,0,{"$f":"IF(#REF!=\"\",0,IF(#REF!=#REF!,1,0))","v":{"$error":"#REF!"}},null,null,null,null,null,{"$f":"CONCATENATE(LEFT(BS151, 3),BT151)","v":"R1GBRISEHAM UNIT"},"R1G06","BRISEHAM UNIT","R1G06","BRISEHAM UNIT","R1G",null,null,"Whipps Cross University Hospital","ROWAN"]
[{"$error":"#N/A"},{"$error":"#N/A"},0,0,0,"","",0,0,0,0,0,0,0,0,0,0,0,null,null,null,null,null,null,null,null,null,null,0,null,null,null,null,null,null,null,0,0,0,0,0,0,0,0,0,0,0,null,null,null,{"$f":"IF(#REF!=\"\",0, IF(#REF!=\"-\",0,IF(#REF!>100%,1,0)))","v":{"$error":"#REF!"}},null,{"$f":"IF(#REF!=\"\",0, IF(#REF!=\"-\",0,IF(#REF!>100%,1,0)))","v":{"$error":"#REF!"}},{"$f":"IF(#REF!=\"\",0, IF(#REF!=\"-\",0,IF(#REF!>100%,1,0)))","v":{"$error":"#REF!"}},{"$f":"IF(#REF!=\"\",0, IF(#REF!=\"-\",0,IF(#REF!>100%,1,0)))","v":{"$error":"#REF!"}},null,null,null,{"$f":"CONCATENATE(#REF!,#REF!,#REF!)","v":{"$error":"#REF!"}},{"$f":"IF(BG152=\"\",\"\",(IF(COUNTIF($BG$46:$BG$244,BG152)>1,1,0))=1)","v":{"$error":"#REF!"}},0,false,0,{"$f":"IF(#REF!=\"\",0,IF(#REF!=#REF!,1,0))","v":{"$error":"#REF!"}},null,null,null,null,null,"R1GBRIXHAM CARERS","R1G65","BRIXHAM CARERS","R1G65","BRIXHAM CARERS","R1G",null,null,"Whipps Cross University Hospital","SAGE"]
[{"$error":"#N/A"},{"$error":"#N/A"},0,0,0,"","",0,0,0,0,0,0,0,0,0,0,0,null,null,null,null,null,null,null,null,null,null,0,null,null,null,null,null,null,null,0,0,0,0,0,0,0,0,0,0,0,null,null,null,{"$f":"IF(#REF!=\"\",0, IF(#REF!=\"-\",0,IF(#REF!>100%,1,0)))","v":{"$error":"#REF!"}},null,{"$f":"IF(#REF!=\"\",0, IF(#REF!=\"-\",0,IF(#REF!>100%,1,0)))","v":{"$error":"#REF!"}},{"$f":"IF(#REF!=\"\",0, IF(#REF!=\"-\",0,IF(#REF!>100%,1,0)))","v":{"$error":"#REF!"}},{"$f":"IF(#REF!=\"\",0, IF(#REF!=\"-\",0,IF(#REF!>100%,1,0)))","v":{"$error":"#REF!"}},null,null,null,{"$f":"CONCATENATE(#REF!,#REF!,#REF!)","v":{"$error":"#REF!"}},{"$error":"#REF!"},0,false,0,{"$f":"IF(#REF!=\"\",0,IF(#REF!=#REF!,1,0))","v":{"$error":"#REF!"}},null,null,null,null,null,"R1GBRIXHAM HOSPITAL","R1G02","BRIXHAM HOSPITAL","R1G02","BRIXHAM HOSPITAL","R1G",null,null,"Whipps Cross University Hospital","SYCAMORE"]
[{"$error":"#N/A"},{"$error":"#N/A"},0,0,0,"","",0,0,0,0,0,0,0,0,0,0,0,null,null,null,null,null,null,null,null,null,null,0,null,null,null,null,null,null,null,0,0,0,0,0,0,0,0,0,0,0,null,null,null,{"$f":"IF(#REF!=\"\",0, IF(#REF!=\"-\",0,IF(#REF!>100%,1,0)))","v":{"$error":"#REF!"}},null,{"$f":"IF(#REF!=\"\",0, IF(#REF!=\"-\",0,IF(#REF!>100%,1,0)))","v":{"$error":"#REF!"}},{"$f":"IF(#REF!=\"\",0, IF(#REF!=\"-\",0,IF(#REF!>100%,1,0)))","v":{"$error":"#REF!"}},{"$f":"IF(#REF!=\"\",0, IF(#REF!=\"-\",0,IF(#REF!>100%,1,0)))","v":{"$error":"#REF!"}},null,null,null,{"$f":"CONCATENATE(#REF!,#REF!,#REF!)","v":{"$error":"#REF!"}},{"$error":"#REF!"},0,false,0,{"$f":"IF(#REF!=\"\",0,IF(#REF!=#REF!,1,0))","v":{"$error":"#REF!"}},null,null,null,null,null,"R1GBRIXHAM MIU","R1G66","BRIXHAM MIU","R1G66","BRIXHAM MIU","R1G",null,null,"Whipps Cross University Hospital","SYRINGA"]
[{"$error":"#N/A"},{"$error":"#N/A"},0,0,0,"","",0,0,0,0,0,0,0,0,0,0,0,null,null,null,null,null,null,null,null,null,null,0,null,null,null,null,null,null,null,0,0,0,0,0,0,0,0,0,0,0,null,null,null,{"$f":"IF(#REF!=\"\",0, IF(#REF!=\"-\",0,IF(#REF!>100%,1,0)))","v":{"$error":"#REF!"}},null,{"$f":"IF(#REF!=\"\",0, IF(#REF!=\"-\",0,IF(#REF!>100%,1,0)))","v":{"$error":"#REF!"}},{"$f":"IF(#REF!=\"\",0, IF(#REF!=\"-\",0,IF(#REF!>100%,1,0)))","v":{"$error":"#REF!"}},{"$f":"IF(#REF!=\"\",0, IF(#REF!=\"-\",0,IF(#REF!>100%,1,0)))","v":{"$error":"#REF!"}},null,null,null,{"$f":"CONCATENATE(#REF!,#REF!,#REF!)","v":{"$error":"#REF!"}},{"$error":"#REF!"},0,false,0,{"$f":"IF(#REF!=\"\",0,IF(#REF!=#REF!,1,0))","v":{"$error":"#REF!"}},null,null,null,null,null,"R1GCHADWELL OPMH","R1G68","CHADWELL OPMH","R1G68","CHADWELL OPMH","R1G",null,null,"Whipps Cross University Hospital","VICTORY"]
[{"$error":"#N/A"},{"$error":"#N/A"},0,0,0,"","",0,0,0,0,0,0,0,0,0,0,0,null,null,null,null,null,null,null,null,null,null,0,null,null,null,null,null,null,null,0,0,0,0,0,0,0,0,0,0,0,null,null,null,{"$f":"IF(#REF!=\"\",0, IF(#REF!=\"-\",0,IF(#REF!>100%,1,0)))","v":{"$error":"#REF!"}},null,{"$f":"IF(#REF!=\"\",0, IF(#REF!=\"-\",0,IF(#REF!>100%,1,0)))","v":{"$error":"#REF!"}},{"$f":"IF(#REF!=\"\",0, IF(#REF!=\"-\",0,IF(#REF!>100%,1,0)))","v":{"$error":"#REF!"}},{"$f":"IF(#REF!=\"\",0, IF(#REF!=\"-\",0,IF(#REF!>100%,1,0)))","v":{"$error":"#REF!"}},null,null,null,{"$f":"CONCATENATE(#REF!,#REF!,#REF!)","v":{"$error":"#REF!"}},{"$error":"#REF!"},0,false,0,{"$f":"IF(#REF!=\"\",0,IF(#REF!=#REF!,1,0))","v":{"$error":"#REF!"}},null,null,null,null,null,"R1GDARTMOUTH HOSPITAL","R1G10","DARTMOUTH HOSPITAL","R1G10","DARTMOUTH HOSPITAL","R1G",null,null,"BASILDON UNIVERSITY HOSPITAL","AMU East"]
[{"$error":"#N/A"},{"$error":"#N/A"},0,0,0,"","",0,0,0,0,0,0,0,0,0,0,0,null,null,null,null,null,null,null,null,null,null,0,null,null,null,null,null,null,null,0,0,0,0,0,0,0,0,0,0,0,null,null,null,{"$f":"IF(#REF!=\"\",0, IF(#REF!=\"-\",0,IF(#REF!>100%,1,0)))","v":{"$error":"#REF!"}},null,{"$f":"IF(#REF!=\"\",0, IF(#REF!=\"-\",0,IF(#REF!>100%,1,0)))","v":{"$error":"#REF!"}},{"$f":"IF(#REF!=\"\",0, IF(#REF!=\"-\",0,IF(#REF!>100%,1,0)))","v":{"$error":"#REF!"}},{"$f":"IF(#REF!=\"\",0, IF(#REF!=\"-\",0,IF(#REF!>100%,1,0)))","v":{"$error":"#REF!"}},null,null,null,{"$f":"CONCATENATE(#REF!,#REF!,#REF!)","v":{"$error":"#REF!"}},{"$error":"#REF!"},0,false,0,{"$f":"IF(#REF!=\"\",0,IF(#REF!=#REF!,1,0))","v":{"$error":"#REF!"}},null,null,null,null,null,"R1GDAWLISH HOSPITAL","R1G11","DAWLISH HOSPITAL","R1G11","DAWLISH HOSPITAL","R1G",null,null,"BASILDON UNIVERSITY HOSPITAL","AMU west"]
[{"$error":"#N/A"},{"$error":"#N/A"},0,0,0,"","",0,0,0,0,0,0,0,0,0,0,0,null,null,null,null,null,null,null,null,null,null,0,null,null,null,null,null,null,null,0,0,0,0,0,0,0,0,0,0,0,null,null,null,{"$f":"IF(#REF!=\"\",0, IF(#REF!=\"-\",0,IF(#REF!>100%,1,0)))","v":{"$error":"#REF!"}},null,{"$f":"IF(#REF!=\"\",0, IF(#REF!=\"-\",0,IF(#REF!>100%,1,0)))","v":{"$error":"#REF!"}},{"$f":"IF(#REF!=\"\",0, IF(#REF!=\"-\",0,IF(#REF!>100%,1,0)))","v":{"$error":"#REF!"}},{"$f":"IF(#REF!=\"\",0, IF(#REF!=\"-\",0,IF(#REF!>100%,1,0)))","v":{"$error":"#REF!"}},null,null,null,{"$f":"CONCATENATE(#REF!,#REF!,#REF!)","v":{"$error":"#REF!"}},{"$error":"#REF!"},0,false,0,{"$f":"IF(#REF!=\"\",0,IF(#REF!=#REF!,1,0))","v":{"$error":"#REF!"}},null,null,null,null,null,"R1GNEWTON ABBOT HOSPITAL","R1G12","NEWTON ABBOT HOSPITAL","R1G12","NEWTON ABBOT HOSPITAL","R1G",null,null,"BASILDON UNIVERSITY HOSPITAL","Bulphan"]
[{"$error":"#N/A"},{"$error":"#N/A"},0,0,0,"","",0,0,0,0,0,0,0,0,0,0,0,null,null,null,null,null,null,null,null,null,null,0,null,null,null,null,null,null,null,0,0,0,0,0,0,0,0,0,0,0,null,null,null,{"$f":"IF(#REF!=\"\",0, IF(#REF!=\"-\",0,IF(#REF!>100%,1,0)))","v":{"$error":"#REF!"}},null,{"$f":"IF(#REF!=\"\",0, IF(#REF!=\"-\",0,IF(#REF!>100%,1,0)))","v":{"$error":"#REF!"}},{"$f":"IF(#REF!=\"\",0, IF(#REF!=\"-\",0,IF(#REF!>100%,1,0)))","v":{"$error":"#REF!"}},{"$f":"IF(#REF!=\"\",0, IF(#REF!=\"-\",0,IF(#REF!>100%,1,0)))","v":{"$error":"#REF!"}},null,null,null,{"$f":"CONCATENATE(#REF!,#REF!,#REF!)","v":{"$error":"#REF!"}},{"$error":"#REF!"},0,false,0,{"$f":"IF(#REF!=\"\",0,IF(#REF!=#REF!,1,0))","v":{"$error":"#REF!"}},null,null,null,null,null,"R1GNHS CONTINUING CARE RETROSPECTIVE REVIEW","R1G48","NHS CONTINUING CARE RETROSPECTIVE REVIEW","R1G48","NHS CONTINUING CARE RETROSPECTIVE REVIEW","R1G",null,null,"BASILDON UNIVERSITY HOSPITAL","Burstead"]
[{"$error":"#N/A"},{"$error":"#N/A"},0,0,0,"","",0,0,0,0,0,0,0,0,0,0,0,null,null,null,null,null,null,null,null,null,null,0,null,null,null,null,null,null,null,0,0,0,0,0,0,0,0,0,0,0,null,null,null,{"$f":"IF(#REF!=\"\",0, IF(#REF!=\"-\",0,IF(#REF!>100%,1,0)))","v":{"$error":"#REF!"}},null,{"$f":"IF(#REF!=\"\",0, IF(#REF!=\"-\",0,IF(#REF!>100%,1,0)))","v":{"$error":"#REF!"}},{"$f":"IF(#REF!=\"\",0, IF(#REF!=\"-\",0,IF(#REF!>100%,1,0)))","v":{"$error":"#REF!"}},{"$f":"IF(#REF!=\"\",0, IF(#REF!=\"-\",0,IF(#REF!>100%,1,0)))","v":{"$error":"#REF!"}},null,null,null,{"$f":"CONCATENATE(#REF!,#REF!,#REF!)","v":{"$error":"#REF!"}},{"$error":"#REF!"},0,false,0,{"$f":"IF(#REF!=\"\",0,IF(#REF!=#REF!,1,0))","v":{"$error":"#REF!"}},null,null,null,null,null,"R1GPAIGNTON HOSPITAL","R1G01","PAIGNTON HOSPITAL","R1G01","PAIGNTON HOSPITAL","R1G",null,null,"BASILDON UNIVERSITY HOSPITAL","CEDAR"]
[{"$error":"#N/A"},{"$error":"#N/A"},0,0,0,"","",0,0,0,0,0,0,0,0,0,0,0,null,null,null,null,null,null,null,null,null,null,0,null,null,null,null,null,null,null,0,0,0,0,0,0,0,0,0,0,0,null,null,null,{"$f":"IF(#REF!=\"\",0, IF(#REF!=\"-\",0,IF(#REF!>100%,1,0)))","v":{"$error":"#REF!"}},null,{"$f":"IF(#REF!=\"\",0, IF(#REF!=\"-\",0,IF(#REF!>100%,1,0)))","v":{"$error":"#REF!"}},{"$f":"IF(#REF!=\"\",0, IF(#REF!=\"-\",0,IF(#REF!>100%,1,0)))","v":{"$error":"#REF!"}},{"$f":"IF(#REF!=\"\",0, IF(#REF!=\"-\",0,IF(#REF!>100%,1,0)))","v":{"$error":"#REF!"}},null,null,null,{"$f":"CONCATENATE(#REF!,#REF!,#REF!)","v":{"$error":"#REF!"}},{"$error":"#REF!"},0,false,0,{"$f":"IF(#REF!=\"\",0,IF(#REF!=#REF!,1,0))","v":{"$error":"#REF!"}},null,null,null,null,null,"R1GSAFER COMMUNITIES TORBAY","R1G51","SAFER COMMUNITIES TORBAY","R1G51","SAFER COMMUNITIES TORBAY","R1G",null,null,"BASILDON UNIVERSITY HOSPITAL","Chelmer"]
[{"$error":"#N/A"},{"$error":"#N/A"},0,0,0,"","",0,0,0,0,0,0,0,0,0,0,0,null,null,null,null,null,null,null,null,null,null,0,null,null,null,null,null,null,null,0,0,0,0,0,0,0,0,0,0,0,null,null,null,{"$f":"IF(#REF!=\"\",0, IF(#REF!=\"-\",0,IF(#REF!>100%,1,0)))","v":{"$error":"#REF!"}},null,{"$f":"IF(#REF!=\"\",0, IF(#REF!=\"-\",0,IF(#REF!>100%,1,0)))","v":{"$error":"#REF!"}},{"$f":"IF(#REF!=\"\",0, IF(#REF!=\"-\",0,IF(#REF!>100%,1,0)))","v":{"$error":"#REF!"}},{"$f":"IF(#REF!=\"\",0, IF(#REF!=\"-\",0,IF(#REF!>100%,1,0)))","v":{"$error":"#REF!"}},null,null,null,{"$f":"CONCATENATE(#REF!,#REF!,#REF!)","v":{"$error":"#REF!"}},{"$error":"#REF!"},0,false,0,{"$f":"IF(#REF!=\"\",0,IF(#REF!=#REF!,1,0))","v":{"$error":"#REF!"}},null,null,null,null,null,"R1GSOUTH HAMS (KINGSBRIDGE) HOSPITAL","R1G55","SOUTH HAMS (KINGSBRIDGE) HOSPITAL","R1G55","SOUTH HAMS (KINGSBRIDGE) HOSPITAL","R1G",null,null,"BASILDON UNIVERSITY HOSPITAL","Colne"]
[{"$error":"#N/A"},{"$error":"#N/A"},0,0,0,"","",0,0,0,0,0,0,0,0,0,0,0,null,null,null,null,null,null,null,null,null,null,0,null,null,null,null,null,null,null,0,0,0,0,0,0,0,0,0,0,0,null,null,null,{"$f":"IF(#REF!=\"\",0, IF(#REF!=\"-\",0,IF(#REF!>100%,1,0)))","v":{"$error":"#REF!"}},null,{"$f":"IF(#REF!=\"\",0, IF(#REF!=\"-\",0,IF(#REF!>100%,1,0)))","v":{"$error":"#REF!"}},{"$f":"IF(#REF!=\"\",0, IF(#REF!=\"-\",0,IF(#REF!>100%,1,0)))","v":{"$error":"#REF!"}},{"$f":"IF(#REF!=\"\",0, IF(#REF!=\"-\",0,IF(#REF!>100%,1,0)))","v":{"$error":"#REF!"}},null,null,null,{"$f":"CONCATENATE(#REF!,#REF!,#REF!)","v":{"$error":"#REF!"}},{"$error":"#REF!"},0,false,0,{"$f":"IF(#REF!=\"\",0,IF(#REF!=#REF!,1,0))","v":{"$error":"#REF!"}},null,null,null,null,null,"R1GST EDMUNDS","R1G08","ST EDMUNDS","R1G08","ST EDMUNDS","R1G",null,null,"BASILDON UNIVERSITY HOSPITAL","DELIVERY SUITE"]
[{"$error":"#N/A"},{"$error":"#N/A"},0,0,0,"","",0,0,0,0,0,0,0,0,0,0,0,null,null,null,null,null,null,null,null,null,null,0,null,null,null,null,null,null,null,0,0,0,0,0,0,0,0,0,0,0,null,null,null,{"$f":"IF(#REF!=\"\",0, IF(#REF!=\"-\",0,IF(#REF!>100%,1,0)))","v":{"$error":"#REF!"}},null,{"$f":"IF(#REF!=\"\",0, IF(#REF!=\"-\",0,IF(#REF!>100%,1,0)))","v":{"$error":"#REF!"}},{"$f":"IF(#REF!=\"\",0, IF(#REF!=\"-\",0,IF(#REF!>100%,1,0)))","v":{"$error":"#REF!"}},{"$f":"IF(#REF!=\"\",0, IF(#REF!=\"-\",0,IF(#REF!>100%,1,0)))","v":{"$error":"#REF!"}},null,null,null,{"$f":"CONCATENATE(#REF!,#REF!,#REF!)","v":{"$error":"#REF!"}},{"$error":"#REF!"},0,false,0,{"$f":"IF(#REF!=\"\",0,IF(#REF!=#REF!,1,0))","v":{"$error":"#REF!"}},null,null,null,null,null,"R1GTAVISTOCK HOSPITAL","R1G56","TAVISTOCK HOSPITAL","R1G56","TAVISTOCK HOSPITAL","R1G",null,null,"BASILDON UNIVERSITY HOSPITAL","Edith Cavell"]
[{"$error":"#N/A"},{"$error":"#N/A"},0,0,0,"","",0,0,0,0,0,0,0,0,0,0,0,null,null,null,null,null,null,null,null,null,null,0,null,null,null,null,null,null,null,0,0,0,0,0,0,0,0,0,0,0,null,null,null,{"$f":"IF(#REF!=\"\",0, IF(#REF!=\"-\",0,IF(#REF!>100%,1,0)))","v":{"$error":"#REF!"}},null,{"$f":"IF(#REF!=\"\",0, IF(#REF!=\"-\",0,IF(#REF!>100%,1,0)))","v":{"$error":"#REF!"}},{"$f":"IF(#REF!=\"\",0, IF(#REF!=\"-\",0,IF(#REF!>100%,1,0)))","v":{"$error":"#REF!"}},{"$f":"IF(#REF!=\"\",0, IF(#REF!=\"-\",0,IF(#REF!>100%,1,0)))","v":{"$error":"#REF!"}},null,null,null,{"$f":"CONCATENATE(#REF!,#REF!,#REF!)","v":{"$error":"#REF!"}},{"$error":"#REF!"},0,false,0,{"$f":"IF(#REF!=\"\",0,IF(#REF!=#REF!,1,0))","v":{"$error":"#REF!"}},null,null,null,null,null,"R1GTEIGNMOUTH HOSPITAL","R1G13","TEIGNMOUTH HOSPITAL","R1G13","TEIGNMOUTH HOSPITAL","R1G",null,null,"BASILDON UNIVERSITY HOSPITAL","Elizabeth Fry"]
[{"$error":"#N/A"},{"$error":"#N/A"},0,0,0,"","",0,0,0,0,0,0,0,0,0,0,0,null,null,null,null,null,null,null,null,null,null,0,null,null,null,null,null,null,null,0,0,0,0,0,0,0,0,0,0,0,null,null,null,{"$f":"IF(#REF!=\"\",0, IF(#REF!=\"-\",0,IF(#REF!>100%,1,0)))","v":{"$error":"#REF!"}},null,{"$f":"IF(#REF!=\"\",0, IF(#REF!=\"-\",0,IF(#REF!>100%,1,0)))","v":{"$error":"#REF!"}},{"$f":"IF(#REF!=\"\",0, IF(#REF!=\"-\",0,IF(#REF!>100%,1,0)))","v":{"$error":"#REF!"}},{"$f":"IF(#REF!=\"\",0, IF(#REF!=\"-\",0,IF(#REF!>100%,1,0)))","v":{"$error":"#REF!"}},null,null,null,{"$f":"CONCATENATE(#REF!,#REF!,#REF!)","v":{"$error":"#REF!"}},{"$error":"#REF!"},0,false,0,{"$f":"IF(#REF!=\"\",0,IF(#REF!=#REF!,1,0))","v":{"$error":"#REF!"}},null,null,null,null,null,"R1GTOTNES HOSPITAL","R1G14","TOTNES HOSPITAL","R1G14","TOTNES HOSPITAL","R1G",null,null,"BASILDON UNIVERSITY HOSPITAL","Elsdon"]
[{"$error":"#N/A"},{"$error":"#N/A"},0,0,0,"","",0,0,0,0,0,0,0,0,0,0,0,null,null,null,null,null,null,null,null,null,null,0,null,null,null,null,null,null,null,0,0,0,0,0,0,0,0,0,0,0,null,null,null,{"$f":"IF(#REF!=\"\",0, IF(#REF!=\"-\",0,IF(#REF!>100%,1,0)))","v":{"$error":"#REF!"}},null,{"$f":"IF(#REF!=\"\",0, IF(#REF!=\"-\",0,IF(#REF!>100%,1,0)))","v":{"$error":"#REF!"}},{"$f":"IF(#REF!=\"\",0, IF(#REF!=\"-\",0,IF(#REF!>100%,1,0)))","v":{"$error":"#REF!"}},{"$f":"IF(#REF!=\"\",0, IF(#REF!=\"-\",0,IF(#REF!>100%,1,0)))","v":{"$error":"#REF!"}},null,null,null,{"$f":"CONCATENATE(#REF!,#REF!,#REF!)","v":{"$error":"#REF!"}},{"$error":"#REF!"},0,false,0,{"$f":"IF(#REF!=\"\",0,IF(#REF!=#REF!,1,0))","v":{"$error":"#REF!"}},null,null,null,null,null,"R1GUNIT 3","R1G64","UNIT 3","R1G64","UNIT 3","R1G",null,null,"BASILDON UNIVERSITY HOSPITAL","Florence Nightingale"]
[{"$error":"#N/A"},{"$error":"#N/A"},0,0,0,"","",0,0,0,0,0,0,0,0,0,0,0,null,null,null,null,null,null,null,null,null,null,0,null,null,null,null,null,null,null,0,0,0,0,0,0,0,0,0,0,0,null,null,null,{"$f":"IF(#REF!=\"\",0, IF(#REF!=\"-\",0,IF(#REF!>100%,1,0)))","v":{"$error":"#REF!"}},null,{"$f":"IF(#REF!=\"\",0, IF(#REF!=\"-\",0,IF(#REF!>100%,1,0)))","v":{"$error":"#REF!"}},{"$f":"IF(#REF!=\"\",0, IF(#REF!=\"-\",0,IF(#REF!>100%,1,0)))","v":{"$error":"#REF!"}},{"$f":"IF(#REF!=\"\",0, IF(#REF!=\"-\",0,IF(#REF!>100%,1,0)))","v":{"$error":"#REF!"}},null,null,null,{"$f":"CONCATENATE(#REF!,#REF!,#REF!)","v":{"$error":"#REF!"}},{"$error":"#REF!"},0,false,0,{"$f":"IF(#REF!=\"\",0,IF(#REF!=#REF!,1,0))","v":{"$error":"#REF!"}},null,null,null,null,null,"R1HAINSLEY UNIT","R1H42","AINSLEY UNIT","R1H42","AINSLEY UNIT","R1H",null,null,"BASILDON UNIVERSITY HOSPITAL","Horndon"]
[{"$error":"#N/A"},{"$error":"#N/A"},0,0,0,"","",0,0,0,0,0,0,0,0,0,0,0,null,null,null,null,null,null,null,null,null,null,0,null,null,null,null,null,null,null,0,0,0,0,0,0,0,0,0,0,0,null,null,null,{"$f":"IF(#REF!=\"\",0, IF(#REF!=\"-\",0,IF(#REF!>100%,1,0)))","v":{"$error":"#REF!"}},null,{"$f":"IF(#REF!=\"\",0, IF(#REF!=\"-\",0,IF(#REF!>100%,1,0)))","v":{"$error":"#REF!"}},{"$f":"IF(#REF!=\"\",0, IF(#REF!=\"-\",0,IF(#REF!>100%,1,0)))","v":{"$error":"#REF!"}},{"$f":"IF(#REF!=\"\",0, IF(#REF!=\"-\",0,IF(#REF!>100%,1,0)))","v":{"$error":"#REF!"}},null,null,null,{"$f":"CONCATENATE(#REF!,#REF!,#REF!)","v":{"$error":"#REF!"}},{"$error":"#REF!"},0,false,0,{"$f":"IF(#REF!=\"\",0,IF(#REF!=#REF!,1,0))","v":{"$error":"#REF!"}},null,null,null,null,null,"R1HBLT BIRTH CENTRE","R1H90","BLT BIRTH CENTRE","R1H90","BLT BIRTH CENTRE","R1H",null,null,"BASILDON UNIVERSITY HOSPITAL","ITU"]
[{"$error":"#N/A"},{"$error":"#N/A"},0,0,0,"","",0,0,0,0,0,0,0,0,0,0,0,null,null,null,null,null,null,null,null,null,null,0,null,null,null,null,null,null,null,0,0,0,0,0,0,0,0,0,0,0,null,null,null,{"$f":"IF(#REF!=\"\",0, IF(#REF!=\"-\",0,IF(#REF!>100%,1,0)))","v":{"$error":"#REF!"}},null,{"$f":"IF(#REF!=\"\",0, IF(#REF!=\"-\",0,IF(#REF!>100%,1,0)))","v":{"$error":"#REF!"}},{"$f":"IF(#REF!=\"\",0, IF(#REF!=\"-\",0,IF(#REF!>100%,1,0)))","v":{"$error":"#REF!"}},{"$f":"IF(#REF!=\"\",0, IF(#REF!=\"-\",0,IF(#REF!>100%,1,0)))","v":{"$error":"#REF!"}},null,null,null,{"$f":"CONCATENATE(#REF!,#REF!,#REF!)","v":{"$error":"#REF!"}},{"$error":"#REF!"},0,false,0,{"$f":"IF(#REF!=\"\",0,IF(#REF!=#REF!,1,0))","v":{"$error":"#REF!"}},null,null,null,null,null,"R1HBLT PRIVATE HOSPITALS","R1H86","BLT PRIVATE HOSPITALS","R1H86","BLT PRIVATE HOSPITALS","R1H",null,null,"BASILDON UNIVERSITY HOSPITAL","James McKenzie"]
[{"$error":"#N/A"},{"$error":"#N/A"},0,0,0,"","",0,0,0,0,0,0,0,0,0,0,0,null,null,null,null,null,null,null,null,null,null,0,null,null,null,null,null,null,null,0,0,0,0,0,0,0,0,0,0,0,null,null,null,{"$f":"IF(#REF!=\"\",0, IF(#REF!=\"-\",0,IF(#REF!>100%,1,0)))","v":{"$error":"#REF!"}},null,{"$f":"IF(#REF!=\"\",0, IF(#REF!=\"-\",0,IF(#REF!>100%,1,0)))","v":{"$error":"#REF!"}},{"$f":"IF(#REF!=\"\",0, IF(#REF!=\"-\",0,IF(#REF!>100%,1,0)))","v":{"$error":"#REF!"}},{"$f":"IF(#REF!=\"\",0, IF(#REF!=\"-\",0,IF(#REF!>100%,1,0)))","v":{"$error":"#REF!"}},null,null,null,{"$f":"CONCATENATE(#REF!,#REF!,#REF!)","v":{"$error":"#REF!"}},{"$error":"#REF!"},0,false,0,{"$f":"IF(#REF!=\"\",0,IF(#REF!=#REF!,1,0))","v":{"$error":"#REF!"}},null,null,null,null,null,"R1HGATEWAY SURGICAL CENTRE","R1H11","GATEWAY SURGICAL CENTRE","R1H11","GATEWAY SURGICAL CENTRE","R1H",null,null,"BASILDON UNIVERSITY HOSPITAL","Kingswood"]
[{"$error":"#N/A"},{"$error":"#N/A"},0,0,0,"","",0,0,0,0,0,0,0,0,0,0,0,null,null,null,null,null,null,null,null,null,null,0,null,null,null,null,null,null,null,0,0,0,0,0,0,0,0,0,0,0,null,null,null,{"$f":"IF(#REF!=\"\",0, IF(#REF!=\"-\",0,IF(#REF!>100%,1,0)))","v":{"$error":"#REF!"}},null,{"$f":"IF(#REF!=\"\",0, IF(#REF!=\"-\",0,IF(#REF!>100%,1,0)))","v":{"$error":"#REF!"}},{"$f":"IF(#REF!=\"\",0, IF(#REF!=\"-\",0,IF(#REF!>100%,1,0)))","v":{"$error":"#REF!"}},{"$f":"IF(#REF!=\"\",0, IF(#REF!=\"-\",0,IF(#REF!>100%,1,0)))","v":{"$error":"#REF!"}},null,null,null,{"$f":"CONCATENATE(#REF!,#REF!,#REF!)","v":{"$error":"#REF!"}},{"$error":"#REF!"},0,false,0,{"$f":"IF(#REF!=\"\",0,IF(#REF!=#REF!,1,0))","v":{"$error":"#REF!"}},null,null,null,null,null,"R1HMILE END HOSPITAL","R1H13","MILE END HOSPITAL","R1H13","MILE END HOSPITAL","R1H",null,null,"BASILDON UNIVERSITY HOSPITAL","Linford"]
[{"$error":"#N/A"},{"$error":"#N/A"},0,0,0,"","",0,0,0,0,0,0,0,0,0,0,0,null,null,null,null,null,null,null,null,null,null,0,null,null,null,null,null,null,null,0,0,0,0,0,0,0,0,0,0,0,null,null,null,{"$f":"IF(#REF!=\"\",0, IF(#REF!=\"-\",0,IF(#REF!>100%,1,0)))","v":{"$error":"#REF!"}},null,{"$f":"IF(#REF!=\"\",0, IF(#REF!=\"-\",0,IF(#REF!>100%,1,0)))","v":{"$error":"#REF!"}},{"$f":"IF(#REF!=\"\",0, IF(#REF!=\"-\",0,IF(#REF!>100%,1,0)))","v":{"$error":"#REF!"}},{"$f":"IF(#REF!=\"\",0, IF(#REF!=\"-\",0,IF(#REF!>100%,1,0)))","v":{"$error":"#REF!"}},null,null,null,{"$f":"CONCATENATE(#REF!,#REF!,#REF!)","v":{"$error":"#REF!"}},{"$error":"#REF!"},0,false,0,{"$f":"IF(#REF!=\"\",0,IF(#REF!=#REF!,1,0))","v":{"$error":"#REF!"}},null,null,null,null,null,"R1HNEWHAM GENERAL HOSPITAL","R1HNH","NEWHAM GENERAL HOSPITAL","R1HNH","NEWHAM GENERAL HOSPITAL","R1H",null,null,"BASILDON UNIVERSITY HOSPITAL","Lionel Cosin"]
[{"$error":"#N/A"},{"$error":"#N/A"},0,0,0,"","",0,0,0,0,0,0,0,0,0,0,0,null,null,null,null,null,null,null,null,null,null,0,null,null,null,null,null,null,null,0,0,0,0,0,0,0,0,0,0,0,null,null,null,{"$f":"IF(#REF!=\"\",0, IF(#REF!=\"-\",0,IF(#REF!>100%,1,0)))","v":{"$error":"#REF!"}},null,{"$f":"IF(#REF!=\"\",0, IF(#REF!=\"-\",0,IF(#REF!>100%,1,0)))","v":{"$error":"#REF!"}},{"$f":"IF(#REF!=\"\",0, IF(#REF!=\"-\",0,IF(#REF!>100%,1,0)))","v":{"$error":"#REF!"}},{"$f":"IF(#REF!=\"\",0, IF(#REF!=\"-\",0,IF(#REF!>100%,1,0)))","v":{"$error":"#REF!"}},null,null,null,{"$f":"CONCATENATE(#REF!,#REF!,#REF!)","v":{"$error":"#REF!"}},{"$error":"#REF!"},0,false,0,{"$f":"IF(#REF!=\"\",0,IF(#REF!=#REF!,1,0))","v":{"$error":"#REF!"}},null,null,null,null,null,"R1HST BARTHOLOMEW'S HOSPITAL","R1HM0","ST BARTHOLOMEW'S HOSPITAL","R1HM0","ST BARTHOLOMEW'S HOSPITAL","R1H",null,null,"BASILDON UNIVERSITY HOSPITAL","Lister"]
[{"$error":"#N/A"},{"$error":"#N/A"},0,0,0,"","",0,0,0,0,0,0,0,0,0,0,0,null,null,null,null,null,null,null,null,null,null,0,null,null,null,null,null,null,null,0,0,0,0,0,0,0,0,0,0,0,null,null,null,{"$f":"IF(#REF!=\"\",0, IF(#REF!=\"-\",0,IF(#REF!>100%,1,0)))","v":{"$error":"#REF!"}},null,{"$f":"IF(#REF!=\"\",0, IF(#REF!=\"-\",0,IF(#REF!>100%,1,0)))","v":{"$error":"#REF!"}},{"$f":"IF(#REF!=\"\",0, IF(#REF!=\"-\",0,IF(#REF!>100%,1,0)))","v":{"$error":"#REF!"}},{"$f":"IF(#REF!=\"\",0, IF(#REF!=\"-\",0,IF(#REF!>100%,1,0)))","v":{"$error":"#REF!"}},null,null,null,{"$f":"CONCATENATE(#REF!,#REF!,#REF!)","v":{"$error":"#REF!"}},{"$error":"#REF!"},0,false,0,{"$f":"IF(#REF!=\"\",0,IF(#REF!=#REF!,1,0))","v":{"$error":"#REF!"}},null,null,null,null,null,"R1HTHE LONDON CHEST HOSPITAL","R1H83","THE LONDON CHEST HOSPITAL","R1H83","THE LONDON CHEST HOSPITAL","R1H",null,null,"BASILDON UNIVERSITY HOSPITAL","Marjorie Warren"]
[{"$error":"#N/A"},{"$error":"#N/A"},0,0,0,"","",0,0,0,0,0,0,0,0,0,0,0,null,null,null,null,null,null,null,null,null,null,0,null,null,null,null,null,null,null,0,0,0,0,0,0,0,0,0,0,0,null,null,null,{"$f":"IF(#REF!=\"\",0, IF(#REF!=\"-\",0,IF(#REF!>100%,1,0)))","v":{"$error":"#REF!"}},null,{"$f":"IF(#REF!=\"\",0, IF(#REF!=\"-\",0,IF(#REF!>100%,1,0)))","v":{"$error":"#REF!"}},{"$f":"IF(#REF!=\"\",0, IF(#REF!=\"-\",0,IF(#REF!>100%,1,0)))","v":{"$error":"#REF!"}},{"$f":"IF(#REF!=\"\",0, IF(#REF!=\"-\",0,IF(#REF!>100%,1,0)))","v":{"$error":"#REF!"}},null,null,null,{"$f":"CONCATENATE(#REF!,#REF!,#REF!)","v":{"$error":"#REF!"}},{"$error":"#REF!"},0,false,0,{"$f":"IF(#REF!=\"\",0,IF(#REF!=#REF!,1,0))","v":{"$error":"#REF!"}},null,null,null,null,null,"R1HTHE ROYAL LONDON HOSPITAL","R1H12","THE ROYAL LONDON HOSPITAL","R1H12","THE ROYAL LONDON HOSPITAL","R1H",null,null,"BASILDON UNIVERSITY HOSPITAL","NICU"]
[{"$error":"#N/A"},{"$error":"#N/A"},0,0,0,"","",0,0,0,0,0,0,0,0,0,0,0,null,null,null,null,null,null,null,null,null,null,0,null,null,null,null,null,null,null,0,0,0,0,0,0,0,0,0,0,0,null,null,null,{"$f":"IF(#REF!=\"\",0, IF(#REF!=\"-\",0,IF(#REF!>100%,1,0)))","v":{"$error":"#REF!"}},null,{"$f":"IF(#REF!=\"\",0, IF(#REF!=\"-\",0,IF(#REF!>100%,1,0)))","v":{"$error":"#REF!"}},{"$f":"IF(#REF!=\"\",0, IF(#REF!=\"-\",0,IF(#REF!>100%,1,0)))","v":{"$error":"#REF!"}},{"$f":"IF(#REF!=\"\",0, IF(#REF!=\"-\",0,IF(#REF!>100%,1,0)))","v":{"$error":"#REF!"}},null,null,null,{"$f":"CONCATENATE(#REF!,#REF!,#REF!)","v":{"$error":"#REF!"}},{"$error":"#REF!"},0,false,0,{"$f":"IF(#REF!=\"\",0,IF(#REF!=#REF!,1,0))","v":{"$error":"#REF!"}},null,null,null,null,null,"R1HWHIPPS CROSS AT SILVERTHORN MEDICAL","R1HMC","WHIPPS CROSS AT SILVERTHORN MEDICAL","R1HMC","WHIPPS CROSS AT SILVERTHORN MEDICAL","R1H",null,null,"BASILDON UNIVERSITY HOSPITAL","Orsett"]
[{"$error":"#N/A"},{"$error":"#N/A"},0,0,0,"","",0,0,0,0,0,0,0,0,0,0,0,null,null,null,null,null,null,null,null,null,null,0,null,null,null,null,null,null,null,0,0,0,0,0,0,0,0,0,0,0,null,null,null,{"$f":"IF(#REF!=\"\",0, IF(#REF!=\"-\",0,IF(#REF!>100%,1,0)))","v":{"$error":"#REF!"}},null,{"$f":"IF(#REF!=\"\",0, IF(#REF!=\"-\",0,IF(#REF!>100%,1,0)))","v":{"$error":"#REF!"}},{"$f":"IF(#REF!=\"\",0, IF(#REF!=\"-\",0,IF(#REF!>100%,1,0)))","v":{"$error":"#REF!"}},{"$f":"IF(#REF!=\"\",0, IF(#REF!=\"-\",0,IF(#REF!>100%,1,0)))","v":{"$error":"#REF!"}},null,null,null,{"$f":"CONCATENATE(#REF!,#REF!,#REF!)","v":{"$error":"#REF!"}},{"$error":"#REF!"},0,false,0,{"$f":"IF(#REF!=\"\",0,IF(#REF!=#REF!,1,0))","v":{"$error":"#REF!"}},null,null,null,null,null,"R1HWHIPPS CROSS UNIVERSITY HOSPITAL","R1HKH","WHIPPS CROSS UNIVERSITY HOSPITAL","R1HKH","WHIPPS CROSS UNIVERSITY HOSPITAL","R1H",null,null,"BASILDON UNIVERSITY HOSPITAL","Osler"]
[{"$error":"#N/A"},{"$error":"#N/A"},0,0,0,"","",0,0,0,0,0,0,0,0,0,0,0,null,null,null,null,null,null,null,null,null,null,0,null,null,null,null,null,null,null,0,0,0,0,0,0,0,0,0,0,0,null,null,null,{"$f":"IF(#REF!=\"\",0, IF(#REF!=\"-\",0,IF(#REF!>100%,1,0)))","v":{"$error":"#REF!"}},null,{"$f":"IF(#REF!=\"\",0, IF(#REF!=\"-\",0,IF(#REF!>100%,1,0)))","v":{"$error":"#REF!"}},{"$f":"IF(#REF!=\"\",0, IF(#REF!=\"-\",0,IF(#REF!>100%,1,0)))","v":{"$error":"#REF!"}},{"$f":"IF(#REF!=\"\",0, IF(#REF!=\"-\",0,IF(#REF!>100%,1,0)))","v":{"$error":"#REF!"}},null,null,null,{"$f":"CONCATENATE(#REF!,#REF!,#REF!)","v":{"$error":"#REF!"}},{"$error":"#REF!"},0,false,0,{"$f":"IF(#REF!=\"\",0,IF(#REF!=#REF!,1,0))","v":{"$error":"#REF!"}},null,null,null,null,null,"R1K EDGWARE COMMUNITY HOSPITAL","R1K21"," EDGWARE COMMUNITY HOSPITAL","R1K21"," EDGWARE COMMUNITY HOSPITAL","R1K",null,null,"BASILDON UNIVERSITY HOSPITAL","Pasteur"]
[{"$error":"#N/A"},{"$error":"#N/A"},0,0,0,"","",0,0,0,0,0,0,0,0,0,0,0,null,null,null,null,null,null,null,null,null,null,0,null,null,null,null,null,null,null,0,0,0,0,0,0,0,0,0,0,0,null,null,null,{"$f":"IF(#REF!=\"\",0, IF(#REF!=\"-\",0,IF(#REF!>100%,1,0)))","v":{"$error":"#REF!"}},null,{"$f":"IF(#REF!=\"\",0, IF(#REF!=\"-\",0,IF(#REF!>100%,1,0)))","v":{"$error":"#REF!"}},{"$f":"IF(#REF!=\"\",0, IF(#REF!=\"-\",0,IF(#REF!>100%,1,0)))","v":{"$error":"#REF!"}},{"$f":"IF(#REF!=\"\",0, IF(#REF!=\"-\",0,IF(#REF!>100%,1,0)))","v":{"$error":"#REF!"}},null,null,null,{"$f":"CONCATENATE(#REF!,#REF!,#REF!)","v":{"$error":"#REF!"}},{"$error":"#REF!"},0,false,0,{"$f":"IF(#REF!=\"\",0,IF(#REF!=#REF!,1,0))","v":{"$error":"#REF!"}},null,null,null,null,null,"R1KCENTRAL MIDDLESEX HOSPITAL","R1K02","CENTRAL MIDDLESEX HOSPITAL","R1K02","CENTRAL MIDDLESEX HOSPITAL","R1K",null,null,"BASILDON UNIVERSITY HOSPITAL","Puffin/wagtail"]
[{"$error":"#N/A"},{"$error":"#N/A"},0,0,0,"","",0,0,0,0,0,0,0,0,0,0,0,null,null,null,null,null,null,null,null,null,null,0,null,null,null,null,null,null,null,0,0,0,0,0,0,0,0,0,0,0,null,null,null,{"$f":"IF(#REF!=\"\",0, IF(#REF!=\"-\",0,IF(#REF!>100%,1,0)))","v":{"$error":"#REF!"}},null,{"$f":"IF(#REF!=\"\",0, IF(#REF!=\"-\",0,IF(#REF!>100%,1,0)))","v":{"$error":"#REF!"}},{"$f":"IF(#REF!=\"\",0, IF(#REF!=\"-\",0,IF(#REF!>100%,1,0)))","v":{"$error":"#REF!"}},{"$f":"IF(#REF!=\"\",0, IF(#REF!=\"-\",0,IF(#REF!>100%,1,0)))","v":{"$error":"#REF!"}},null,null,null,{"$f":"CONCATENATE(#REF!,#REF!,#REF!)","v":{"$error":"#REF!"}},{"$error":"#REF!"},0,false,0,{"$f":"IF(#REF!=\"\",0,IF(#REF!=#REF!,1,0))","v":{"$error":"#REF!"}},null,null,null,null,null,"R1KEALING HOSPITAL","R1K04","EALING HOSPITAL","R1K04","EALING HOSPITAL","R1K",null,null,"BASILDON UNIVERSITY HOSPITAL","Roding"]
[{"$error":"#N/A"},{"$error":"#N/A"},0,0,0,"","",0,0,0,0,0,0,0,0,0,0,0,null,null,null,null,null,null,null,null,null,null,0,null,null,null,null,null,null,null,0,0,0,0,0,0,0,0,0,0,0,null,null,null,{"$f":"IF(#REF!=\"\",0, IF(#REF!=\"-\",0,IF(#REF!>100%,1,0)))","v":{"$error":"#REF!"}},null,{"$f":"IF(#REF!=\"\",0, IF(#REF!=\"-\",0,IF(#REF!>100%,1,0)))","v":{"$error":"#REF!"}},{"$f":"IF(#REF!=\"\",0, IF(#REF!=\"-\",0,IF(#REF!>100%,1,0)))","v":{"$error":"#REF!"}},{"$f":"IF(#REF!=\"\",0, IF(#REF!=\"-\",0,IF(#REF!>100%,1,0)))","v":{"$error":"#REF!"}},null,null,null,{"$f":"CONCATENATE(#REF!,#REF!,#REF!)","v":{"$error":"#REF!"}},{"$error":"#REF!"},0,false,0,{"$f":"IF(#REF!=\"\",0,IF(#REF!=#REF!,1,0))","v":{"$error":"#REF!"}},null,null,null,null,null,"R1KNORTHWICK PARK HOSPITAL","R1K01","NORTHWICK PARK HOSPITAL","R1K01","NORTHWICK PARK HOSPITAL","R1K",null,null,"BASILDON UNIVERSITY HOSPITAL","SRU"]
[{"$error":"#N/A"},{"$error":"#N/A"},0,0,0,"","",0,0,0,0,0,0,0,0,0,0,0,null,null,null,null,null,null,null,null,null,null,0,null,null,null,null,null,null,null,0,0,0,0,0,0,0,0,0,0,0,null,null,null,{"$f":"IF(#REF!=\"\",0, IF(#REF!=\"-\",0,IF(#REF!>100%,1,0)))","v":{"$error":"#REF!"}},null,{"$f":"IF(#REF!=\"\",0, IF(#REF!=\"-\",0,IF(#REF!>100%,1,0)))","v":{"$error":"#REF!"}},{"$f":"IF(#REF!=\"\",0, IF(#REF!=\"-\",0,IF(#REF!>100%,1,0)))","v":{"$error":"#REF!"}},{"$f":"IF(#REF!=\"\",0, IF(#REF!=\"-\",0,IF(#REF!>100%,1,0)))","v":{"$error":"#REF!"}},null,null,null,{"$f":"CONCATENATE(#REF!,#REF!,#REF!)","v":{"$error":"#REF!"}},{"$error":"#REF!"},0,false,0,{"$f":"IF(#REF!=\"\",0,IF(#REF!=#REF!,1,0))","v":{"$error":"#REF!"}},null,null,null,null,null,"R1KNORTHWICK PARK HOSPITAL  STARRS HARROW","R1K46","NORTHWICK PARK HOSPITAL  STARRS HARROW","R1K46","NORTHWICK PARK HOSPITAL  STARRS HARROW","R1K",null,null,"BASILDON UNIVERSITY HOSPITAL","William Harvey"]
[{"$error":"#N/A"},{"$error":"#N/A"},0,0,0,"","",0,0,0,0,0,0,0,0,0,0,0,null,null,null,null,null,null,null,null,null,null,0,null,null,null,null,null,null,null,0,0,0,0,0,0,0,0,0,0,0,null,null,null,{"$f":"IF(#REF!=\"\",0, IF(#REF!=\"-\",0,IF(#REF!>100%,1,0)))","v":{"$error":"#REF!"}},null,{"$f":"IF(#REF!=\"\",0, IF(#REF!=\"-\",0,IF(#REF!>100%,1,0)))","v":{"$error":"#REF!"}},{"$f":"IF(#REF!=\"\",0, IF(#REF!=\"-\",0,IF(#REF!>100%,1,0)))","v":{"$error":"#REF!"}},{"$f":"IF(#REF!=\"\",0, IF(#REF!=\"-\",0,IF(#REF!>100%,1,0)))","v":{"$error":"#REF!"}},null,null,null,{"$f":"CONCATENATE(#REF!,#REF!,#REF!)","v":{"$error":"#REF!"}},{"$f":"IF(BG184=\"\",\"\",(IF(COUNTIF($BG$46:$BG$244,BG184)>1,1,0))=1)","v":{"$error":"#REF!"}},0,false,0,{"$f":"IF(#REF!=\"\",0,IF(#REF!=#REF!,1,0))","v":{"$error":"#REF!"}},null,null,null,null,null,"R1KNORTHWICK PARK HOSPITAL ELCO COMMUNITY","R1K59","NORTHWICK PARK HOSPITAL ELCO COMMUNITY","R1K59","NORTHWICK PARK HOSPITAL ELCO COMMUNITY","R1K",null,null,"BASILDON UNIVERSITY HOSPITAL","WILLOW"]
[{"$error":"#N/A"},{"$error":"#N/A"},0,0,0,"","",0,0,0,0,0,0,0,0,0,0,0,null,null,null,null,null,null,null,null,null,null,0,null,null,null,null,null,null,null,0,0,0,0,0,0,0,0,0,0,0,null,null,null,{"$f":"IF(#REF!=\"\",0, IF(#REF!=\"-\",0,IF(#REF!>100%,1,0)))","v":{"$error":"#REF!"}},null,{"$f":"IF(#REF!=\"\",0, IF(#REF!=\"-\",0,IF(#REF!>100%,1,0)))","v":{"$error":"#REF!"}},{"$f":"IF(#REF!=\"\",0, IF(#REF!=\"-\",0,IF(#REF!>100%,1,0)))","v":{"$error":"#REF!"}},{"$f":"IF(#REF!=\"\",0, IF(#REF!=\"-\",0,IF(#REF!>100%,1,0)))","v":{"$error":"#REF!"}},null,null,null,{"$f":"CONCATENATE(#REF!,#REF!,#REF!)","v":{"$error":"#REF!"}},{"$error":"#REF!"},0,false,0,{"$f":"IF(#REF!=\"\",0,IF(#REF!=#REF!,1,0))","v":{"$error":"#REF!"}},null,null,null,null,null,"R1KST MARKS HOSPITAL ","R1K03","ST MARKS HOSPITAL ","R1K03","ST MARKS HOSPITAL ","R1K",null,null,"BEDFORD HOSPITAL SOUTH WING","Arnold Whitchurch"]
[{"$error":"#N/A"},{"$error":"#N/A"},0,0,0,"","",0,0,0,0,0,0,0,0,0,0,0,null,null,null,null,null,null,null,null,null,null,0,null,null,null,null,null,null,null,0,0,0,0,0,0,0,0,0,0,0,null,null,null,{"$f":"IF(#REF!=\"\",0, IF(#REF!=\"-\",0,IF(#REF!>100%,1,0)))","v":{"$error":"#REF!"}},null,{"$f":"IF(#REF!=\"\",0, IF(#REF!=\"-\",0,IF(#REF!>100%,1,0)))","v":{"$error":"#REF!"}},{"$f":"IF(#REF!=\"\",0, IF(#REF!=\"-\",0,IF(#REF!>100%,1,0)))","v":{"$error":"#REF!"}},{"$f":"IF(#REF!=\"\",0, IF(#REF!=\"-\",0,IF(#REF!>100%,1,0)))","v":{"$error":"#REF!"}},null,null,null,{"$f":"CONCATENATE(#REF!,#REF!,#REF!)","v":{"$error":"#REF!"}},{"$error":"#REF!"},0,false,0,{"$f":"IF(#REF!=\"\",0,IF(#REF!=#REF!,1,0))","v":{"$error":"#REF!"}},null,null,null,null,null,"R1KURGENT CARE CENTRE CENTAL MIDDLESEX HOSPITAL","R1K12","URGENT CARE CENTRE CENTAL MIDDLESEX HOSPITAL","R1K12","URGENT CARE CENTRE CENTAL MIDDLESEX HOSPITAL","R1K",null,null,"BEDFORD HOSPITAL SOUTH WING","Coronary Care Unit"]
[{"$error":"#N/A"},{"$error":"#N/A"},0,0,0,"","",0,0,0,0,0,0,0,0,0,0,0,null,null,null,null,null,null,null,null,null,null,0,null,null,null,null,null,null,null,0,0,0,0,0,0,0,0,0,0,0,null,null,null,{"$f":"IF(#REF!=\"\",0, IF(#REF!=\"-\",0,IF(#REF!>100%,1,0)))","v":{"$error":"#REF!"}},null,{"$f":"IF(#REF!=\"\",0, IF(#REF!=\"-\",0,IF(#REF!>100%,1,0)))","v":{"$error":"#REF!"}},{"$f":"IF(#REF!=\"\",0, IF(#REF!=\"-\",0,IF(#REF!>100%,1,0)))","v":{"$error":"#REF!"}},{"$f":"IF(#REF!=\"\",0, IF(#REF!=\"-\",0,IF(#REF!>100%,1,0)))","v":{"$error":"#REF!"}},null,null,null,{"$f":"CONCATENATE(#REF!,#REF!,#REF!)","v":{"$error":"#REF!"}},{"$error":"#REF!"},0,false,0,{"$f":"IF(#REF!=\"\",0,IF(#REF!=#REF!,1,0))","v":{"$error":"#REF!"}},null,null,null,null,null,"R1KURGENT CARE CENTRE EALING HOSPITAL","R1K14","URGENT CARE CENTRE EALING HOSPITAL","R1K14","URGENT CARE CENTRE EALING HOSPITAL","R1K",null,null,"BEDFORD HOSPITAL SOUTH WING","Critical Care Complex"]
[{"$error":"#N/A"},{"$error":"#N/A"},0,0,0,"","",0,0,0,0,0,0,0,0,0,0,0,null,null,null,null,null,null,null,null,null,null,0,null,null,null,null,null,null,null,0,0,0,0,0,0,0,0,0,0,0,null,null,null,{"$f":"IF(#REF!=\"\",0, IF(#REF!=\"-\",0,IF(#REF!>100%,1,0)))","v":{"$error":"#REF!"}},null,{"$f":"IF(#REF!=\"\",0, IF(#REF!=\"-\",0,IF(#REF!>100%,1,0)))","v":{"$error":"#REF!"}},{"$f":"IF(#REF!=\"\",0, IF(#REF!=\"-\",0,IF(#REF!>100%,1,0)))","v":{"$error":"#REF!"}},{"$f":"IF(#REF!=\"\",0, IF(#REF!=\"-\",0,IF(#REF!>100%,1,0)))","v":{"$error":"#REF!"}},null,null,null,{"$f":"CONCATENATE(#REF!,#REF!,#REF!)","v":{"$error":"#REF!"}},{"$error":"#REF!"},0,false,0,{"$f":"IF(#REF!=\"\",0,IF(#REF!=#REF!,1,0))","v":{"$error":"#REF!"}},null,null,null,null,null,"R1LARCHER UNIT","R1L92","ARCHER UNIT","R1L92","ARCHER UNIT","R1L",null,null,"BEDFORD HOSPITAL SOUTH WING","Elizabeth"]
[{"$error":"#N/A"},{"$error":"#N/A"},0,0,0,"","",0,0,0,0,0,0,0,0,0,0,0,null,null,null,null,null,null,null,null,null,null,0,null,null,null,null,null,null,null,0,0,0,0,0,0,0,0,0,0,0,null,null,null,{"$f":"IF(#REF!=\"\",0, IF(#REF!=\"-\",0,IF(#REF!>100%,1,0)))","v":{"$error":"#REF!"}},null,{"$f":"IF(#REF!=\"\",0, IF(#REF!=\"-\",0,IF(#REF!>100%,1,0)))","v":{"$error":"#REF!"}},{"$f":"IF(#REF!=\"\",0, IF(#REF!=\"-\",0,IF(#REF!>100%,1,0)))","v":{"$error":"#REF!"}},{"$f":"IF(#REF!=\"\",0, IF(#REF!=\"-\",0,IF(#REF!>100%,1,0)))","v":{"$error":"#REF!"}},null,null,null,{"$f":"CONCATENATE(#REF!,#REF!,#REF!)","v":{"$error":"#REF!"}},{"$error":"#REF!"},0,false,0,{"$f":"IF(#REF!=\"\",0,IF(#REF!=#REF!,1,0))","v":{"$error":"#REF!"}},null,null,null,null,null,"R1LBRAINTREE - THE GABLES","R1LD1","BRAINTREE - THE GABLES","R1LD1","BRAINTREE - THE GABLES","R1L",null,null,"BEDFORD HOSPITAL SOUTH WING","Godber"]
[{"$error":"#N/A"},{"$error":"#N/A"},0,0,0,"","",0,0,0,0,0,0,0,0,0,0,0,null,null,null,null,null,null,null,null,null,null,0,null,null,null,null,null,null,null,0,0,0,0,0,0,0,0,0,0,0,null,null,null,{"$f":"IF(#REF!=\"\",0, IF(#REF!=\"-\",0,IF(#REF!>100%,1,0)))","v":{"$error":"#REF!"}},null,{"$f":"IF(#REF!=\"\",0, IF(#REF!=\"-\",0,IF(#REF!>100%,1,0)))","v":{"$error":"#REF!"}},{"$f":"IF(#REF!=\"\",0, IF(#REF!=\"-\",0,IF(#REF!>100%,1,0)))","v":{"$error":"#REF!"}},{"$f":"IF(#REF!=\"\",0, IF(#REF!=\"-\",0,IF(#REF!>100%,1,0)))","v":{"$error":"#REF!"}},null,null,null,{"$f":"CONCATENATE(#REF!,#REF!,#REF!)","v":{"$error":"#REF!"}},{"$error":"#REF!"},0,false,0,{"$f":"IF(#REF!=\"\",0,IF(#REF!=#REF!,1,0))","v":{"$error":"#REF!"}},null,null,null,null,null,"R1LBROCKFIELD HOUSE","R1LK9","BROCKFIELD HOUSE","R1LK9","BROCKFIELD HOUSE","R1L",null,null,"BEDFORD HOSPITAL SOUTH WING","Harpur"]
[{"$error":"#N/A"},{"$error":"#N/A"},0,0,0,"","",0,0,0,0,0,0,0,0,0,0,0,null,null,null,null,null,null,null,null,null,null,0,null,null,null,null,null,null,null,0,0,0,0,0,0,0,0,0,0,0,null,null,null,{"$f":"IF(#REF!=\"\",0, IF(#REF!=\"-\",0,IF(#REF!>100%,1,0)))","v":{"$error":"#REF!"}},null,{"$f":"IF(#REF!=\"\",0, IF(#REF!=\"-\",0,IF(#REF!>100%,1,0)))","v":{"$error":"#REF!"}},{"$f":"IF(#REF!=\"\",0, IF(#REF!=\"-\",0,IF(#REF!>100%,1,0)))","v":{"$error":"#REF!"}},{"$f":"IF(#REF!=\"\",0, IF(#REF!=\"-\",0,IF(#REF!>100%,1,0)))","v":{"$error":"#REF!"}},null,null,null,{"$f":"CONCATENATE(#REF!,#REF!,#REF!)","v":{"$error":"#REF!"}},{"$error":"#REF!"},0,false,0,{"$f":"IF(#REF!=\"\",0,IF(#REF!=#REF!,1,0))","v":{"$error":"#REF!"}},null,null,null,null,null,"R1LCHELMSFORD - THE LINDEN CENTRE","R1LAH","CHELMSFORD - THE LINDEN CENTRE","R1LAH","CHELMSFORD - THE LINDEN CENTRE","R1L",null,null,"BEDFORD HOSPITAL SOUTH WING","Howard Surgical"]
[{"$error":"#N/A"},{"$error":"#N/A"},0,0,0,"","",0,0,0,0,0,0,0,0,0,0,0,null,null,null,null,null,null,null,null,null,null,0,null,null,null,null,null,null,null,0,0,0,0,0,0,0,0,0,0,0,null,null,null,{"$f":"IF(#REF!=\"\",0, IF(#REF!=\"-\",0,IF(#REF!>100%,1,0)))","v":{"$error":"#REF!"}},null,{"$f":"IF(#REF!=\"\",0, IF(#REF!=\"-\",0,IF(#REF!>100%,1,0)))","v":{"$error":"#REF!"}},{"$f":"IF(#REF!=\"\",0, IF(#REF!=\"-\",0,IF(#REF!>100%,1,0)))","v":{"$error":"#REF!"}},{"$f":"IF(#REF!=\"\",0, IF(#REF!=\"-\",0,IF(#REF!>100%,1,0)))","v":{"$error":"#REF!"}},null,null,null,{"$f":"CONCATENATE(#REF!,#REF!,#REF!)","v":{"$error":"#REF!"}},{"$error":"#REF!"},0,false,0,{"$f":"IF(#REF!=\"\",0,IF(#REF!=#REF!,1,0))","v":{"$error":"#REF!"}},null,null,null,null,null,"R1LCLACTON - MENTAL HEALTH SERVICES - CLACTON HOSPITAL","R1LE2","CLACTON - MENTAL HEALTH SERVICES - CLACTON HOSPITAL","R1LE2","CLACTON - MENTAL HEALTH SERVICES - CLACTON HOSPITAL","R1L",null,null,"BEDFORD HOSPITAL SOUTH WING","Meadow bank"]
[{"$error":"#N/A"},{"$error":"#N/A"},0,0,0,"","",0,0,0,0,0,0,0,0,0,0,0,null,null,null,null,null,null,null,null,null,null,0,null,null,null,null,null,null,null,0,0,0,0,0,0,0,0,0,0,0,null,null,null,{"$f":"IF(#REF!=\"\",0, IF(#REF!=\"-\",0,IF(#REF!>100%,1,0)))","v":{"$error":"#REF!"}},null,{"$f":"IF(#REF!=\"\",0, IF(#REF!=\"-\",0,IF(#REF!>100%,1,0)))","v":{"$error":"#REF!"}},{"$f":"IF(#REF!=\"\",0, IF(#REF!=\"-\",0,IF(#REF!>100%,1,0)))","v":{"$error":"#REF!"}},{"$f":"IF(#REF!=\"\",0, IF(#REF!=\"-\",0,IF(#REF!>100%,1,0)))","v":{"$error":"#REF!"}},null,null,null,{"$f":"CONCATENATE(#REF!,#REF!,#REF!)","v":{"$error":"#REF!"}},{"$error":"#REF!"},0,false,0,{"$f":"IF(#REF!=\"\",0,IF(#REF!=#REF!,1,0))","v":{"$error":"#REF!"}},null,null,null,null,null,"R1LCLIFTON LODGE","R1LJ3","CLIFTON LODGE","R1LJ3","CLIFTON LODGE","R1L",null,null,"BEDFORD HOSPITAL SOUTH WING","Orchard Gynae"]
[{"$error":"#N/A"},{"$error":"#N/A"},0,0,0,"","",0,0,0,0,0,0,0,0,0,0,0,null,null,null,null,null,null,null,null,null,null,0,null,null,null,null,null,null,null,0,0,0,0,0,0,0,0,0,0,0,null,null,null,{"$f":"IF(#REF!=\"\",0, IF(#REF!=\"-\",0,IF(#REF!>100%,1,0)))","v":{"$error":"#REF!"}},null,{"$f":"IF(#REF!=\"\",0, IF(#REF!=\"-\",0,IF(#REF!>100%,1,0)))","v":{"$error":"#REF!"}},{"$f":"IF(#REF!=\"\",0, IF(#REF!=\"-\",0,IF(#REF!>100%,1,0)))","v":{"$error":"#REF!"}},{"$f":"IF(#REF!=\"\",0, IF(#REF!=\"-\",0,IF(#REF!>100%,1,0)))","v":{"$error":"#REF!"}},null,null,null,{"$f":"CONCATENATE(#REF!,#REF!,#REF!)","v":{"$error":"#REF!"}},{"$error":"#REF!"},0,false,0,{"$f":"IF(#REF!=\"\",0,IF(#REF!=#REF!,1,0))","v":{"$error":"#REF!"}},null,null,null,null,null,"R1LCOLCHESTER - KING'S WOOD CENTRE","R1LD6","COLCHESTER - KING'S WOOD CENTRE","R1LD6","COLCHESTER - KING'S WOOD CENTRE","R1L",null,null,"BEDFORD HOSPITAL SOUTH WING","Orchard Maternity/Delivery"]
[{"$error":"#N/A"},{"$error":"#N/A"},0,0,0,"","",0,0,0,0,0,0,0,0,0,0,0,null,null,null,null,null,null,null,null,null,null,0,null,null,null,null,null,null,null,0,0,0,0,0,0,0,0,0,0,0,null,null,null,{"$f":"IF(#REF!=\"\",0, IF(#REF!=\"-\",0,IF(#REF!>100%,1,0)))","v":{"$error":"#REF!"}},null,{"$f":"IF(#REF!=\"\",0, IF(#REF!=\"-\",0,IF(#REF!>100%,1,0)))","v":{"$error":"#REF!"}},{"$f":"IF(#REF!=\"\",0, IF(#REF!=\"-\",0,IF(#REF!>100%,1,0)))","v":{"$error":"#REF!"}},{"$f":"IF(#REF!=\"\",0, IF(#REF!=\"-\",0,IF(#REF!>100%,1,0)))","v":{"$error":"#REF!"}},null,null,null,{"$f":"CONCATENATE(#REF!,#REF!,#REF!)","v":{"$error":"#REF!"}},{"$error":"#REF!"},0,false,0,{"$f":"IF(#REF!=\"\",0,IF(#REF!=#REF!,1,0))","v":{"$error":"#REF!"}},null,null,null,null,null,"R1LCOLCHESTER - THE BRAMBLES","R1LAT","COLCHESTER - THE BRAMBLES","R1LAT","COLCHESTER - THE BRAMBLES","R1L",null,null,"BEDFORD HOSPITAL SOUTH WING","Pilgrim"]
[{"$error":"#N/A"},{"$error":"#N/A"},0,0,0,"","",0,0,0,0,0,0,0,0,0,0,0,null,null,null,null,null,null,null,null,null,null,0,null,null,null,null,null,null,null,0,0,0,0,0,0,0,0,0,0,0,null,null,null,{"$f":"IF(#REF!=\"\",0, IF(#REF!=\"-\",0,IF(#REF!>100%,1,0)))","v":{"$error":"#REF!"}},null,{"$f":"IF(#REF!=\"\",0, IF(#REF!=\"-\",0,IF(#REF!>100%,1,0)))","v":{"$error":"#REF!"}},{"$f":"IF(#REF!=\"\",0, IF(#REF!=\"-\",0,IF(#REF!>100%,1,0)))","v":{"$error":"#REF!"}},{"$f":"IF(#REF!=\"\",0, IF(#REF!=\"-\",0,IF(#REF!>100%,1,0)))","v":{"$error":"#REF!"}},null,null,null,{"$f":"CONCATENATE(#REF!,#REF!,#REF!)","v":{"$error":"#REF!"}},{"$error":"#REF!"},0,false,0,{"$f":"IF(#REF!=\"\",0,IF(#REF!=#REF!,1,0))","v":{"$error":"#REF!"}},null,null,null,null,null,"R1LCOLCHESTER - THE LAKES","R1LE1","COLCHESTER - THE LAKES","R1LE1","COLCHESTER - THE LAKES","R1L",null,null,"BEDFORD HOSPITAL SOUTH WING","Reginald Hart"]
[{"$error":"#N/A"},{"$error":"#N/A"},0,0,0,"","",0,0,0,0,0,0,0,0,0,0,0,null,null,null,null,null,null,null,null,null,null,0,null,null,null,null,null,null,null,0,0,0,0,0,0,0,0,0,0,0,null,null,null,{"$f":"IF(#REF!=\"\",0, IF(#REF!=\"-\",0,IF(#REF!>100%,1,0)))","v":{"$error":"#REF!"}},null,{"$f":"IF(#REF!=\"\",0, IF(#REF!=\"-\",0,IF(#REF!>100%,1,0)))","v":{"$error":"#REF!"}},{"$f":"IF(#REF!=\"\",0, IF(#REF!=\"-\",0,IF(#REF!>100%,1,0)))","v":{"$error":"#REF!"}},{"$f":"IF(#REF!=\"\",0, IF(#REF!=\"-\",0,IF(#REF!>100%,1,0)))","v":{"$error":"#REF!"}},null,null,null,{"$f":"CONCATENATE(#REF!,#REF!,#REF!)","v":{"$error":"#REF!"}},{"$error":"#REF!"},0,false,0,{"$f":"IF(#REF!=\"\",0,IF(#REF!=#REF!,1,0))","v":{"$error":"#REF!"}},null,null,null,null,null,"R1LCUMBERLEDGE CENTRE","R1L90","CUMBERLEDGE CENTRE","R1L90","CUMBERLEDGE CENTRE","R1L",null,null,"BEDFORD HOSPITAL SOUTH WING","Richard Wells"]
[{"$error":"#N/A"},{"$error":"#N/A"},0,0,0,"","",0,0,0,0,0,0,0,0,0,0,0,null,null,null,null,null,null,null,null,null,null,0,null,null,null,null,null,null,null,0,0,0,0,0,0,0,0,0,0,0,null,null,null,{"$f":"IF(#REF!=\"\",0, IF(#REF!=\"-\",0,IF(#REF!>100%,1,0)))","v":{"$error":"#REF!"}},null,{"$f":"IF(#REF!=\"\",0, IF(#REF!=\"-\",0,IF(#REF!>100%,1,0)))","v":{"$error":"#REF!"}},{"$f":"IF(#REF!=\"\",0, IF(#REF!=\"-\",0,IF(#REF!>100%,1,0)))","v":{"$error":"#REF!"}},{"$f":"IF(#REF!=\"\",0, IF(#REF!=\"-\",0,IF(#REF!>100%,1,0)))","v":{"$error":"#REF!"}},null,null,null,{"$f":"CONCATENATE(#REF!,#REF!,#REF!)","v":{"$error":"#REF!"}},{"$error":"#REF!"},0,false,0,{"$f":"IF(#REF!=\"\",0,IF(#REF!=#REF!,1,0))","v":{"$error":"#REF!"}},null,null,null,null,null,"R1LHARLOW - DERWENT CENTRE","R1LPA","HARLOW - DERWENT CENTRE","R1LPA","HARLOW - DERWENT CENTRE","R1L",null,null,"BEDFORD HOSPITAL SOUTH WING","Riverbank"]
[{"$error":"#N/A"},{"$error":"#N/A"},0,0,0,"","",0,0,0,0,0,0,0,0,0,0,0,null,null,null,null,null,null,null,null,null,null,0,null,null,null,null,null,null,null,0,0,0,0,0,0,0,0,0,0,0,null,null,null,{"$f":"IF(#REF!=\"\",0, IF(#REF!=\"-\",0,IF(#REF!>100%,1,0)))","v":{"$error":"#REF!"}},null,{"$f":"IF(#REF!=\"\",0, IF(#REF!=\"-\",0,IF(#REF!>100%,1,0)))","v":{"$error":"#REF!"}},{"$f":"IF(#REF!=\"\",0, IF(#REF!=\"-\",0,IF(#REF!>100%,1,0)))","v":{"$error":"#REF!"}},{"$f":"IF(#REF!=\"\",0, IF(#REF!=\"-\",0,IF(#REF!>100%,1,0)))","v":{"$error":"#REF!"}},null,null,null,{"$f":"CONCATENATE(#REF!,#REF!,#REF!)","v":{"$error":"#REF!"}},{"$error":"#REF!"},0,false,0,{"$f":"IF(#REF!=\"\",0,IF(#REF!=#REF!,1,0))","v":{"$error":"#REF!"}},null,null,null,null,null,"R1LHARLOW - SYDENHAM HOUSE","R1LHF","HARLOW - SYDENHAM HOUSE","R1LHF","HARLOW - SYDENHAM HOUSE","R1L",null,null,"BEDFORD HOSPITAL SOUTH WING","Russell"]
[{"$error":"#N/A"},{"$error":"#N/A"},0,0,0,"","",0,0,0,0,0,0,0,0,0,0,0,null,null,null,null,null,null,null,null,null,null,0,null,null,null,null,null,null,null,0,0,0,0,0,0,0,0,0,0,0,null,null,null,{"$f":"IF(#REF!=\"\",0, IF(#REF!=\"-\",0,IF(#REF!>100%,1,0)))","v":{"$error":"#REF!"}},null,{"$f":"IF(#REF!=\"\",0, IF(#REF!=\"-\",0,IF(#REF!>100%,1,0)))","v":{"$error":"#REF!"}},{"$f":"IF(#REF!=\"\",0, IF(#REF!=\"-\",0,IF(#REF!>100%,1,0)))","v":{"$error":"#REF!"}},{"$f":"IF(#REF!=\"\",0, IF(#REF!=\"-\",0,IF(#REF!>100%,1,0)))","v":{"$error":"#REF!"}},null,null,null,{"$f":"CONCATENATE(#REF!,#REF!,#REF!)","v":{"$error":"#REF!"}},{"$error":"#REF!"},0,false,0,{"$f":"IF(#REF!=\"\",0,IF(#REF!=#REF!,1,0))","v":{"$error":"#REF!"}},null,null,null,null,null,"R1LHEATH CLOSE","R1LA9","HEATH CLOSE","R1LA9","HEATH CLOSE","R1L",null,null,"BEDFORD HOSPITAL SOUTH WING","Shand"]
[{"$error":"#N/A"},{"$error":"#N/A"},0,0,0,"","",0,0,0,0,0,0,0,0,0,0,0,null,null,null,null,null,null,null,null,null,null,0,null,null,null,null,null,null,null,0,0,0,0,0,0,0,0,0,0,0,null,null,null,{"$f":"IF(#REF!=\"\",0, IF(#REF!=\"-\",0,IF(#REF!>100%,1,0)))","v":{"$error":"#REF!"}},null,{"$f":"IF(#REF!=\"\",0, IF(#REF!=\"-\",0,IF(#REF!>100%,1,0)))","v":{"$error":"#REF!"}},{"$f":"IF(#REF!=\"\",0, IF(#REF!=\"-\",0,IF(#REF!>100%,1,0)))","v":{"$error":"#REF!"}},{"$f":"IF(#REF!=\"\",0, IF(#REF!=\"-\",0,IF(#REF!>100%,1,0)))","v":{"$error":"#REF!"}},null,null,null,{"$f":"CONCATENATE(#REF!,#REF!,#REF!)","v":{"$error":"#REF!"}},{"$error":"#REF!"},0,false,0,{"$f":"IF(#REF!=\"\",0,IF(#REF!=#REF!,1,0))","v":{"$error":"#REF!"}},null,null,null,null,null,"R1LMENTAL HEALTH UNIT (BASILDON)","R1L40","MENTAL HEALTH UNIT (BASILDON)","R1L40","MENTAL HEALTH UNIT (BASILDON)","R1L",null,null,"BEDFORD HOSPITAL SOUTH WING","Shuttleworth Medical"]
[{"$error":"#N/A"},{"$error":"#N/A"},0,0,0,"","",0,0,0,0,0,0,0,0,0,0,0,null,null,null,null,null,null,null,null,null,null,0,null,null,null,null,null,null,null,0,0,0,0,0,0,0,0,0,0,0,null,null,null,{"$f":"IF(#REF!=\"\",0, IF(#REF!=\"-\",0,IF(#REF!>100%,1,0)))","v":{"$error":"#REF!"}},null,{"$f":"IF(#REF!=\"\",0, IF(#REF!=\"-\",0,IF(#REF!>100%,1,0)))","v":{"$error":"#REF!"}},{"$f":"IF(#REF!=\"\",0, IF(#REF!=\"-\",0,IF(#REF!>100%,1,0)))","v":{"$error":"#REF!"}},{"$f":"IF(#REF!=\"\",0, IF(#REF!=\"-\",0,IF(#REF!>100%,1,0)))","v":{"$error":"#REF!"}},null,null,null,{"$f":"CONCATENATE(#REF!,#REF!,#REF!)","v":{"$error":"#REF!"}},{"$error":"#REF!"},0,false,0,{"$f":"IF(#REF!=\"\",0,IF(#REF!=#REF!,1,0))","v":{"$error":"#REF!"}},null,null,null,null,null,"R1LMOUNTNESSING COURT","R1L65","MOUNTNESSING COURT","R1L65","MOUNTNESSING COURT","R1L",null,null,"BEDFORD HOSPITAL SOUTH WING","Whitbread Medical"]
[{"$error":"#N/A"},{"$error":"#N/A"},0,0,0,"","",0,0,0,0,0,0,0,0,0,0,0,null,null,null,null,null,null,null,null,null,null,0,null,null,null,null,null,null,null,0,0,0,0,0,0,0,0,0,0,0,null,null,null,{"$f":"IF(#REF!=\"\",0, IF(#REF!=\"-\",0,IF(#REF!>100%,1,0)))","v":{"$error":"#REF!"}},null,{"$f":"IF(#REF!=\"\",0, IF(#REF!=\"-\",0,IF(#REF!>100%,1,0)))","v":{"$error":"#REF!"}},{"$f":"IF(#REF!=\"\",0, IF(#REF!=\"-\",0,IF(#REF!>100%,1,0)))","v":{"$error":"#REF!"}},{"$f":"IF(#REF!=\"\",0, IF(#REF!=\"-\",0,IF(#REF!>100%,1,0)))","v":{"$error":"#REF!"}},null,null,null,{"$f":"CONCATENATE(#REF!,#REF!,#REF!)","v":{"$error":"#REF!"}},{"$error":"#REF!"},0,false,0,{"$f":"IF(#REF!=\"\",0,IF(#REF!=#REF!,1,0))","v":{"$error":"#REF!"}},null,null,null,null,null,"R1LNEW ST AUBYN CENTRE","R1L22","NEW ST AUBYN CENTRE","R1LL","NEW ST AUBYN CENTRE","R1L",null,null,"PROSPECT PARK HOSPITAL","Bluebell Ward"]
[{"$error":"#N/A"},{"$error":"#N/A"},0,0,0,"","",0,0,0,0,0,0,0,0,0,0,0,null,null,null,null,null,null,null,null,null,null,0,null,null,null,null,null,null,null,0,0,0,0,0,0,0,0,0,0,0,null,null,null,{"$f":"IF(#REF!=\"\",0, IF(#REF!=\"-\",0,IF(#REF!>100%,1,0)))","v":{"$error":"#REF!"}},null,{"$f":"IF(#REF!=\"\",0, IF(#REF!=\"-\",0,IF(#REF!>100%,1,0)))","v":{"$error":"#REF!"}},{"$f":"IF(#REF!=\"\",0, IF(#REF!=\"-\",0,IF(#REF!>100%,1,0)))","v":{"$error":"#REF!"}},{"$f":"IF(#REF!=\"\",0, IF(#REF!=\"-\",0,IF(#REF!>100%,1,0)))","v":{"$error":"#REF!"}},null,null,null,{"$f":"CONCATENATE(#REF!,#REF!,#REF!)","v":{"$error":"#REF!"}},{"$error":"#REF!"},0,false,0,{"$f":"IF(#REF!=\"\",0,IF(#REF!=#REF!,1,0))","v":{"$error":"#REF!"}},null,null,null,null,null,"R1LROBIN PINTO UNIT","R1L31","ROBIN PINTO UNIT","R1L31","ROBIN PINTO UNIT","R1L",null,null,"PROSPECT PARK HOSPITAL","Campion Unit"]
[{"$error":"#N/A"},{"$error":"#N/A"},0,0,0,"","",0,0,0,0,0,0,0,0,0,0,0,null,null,null,null,null,null,null,null,null,null,0,null,null,null,null,null,null,null,0,0,0,0,0,0,0,0,0,0,0,null,null,null,{"$f":"IF(#REF!=\"\",0, IF(#REF!=\"-\",0,IF(#REF!>100%,1,0)))","v":{"$error":"#REF!"}},null,{"$f":"IF(#REF!=\"\",0, IF(#REF!=\"-\",0,IF(#REF!>100%,1,0)))","v":{"$error":"#REF!"}},{"$f":"IF(#REF!=\"\",0, IF(#REF!=\"-\",0,IF(#REF!>100%,1,0)))","v":{"$error":"#REF!"}},{"$f":"IF(#REF!=\"\",0, IF(#REF!=\"-\",0,IF(#REF!>100%,1,0)))","v":{"$error":"#REF!"}},null,null,null,{"$f":"CONCATENATE(#REF!,#REF!,#REF!)","v":{"$error":"#REF!"}},{"$error":"#REF!"},0,false,0,{"$f":"IF(#REF!=\"\",0,IF(#REF!=#REF!,1,0))","v":{"$error":"#REF!"}},null,null,null,null,null,"R1LROCHFORD COMMUNITY HOSPITAL","R1L10","ROCHFORD COMMUNITY HOSPITAL","R1L10","ROCHFORD COMMUNITY HOSPITAL","R1L",null,null,"PROSPECT PARK HOSPITAL","Daisy Ward"]
[{"$error":"#N/A"},{"$error":"#N/A"},0,0,0,"","",0,0,0,0,0,0,0,0,0,0,0,null,null,null,null,null,null,null,null,null,null,0,null,null,null,null,null,null,null,0,0,0,0,0,0,0,0,0,0,0,null,null,null,{"$f":"IF(#REF!=\"\",0, IF(#REF!=\"-\",0,IF(#REF!>100%,1,0)))","v":{"$error":"#REF!"}},null,{"$f":"IF(#REF!=\"\",0, IF(#REF!=\"-\",0,IF(#REF!>100%,1,0)))","v":{"$error":"#REF!"}},{"$f":"IF(#REF!=\"\",0, IF(#REF!=\"-\",0,IF(#REF!>100%,1,0)))","v":{"$error":"#REF!"}},{"$f":"IF(#REF!=\"\",0, IF(#REF!=\"-\",0,IF(#REF!>100%,1,0)))","v":{"$error":"#REF!"}},null,null,null,{"$f":"CONCATENATE(#REF!,#REF!,#REF!)","v":{"$error":"#REF!"}},{"$error":"#REF!"},0,false,0,{"$f":"IF(#REF!=\"\",0,IF(#REF!=#REF!,1,0))","v":{"$error":"#REF!"}},null,null,null,null,null,"R1LSAFFRON WALDEN COMMUNITY HOSPITAL","R1LTH","SAFFRON WALDEN COMMUNITY HOSPITAL","R1LTH","SAFFRON WALDEN COMMUNITY HOSPITAL","R1L",null,null,"PROSPECT PARK HOSPITAL","Oakwood Ward"]
[{"$error":"#N/A"},{"$error":"#N/A"},0,0,0,"","",0,0,0,0,0,0,0,0,0,0,0,null,null,null,null,null,null,null,null,null,null,0,null,null,null,null,null,null,null,0,0,0,0,0,0,0,0,0,0,0,null,null,null,{"$f":"IF(#REF!=\"\",0, IF(#REF!=\"-\",0,IF(#REF!>100%,1,0)))","v":{"$error":"#REF!"}},null,{"$f":"IF(#REF!=\"\",0, IF(#REF!=\"-\",0,IF(#REF!>100%,1,0)))","v":{"$error":"#REF!"}},{"$f":"IF(#REF!=\"\",0, IF(#REF!=\"-\",0,IF(#REF!>100%,1,0)))","v":{"$error":"#REF!"}},{"$f":"IF(#REF!=\"\",0, IF(#REF!=\"-\",0,IF(#REF!>100%,1,0)))","v":{"$error":"#REF!"}},null,null,null,{"$f":"CONCATENATE(#REF!,#REF!,#REF!)","v":{"$error":"#REF!"}},{"$error":"#REF!"},0,false,0,{"$f":"IF(#REF!=\"\",0,IF(#REF!=#REF!,1,0))","v":{"$error":"#REF!"}},null,null,null,null,null,"R1LST MARGARET'S HOSPITAL","R1LT1","ST MARGARET'S HOSPITAL","R1LT1","ST MARGARET'S HOSPITAL","R1L",null,null,"PROSPECT PARK HOSPITAL","Orchid Ward"]
[{"$error":"#N/A"},{"$error":"#N/A"},0,0,0,"","",0,0,0,0,0,0,0,0,0,0,0,null,null,null,null,null,null,null,null,null,null,0,null,null,null,null,null,null,null,0,0,0,0,0,0,0,0,0,0,0,null,null,null,{"$f":"IF(#REF!=\"\",0, IF(#REF!=\"-\",0,IF(#REF!>100%,1,0)))","v":{"$error":"#REF!"}},null,{"$f":"IF(#REF!=\"\",0, IF(#REF!=\"-\",0,IF(#REF!>100%,1,0)))","v":{"$error":"#REF!"}},{"$f":"IF(#REF!=\"\",0, IF(#REF!=\"-\",0,IF(#REF!>100%,1,0)))","v":{"$error":"#REF!"}},{"$f":"IF(#REF!=\"\",0, IF(#REF!=\"-\",0,IF(#REF!>100%,1,0)))","v":{"$error":"#REF!"}},null,null,null,{"$f":"CONCATENATE(#REF!,#REF!,#REF!)","v":{"$error":"#REF!"}},{"$error":"#REF!"},0,false,0,{"$f":"IF(#REF!=\"\",0,IF(#REF!=#REF!,1,0))","v":{"$error":"#REF!"}},null,null,null,null,null,"R1LTHE CRYSTAL CENTRE","R1L14","THE CRYSTAL CENTRE","R1L14","THE CRYSTAL CENTRE","R1L",null,null,"PROSPECT PARK HOSPITAL","Rose Ward"]
[{"$error":"#N/A"},{"$error":"#N/A"},0,0,0,"","",0,0,0,0,0,0,0,0,0,0,0,null,null,null,null,null,null,null,null,null,null,0,null,null,null,null,null,null,null,0,0,0,0,0,0,0,0,0,0,0,null,null,null,{"$f":"IF(#REF!=\"\",0, IF(#REF!=\"-\",0,IF(#REF!>100%,1,0)))","v":{"$error":"#REF!"}},null,{"$f":"IF(#REF!=\"\",0, IF(#REF!=\"-\",0,IF(#REF!>100%,1,0)))","v":{"$error":"#REF!"}},{"$f":"IF(#REF!=\"\",0, IF(#REF!=\"-\",0,IF(#REF!>100%,1,0)))","v":{"$error":"#REF!"}},{"$f":"IF(#REF!=\"\",0, IF(#REF!=\"-\",0,IF(#REF!>100%,1,0)))","v":{"$error":"#REF!"}},null,null,null,{"$f":"CONCATENATE(#REF!,#REF!,#REF!)","v":{"$error":"#REF!"}},{"$error":"#REF!"},0,false,0,{"$f":"IF(#REF!=\"\",0,IF(#REF!=#REF!,1,0))","v":{"$error":"#REF!"}},null,null,null,null,null,"R1LTHURROCK COMMUNITY HOSPITAL","R1L50","THURROCK COMMUNITY HOSPITAL","R1L50","THURROCK COMMUNITY HOSPITAL","R1L",null,null,"PROSPECT PARK HOSPITAL","Rowan Ward"]
[{"$error":"#N/A"},{"$error":"#N/A"},0,0,0,"","",0,0,0,0,0,0,0,0,0,0,0,null,null,null,null,null,null,null,null,null,null,0,null,null,null,null,null,null,null,0,0,0,0,0,0,0,0,0,0,0,null,null,null,{"$f":"IF(#REF!=\"\",0, IF(#REF!=\"-\",0,IF(#REF!>100%,1,0)))","v":{"$error":"#REF!"}},null,{"$f":"IF(#REF!=\"\",0, IF(#REF!=\"-\",0,IF(#REF!>100%,1,0)))","v":{"$error":"#REF!"}},{"$f":"IF(#REF!=\"\",0, IF(#REF!=\"-\",0,IF(#REF!>100%,1,0)))","v":{"$error":"#REF!"}},{"$f":"IF(#REF!=\"\",0, IF(#REF!=\"-\",0,IF(#REF!>100%,1,0)))","v":{"$error":"#REF!"}},null,null,null,{"$f":"CONCATENATE(#REF!,#REF!,#REF!)","v":{"$error":"#REF!"}},{"$error":"#REF!"},0,false,0,{"$f":"IF(#REF!=\"\",0,IF(#REF!=#REF!,1,0))","v":{"$error":"#REF!"}},null,null,null,null,null,"R1LWOODLEA CLINIC (LEARNING DISABILITY SERVICE)","R1LL8","WOODLEA CLINIC (LEARNING DISABILITY SERVICE)","R1LL8","WOODLEA CLINIC (LEARNING DISABILITY SERVICE)","R1L",null,null,"PROSPECT PARK HOSPITAL","Snowdrop Ward"]
[{"$error":"#N/A"},{"$error":"#N/A"},0,0,0,"","",0,0,0,0,0,0,0,0,0,0,0,null,null,null,null,null,null,null,null,null,null,0,null,null,null,null,null,null,null,0,0,0,0,0,0,0,0,0,0,0,null,null,null,{"$f":"IF(#REF!=\"\",0, IF(#REF!=\"-\",0,IF(#REF!>100%,1,0)))","v":{"$error":"#REF!"}},null,{"$f":"IF(#REF!=\"\",0, IF(#REF!=\"-\",0,IF(#REF!>100%,1,0)))","v":{"$error":"#REF!"}},{"$f":"IF(#REF!=\"\",0, IF(#REF!=\"-\",0,IF(#REF!>100%,1,0)))","v":{"$error":"#REF!"}},{"$f":"IF(#REF!=\"\",0, IF(#REF!=\"-\",0,IF(#REF!>100%,1,0)))","v":{"$error":"#REF!"}},null,null,null,{"$f":"CONCATENATE(#REF!,#REF!,#REF!)","v":{"$error":"#REF!"}},{"$error":"#REF!"},0,false,0,{"$f":"IF(#REF!=\"\",0,IF(#REF!=#REF!,1,0))","v":{"$error":"#REF!"}},null,null,null,null,null,"RA2FARNHAM HOSPITAL","RA215","FARNHAM HOSPITAL","RA215","FARNHAM HOSPITAL","RA2",null,null,"PROSPECT PARK HOSPITAL","Sorrel Ward"]
[{"$error":"#N/A"},{"$error":"#N/A"},0,0,0,"","",0,0,0,0,0,0,0,0,0,0,0,null,null,null,null,null,null,null,null,null,null,0,null,null,null,null,null,null,null,0,0,0,0,0,0,0,0,0,0,0,null,null,null,{"$f":"IF(#REF!=\"\",0, IF(#REF!=\"-\",0,IF(#REF!>100%,1,0)))","v":{"$error":"#REF!"}},null,{"$f":"IF(#REF!=\"\",0, IF(#REF!=\"-\",0,IF(#REF!>100%,1,0)))","v":{"$error":"#REF!"}},{"$f":"IF(#REF!=\"\",0, IF(#REF!=\"-\",0,IF(#REF!>100%,1,0)))","v":{"$error":"#REF!"}},{"$f":"IF(#REF!=\"\",0, IF(#REF!=\"-\",0,IF(#REF!>100%,1,0)))","v":{"$error":"#REF!"}},null,null,null,{"$f":"CONCATENATE(#REF!,#REF!,#REF!)","v":{"$error":"#REF!"}},{"$error":"#REF!"},0,false,0,{"$f":"IF(#REF!=\"\",0,IF(#REF!=#REF!,1,0))","v":{"$error":"#REF!"}},null,null,null,null,null,"RA2FRIMLEY PARK HOSPITAL","RA245","FRIMLEY PARK HOSPITAL","RA245","FRIMLEY PARK HOSPITAL","RA2",null,null,"ST MARKS HOSPITAL","Henry Tudor"]
[{"$error":"#N/A"},{"$error":"#N/A"},0,0,0,"","",0,0,0,0,0,0,0,0,0,0,0,null,null,null,null,null,null,null,null,null,null,0,null,null,null,null,null,null,null,0,0,0,0,0,0,0,0,0,0,0,null,null,null,{"$f":"IF(#REF!=\"\",0, IF(#REF!=\"-\",0,IF(#REF!>100%,1,0)))","v":{"$error":"#REF!"}},null,{"$f":"IF(#REF!=\"\",0, IF(#REF!=\"-\",0,IF(#REF!>100%,1,0)))","v":{"$error":"#REF!"}},{"$f":"IF(#REF!=\"\",0, IF(#REF!=\"-\",0,IF(#REF!>100%,1,0)))","v":{"$error":"#REF!"}},{"$f":"IF(#REF!=\"\",0, IF(#REF!=\"-\",0,IF(#REF!>100%,1,0)))","v":{"$error":"#REF!"}},null,null,null,{"$f":"CONCATENATE(#REF!,#REF!,#REF!)","v":{"$error":"#REF!"}},{"$error":"#REF!"},0,false,0,{"$f":"IF(#REF!=\"\",0,IF(#REF!=#REF!,1,0))","v":{"$error":"#REF!"}},null,null,null,null,null,"RA2HASLEMERE HOSPITAL","RA219","HASLEMERE HOSPITAL","RA219","HASLEMERE HOSPITAL","RA2",null,null,"UPTON HOSPITAL","Jubilee Ward"]
[{"$error":"#N/A"},{"$error":"#N/A"},0,0,0,"","",0,0,0,0,0,0,0,0,0,0,0,null,null,null,null,null,null,null,null,null,null,0,null,null,null,null,null,null,null,0,0,0,0,0,0,0,0,0,0,0,null,null,null,{"$f":"IF(#REF!=\"\",0, IF(#REF!=\"-\",0,IF(#REF!>100%,1,0)))","v":{"$error":"#REF!"}},null,{"$f":"IF(#REF!=\"\",0, IF(#REF!=\"-\",0,IF(#REF!>100%,1,0)))","v":{"$error":"#REF!"}},{"$f":"IF(#REF!=\"\",0, IF(#REF!=\"-\",0,IF(#REF!>100%,1,0)))","v":{"$error":"#REF!"}},{"$f":"IF(#REF!=\"\",0, IF(#REF!=\"-\",0,IF(#REF!>100%,1,0)))","v":{"$error":"#REF!"}},null,null,null,{"$f":"CONCATENATE(#REF!,#REF!,#REF!)","v":{"$error":"#REF!"}},{"$error":"#REF!"},0,false,0,{"$f":"IF(#REF!=\"\",0,IF(#REF!=#REF!,1,0))","v":{"$error":"#REF!"}},null,null,null,null,null,"RA2ROYAL SURREY COUNTY HOSPITAL","RA201","ROYAL SURREY COUNTY HOSPITAL","RA201","ROYAL SURREY COUNTY HOSPITAL","RA2",null,null,"WEST BERKSHIRE COMMUNITY HOSPITAL","WBCH Donnington Ward"]
[{"$error":"#N/A"},{"$error":"#N/A"},0,0,0,"","",0,0,0,0,0,0,0,0,0,0,0,null,null,null,null,null,null,null,null,null,null,0,null,null,null,null,null,null,null,0,0,0,0,0,0,0,0,0,0,0,null,null,null,{"$f":"IF(#REF!=\"\",0, IF(#REF!=\"-\",0,IF(#REF!>100%,1,0)))","v":{"$error":"#REF!"}},null,{"$f":"IF(#REF!=\"\",0, IF(#REF!=\"-\",0,IF(#REF!>100%,1,0)))","v":{"$error":"#REF!"}},{"$f":"IF(#REF!=\"\",0, IF(#REF!=\"-\",0,IF(#REF!>100%,1,0)))","v":{"$error":"#REF!"}},{"$f":"IF(#REF!=\"\",0, IF(#REF!=\"-\",0,IF(#REF!>100%,1,0)))","v":{"$error":"#REF!"}},null,null,null,{"$f":"CONCATENATE(#REF!,#REF!,#REF!)","v":{"$error":"#REF!"}},{"$error":"#REF!"},0,false,0,{"$f":"IF(#REF!=\"\",0,IF(#REF!=#REF!,1,0))","v":{"$error":"#REF!"}},null,null,null,null,null,{"$f":"CONCATENATE(LEFT(BS215, 3),BT215)","v":"RA3CHILDREN'S SERVICES SOUTH"},"RA305","CHILDREN'S SERVICES SOUTH","RA305","CHILDREN'S SERVICES SOUTH","RA3",null,null,"WEST BERKSHIRE COMMUNITY HOSPITAL","WBCH Highclere Ward"]
[{"$error":"#N/A"},{"$error":"#N/A"},0,0,0,"","",0,0,0,0,0,0,0,0,0,0,0,null,null,null,null,null,null,null,null,null,null,0,null,null,null,null,null,null,null,0,0,0,0,0,0,0,0,0,0,0,null,null,null,{"$f":"IF(#REF!=\"\",0, IF(#REF!=\"-\",0,IF(#REF!>100%,1,0)))","v":{"$error":"#REF!"}},null,{"$f":"IF(#REF!=\"\",0, IF(#REF!=\"-\",0,IF(#REF!>100%,1,0)))","v":{"$error":"#REF!"}},{"$f":"IF(#REF!=\"\",0, IF(#REF!=\"-\",0,IF(#REF!>100%,1,0)))","v":{"$error":"#REF!"}},{"$f":"IF(#REF!=\"\",0, IF(#REF!=\"-\",0,IF(#REF!>100%,1,0)))","v":{"$error":"#REF!"}},null,null,null,{"$f":"CONCATENATE(#REF!,#REF!,#REF!)","v":{"$error":"#REF!"}},{"$f":"IF(BG216=\"\",\"\",(IF(COUNTIF($BG$46:$BG$244,BG216)>1,1,0))=1)","v":{"$error":"#REF!"}},0,false,0,{"$f":"IF(#REF!=\"\",0,IF(#REF!=#REF!,1,0))","v":{"$error":"#REF!"}},null,null,null,null,null,"RA3WESTON GENERAL HOSPITAL","RA301","WESTON GENERAL HOSPITAL","RA301","WESTON GENERAL HOSPITAL","RA3",null,null,"WOKINGHAM COMMUNITY HOSPITAL","Willow House"]
[{"$error":"#N/A"},{"$error":"#N/A"},0,0,0,"","",0,0,0,0,0,0,0,0,0,0,0,null,null,null,null,null,null,null,null,null,null,0,null,null,null,null,null,null,null,0,0,0,0,0,0,0,0,0,0,0,null,null,null,{"$f":"IF(#REF!=\"\",0, IF(#REF!=\"-\",0,IF(#REF!>100%,1,0)))","v":{"$error":"#REF!"}},null,{"$f":"IF(#REF!=\"\",0, IF(#REF!=\"-\",0,IF(#REF!>100%,1,0)))","v":{"$error":"#REF!"}},{"$f":"IF(#REF!=\"\",0, IF(#REF!=\"-\",0,IF(#REF!>100%,1,0)))","v":{"$error":"#REF!"}},{"$f":"IF(#REF!=\"\",0, IF(#REF!=\"-\",0,IF(#REF!>100%,1,0)))","v":{"$error":"#REF!"}},null,null,null,{"$f":"CONCATENATE(#REF!,#REF!,#REF!)","v":{"$error":"#REF!"}},{"$error":"#REF!"},0,false,0,{"$f":"IF(#REF!=\"\",0,IF(#REF!=#REF!,1,0))","v":{"$error":"#REF!"}},null,null,null,null,null,"RA4YEOVIL DISTRICT HOSPITAL","RA430","YEOVIL DISTRICT HOSPITAL","RA430","YEOVIL DISTRICT HOSPITAL","RA4",null,null,"WOKINGHAM COMMUNITY HOSPITAL","Windsor Ward Days"]
[{"$error":"#N/A"},{"$error":"#N/A"},0,0,0,"","",0,0,0,0,0,0,0,0,0,0,0,null,null,null,null,null,null,null,null,null,null,0,null,null,null,null,null,null,null,0,0,0,0,0,0,0,0,0,0,0,null,null,null,{"$f":"IF(#REF!=\"\",0, IF(#REF!=\"-\",0,IF(#REF!>100%,1,0)))","v":{"$error":"#REF!"}},null,{"$f":"IF(#REF!=\"\",0, IF(#REF!=\"-\",0,IF(#REF!>100%,1,0)))","v":{"$error":"#REF!"}},{"$f":"IF(#REF!=\"\",0, IF(#REF!=\"-\",0,IF(#REF!>100%,1,0)))","v":{"$error":"#REF!"}},{"$f":"IF(#REF!=\"\",0, IF(#REF!=\"-\",0,IF(#REF!>100%,1,0)))","v":{"$error":"#REF!"}},null,null,null,{"$f":"CONCATENATE(#REF!,#REF!,#REF!)","v":{"$error":"#REF!"}},{"$error":"#REF!"},0,false,0,{"$f":"IF(#REF!=\"\",0,IF(#REF!=#REF!,1,0))","v":{"$error":"#REF!"}},null,null,null,null,null,"RA7BRISTOL EYE HOSPITAL","RA708","BRISTOL EYE HOSPITAL","RA708","BRISTOL EYE HOSPITAL","RA7",null,null,"ARDENLEIGH","Citrine"]
[{"$error":"#N/A"},{"$error":"#N/A"},0,0,0,"","",0,0,0,0,0,0,0,0,0,0,0,null,null,null,null,null,null,null,null,null,null,0,null,null,null,null,null,null,null,0,0,0,0,0,0,0,0,0,0,0,null,null,null,{"$f":"IF(#REF!=\"\",0, IF(#REF!=\"-\",0,IF(#REF!>100%,1,0)))","v":{"$error":"#REF!"}},null,{"$f":"IF(#REF!=\"\",0, IF(#REF!=\"-\",0,IF(#REF!>100%,1,0)))","v":{"$error":"#REF!"}},{"$f":"IF(#REF!=\"\",0, IF(#REF!=\"-\",0,IF(#REF!>100%,1,0)))","v":{"$error":"#REF!"}},{"$f":"IF(#REF!=\"\",0, IF(#REF!=\"-\",0,IF(#REF!>100%,1,0)))","v":{"$error":"#REF!"}},null,null,null,{"$f":"CONCATENATE(#REF!,#REF!,#REF!)","v":{"$error":"#REF!"}},{"$error":"#REF!"},0,false,0,{"$f":"IF(#REF!=\"\",0,IF(#REF!=#REF!,1,0))","v":{"$error":"#REF!"}},null,null,null,null,null,"RA7BRISTOL GENERAL HOSPITAL","RA702","BRISTOL GENERAL HOSPITAL","RA702","BRISTOL GENERAL HOSPITAL","RA7",null,null,"ARDENLEIGH","Coral"]
[{"$error":"#N/A"},{"$error":"#N/A"},0,0,0,"","",0,0,0,0,0,0,0,0,0,0,0,null,null,null,null,null,null,null,null,null,null,0,null,null,null,null,null,null,null,0,0,0,0,0,0,0,0,0,0,0,null,null,null,{"$f":"IF(#REF!=\"\",0, IF(#REF!=\"-\",0,IF(#REF!>100%,1,0)))","v":{"$error":"#REF!"}},null,{"$f":"IF(#REF!=\"\",0, IF(#REF!=\"-\",0,IF(#REF!>100%,1,0)))","v":{"$error":"#REF!"}},{"$f":"IF(#REF!=\"\",0, IF(#REF!=\"-\",0,IF(#REF!>100%,1,0)))","v":{"$error":"#REF!"}},{"$f":"IF(#REF!=\"\",0, IF(#REF!=\"-\",0,IF(#REF!>100%,1,0)))","v":{"$error":"#REF!"}},null,null,null,{"$f":"CONCATENATE(#REF!,#REF!,#REF!)","v":{"$error":"#REF!"}},{"$error":"#REF!"},0,false,0,{"$f":"IF(#REF!=\"\",0,IF(#REF!=#REF!,1,0))","v":{"$error":"#REF!"}},null,null,null,null,null,"RA7BRISTOL HAEMATOLOGY AND ONCOLOGY CENTRE","RA710","BRISTOL HAEMATOLOGY AND ONCOLOGY CENTRE","RA710","BRISTOL HAEMATOLOGY AND ONCOLOGY CENTRE","RA7",null,null,"ARDENLEIGH","Larimar"]
[{"$error":"#N/A"},{"$error":"#N/A"},0,0,0,"","",0,0,0,0,0,0,0,0,0,0,0,null,null,null,null,null,null,null,null,null,null,0,null,null,null,null,null,null,null,0,0,0,0,0,0,0,0,0,0,0,null,null,null,{"$f":"IF(#REF!=\"\",0, IF(#REF!=\"-\",0,IF(#REF!>100%,1,0)))","v":{"$error":"#REF!"}},null,{"$f":"IF(#REF!=\"\",0, IF(#REF!=\"-\",0,IF(#REF!>100%,1,0)))","v":{"$error":"#REF!"}},{"$f":"IF(#REF!=\"\",0, IF(#REF!=\"-\",0,IF(#REF!>100%,1,0)))","v":{"$error":"#REF!"}},{"$f":"IF(#REF!=\"\",0, IF(#REF!=\"-\",0,IF(#REF!>100%,1,0)))","v":{"$error":"#REF!"}},null,null,null,{"$f":"CONCATENATE(#REF!,#REF!,#REF!)","v":{"$error":"#REF!"}},{"$error":"#REF!"},0,false,0,{"$f":"IF(#REF!=\"\",0,IF(#REF!=#REF!,1,0))","v":{"$error":"#REF!"}},null,null,null,null,null,"RA7BRISTOL HOMEOPATHIC HOSPITAL","RA703","BRISTOL HOMEOPATHIC HOSPITAL","RA703","BRISTOL HOMEOPATHIC HOSPITAL","RA7",null,null,"ARDENLEIGH","Pacific"]
[{"$error":"#N/A"},{"$error":"#N/A"},0,0,0,"","",0,0,0,0,0,0,0,0,0,0,0,null,null,null,null,null,null,null,null,null,null,0,null,null,null,null,null,null,null,0,0,0,0,0,0,0,0,0,0,0,null,null,null,{"$f":"IF(#REF!=\"\",0, IF(#REF!=\"-\",0,IF(#REF!>100%,1,0)))","v":{"$error":"#REF!"}},null,{"$f":"IF(#REF!=\"\",0, IF(#REF!=\"-\",0,IF(#REF!>100%,1,0)))","v":{"$error":"#REF!"}},{"$f":"IF(#REF!=\"\",0, IF(#REF!=\"-\",0,IF(#REF!>100%,1,0)))","v":{"$error":"#REF!"}},{"$f":"IF(#REF!=\"\",0, IF(#REF!=\"-\",0,IF(#REF!>100%,1,0)))","v":{"$error":"#REF!"}},null,null,null,{"$f":"CONCATENATE(#REF!,#REF!,#REF!)","v":{"$error":"#REF!"}},{"$error":"#REF!"},0,false,0,{"$f":"IF(#REF!=\"\",0,IF(#REF!=#REF!,1,0))","v":{"$error":"#REF!"}},null,null,null,null,null,"RA7BRISTOL ROYAL HOSPITAL FOR CHILDREN","RA723","BRISTOL ROYAL HOSPITAL FOR CHILDREN","RA723","BRISTOL ROYAL HOSPITAL FOR CHILDREN","RA7",null,null,"ARDENLEIGH","Tourmaline"]
[{"$error":"#N/A"},{"$error":"#N/A"},0,0,0,"","",0,0,0,0,0,0,0,0,0,0,0,null,null,null,null,null,null,null,null,null,null,0,null,null,null,null,null,null,null,0,0,0,0,0,0,0,0,0,0,0,null,null,null,{"$f":"IF(#REF!=\"\",0, IF(#REF!=\"-\",0,IF(#REF!>100%,1,0)))","v":{"$error":"#REF!"}},null,{"$f":"IF(#REF!=\"\",0, IF(#REF!=\"-\",0,IF(#REF!>100%,1,0)))","v":{"$error":"#REF!"}},{"$f":"IF(#REF!=\"\",0, IF(#REF!=\"-\",0,IF(#REF!>100%,1,0)))","v":{"$error":"#REF!"}},{"$f":"IF(#REF!=\"\",0, IF(#REF!=\"-\",0,IF(#REF!>100%,1,0)))","v":{"$error":"#REF!"}},null,null,null,{"$f":"CONCATENATE(#REF!,#REF!,#REF!)","v":{"$error":"#REF!"}},{"$error":"#REF!"},0,false,0,{"$f":"IF(#REF!=\"\",0,IF(#REF!=#REF!,1,0))","v":{"$error":"#REF!"}},null,null,null,null,null,"RA7BRISTOL ROYAL INFIRMARY","RA701","BRISTOL ROYAL INFIRMARY","RA701","BRISTOL ROYAL INFIRMARY","RA7",null,null,"ASHCROFT","Ashcroft"]
[{"$error":"#N/A"},{"$error":"#N/A"},0,0,0,"","",0,0,0,0,0,0,0,0,0,0,0,null,null,null,null,null,null,null,null,null,null,0,null,null,null,null,null,null,null,0,0,0,0,0,0,0,0,0,0,0,null,null,null,{"$f":"IF(#REF!=\"\",0, IF(#REF!=\"-\",0,IF(#REF!>100%,1,0)))","v":{"$error":"#REF!"}},null,{"$f":"IF(#REF!=\"\",0, IF(#REF!=\"-\",0,IF(#REF!>100%,1,0)))","v":{"$error":"#REF!"}},{"$f":"IF(#REF!=\"\",0, IF(#REF!=\"-\",0,IF(#REF!>100%,1,0)))","v":{"$error":"#REF!"}},{"$f":"IF(#REF!=\"\",0, IF(#REF!=\"-\",0,IF(#REF!>100%,1,0)))","v":{"$error":"#REF!"}},null,null,null,{"$f":"CONCATENATE(#REF!,#REF!,#REF!)","v":{"$error":"#REF!"}},{"$error":"#REF!"},0,false,0,{"$f":"IF(#REF!=\"\",0,IF(#REF!=#REF!,1,0))","v":{"$error":"#REF!"}},null,null,null,null,null,"RA7KEYNSHAM HOSPITAL","RA705","KEYNSHAM HOSPITAL","RA705","KEYNSHAM HOSPITAL","RA7",null,null,"DAN MOONEY HOUSE","Dan Mooney"]
[{"$error":"#N/A"},{"$error":"#N/A"},0,0,0,"","",0,0,0,0,0,0,0,0,0,0,0,null,null,null,null,null,null,null,null,null,null,0,null,null,null,null,null,null,null,0,0,0,0,0,0,0,0,0,0,0,null,null,null,{"$f":"IF(#REF!=\"\",0, IF(#REF!=\"-\",0,IF(#REF!>100%,1,0)))","v":{"$error":"#REF!"}},null,{"$f":"IF(#REF!=\"\",0, IF(#REF!=\"-\",0,IF(#REF!>100%,1,0)))","v":{"$error":"#REF!"}},{"$f":"IF(#REF!=\"\",0, IF(#REF!=\"-\",0,IF(#REF!>100%,1,0)))","v":{"$error":"#REF!"}},{"$f":"IF(#REF!=\"\",0, IF(#REF!=\"-\",0,IF(#REF!>100%,1,0)))","v":{"$error":"#REF!"}},null,null,null,{"$f":"CONCATENATE(#REF!,#REF!,#REF!)","v":{"$error":"#REF!"}},{"$error":"#REF!"},0,false,0,{"$f":"IF(#REF!=\"\",0,IF(#REF!=#REF!,1,0))","v":{"$error":"#REF!"}},null,null,null,null,null,"RA7SOUTH BRISTOL COMMUNITY HOSPITAL","RA773","SOUTH BRISTOL COMMUNITY HOSPITAL","RA773","SOUTH BRISTOL COMMUNITY HOSPITAL","RA7",null,null,"DAVID BROMLEY","David Bromley"]
[{"$error":"#N/A"},{"$error":"#N/A"},0,0,0,"","",0,0,0,0,0,0,0,0,0,0,0,null,null,null,null,null,null,null,null,null,null,0,null,null,null,null,null,null,null,0,0,0,0,0,0,0,0,0,0,0,null,null,null,{"$f":"IF(#REF!=\"\",0, IF(#REF!=\"-\",0,IF(#REF!>100%,1,0)))","v":{"$error":"#REF!"}},null,{"$f":"IF(#REF!=\"\",0, IF(#REF!=\"-\",0,IF(#REF!>100%,1,0)))","v":{"$error":"#REF!"}},{"$f":"IF(#REF!=\"\",0, IF(#REF!=\"-\",0,IF(#REF!>100%,1,0)))","v":{"$error":"#REF!"}},{"$f":"IF(#REF!=\"\",0, IF(#REF!=\"-\",0,IF(#REF!>100%,1,0)))","v":{"$error":"#REF!"}},null,null,null,{"$f":"CONCATENATE(#REF!,#REF!,#REF!)","v":{"$error":"#REF!"}},{"$error":"#REF!"},0,false,0,{"$f":"IF(#REF!=\"\",0,IF(#REF!=#REF!,1,0))","v":{"$error":"#REF!"}},null,null,null,null,null,"RA7ST MICHAEL'S HOSPITAL","RA707","ST MICHAEL'S HOSPITAL","RA707","ST MICHAEL'S HOSPITAL","RA7",null,null,"EATING DISORDERS, THE BARBERRY","Cilantro"]
[{"$error":"#N/A"},{"$error":"#N/A"},0,0,0,"","",0,0,0,0,0,0,0,0,0,0,0,null,null,null,null,null,null,null,null,null,null,0,null,null,null,null,null,null,null,0,0,0,0,0,0,0,0,0,0,0,null,null,null,{"$f":"IF(#REF!=\"\",0, IF(#REF!=\"-\",0,IF(#REF!>100%,1,0)))","v":{"$error":"#REF!"}},null,{"$f":"IF(#REF!=\"\",0, IF(#REF!=\"-\",0,IF(#REF!>100%,1,0)))","v":{"$error":"#REF!"}},{"$f":"IF(#REF!=\"\",0, IF(#REF!=\"-\",0,IF(#REF!>100%,1,0)))","v":{"$error":"#REF!"}},{"$f":"IF(#REF!=\"\",0, IF(#REF!=\"-\",0,IF(#REF!>100%,1,0)))","v":{"$error":"#REF!"}},null,null,null,{"$f":"CONCATENATE(#REF!,#REF!,#REF!)","v":{"$error":"#REF!"}},{"$error":"#REF!"},0,false,0,{"$f":"IF(#REF!=\"\",0,IF(#REF!=#REF!,1,0))","v":{"$error":"#REF!"}},null,null,null,null,null,"RA7UNIVERSITY OF BRISTOL DENTAL HOSPITAL","RA709","UNIVERSITY OF BRISTOL DENTAL HOSPITAL","RA709","UNIVERSITY OF BRISTOL DENTAL HOSPITAL","RA7",null,null,"EDEN UNIT","Eden Acute"]
[{"$error":"#N/A"},{"$error":"#N/A"},0,0,0,"","",0,0,0,0,0,0,0,0,0,0,0,null,null,null,null,null,null,null,null,null,null,0,null,null,null,null,null,null,null,0,0,0,0,0,0,0,0,0,0,0,null,null,null,{"$f":"IF(#REF!=\"\",0, IF(#REF!=\"-\",0,IF(#REF!>100%,1,0)))","v":{"$error":"#REF!"}},null,{"$f":"IF(#REF!=\"\",0, IF(#REF!=\"-\",0,IF(#REF!>100%,1,0)))","v":{"$error":"#REF!"}},{"$f":"IF(#REF!=\"\",0, IF(#REF!=\"-\",0,IF(#REF!>100%,1,0)))","v":{"$error":"#REF!"}},{"$f":"IF(#REF!=\"\",0, IF(#REF!=\"-\",0,IF(#REF!>100%,1,0)))","v":{"$error":"#REF!"}},null,null,null,{"$f":"CONCATENATE(#REF!,#REF!,#REF!)","v":{"$error":"#REF!"}},{"$error":"#REF!"},0,false,0,{"$f":"IF(#REF!=\"\",0,IF(#REF!=#REF!,1,0))","v":{"$error":"#REF!"}},null,null,null,null,null,"RA9ASHBURTON AND BUCKFASTLEIGH HOSPITAL","RA952","ASHBURTON AND BUCKFASTLEIGH HOSPITAL","RA952","ASHBURTON AND BUCKFASTLEIGH HOSPITAL","RA9",null,null,"EDEN UNIT","Eden PICU"]
[{"$error":"#N/A"},{"$error":"#N/A"},0,0,0,"","",0,0,0,0,0,0,0,0,0,0,0,null,null,null,null,null,null,null,null,null,null,0,null,null,null,null,null,null,null,0,0,0,0,0,0,0,0,0,0,0,null,null,null,{"$f":"IF(#REF!=\"\",0, IF(#REF!=\"-\",0,IF(#REF!>100%,1,0)))","v":{"$error":"#REF!"}},null,{"$f":"IF(#REF!=\"\",0, IF(#REF!=\"-\",0,IF(#REF!>100%,1,0)))","v":{"$error":"#REF!"}},{"$f":"IF(#REF!=\"\",0, IF(#REF!=\"-\",0,IF(#REF!>100%,1,0)))","v":{"$error":"#REF!"}},{"$f":"IF(#REF!=\"\",0, IF(#REF!=\"-\",0,IF(#REF!>100%,1,0)))","v":{"$error":"#REF!"}},null,null,null,{"$f":"CONCATENATE(#REF!,#REF!,#REF!)","v":{"$error":"#REF!"}},{"$error":"#REF!"},0,false,0,{"$f":"IF(#REF!=\"\",0,IF(#REF!=#REF!,1,0))","v":{"$error":"#REF!"}},null,null,null,null,null,"RA9BOVEY TRACEY HOSPITAL","RA953","BOVEY TRACEY HOSPITAL","RA953","BOVEY TRACEY HOSPITAL","RA9",null,null,"ENDEAVOUR COURT","Endeavour Court"]
[{"$error":"#N/A"},{"$error":"#N/A"},0,0,0,"","",0,0,0,0,0,0,0,0,0,0,0,null,null,null,null,null,null,null,null,null,null,0,null,null,null,null,null,null,null,0,0,0,0,0,0,0,0,0,0,0,null,null,null,{"$f":"IF(#REF!=\"\",0, IF(#REF!=\"-\",0,IF(#REF!>100%,1,0)))","v":{"$error":"#REF!"}},null,{"$f":"IF(#REF!=\"\",0, IF(#REF!=\"-\",0,IF(#REF!>100%,1,0)))","v":{"$error":"#REF!"}},{"$f":"IF(#REF!=\"\",0, IF(#REF!=\"-\",0,IF(#REF!>100%,1,0)))","v":{"$error":"#REF!"}},{"$f":"IF(#REF!=\"\",0, IF(#REF!=\"-\",0,IF(#REF!>100%,1,0)))","v":{"$error":"#REF!"}},null,null,null,{"$f":"CONCATENATE(#REF!,#REF!,#REF!)","v":{"$error":"#REF!"}},{"$error":"#REF!"},0,false,0,{"$f":"IF(#REF!=\"\",0,IF(#REF!=#REF!,1,0))","v":{"$error":"#REF!"}},null,null,null,null,null,"RA9BRIXHAM HOSPITAL ","RA954","BRIXHAM HOSPITAL ","RA954","BRIXHAM HOSPITAL ","RA9",null,null,"ENDEAVOUR HOUSE","Endeavour House"]
[{"$error":"#N/A"},{"$error":"#N/A"},0,0,0,"","",0,0,0,0,0,0,0,0,0,0,0,null,null,null,null,null,null,null,null,null,null,0,null,null,null,null,null,null,null,0,0,0,0,0,0,0,0,0,0,0,null,null,null,{"$f":"IF(#REF!=\"\",0, IF(#REF!=\"-\",0,IF(#REF!>100%,1,0)))","v":{"$error":"#REF!"}},null,{"$f":"IF(#REF!=\"\",0, IF(#REF!=\"-\",0,IF(#REF!>100%,1,0)))","v":{"$error":"#REF!"}},{"$f":"IF(#REF!=\"\",0, IF(#REF!=\"-\",0,IF(#REF!>100%,1,0)))","v":{"$error":"#REF!"}},{"$f":"IF(#REF!=\"\",0, IF(#REF!=\"-\",0,IF(#REF!>100%,1,0)))","v":{"$error":"#REF!"}},null,null,null,{"$f":"CONCATENATE(#REF!,#REF!,#REF!)","v":{"$error":"#REF!"}},{"$error":"#REF!"},0,false,0,{"$f":"IF(#REF!=\"\",0,IF(#REF!=#REF!,1,0))","v":{"$error":"#REF!"}},null,null,null,null,null,"RA9DARTMOUTH HOSPITAL","RA955","DARTMOUTH HOSPITAL","RA955","DARTMOUTH HOSPITAL","RA9",null,null,"FORWARD HOUSE","Forward House"]
[{"$error":"#N/A"},{"$error":"#N/A"},0,0,0,"","",0,0,0,0,0,0,0,0,0,0,0,null,null,null,null,null,null,null,null,null,null,0,null,null,null,null,null,null,null,0,0,0,0,0,0,0,0,0,0,0,null,null,null,{"$f":"IF(#REF!=\"\",0, IF(#REF!=\"-\",0,IF(#REF!>100%,1,0)))","v":{"$error":"#REF!"}},null,{"$f":"IF(#REF!=\"\",0, IF(#REF!=\"-\",0,IF(#REF!>100%,1,0)))","v":{"$error":"#REF!"}},{"$f":"IF(#REF!=\"\",0, IF(#REF!=\"-\",0,IF(#REF!>100%,1,0)))","v":{"$error":"#REF!"}},{"$f":"IF(#REF!=\"\",0, IF(#REF!=\"-\",0,IF(#REF!>100%,1,0)))","v":{"$error":"#REF!"}},null,null,null,{"$f":"CONCATENATE(#REF!,#REF!,#REF!)","v":{"$error":"#REF!"}},{"$error":"#REF!"},0,false,0,{"$f":"IF(#REF!=\"\",0,IF(#REF!=#REF!,1,0))","v":{"$error":"#REF!"}},null,null,null,null,null,"RA9DAWLISH HOSPITAL","RA956","DAWLISH HOSPITAL","RA956","DAWLISH HOSPITAL","RA9",null,null,"GROVE AVENUE","Grove Avenue"]
[{"$error":"#N/A"},{"$error":"#N/A"},0,0,0,"","",0,0,0,0,0,0,0,0,0,0,0,null,null,null,null,null,null,null,null,null,null,0,null,null,null,null,null,null,null,0,0,0,0,0,0,0,0,0,0,0,null,null,null,{"$f":"IF(#REF!=\"\",0, IF(#REF!=\"-\",0,IF(#REF!>100%,1,0)))","v":{"$error":"#REF!"}},null,{"$f":"IF(#REF!=\"\",0, IF(#REF!=\"-\",0,IF(#REF!>100%,1,0)))","v":{"$error":"#REF!"}},{"$f":"IF(#REF!=\"\",0, IF(#REF!=\"-\",0,IF(#REF!>100%,1,0)))","v":{"$error":"#REF!"}},{"$f":"IF(#REF!=\"\",0, IF(#REF!=\"-\",0,IF(#REF!>100%,1,0)))","v":{"$error":"#REF!"}},null,null,null,{"$f":"CONCATENATE(#REF!,#REF!,#REF!)","v":{"$error":"#REF!"}},{"$error":"#REF!"},0,false,0,{"$f":"IF(#REF!=\"\",0,IF(#REF!=#REF!,1,0))","v":{"$error":"#REF!"}},null,null,null,null,null,"RA9NEWTON ABBOT HOSPITAL","RA957","NEWTON ABBOT HOSPITAL","RA957","NEWTON ABBOT HOSPITAL","RA9",null,null,"HERTFORD HOUSE","Hertford House"]
[{"$error":"#N/A"},{"$error":"#N/A"},0,0,0,"","",0,0,0,0,0,0,0,0,0,0,0,null,null,null,null,null,null,null,null,null,null,0,null,null,null,null,null,null,null,0,0,0,0,0,0,0,0,0,0,0,null,null,null,{"$f":"IF(#REF!=\"\",0, IF(#REF!=\"-\",0,IF(#REF!>100%,1,0)))","v":{"$error":"#REF!"}},null,{"$f":"IF(#REF!=\"\",0, IF(#REF!=\"-\",0,IF(#REF!>100%,1,0)))","v":{"$error":"#REF!"}},{"$f":"IF(#REF!=\"\",0, IF(#REF!=\"-\",0,IF(#REF!>100%,1,0)))","v":{"$error":"#REF!"}},{"$f":"IF(#REF!=\"\",0, IF(#REF!=\"-\",0,IF(#REF!>100%,1,0)))","v":{"$error":"#REF!"}},null,null,null,{"$f":"CONCATENATE(#REF!,#REF!,#REF!)","v":{"$error":"#REF!"}},{"$error":"#REF!"},0,false,0,{"$f":"IF(#REF!=\"\",0,IF(#REF!=#REF!,1,0))","v":{"$error":"#REF!"}},null,null,null,null,null,"RA9PAIGNTON HOSPITAL","RA958","PAIGNTON HOSPITAL","RA958","PAIGNTON HOSPITAL","RA9",null,null,"HILLIS LODGE","Hillis"]
[{"$error":"#N/A"},{"$error":"#N/A"},0,0,0,"","",0,0,0,0,0,0,0,0,0,0,0,null,null,null,null,null,null,null,null,null,null,0,null,null,null,null,null,null,null,0,0,0,0,0,0,0,0,0,0,0,null,null,null,{"$f":"IF(#REF!=\"\",0, IF(#REF!=\"-\",0,IF(#REF!>100%,1,0)))","v":{"$error":"#REF!"}},null,{"$f":"IF(#REF!=\"\",0, IF(#REF!=\"-\",0,IF(#REF!>100%,1,0)))","v":{"$error":"#REF!"}},{"$f":"IF(#REF!=\"\",0, IF(#REF!=\"-\",0,IF(#REF!>100%,1,0)))","v":{"$error":"#REF!"}},{"$f":"IF(#REF!=\"\",0, IF(#REF!=\"-\",0,IF(#REF!>100%,1,0)))","v":{"$error":"#REF!"}},null,null,null,{"$f":"CONCATENATE(#REF!,#REF!,#REF!)","v":{"$error":"#REF!"}},{"$error":"#REF!"},0,false,0,{"$f":"IF(#REF!=\"\",0,IF(#REF!=#REF!,1,0))","v":{"$error":"#REF!"}},null,null,null,null,null,"RA9TEIGNMOUTH HOSPITAL","RA959","TEIGNMOUTH HOSPITAL","RA959","TEIGNMOUTH HOSPITAL","RA9",null,null,"JUNIPER CENTRE","Bergamot"]
[{"$error":"#N/A"},{"$error":"#N/A"},0,0,0,"","",0,0,0,0,0,0,0,0,0,0,0,null,null,null,null,null,null,null,null,null,null,0,null,null,null,null,null,null,null,0,0,0,0,0,0,0,0,0,0,0,null,null,null,{"$f":"IF(#REF!=\"\",0, IF(#REF!=\"-\",0,IF(#REF!>100%,1,0)))","v":{"$error":"#REF!"}},null,{"$f":"IF(#REF!=\"\",0, IF(#REF!=\"-\",0,IF(#REF!>100%,1,0)))","v":{"$error":"#REF!"}},{"$f":"IF(#REF!=\"\",0, IF(#REF!=\"-\",0,IF(#REF!>100%,1,0)))","v":{"$error":"#REF!"}},{"$f":"IF(#REF!=\"\",0, IF(#REF!=\"-\",0,IF(#REF!>100%,1,0)))","v":{"$error":"#REF!"}},null,null,null,{"$f":"CONCATENATE(#REF!,#REF!,#REF!)","v":{"$error":"#REF!"}},{"$error":"#REF!"},0,false,0,{"$f":"IF(#REF!=\"\",0,IF(#REF!=#REF!,1,0))","v":{"$error":"#REF!"}},null,null,null,null,null,"RA9TORBAY HOSPITAL","RA901","TORBAY HOSPITAL","RA901","TORBAY HOSPITAL","RA9",null,null,"JUNIPER CENTRE","Rosemary"]
[{"$error":"#N/A"},{"$error":"#N/A"},0,0,0,"","",0,0,0,0,0,0,0,0,0,0,0,null,null,null,null,null,null,null,null,null,null,0,null,null,null,null,null,null,null,0,0,0,0,0,0,0,0,0,0,0,null,null,null,{"$f":"IF(#REF!=\"\",0, IF(#REF!=\"-\",0,IF(#REF!>100%,1,0)))","v":{"$error":"#REF!"}},null,{"$f":"IF(#REF!=\"\",0, IF(#REF!=\"-\",0,IF(#REF!>100%,1,0)))","v":{"$error":"#REF!"}},{"$f":"IF(#REF!=\"\",0, IF(#REF!=\"-\",0,IF(#REF!>100%,1,0)))","v":{"$error":"#REF!"}},{"$f":"IF(#REF!=\"\",0, IF(#REF!=\"-\",0,IF(#REF!>100%,1,0)))","v":{"$error":"#REF!"}},null,null,null,{"$f":"CONCATENATE(#REF!,#REF!,#REF!)","v":{"$error":"#REF!"}},{"$error":"#REF!"},0,false,0,{"$f":"IF(#REF!=\"\",0,IF(#REF!=#REF!,1,0))","v":{"$error":"#REF!"}},null,null,null,null,null,"RA9TOTNES HOSPITAL","RA979","TOTNES HOSPITAL","RA979","TOTNES HOSPITAL","RA9",null,null,"JUNIPER CENTRE","Sage"]
[{"$error":"#N/A"},{"$error":"#N/A"},0,0,0,"","",0,0,0,0,0,0,0,0,0,0,0,null,null,null,null,null,null,null,null,null,null,0,null,null,null,null,null,null,null,0,0,0,0,0,0,0,0,0,0,0,null,null,null,{"$f":"IF(#REF!=\"\",0, IF(#REF!=\"-\",0,IF(#REF!>100%,1,0)))","v":{"$error":"#REF!"}},null,{"$f":"IF(#REF!=\"\",0, IF(#REF!=\"-\",0,IF(#REF!>100%,1,0)))","v":{"$error":"#REF!"}},{"$f":"IF(#REF!=\"\",0, IF(#REF!=\"-\",0,IF(#REF!>100%,1,0)))","v":{"$error":"#REF!"}},{"$f":"IF(#REF!=\"\",0, IF(#REF!=\"-\",0,IF(#REF!>100%,1,0)))","v":{"$error":"#REF!"}},null,null,null,{"$f":"CONCATENATE(#REF!,#REF!,#REF!)","v":{"$error":"#REF!"}},{"$error":"#REF!"},0,false,0,{"$f":"IF(#REF!=\"\",0,IF(#REF!=#REF!,1,0))","v":{"$error":"#REF!"}},null,null,null,null,null,"RAEBRADFORD ROYAL INFIRMARY","RAE01","BRADFORD ROYAL INFIRMARY","RAE01","BRADFORD ROYAL INFIRMARY","RAE",null,null,"MARY SEACOLE HOUSE","Mary Seacole 1"]
[{"$error":"#N/A"},{"$error":"#N/A"},0,0,0,"","",0,0,0,0,0,0,0,0,0,0,0,null,null,null,null,null,null,null,null,null,null,0,null,null,null,null,null,null,null,0,0,0,0,0,0,0,0,0,0,0,null,null,null,{"$f":"IF(#REF!=\"\",0, IF(#REF!=\"-\",0,IF(#REF!>100%,1,0)))","v":{"$error":"#REF!"}},null,{"$f":"IF(#REF!=\"\",0, IF(#REF!=\"-\",0,IF(#REF!>100%,1,0)))","v":{"$error":"#REF!"}},{"$f":"IF(#REF!=\"\",0, IF(#REF!=\"-\",0,IF(#REF!>100%,1,0)))","v":{"$error":"#REF!"}},{"$f":"IF(#REF!=\"\",0, IF(#REF!=\"-\",0,IF(#REF!>100%,1,0)))","v":{"$error":"#REF!"}},null,null,null,{"$f":"CONCATENATE(#REF!,#REF!,#REF!)","v":{"$error":"#REF!"}},{"$error":"#REF!"},0,false,0,{"$f":"IF(#REF!=\"\",0,IF(#REF!=#REF!,1,0))","v":{"$error":"#REF!"}},null,null,null,null,null,"RAEST LUKES HOSPITAL","RAE05","ST LUKES HOSPITAL","RAE05","ST LUKES HOSPITAL","RAE",null,null,"MARY SEACOLE HOUSE","Mary Seacole 2"]
[{"$error":"#N/A"},{"$error":"#N/A"},0,0,0,"","",0,0,0,0,0,0,0,0,0,0,0,null,null,null,null,null,null,null,null,null,null,0,null,null,null,null,null,null,null,0,0,0,0,0,0,0,0,0,0,0,null,null,null,{"$f":"IF(#REF!=\"\",0, IF(#REF!=\"-\",0,IF(#REF!>100%,1,0)))","v":{"$error":"#REF!"}},null,{"$f":"IF(#REF!=\"\",0, IF(#REF!=\"-\",0,IF(#REF!>100%,1,0)))","v":{"$error":"#REF!"}},{"$f":"IF(#REF!=\"\",0, IF(#REF!=\"-\",0,IF(#REF!>100%,1,0)))","v":{"$error":"#REF!"}},{"$f":"IF(#REF!=\"\",0, IF(#REF!=\"-\",0,IF(#REF!>100%,1,0)))","v":{"$error":"#REF!"}},null,null,null,{"$f":"CONCATENATE(#REF!,#REF!,#REF!)","v":{"$error":"#REF!"}},{"$error":"#REF!"},0,false,0,{"$f":"IF(#REF!=\"\",0,IF(#REF!=#REF!,1,0))","v":{"$error":"#REF!"}},null,null,null,null,null,"RAJBASILDON HOSPITAL","RAJ12","BASILDON HOSPITAL","RAJ12","BASILDON HOSPITAL","RAJ",null,null,"MARY SEACOLE HOUSE","Meadowcroft"]
[{"$error":"#N/A"},{"$error":"#N/A"},0,0,0,"","",0,0,0,0,0,0,0,0,0,0,0,null,null,null,null,null,null,null,null,null,null,0,null,null,null,null,null,null,null,0,0,0,0,0,0,0,0,0,0,0,null,null,null,{"$f":"IF(#REF!=\"\",0, IF(#REF!=\"-\",0,IF(#REF!>100%,1,0)))","v":{"$error":"#REF!"}},null,{"$f":"IF(#REF!=\"\",0, IF(#REF!=\"-\",0,IF(#REF!>100%,1,0)))","v":{"$error":"#REF!"}},{"$f":"IF(#REF!=\"\",0, IF(#REF!=\"-\",0,IF(#REF!>100%,1,0)))","v":{"$error":"#REF!"}},{"$f":"IF(#REF!=\"\",0, IF(#REF!=\"-\",0,IF(#REF!>100%,1,0)))","v":{"$error":"#REF!"}},null,null,null,{"$f":"CONCATENATE(#REF!,#REF!,#REF!)","v":{"$error":"#REF!"}},{"$error":"#REF!"},0,false,0,{"$f":"IF(#REF!=\"\",0,IF(#REF!=#REF!,1,0))","v":{"$error":"#REF!"}},null,null,null,null,null,"RAJBRENTWOOD COMMUNITY HOSPITAL","RAJ25","BRENTWOOD COMMUNITY HOSPITAL","RAJ25","BRENTWOOD COMMUNITY HOSPITAL","RAJ",null,null,"MOTHER AND BABY UNIT","Chamomile"]
[{"$error":"#N/A"},{"$error":"#N/A"},0,0,0,"","",0,0,0,0,0,0,0,0,0,0,0,null,null,null,null,null,null,null,null,null,null,0,null,null,null,null,null,null,null,0,0,0,0,0,0,0,0,0,0,0,null,null,null,{"$f":"IF(#REF!=\"\",0, IF(#REF!=\"-\",0,IF(#REF!>100%,1,0)))","v":{"$error":"#REF!"}},null,{"$f":"IF(#REF!=\"\",0, IF(#REF!=\"-\",0,IF(#REF!>100%,1,0)))","v":{"$error":"#REF!"}},{"$f":"IF(#REF!=\"\",0, IF(#REF!=\"-\",0,IF(#REF!>100%,1,0)))","v":{"$error":"#REF!"}},{"$f":"IF(#REF!=\"\",0, IF(#REF!=\"-\",0,IF(#REF!>100%,1,0)))","v":{"$error":"#REF!"}},null,null,null,{"$f":"CONCATENATE(#REF!,#REF!,#REF!)","v":{"$error":"#REF!"}},{"$error":"#REF!"},0,false,0,{"$f":"IF(#REF!=\"\",0,IF(#REF!=#REF!,1,0))","v":{"$error":"#REF!"}},null,null,null,null,null,"RAJSOUTHEND HOSPITAL","RAJ01","SOUTHEND HOSPITAL","RAJ01","SOUTHEND HOSPITAL","RAJ",null,null,"NEWBRIDGE HOUSE","Newbridge"]
[{"$error":"#N/A"},{"$error":"#N/A"},0,0,0,"","",0,0,0,0,0,0,0,0,0,0,0,null,null,null,null,null,null,null,null,null,null,0,null,null,null,null,null,null,null,0,0,0,0,0,0,0,0,0,0,0,null,null,null,{"$f":"IF(#REF!=\"\",0, IF(#REF!=\"-\",0,IF(#REF!>100%,1,0)))","v":{"$error":"#REF!"}},null,{"$f":"IF(#REF!=\"\",0, IF(#REF!=\"-\",0,IF(#REF!>100%,1,0)))","v":{"$error":"#REF!"}},{"$f":"IF(#REF!=\"\",0, IF(#REF!=\"-\",0,IF(#REF!>100%,1,0)))","v":{"$error":"#REF!"}},{"$f":"IF(#REF!=\"\",0, IF(#REF!=\"-\",0,IF(#REF!>100%,1,0)))","v":{"$error":"#REF!"}},null,null,null,{"$f":"CONCATENATE(#REF!,#REF!,#REF!)","v":{"$error":"#REF!"}},{"$error":"#REF!"},0,false,0,{"$f":"IF(#REF!=\"\",0,IF(#REF!=#REF!,1,0))","v":{"$error":"#REF!"}},null,null,null,null,null,"RALBARNET HOSPITAL","RAL26","BARNET HOSPITAL","RAL26","BARNET HOSPITAL","RAL",null,null,"NORTHCROFT HOSPITAL","George"]
[{"$error":"#N/A"},{"$error":"#N/A"},0,0,0,"","",0,0,0,0,0,0,0,0,0,0,0,null,null,null,null,null,null,null,null,null,null,0,null,null,null,null,null,null,null,0,0,0,0,0,0,0,0,0,0,0,null,null,null,{"$f":"IF(#REF!=\"\",0, IF(#REF!=\"-\",0,IF(#REF!>100%,1,0)))","v":{"$error":"#REF!"}},null,{"$f":"IF(#REF!=\"\",0, IF(#REF!=\"-\",0,IF(#REF!>100%,1,0)))","v":{"$error":"#REF!"}},{"$f":"IF(#REF!=\"\",0, IF(#REF!=\"-\",0,IF(#REF!>100%,1,0)))","v":{"$error":"#REF!"}},{"$f":"IF(#REF!=\"\",0, IF(#REF!=\"-\",0,IF(#REF!>100%,1,0)))","v":{"$error":"#REF!"}},null,null,null,{"$f":"CONCATENATE(#REF!,#REF!,#REF!)","v":{"$error":"#REF!"}},{"$error":"#REF!"},0,false,0,{"$f":"IF(#REF!=\"\",0,IF(#REF!=#REF!,1,0))","v":{"$error":"#REF!"}},null,null,null,null,null,"RALCHASE FARM HOSPITAL","RALC7 ","CHASE FARM HOSPITAL","RALC7 ","CHASE FARM HOSPITAL","RAL",null,null,"REASIDE CLINIC","Avon"]
[0,0,1,0,0,0,0,0,0,0,0,0,0,0,0,1,0,0,null,null,null,null,null,null,null,null,null,null,0,null,null,null,null,null,null,null,1,1,1,1,1,1,1,1,0,0,9,null,null,null,{"$f":"IF(#REF!=\"\",0, IF(#REF!=\"-\",0,IF(#REF!>100%,1,0)))","v":{"$error":"#REF!"}},null,{"$f":"IF(#REF!=\"\",0, IF(#REF!=\"-\",0,IF(#REF!>100%,1,0)))","v":{"$error":"#REF!"}},{"$f":"IF(#REF!=\"\",0, IF(#REF!=\"-\",0,IF(#REF!>100%,1,0)))","v":{"$error":"#REF!"}},{"$f":"IF(#REF!=\"\",0, IF(#REF!=\"-\",0,IF(#REF!>100%,1,0)))","v":{"$error":"#REF!"}},null,null,null,null,null,null,false,0,{"$f":"IF(#REF!=\"\",0,IF(#REF!=#REF!,1,0))","v":{"$error":"#REF!"}},null,null,null,null,null,"RALEDGWARE COMMUNITY HOSPITAL","RALRA","EDGWARE COMMUNITY HOSPITAL","RALRA","EDGWARE COMMUNITY HOSPITAL","RAL",null,null,"REASIDE CLINIC","Blythe"]
["got to equal 0","got to equal 0",null,"got to equal 0","got to equal 0","got to equal 0","got to equal 0","got to equal 0","got to equal 1",null,null,null,null,null,null,null,null,null,null,null,null,null,null,null,null,null,null,null,"Care hours, no patients",null,null,null,null,null,null,null,null,null,null,null,null,null,null,null,null,null,null,null,null,null,null,null,null,null,null,null,null,null,null,null,{"$f":"SUM(BI46:BI244)","v":0},null,{"$f":"SUM(BK46:BK245)","v":0},{"$f":"SUM(BL46:BL245)","v":{"$error":"#REF!"}},null,null,null,null,null,"RALFINCHLEY MEMORIAL HOSPITAL","RAL22","FINCHLEY MEMORIAL HOSPITAL","RAL22","FINCHLEY MEMORIAL HOSPITAL","RAL",null,null,"REASIDE CLINIC","Dove"]
[null,null,null,null,"List one specialty","Total planned hrs >0","Total actual hrs >0","Total hrs <1448","Total hrs >30000","Check Spec 1 name","Check Spec 2 Name","Missing site code",null,null,null,null,null,null,null,null,null,null,null,null,null,null,null,null,null,null,null,null,null,null,null,null,null,null,null,null,null,null,null,null,null,null,null,null,null,null,{"$f":"SUM(AY46:AY245)","v":{"$error":"#REF!"}},null,{"$f":"SUM(BA46:BA245)","v":{"$error":"#REF!"}},{"$f":"SUM(BB46:BB245)","v":{"$error":"#REF!"}},{"$f":"SUM(BC46:BC245)","v":{"$error":"#REF!"}},null,null,null,null,null,null,null,"shows gap in rows of data. Must be 0.","shows duplicate specialitiy codes. Must be 0",null,null,null,null,null,"RALHARPENDEN MEMORIAL HOSPITAL","RALHA","HARPENDEN MEMORIAL HOSPITAL","RALHA","HARPENDEN MEMORIAL HOSPITAL","RAL",null,null,"REASIDE CLINIC","Kennett"]
["code in list","name in list",null,"does site belong to trust",null,null,null,null,null,null,null,null,null,null,null,null,null,null,null,null,null,null,null,null,null,null,null,null,null,null,null,null,null,null,null,null,null,null,null,null,null,null,null,null,null,null,null,null,null,null,null,null,null,null,null,null,null,null,null,null,null,null,null,null,null,null,null,null,null,"RALMOUNT VERNON HOSPITAL","RALMV","MOUNT VERNON HOSPITAL","RALMV","MOUNT VERNON HOSPITAL","RAL",null,null,"REASIDE CLINIC","Severn"]
[null,null,null,null,null,null,null,null,null,null,null,null,null,null,null,null,null,null,null,null,null,null,null,null,null,null,null,null,null,null,null,null,null,null,null,null,null,null,null,null,null,null,null,null,null,null,null,null,null,null,"Day nurse fill rate. Must be 0",null,"Day staff fill rate. Must be 0","Night nurse fill rate. Must be 0","Night staff fill rate. Must be 0",null,null,null,null,null,null,null,null,null,null,null,null,null,null,"RALQUEEN MARY'S HOUSE","RAL02","QUEEN MARY'S HOUSE","RAL02","QUEEN MARY'S HOUSE","RAL",null,null,"REASIDE CLINIC","Swift"]
["2- all blank","2- all blank",null,null,null,null,null,null,{"$f":"IF(#REF!<0, 1, 0)","v":{"$error":"#REF!"}},{"$f":"IF(#REF!<0, 1, 0)","v":{"$error":"#REF!"}},{"$f":"IF(#REF!<0, 1, 0)","v":{"$error":"#REF!"}},{"$f":"IF(#REF!<0, 1, 0)","v":{"$error":"#REF!"}},{"$f":"IF(#REF!<0, 1, 0)","v":{"$error":"#REF!"}},{"$f":"IF(#REF!<0, 1, 0)","v":{"$error":"#REF!"}},{"$f":"IF(#REF!<0, 1, 0)","v":{"$error":"#REF!"}},{"$f":"IF(#REF!<0, 1, 0)","v":{"$error":"#REF!"}},{"$f":"IF(#REF!<0, 1, 0)","v":{"$error":"#REF!"}},{"$f":"IF(#REF!<0, 1, 0)","v":{"$error":"#REF!"}},{"$f":"IF(#REF!<0, 1, 0)","v":{"$error":"#REF!"}},{"$f":"IF(#REF!<0, 1, 0)","v":{"$error":"#REF!"}},{"$f":"IF(#REF!<0, 1, 0)","v":{"$error":"#REF!"}},{"$f":"IF(#REF!<0, 1, 0)","v":{"$error":"#REF!"}},{"$f":"IF(#REF!<0, 1, 0)","v":{"$error":"#REF!"}},{"$f":"IF(#REF!<0, 1, 0)","v":{"$error":"#REF!"}},{"$f":"IF(#REF!<0, 1, 0)","v":{"$error":"#REF!"}},{"$f":"IF(#REF!<0, 1, 0)","v":{"$error":"#REF!"}},{"$f":"IF(#REF!<0, 1, 0)","v":{"$error":"#REF!"}},{"$f":"IF(#REF!<0, 1, 0)","v":{"$error":"#REF!"}},{"$f":"IF(#REF!<0, 1, 0)","v":{"$error":"#REF!"}},null,null,null,null,null,null,null,{"$f":"IF(#REF!<0, 1, 0)","v":{"$error":"#REF!"}},{"$f":"IF(#REF!<0, 1, 0)","v":{"$error":"#REF!"}},{"$f":"IF(#REF!<0, 1, 0)","v":{"$error":"#REF!"}},{"$f":"IF(#REF!<0, 1, 0)","v":{"$error":"#REF!"}},{"$f":"IF(#REF!<0, 1, 0)","v":{"$error":"#REF!"}},{"$f":"IF(#REF!<0, 1, 0)","v":{"$error":"#REF!"}},{"$f":"IF(#REF!<0, 1, 0)","v":{"$error":"#REF!"}},{"$f":"IF(#REF!<0, 1, 0)","v":{"$error":"#REF!"}},{"$f":"IF(#REF!<0, 1, 0)","v":{"$error":"#REF!"}},{"$f":"IF(#REF!<0, 1, 0)","v":{"$error":"#REF!"}},null,null,null,null,null,null,null,null,null,null,null,null,null,null,null,null,null,null,null,null,null,null,null,"RALROYAL FREE HOSPITAL","RAL01","ROYAL FREE HOSPITAL","RAL01","ROYAL FREE HOSPITAL","RAL",null,null,"REASIDE CLINIC","Trent"]
[null,null,null,null,null,null,null,null,{"$f":"IF(#REF!<0, 1, 0)","v":{"$error":"#REF!"}},{"$f":"IF(#REF!<0, 1, 0)","v":{"$error":"#REF!"}},{"$f":"IF(#REF!<0, 1, 0)","v":{"$error":"#REF!"}},{"$f":"IF(#REF!<0, 1, 0)","v":{"$error":"#REF!"}},{"$f":"IF(#REF!<0, 1, 0)","v":{"$error":"#REF!"}},{"$f":"IF(#REF!<0, 1, 0)","v":{"$error":"#REF!"}},{"$f":"IF(#REF!<0, 1, 0)","v":{"$error":"#REF!"}},{"$f":"IF(#REF!<0, 1, 0)","v":{"$error":"#REF!"}},{"$f":"IF(#REF!<0, 1, 0)","v":{"$error":"#REF!"}},{"$f":"IF(#REF!<0, 1, 0)","v":{"$error":"#REF!"}},{"$f":"IF(#REF!<0, 1, 0)","v":{"$error":"#REF!"}},{"$f":"IF(#REF!<0, 1, 0)","v":{"$error":"#REF!"}},{"$f":"IF(#REF!<0, 1, 0)","v":{"$error":"#REF!"}},{"$f":"IF(#REF!<0, 1, 0)","v":{"$error":"#REF!"}},{"$f":"IF(#REF!<0, 1, 0)","v":{"$error":"#REF!"}},{"$f":"IF(#REF!<0, 1, 0)","v":{"$error":"#REF!"}},{"$f":"IF(#REF!<0, 1, 0)","v":{"$error":"#REF!"}},{"$f":"IF(#REF!<0, 1, 0)","v":{"$error":"#REF!"}},{"$f":"IF(#REF!<0, 1, 0)","v":{"$error":"#REF!"}},{"$f":"IF(#REF!<0, 1, 0)","v":{"$error":"#REF!"}},{"$f":"IF(#REF!<0, 1, 0)","v":{"$error":"#REF!"}},null,null,null,null,null,null,null,{"$f":"IF(#REF!<0, 1, 0)","v":{"$error":"#REF!"}},{"$f":"IF(#REF!<0, 1, 0)","v":{"$error":"#REF!"}},{"$f":"IF(#REF!<0, 1, 0)","v":{"$error":"#REF!"}},{"$f":"IF(#REF!<0, 1, 0)","v":{"$error":"#REF!"}},{"$f":"IF(#REF!<0, 1, 0)","v":{"$error":"#REF!"}},{"$f":"IF(#REF!<0, 1, 0)","v":{"$error":"#REF!"}},{"$f":"IF(#REF!<0, 1, 0)","v":{"$error":"#REF!"}},{"$f":"IF(#REF!<0, 1, 0)","v":{"$error":"#REF!"}},{"$f":"IF(#REF!<0, 1, 0)","v":{"$error":"#REF!"}},{"$f":"IF(#REF!<0, 1, 0)","v":{"$error":"#REF!"}},null,null,null,null,null,null,null,null,null,null,null,null,null,null,null,null,null,null,null,null,null,null,null,"RALST. ALBANS CITY HOSPITAL","RALAL","ST. ALBANS CITY HOSPITAL","RALAL","ST. ALBANS CITY HOSPITAL","RAL",null,null,"RESERVOIR COURT","Reservoir Court"]
[null,null,null,null,null,null,null,null,{"$f":"IF(#REF!<0, 1, 0)","v":{"$error":"#REF!"}},{"$f":"IF(#REF!<0, 1, 0)","v":{"$error":"#REF!"}},{"$f":"IF(#REF!<0, 1, 0)","v":{"$error":"#REF!"}},{"$f":"IF(#REF!<0, 1, 0)","v":{"$error":"#REF!"}},{"$f":"IF(#REF!<0, 1, 0)","v":{"$error":"#REF!"}},{"$f":"IF(#REF!<0, 1, 0)","v":{"$error":"#REF!"}},{"$f":"IF(#REF!<0, 1, 0)","v":{"$error":"#REF!"}},{"$f":"IF(#REF!<0, 1, 0)","v":{"$error":"#REF!"}},{"$f":"IF(#REF!<0, 1, 0)","v":{"$error":"#REF!"}},{"$f":"IF(#REF!<0, 1, 0)","v":{"$error":"#REF!"}},{"$f":"IF(#REF!<0, 1, 0)","v":{"$error":"#REF!"}},{"$f":"IF(#REF!<0, 1, 0)","v":{"$error":"#REF!"}},{"$f":"IF(#REF!<0, 1, 0)","v":{"$error":"#REF!"}},{"$f":"IF(#REF!<0, 1, 0)","v":{"$error":"#REF!"}},{"$f":"IF(#REF!<0, 1, 0)","v":{"$error":"#REF!"}},{"$f":"IF(#REF!<0, 1, 0)","v":{"$error":"#REF!"}},{"$f":"IF(#REF!<0, 1, 0)","v":{"$error":"#REF!"}},{"$f":"IF(#REF!<0, 1, 0)","v":{"$error":"#REF!"}},{"$f":"IF(#REF!<0, 1, 0)","v":{"$error":"#REF!"}},{"$f":"IF(#REF!<0, 1, 0)","v":{"$error":"#REF!"}},{"$f":"IF(#REF!<0, 1, 0)","v":{"$error":"#REF!"}},null,null,null,null,null,null,null,{"$f":"IF(#REF!<0, 1, 0)","v":{"$error":"#REF!"}},{"$f":"IF(#REF!<0, 1, 0)","v":{"$error":"#REF!"}},{"$f":"IF(#REF!<0, 1, 0)","v":{"$error":"#REF!"}},{"$f":"IF(#REF!<0, 1, 0)","v":{"$error":"#REF!"}},{"$f":"IF(#REF!<0, 1, 0)","v":{"$error":"#REF!"}},{"$f":"IF(#REF!<0, 1, 0)","v":{"$error":"#REF!"}},{"$f":"IF(#REF!<0, 1, 0)","v":{"$error":"#REF!"}},{"$f":"IF(#REF!<0, 1, 0)","v":{"$error":"#REF!"}},{"$f":"IF(#REF!<0, 1, 0)","v":{"$error":"#REF!"}},{"$f":"IF(#REF!<0, 1, 0)","v":{"$error":"#REF!"}},null,null,null,null,null,null,null,null,null,null,null,null,null,null,null,null,null,null,null,null,null,null,null,"RALWATFORD GENERAL HOSPITAL","RALWA","WATFORD GENERAL HOSPITAL","RALWA","WATFORD GENERAL HOSPITAL","RAL",null,null,"TAMARIND CENTRE","Acacia"]
[null,null,null,null,null,null,null,null,{"$f":"IF(#REF!<0, 1, 0)","v":{"$error":"#REF!"}},{"$f":"IF(#REF!<0, 1, 0)","v":{"$error":"#REF!"}},{"$f":"IF(#REF!<0, 1, 0)","v":{"$error":"#REF!"}},{"$f":"IF(#REF!<0, 1, 0)","v":{"$error":"#REF!"}},{"$f":"IF(#REF!<0, 1, 0)","v":{"$error":"#REF!"}},{"$f":"IF(#REF!<0, 1, 0)","v":{"$error":"#REF!"}},{"$f":"IF(#REF!<0, 1, 0)","v":{"$error":"#REF!"}},{"$f":"IF(#REF!<0, 1, 0)","v":{"$error":"#REF!"}},{"$f":"IF(#REF!<0, 1, 0)","v":{"$error":"#REF!"}},{"$f":"IF(#REF!<0, 1, 0)","v":{"$error":"#REF!"}},{"$f":"IF(#REF!<0, 1, 0)","v":{"$error":"#REF!"}},{"$f":"IF(#REF!<0, 1, 0)","v":{"$error":"#REF!"}},{"$f":"IF(#REF!<0, 1, 0)","v":{"$error":"#REF!"}},{"$f":"IF(#REF!<0, 1, 0)","v":{"$error":"#REF!"}},{"$f":"IF(#REF!<0, 1, 0)","v":{"$error":"#REF!"}},{"$f":"IF(#REF!<0, 1, 0)","v":{"$error":"#REF!"}},{"$f":"IF(#REF!<0, 1, 0)","v":{"$error":"#REF!"}},{"$f":"IF(#REF!<0, 1, 0)","v":{"$error":"#REF!"}},{"$f":"IF(#REF!<0, 1, 0)","v":{"$error":"#REF!"}},{"$f":"IF(#REF!<0, 1, 0)","v":{"$error":"#REF!"}},{"$f":"IF(#REF!<0, 1, 0)","v":{"$error":"#REF!"}},null,null,null,null,null,null,null,{"$f":"IF(#REF!<0, 1, 0)","v":{"$error":"#REF!"}},{"$f":"IF(#REF!<0, 1, 0)","v":{"$error":"#REF!"}},{"$f":"IF(#REF!<0, 1, 0)","v":{"$error":"#REF!"}},{"$f":"IF(#REF!<0, 1, 0)","v":{"$error":"#REF!"}},{"$f":"IF(#REF!<0, 1, 0)","v":{"$error":"#REF!"}},{"$f":"IF(#REF!<0, 1, 0)","v":{"$error":"#REF!"}},{"$f":"IF(#REF!<0, 1, 0)","v":{"$error":"#REF!"}},{"$f":"IF(#REF!<0, 1, 0)","v":{"$error":"#REF!"}},{"$f":"IF(#REF!<0, 1, 0)","v":{"$error":"#REF!"}},{"$f":"IF(#REF!<0, 1, 0)","v":{"$error":"#REF!"}},null,null,null,null,{"$f":"IF(AY247>0,\"Day Nurse Fill Rate must not exceed 100%\",\"\")","v":{"$error":"#REF!"}},null,{"$f":"IF(BA247>0,\"Day Staff Fill Rate must not exceed 100%\",\"\")","v":{"$error":"#REF!"}},{"$f":"IF(BB247>0,\"Night Nurse Fill Rate must not exceed 100%\",\"\")","v":{"$error":"#REF!"}},{"$f":"IF(BC247>0,\"Night Staff Fill Rate must not exceed 100%\",\"\")","v":{"$error":"#REF!"}},null,null,null,null,null,null,null,null,null,null,null,null,null,null,"RANROYAL NATIONAL ORTHOPAEDIC HOSPITAL (BOLSOVER STREET)","RAN02","ROYAL NATIONAL ORTHOPAEDIC HOSPITAL (BOLSOVER STREET)","RAN02","ROYAL NATIONAL ORTHOPAEDIC HOSPITAL (BOLSOVER STREET)","RAN",null,null,"TAMARIND CENTRE","Cedar"]
[null,null,null,null,null,null,null,null,{"$f":"IF(I14<0, 1, 0)","v":0},0,0,0,0,0,0,0,0,0,0,0,0,0,0,0,0,0,0,0,0,null,null,null,null,null,null,null,{"$f":"IF(AK14<0, 1, 0)","v":0},0,0,0,0,0,0,0,0,0,null,null,null,null,null,null,null,null,null,null,null,null,null,null,null,null,null,null,null,null,null,null,null,"RANTHE ROYAL NATIONAL ORTHOPAEDIC HOSPITAL (STANMORE)","RAN01","THE ROYAL NATIONAL ORTHOPAEDIC HOSPITAL (STANMORE)","RAN01","THE ROYAL NATIONAL ORTHOPAEDIC HOSPITAL (STANMORE)","RAN",null,null,"TAMARIND CENTRE","Hibiscus"]
[null,null,null,null,null,null,null,null,{"$f":"IF(I16<0, 1, 0)","v":0},0,0,0,0,0,0,0,0,0,0,0,0,0,0,0,0,0,0,0,0,null,null,null,null,null,null,null,{"$f":"IF(AK16<0, 1, 0)","v":0},0,0,0,0,0,0,0,0,0,null,null,null,null,null,null,null,null,null,null,null,null,null,null,null,null,null,null,null,null,null,null,null,"RAPNORTH MIDDLESEX HOSPITAL","RAPNM","NORTH MIDDLESEX HOSPITAL","RAPNM","NORTH MIDDLESEX HOSPITAL","RAP",null,null,"TAMARIND CENTRE","Laurel"]
[null,null,null,{"$f":"IF(#REF!=\"\", IF(#REF!=\"\", 0,1),0)","v":{"$error":"#REF!"}},null,null,null,null,{"$f":"IF(I17<0, 1, 0)","v":0},0,0,0,0,0,0,0,0,0,0,0,0,0,0,0,0,0,0,0,0,null,null,null,null,null,null,null,{"$f":"IF(AK17<0, 1, 0)","v":0},0,0,0,0,0,0,0,0,0,null,null,null,null,null,null,null,null,null,null,null,null,null,null,null,null,null,null,null,null,null,null,null,"RAPST ANNS HOSPITAL (ACUTE WARDS)","RAPST","ST ANNS HOSPITAL (ACUTE WARDS)","RAPST","ST ANNS HOSPITAL (ACUTE WARDS)","RAP",null,null,"TAMARIND CENTRE","Lobelia"]
[null,null,null,{"$f":"IF(#REF!=\"\", IF(#REF!=\"\", 0,1),0)","v":{"$error":"#REF!"}},null,null,null,null,{"$f":"IF(I18<0, 1, 0)","v":0},0,0,0,0,0,0,0,0,0,0,0,0,0,0,0,0,0,0,0,0,null,null,null,null,null,null,null,{"$f":"IF(AK18<0, 1, 0)","v":0},0,0,0,0,0,0,0,0,0,null,null,null,null,null,null,null,null,null,null,null,null,null,null,null,null,null,null,null,null,null,null,null,"RASHILLINGDON HOSPITAL","RAS01","HILLINGDON HOSPITAL","RAS01","HILLINGDON HOSPITAL","RAS",null,null,"TAMARIND CENTRE","Myrtle"]
[null,null,null,{"$f":"IF(#REF!=\"\", IF(#REF!=\"\", 0,1),0)","v":{"$error":"#REF!"}},null,null,null,null,{"$f":"IF(I19<0, 1, 0)","v":0},0,0,0,0,0,0,0,0,0,0,0,0,0,0,0,0,0,0,0,0,null,null,null,null,null,null,null,{"$f":"IF(AK19<0, 1, 0)","v":0},0,0,0,0,0,0,0,0,0,null,null,null,null,null,null,null,null,null,null,null,null,null,null,null,null,null,null,null,null,null,null,null,"RASMOUNT VERNON HOSPITAL SITE","RAS02","MOUNT VERNON HOSPITAL SITE","RAS02","MOUNT VERNON HOSPITAL SITE","RAS",null,null,"TAMARIND CENTRE","Sycamore"]
[null,null,null,{"$f":"IF(#REF!=\"\", IF(#REF!=\"\", 0,1),0)","v":{"$error":"#REF!"}},null,null,null,null,{"$f":"IF(I20<0, 1, 0)","v":0},0,0,0,0,0,0,0,0,0,0,0,0,0,0,0,0,0,0,0,0,null,null,null,null,null,null,null,{"$f":"IF(AK20<0, 1, 0)","v":0},0,0,0,0,0,0,0,0,0,null,null,null,null,null,null,null,null,null,null,null,null,null,null,null,null,null,null,null,null,null,null,null,"RATBARKING HOSPITAL","RATAP","BARKING HOSPITAL","RATAP","BARKING HOSPITAL","RAT",null,null,"THE BARBERRY","Jasamine"]
[null,null,null,{"$f":"IF(D14=\"\", IF(E14=\"\", 0,1),0)","v":0},null,null,null,null,{"$f":"IF(I21<0, 1, 0)","v":0},0,0,0,0,0,0,0,0,0,0,0,0,0,0,0,0,0,0,0,0,null,null,null,null,null,null,null,{"$f":"IF(AK21<0, 1, 0)","v":0},0,0,0,0,0,0,0,0,0,null,null,null,null,null,null,null,null,null,null,null,null,null,null,null,null,null,null,null,null,null,null,null,"RATBASILDON HOSPITAL","RATJC","BASILDON HOSPITAL","RATJC","BASILDON HOSPITAL","RAT",null,null,"THE OLEASTER","Caffra"]
[null,null,null,{"$f":"IF(D16=\"\", IF(E16=\"\", 0,1),0)","v":0},null,null,null,null,{"$f":"IF(I22<0, 1, 0)","v":0},0,0,0,0,0,0,0,0,0,0,0,0,0,0,0,0,0,0,0,0,null,null,null,null,null,null,null,{"$f":"IF(AK22<0, 1, 0)","v":0},0,0,0,0,0,0,0,0,0,null,null,null,null,null,null,null,null,null,null,null,null,null,null,null,null,null,null,null,null,null,null,null,"RATBILLERICAY COMMUNITY HOSPITAL","RATDK","BILLERICAY COMMUNITY HOSPITAL","RATDK","BILLERICAY COMMUNITY HOSPITAL","RAT",null,null,"THE OLEASTER","Japonica New Ward"]
[null,null,null,0,null,null,null,null,{"$f":"IF(I23<0, 1, 0)","v":0},0,0,0,0,0,0,0,0,0,0,0,0,0,0,0,0,0,0,0,0,null,null,null,null,null,null,null,{"$f":"IF(AK23<0, 1, 0)","v":0},0,0,0,0,0,0,0,0,0,null,null,null,null,null,null,null,null,null,null,null,null,null,null,null,null,null,null,null,null,null,null,null,"RATBRENTWOOD COMMUNITY HOSPITAL","RATRM","BRENTWOOD COMMUNITY HOSPITAL","RATRM","BRENTWOOD COMMUNITY HOSPITAL","RAT",null,null,"THE OLEASTER","Magnolia"]
[null,null,null,0,null,null,null,null,{"$f":"IF(I25<0, 1, 0)","v":0},0,0,0,0,0,0,0,0,0,0,0,0,0,0,0,0,0,0,0,0,null,null,null,null,null,null,null,{"$f":"IF(AK25<0, 1, 0)","v":0},0,0,0,0,0,0,0,0,0,null,null,null,null,null,null,null,null,null,null,null,null,null,null,null,null,null,null,null,null,null,null,null,"RATBROOKSIDE","RATRY","BROOKSIDE","RATRY","BROOKSIDE","RAT",null,null,"THE OLEASTER","Melissa"]
[null,null,null,0,null,null,null,null,{"$f":"IF(I26<0, 1, 0)","v":0},0,0,0,0,0,0,0,0,0,0,0,0,0,0,0,0,0,0,0,0,null,null,null,null,null,null,null,{"$f":"IF(AK26<0, 1, 0)","v":0},0,0,0,0,0,0,0,0,0,null,null,null,null,null,null,null,null,null,null,null,null,null,null,null,null,null,null,null,null,null,null,null,"RATCHADWELL HEATH (CHS)","RATCS","CHADWELL HEATH (CHS)","RATCS","CHADWELL HEATH (CHS)","RAT",null,null,"THE OLEASTER","Tazetta"]
[null,null,null,0,null,null,null,null,{"$f":"IF(#REF!<0, 1, 0)","v":{"$error":"#REF!"}},{"$f":"IF(#REF!<0, 1, 0)","v":{"$error":"#REF!"}},{"$f":"IF(#REF!<0, 1, 0)","v":{"$error":"#REF!"}},{"$f":"IF(#REF!<0, 1, 0)","v":{"$error":"#REF!"}},{"$f":"IF(#REF!<0, 1, 0)","v":{"$error":"#REF!"}},{"$f":"IF(#REF!<0, 1, 0)","v":{"$error":"#REF!"}},{"$f":"IF(#REF!<0, 1, 0)","v":{"$error":"#REF!"}},{"$f":"IF(#REF!<0, 1, 0)","v":{"$error":"#REF!"}},{"$f":"IF(#REF!<0, 1, 0)","v":{"$error":"#REF!"}},{"$f":"IF(#REF!<0, 1, 0)","v":{"$error":"#REF!"}},{"$f":"IF(#REF!<0, 1, 0)","v":{"$error":"#REF!"}},{"$f":"IF(#REF!<0, 1, 0)","v":{"$error":"#REF!"}},{"$f":"IF(#REF!<0, 1, 0)","v":{"$error":"#REF!"}},{"$f":"IF(#REF!<0, 1, 0)","v":{"$error":"#REF!"}},{"$f":"IF(#REF!<0, 1, 0)","v":{"$error":"#REF!"}},{"$f":"IF(#REF!<0, 1, 0)","v":{"$error":"#REF!"}},{"$f":"IF(#REF!<0, 1, 0)","v":{"$error":"#REF!"}},{"$f":"IF(#REF!<0, 1, 0)","v":{"$error":"#REF!"}},{"$f":"IF(#REF!<0, 1, 0)","v":{"$error":"#REF!"}},{"$f":"IF(#REF!<0, 1, 0)","v":{"$error":"#REF!"}},{"$f":"IF(#REF!<0, 1, 0)","v":{"$error":"#REF!"}},null,null,null,null,null,null,null,{"$f":"IF(#REF!<0, 1, 0)","v":{"$error":"#REF!"}},{"$f":"IF(#REF!<0, 1, 0)","v":{"$error":"#REF!"}},{"$f":"IF(#REF!<0, 1, 0)","v":{"$error":"#REF!"}},{"$f":"IF(#REF!<0, 1, 0)","v":{"$error":"#REF!"}},{"$f":"IF(#REF!<0, 1, 0)","v":{"$error":"#REF!"}},{"$f":"IF(#REF!<0, 1, 0)","v":{"$error":"#REF!"}},{"$f":"IF(#REF!<0, 1, 0)","v":{"$error":"#REF!"}},{"$f":"IF(#REF!<0, 1, 0)","v":{"$error":"#REF!"}},{"$f":"IF(#REF!<0, 1, 0)","v":{"$error":"#REF!"}},{"$f":"IF(#REF!<0, 1, 0)","v":{"$error":"#REF!"}},null,null,null,null,null,null,null,null,null,null,null,null,null,null,null,null,null,null,null,null,null,null,null,"RATCHILD & FAMILY FOREST","RATWC","CHILD & FAMILY FOREST","RATWC","CHILD & FAMILY FOREST","RAT",null,null,"THE ZINNIA CENTRE","Lavender"]
[null,null,null,0,null,null,null,null,{"$f":"IF(I27<0, 1, 0)","v":0},0,0,0,0,0,0,0,0,0,0,0,0,0,0,0,0,0,0,0,0,null,null,null,null,null,null,null,{"$f":"IF(AK27<0, 1, 0)","v":0},0,0,0,0,0,0,0,0,0,null,null,null,null,null,null,null,null,null,null,null,null,null,null,null,null,null,null,null,null,null,null,null,"RATCOMMUNITY PAEDIATRICS - CDC","RATE3","COMMUNITY PAEDIATRICS - CDC","RATE3","COMMUNITY PAEDIATRICS - CDC","RAT",null,null,"THE ZINNIA CENTRE","Saffron"]
[null,null,null,0,null,null,null,null,{"$f":"IF(I28<0, 1, 0)","v":0},0,0,0,0,0,0,0,0,0,0,0,0,0,0,0,0,0,0,0,0,null,null,null,null,null,null,null,{"$f":"IF(AK28<0, 1, 0)","v":0},0,0,0,0,0,0,0,0,0,null,null,null,null,null,null,null,null,null,null,null,null,null,null,null,null,null,null,null,null,null,null,null,"RATDRUG & ALCOHOL ILFORD","RATRD","DRUG & ALCOHOL ILFORD","RATRD","DRUG & ALCOHOL ILFORD","RAT",null,null,"COMMUNITY UNIT 3 GOOD HOPE HOSPITAL","C27"]
[null,null,null,0,null,null,null,null,{"$f":"IF(I29<0, 1, 0)","v":0},0,0,0,0,0,0,0,0,0,0,0,0,0,0,0,0,0,0,0,0,null,null,null,null,null,null,null,{"$f":"IF(AK29<0, 1, 0)","v":0},0,0,0,0,0,0,0,0,0,null,null,null,null,null,null,null,null,null,null,null,null,null,null,null,null,null,null,null,null,null,null,null,"RATFACE TO FACE","RATFF","FACE TO FACE","RATFF","FACE TO FACE","RAT",null,null,"HOBMOOR ROAD 192 (TOTAL SITE)","No 9 Kingswood"]
[null,null,null,{"$f":"IF(D25=\"\", IF(E25=\"\", 0,1),0)","v":0},null,null,null,null,{"$f":"IF(I30<0, 1, 0)","v":0},0,0,0,0,0,0,0,0,0,0,0,0,0,0,0,0,0,0,0,0,null,null,null,null,null,null,null,{"$f":"IF(AK30<0, 1, 0)","v":0},0,0,0,0,0,0,0,0,0,null,null,null,null,null,null,null,null,null,null,null,null,null,null,null,null,null,null,null,null,null,null,null,"RATFIVE ELMS (CHS)","RATFG","FIVE ELMS (CHS)","RATFG","FIVE ELMS (CHS)","RAT",null,null,"HOBMOOR ROAD 192 (TOTAL SITE)","Riverside Short breaks"]
[null,null,null,{"$f":"IF(D26=\"\", IF(E26=\"\", 0,1),0)","v":0},null,null,null,null,{"$f":"IF(I31<0, 1, 0)","v":0},0,0,0,0,0,0,0,0,0,0,0,0,0,0,0,0,0,0,0,0,null,null,null,null,null,null,null,{"$f":"IF(AK31<0, 1, 0)","v":0},0,0,0,0,0,0,0,0,0,null,null,null,null,null,null,null,null,null,null,null,null,null,null,null,null,null,null,null,null,null,null,null,"RATFOXGLOVE WARD","RATKG","FOXGLOVE WARD","RATKG","FOXGLOVE WARD","RAT",null,null,"INTERMEDIATE CARE REHABILITATION UNIT","Ann Marie Hawes"]
[null,null,null,{"$f":"IF(#REF!=\"\", IF(#REF!=\"\", 0,1),0)","v":{"$error":"#REF!"}},null,null,null,null,{"$f":"IF(I32<0, 1, 0)","v":0},0,0,0,0,0,0,0,0,0,0,0,0,0,0,0,0,0,0,0,0,null,null,null,null,null,null,null,{"$f":"IF(AK32<0, 1, 0)","v":0},0,0,0,0,0,0,0,0,0,null,null,null,null,null,null,null,null,null,null,null,null,null,null,null,null,null,null,null,null,null,null,null,"RATGALLEON AND HERONWOOD","RATGF","GALLEON AND HERONWOOD","RATGF","GALLEON AND HERONWOOD","RAT",null,null,"INTERMEDIATE CARE REHABILITATION UNIT","Perrytrees"]
[null,null,null,{"$f":"IF(D27=\"\", IF(E27=\"\", 0,1),0)","v":0},null,null,null,null,{"$f":"IF(I33<0, 1, 0)","v":0},0,0,0,0,0,0,0,0,0,0,0,0,0,0,0,0,0,0,0,0,null,null,null,null,null,null,null,{"$f":"IF(AK33<0, 1, 0)","v":0},0,0,0,0,0,0,0,0,0,null,null,null,null,null,null,null,null,null,null,null,null,null,null,null,null,null,null,null,null,null,null,null,"RATGOODMAYES HOSPITAL","RATGM","GOODMAYES HOSPITAL","RATGM","GOODMAYES HOSPITAL","RAT",null,null,"KINGSWOOD DRIVE","No 10 Kingswood Short breaks"]
[null,null,null,{"$f":"IF(D28=\"\", IF(E28=\"\", 0,1),0)","v":0},null,null,null,null,{"$f":"IF(I34<0, 1, 0)","v":0},0,0,0,0,0,0,0,0,0,0,0,0,0,0,0,0,0,0,0,0,null,null,null,null,null,null,null,{"$f":"IF(AK34<0, 1, 0)","v":0},0,0,0,0,0,0,0,0,0,null,null,null,null,null,null,null,null,null,null,null,null,null,null,null,null,null,null,null,null,null,null,null,"RATGREENTHORNE","RATGT","GREENTHORNE","RATGT","GREENTHORNE","RAT",null,null,"MOSELEY HALL HOSPITAL","5"]
[null,null,null,0,null,null,null,null,{"$f":"IF(I35<0, 1, 0)","v":0},0,0,0,0,0,0,0,0,0,0,0,0,0,0,0,0,0,0,0,0,null,null,null,null,null,null,null,{"$f":"IF(AK35<0, 1, 0)","v":0},0,0,0,0,0,0,0,0,0,null,null,null,null,null,null,null,null,null,null,null,null,null,null,null,null,null,null,null,null,null,null,null,"RATGREENTHORNE","RATWF","GREENTHORNE","RATWF","GREENTHORNE","RAT",null,null,"MOSELEY HALL HOSPITAL","6"]
[null,null,null,0,null,null,null,null,{"$f":"IF(I36<0, 1, 0)","v":0},0,0,0,0,0,0,0,0,0,0,0,0,0,0,0,0,0,0,0,0,null,null,null,null,null,null,null,{"$f":"IF(AK36<0, 1, 0)","v":0},0,0,0,0,0,0,0,0,0,null,null,null,null,null,null,null,null,null,null,null,null,null,null,null,null,null,null,null,null,null,null,null,"RATGROVELANDS DAY HOSPITAL","RATRJ","GROVELANDS DAY HOSPITAL","RATRJ","GROVELANDS DAY HOSPITAL","RAT",null,null,"MOSELEY HALL HOSPITAL","8"]
[null,null,null,0,null,null,null,null,{"$f":"IF(I37<0, 1, 0)","v":0},0,0,0,0,0,0,0,0,0,0,0,0,0,0,0,0,0,0,0,0,null,null,null,null,null,null,null,{"$f":"IF(AK37<0, 1, 0)","v":0},{"$error":"#DIV/0!"},0,0,0,{"$error":"#DIV/0!"},0,0,0,0,null,null,null,null,null,null,null,null,null,null,null,null,null,null,null,null,null,null,null,null,null,null,null,"RATHAWKWELL COURT","RATHC","HAWKWELL COURT","RATHC","HAWKWELL COURT","RAT",null,null,"MOSELEY HALL HOSPITAL","9"]
[null,null,null,0,null,null,null,null,{"$f":"IF(I38<0, 1, 0)","v":0},0,0,0,0,0,0,0,0,0,0,0,0,0,0,0,0,0,0,0,0,null,null,null,null,null,null,null,{"$f":"IF(AK38<0, 1, 0)","v":0},0,0,0,0,0,0,0,0,0,null,null,null,null,null,null,null,null,null,null,null,null,null,null,null,null,null,null,null,null,null,null,null,"RATHERONWOOD AND GALLEON","RATC5","HERONWOOD AND GALLEON","RATC5","HERONWOOD AND GALLEON","RAT",null,null,"MOSELEY HALL HOSPITAL","CCDU"]
[null,null,null,0,null,null,null,null,{"$f":"IF(I39<0, 1, 0)","v":0},0,0,0,0,0,0,0,0,0,0,0,0,0,0,0,0,0,0,0,0,null,null,null,null,null,null,null,{"$f":"IF(AK39<0, 1, 0)","v":0},0,0,0,0,0,0,0,0,0,null,null,null,null,null,null,null,null,null,null,null,null,null,null,null,null,null,null,null,null,null,null,null,"RATICAT","RATC2","ICAT","RATC2","ICAT","RAT",null,null,"SHELDON HEATH - LAND ONLY","Sheldon unit"]
[null,null,null,0,null,null,null,null,{"$f":"IF(I40<0, 1, 0)","v":0},0,0,0,0,0,0,0,0,0,0,0,0,0,0,0,0,0,0,0,0,null,null,null,null,null,null,null,{"$f":"IF(AK40<0, 1, 0)","v":0},0,0,0,0,0,0,0,0,0,null,null,null,null,null,null,null,null,null,null,null,null,null,null,null,null,null,null,null,null,null,null,null,{"$f":"CONCATENATE(LEFT(BS279, 3),BT279)","v":"RATINITIAL ASSESSMENT (HAV)"},"RATHA","INITIAL ASSESSMENT (HAV)","RATHA","INITIAL ASSESSMENT (HAV)","RAT",null,null,"WEST HEATH HOSPITAL","12"]
[null,null,null,0,null,null,null,null,{"$f":"IF(I41<0, 1, 0)","v":0},0,0,0,0,0,0,0,0,0,0,0,0,0,0,0,0,0,0,0,0,null,null,null,null,null,null,null,{"$f":"IF(AK41<0, 1, 0)","v":0},0,0,0,0,0,0,0,0,0,null,null,null,null,null,null,null,null,null,null,null,null,null,null,null,null,null,null,null,null,null,null,null,"RATJONES UNIT - RIVERSIDE","RATRV","JONES UNIT - RIVERSIDE","RATRV","JONES UNIT - RIVERSIDE","RAT",null,null,"WEST HEATH HOSPITAL","Willows"]
[null,null,null,0,null,null,null,null,{"$f":"IF(I42<0, 1, 0)","v":0},0,0,0,0,0,0,0,0,0,0,0,0,0,0,0,0,0,0,0,0,null,null,null,null,null,null,null,{"$f":"IF(AK42<0, 1, 0)","v":0},0,0,0,0,0,0,0,0,0,null,null,null,null,null,null,null,null,null,null,null,null,null,null,null,null,null,null,null,null,null,null,null,"RATJULIA ENGWELL (CHS)","RATJE","JULIA ENGWELL (CHS)","RATJE","JULIA ENGWELL (CHS)","RAT",null,null,"BIRMINGHAM CHILDREN'S HOSPITAL","Ashfield"]
[null,null,null,0,null,null,null,null,{"$f":"IF(#REF!<0, 1, 0)","v":{"$error":"#REF!"}},{"$f":"IF(#REF!<0, 1, 0)","v":{"$error":"#REF!"}},{"$f":"IF(#REF!<0, 1, 0)","v":{"$error":"#REF!"}},{"$f":"IF(#REF!<0, 1, 0)","v":{"$error":"#REF!"}},{"$f":"IF(#REF!<0, 1, 0)","v":{"$error":"#REF!"}},{"$f":"IF(#REF!<0, 1, 0)","v":{"$error":"#REF!"}},{"$f":"IF(#REF!<0, 1, 0)","v":{"$error":"#REF!"}},{"$f":"IF(#REF!<0, 1, 0)","v":{"$error":"#REF!"}},{"$f":"IF(#REF!<0, 1, 0)","v":{"$error":"#REF!"}},{"$f":"IF(#REF!<0, 1, 0)","v":{"$error":"#REF!"}},{"$f":"IF(#REF!<0, 1, 0)","v":{"$error":"#REF!"}},{"$f":"IF(#REF!<0, 1, 0)","v":{"$error":"#REF!"}},{"$f":"IF(#REF!<0, 1, 0)","v":{"$error":"#REF!"}},{"$f":"IF(#REF!<0, 1, 0)","v":{"$error":"#REF!"}},{"$f":"IF(#REF!<0, 1, 0)","v":{"$error":"#REF!"}},{"$f":"IF(#REF!<0, 1, 0)","v":{"$error":"#REF!"}},{"$f":"IF(#REF!<0, 1, 0)","v":{"$error":"#REF!"}},{"$f":"IF(#REF!<0, 1, 0)","v":{"$error":"#REF!"}},{"$f":"IF(#REF!<0, 1, 0)","v":{"$error":"#REF!"}},{"$f":"IF(#REF!<0, 1, 0)","v":{"$error":"#REF!"}},{"$f":"IF(#REF!<0, 1, 0)","v":{"$error":"#REF!"}},null,null,null,null,null,null,null,{"$f":"IF(#REF!<0, 1, 0)","v":{"$error":"#REF!"}},{"$f":"IF(#REF!<0, 1, 0)","v":{"$error":"#REF!"}},{"$f":"IF(#REF!<0, 1, 0)","v":{"$error":"#REF!"}},{"$f":"IF(#REF!<0, 1, 0)","v":{"$error":"#REF!"}},{"$f":"IF(#REF!<0, 1, 0)","v":{"$error":"#REF!"}},{"$f":"IF(#REF!<0, 1, 0)","v":{"$error":"#REF!"}},{"$f":"IF(#REF!<0, 1, 0)","v":{"$error":"#REF!"}},{"$f":"IF(#REF!<0, 1, 0)","v":{"$error":"#REF!"}},{"$f":"IF(#REF!<0, 1, 0)","v":{"$error":"#REF!"}},{"$f":"IF(#REF!<0, 1, 0)","v":{"$error":"#REF!"}},null,null,null,null,null,null,null,null,null,null,null,null,null,null,null,null,null,null,null,null,null,null,null,"RATKING GEORGES HOSPITAL","RATDG","KING GEORGES HOSPITAL","RATDG","KING GEORGES HOSPITAL","RAT",null,null,"BIRMINGHAM CHILDREN'S HOSPITAL","Burns"]
[null,null,null,0,null,null,null,null,{"$f":"IF(I46<0, 1, 0)","v":0},0,0,0,0,0,0,0,0,0,0,0,0,0,0,0,0,0,0,0,0,null,null,null,null,null,null,null,{"$f":"IF(AK46<0, 1, 0)","v":0},0,0,0,0,0,0,0,0,0,null,null,null,null,null,null,null,null,null,null,null,null,null,null,null,null,null,null,null,null,null,null,null,"RATLITTLE HIGHWOOD","RATLH","LITTLE HIGHWOOD","RATLH","LITTLE HIGHWOOD","RAT",null,null,"BIRMINGHAM CHILDREN'S HOSPITAL","ED"]
[null,null,null,0,null,null,null,null,{"$f":"IF(#REF!<0, 1, 0)","v":{"$error":"#REF!"}},{"$f":"IF(#REF!<0, 1, 0)","v":{"$error":"#REF!"}},{"$f":"IF(#REF!<0, 1, 0)","v":{"$error":"#REF!"}},{"$f":"IF(#REF!<0, 1, 0)","v":{"$error":"#REF!"}},{"$f":"IF(#REF!<0, 1, 0)","v":{"$error":"#REF!"}},{"$f":"IF(#REF!<0, 1, 0)","v":{"$error":"#REF!"}},{"$f":"IF(#REF!<0, 1, 0)","v":{"$error":"#REF!"}},{"$f":"IF(#REF!<0, 1, 0)","v":{"$error":"#REF!"}},{"$f":"IF(#REF!<0, 1, 0)","v":{"$error":"#REF!"}},{"$f":"IF(#REF!<0, 1, 0)","v":{"$error":"#REF!"}},{"$f":"IF(#REF!<0, 1, 0)","v":{"$error":"#REF!"}},{"$f":"IF(#REF!<0, 1, 0)","v":{"$error":"#REF!"}},{"$f":"IF(#REF!<0, 1, 0)","v":{"$error":"#REF!"}},{"$f":"IF(#REF!<0, 1, 0)","v":{"$error":"#REF!"}},{"$f":"IF(#REF!<0, 1, 0)","v":{"$error":"#REF!"}},{"$f":"IF(#REF!<0, 1, 0)","v":{"$error":"#REF!"}},{"$f":"IF(#REF!<0, 1, 0)","v":{"$error":"#REF!"}},{"$f":"IF(#REF!<0, 1, 0)","v":{"$error":"#REF!"}},{"$f":"IF(#REF!<0, 1, 0)","v":{"$error":"#REF!"}},{"$f":"IF(#REF!<0, 1, 0)","v":{"$error":"#REF!"}},{"$f":"IF(#REF!<0, 1, 0)","v":{"$error":"#REF!"}},null,null,null,null,null,null,null,{"$f":"IF(#REF!<0, 1, 0)","v":{"$error":"#REF!"}},{"$f":"IF(#REF!<0, 1, 0)","v":{"$error":"#REF!"}},{"$f":"IF(#REF!<0, 1, 0)","v":{"$error":"#REF!"}},{"$f":"IF(#REF!<0, 1, 0)","v":{"$error":"#REF!"}},{"$f":"IF(#REF!<0, 1, 0)","v":{"$error":"#REF!"}},{"$f":"IF(#REF!<0, 1, 0)","v":{"$error":"#REF!"}},{"$f":"IF(#REF!<0, 1, 0)","v":{"$error":"#REF!"}},{"$f":"IF(#REF!<0, 1, 0)","v":{"$error":"#REF!"}},{"$f":"IF(#REF!<0, 1, 0)","v":{"$error":"#REF!"}},{"$f":"IF(#REF!<0, 1, 0)","v":{"$error":"#REF!"}},null,null,null,null,null,null,null,null,null,null,null,null,null,null,null,null,null,null,null,null,null,null,null,"RATLOXFORD HALL","RATLX","LOXFORD HALL","RATLX","LOXFORD HALL","RAT",null,null,"BIRMINGHAM CHILDREN'S HOSPITAL","Heathlands"]
[null,null,null,0,null,null,null,null,{"$f":"IF(#REF!<0, 1, 0)","v":{"$error":"#REF!"}},{"$f":"IF(#REF!<0, 1, 0)","v":{"$error":"#REF!"}},{"$f":"IF(#REF!<0, 1, 0)","v":{"$error":"#REF!"}},{"$f":"IF(#REF!<0, 1, 0)","v":{"$error":"#REF!"}},{"$f":"IF(#REF!<0, 1, 0)","v":{"$error":"#REF!"}},{"$f":"IF(#REF!<0, 1, 0)","v":{"$error":"#REF!"}},{"$f":"IF(#REF!<0, 1, 0)","v":{"$error":"#REF!"}},{"$f":"IF(#REF!<0, 1, 0)","v":{"$error":"#REF!"}},{"$f":"IF(#REF!<0, 1, 0)","v":{"$error":"#REF!"}},{"$f":"IF(#REF!<0, 1, 0)","v":{"$error":"#REF!"}},{"$f":"IF(#REF!<0, 1, 0)","v":{"$error":"#REF!"}},{"$f":"IF(#REF!<0, 1, 0)","v":{"$error":"#REF!"}},{"$f":"IF(#REF!<0, 1, 0)","v":{"$error":"#REF!"}},{"$f":"IF(#REF!<0, 1, 0)","v":{"$error":"#REF!"}},{"$f":"IF(#REF!<0, 1, 0)","v":{"$error":"#REF!"}},{"$f":"IF(#REF!<0, 1, 0)","v":{"$error":"#REF!"}},{"$f":"IF(#REF!<0, 1, 0)","v":{"$error":"#REF!"}},{"$f":"IF(#REF!<0, 1, 0)","v":{"$error":"#REF!"}},{"$f":"IF(#REF!<0, 1, 0)","v":{"$error":"#REF!"}},{"$f":"IF(#REF!<0, 1, 0)","v":{"$error":"#REF!"}},{"$f":"IF(#REF!<0, 1, 0)","v":{"$error":"#REF!"}},null,null,null,null,null,null,null,{"$f":"IF(#REF!<0, 1, 0)","v":{"$error":"#REF!"}},{"$f":"IF(#REF!<0, 1, 0)","v":{"$error":"#REF!"}},{"$f":"IF(#REF!<0, 1, 0)","v":{"$error":"#REF!"}},{"$f":"IF(#REF!<0, 1, 0)","v":{"$error":"#REF!"}},{"$f":"IF(#REF!<0, 1, 0)","v":{"$error":"#REF!"}},{"$f":"IF(#REF!<0, 1, 0)","v":{"$error":"#REF!"}},{"$f":"IF(#REF!<0, 1, 0)","v":{"$error":"#REF!"}},{"$f":"IF(#REF!<0, 1, 0)","v":{"$error":"#REF!"}},{"$f":"IF(#REF!<0, 1, 0)","v":{"$error":"#REF!"}},{"$f":"IF(#REF!<0, 1, 0)","v":{"$error":"#REF!"}},null,null,null,null,null,null,null,null,null,null,null,null,null,null,null,null,null,null,null,null,null,null,null,"RATLOXFORD HALL","RATRQ","LOXFORD HALL","RATRQ","LOXFORD HALL","RAT",null,null,"BIRMINGHAM CHILDREN'S HOSPITAL","Irwin"]
[null,null,null,0,null,null,null,null,{"$f":"IF(#REF!<0, 1, 0)","v":{"$error":"#REF!"}},{"$f":"IF(#REF!<0, 1, 0)","v":{"$error":"#REF!"}},{"$f":"IF(#REF!<0, 1, 0)","v":{"$error":"#REF!"}},{"$f":"IF(#REF!<0, 1, 0)","v":{"$error":"#REF!"}},{"$f":"IF(#REF!<0, 1, 0)","v":{"$error":"#REF!"}},{"$f":"IF(#REF!<0, 1, 0)","v":{"$error":"#REF!"}},{"$f":"IF(#REF!<0, 1, 0)","v":{"$error":"#REF!"}},{"$f":"IF(#REF!<0, 1, 0)","v":{"$error":"#REF!"}},{"$f":"IF(#REF!<0, 1, 0)","v":{"$error":"#REF!"}},{"$f":"IF(#REF!<0, 1, 0)","v":{"$error":"#REF!"}},{"$f":"IF(#REF!<0, 1, 0)","v":{"$error":"#REF!"}},{"$f":"IF(#REF!<0, 1, 0)","v":{"$error":"#REF!"}},{"$f":"IF(#REF!<0, 1, 0)","v":{"$error":"#REF!"}},{"$f":"IF(#REF!<0, 1, 0)","v":{"$error":"#REF!"}},{"$f":"IF(#REF!<0, 1, 0)","v":{"$error":"#REF!"}},{"$f":"IF(#REF!<0, 1, 0)","v":{"$error":"#REF!"}},{"$f":"IF(#REF!<0, 1, 0)","v":{"$error":"#REF!"}},{"$f":"IF(#REF!<0, 1, 0)","v":{"$error":"#REF!"}},{"$f":"IF(#REF!<0, 1, 0)","v":{"$error":"#REF!"}},{"$f":"IF(#REF!<0, 1, 0)","v":{"$error":"#REF!"}},{"$f":"IF(#REF!<0, 1, 0)","v":{"$error":"#REF!"}},null,null,null,null,null,null,null,{"$f":"IF(#REF!<0, 1, 0)","v":{"$error":"#REF!"}},{"$f":"IF(#REF!<0, 1, 0)","v":{"$error":"#REF!"}},{"$f":"IF(#REF!<0, 1, 0)","v":{"$error":"#REF!"}},{"$f":"IF(#REF!<0, 1, 0)","v":{"$error":"#REF!"}},{"$f":"IF(#REF!<0, 1, 0)","v":{"$error":"#REF!"}},{"$f":"IF(#REF!<0, 1, 0)","v":{"$error":"#REF!"}},{"$f":"IF(#REF!<0, 1, 0)","v":{"$error":"#REF!"}},{"$f":"IF(#REF!<0, 1, 0)","v":{"$error":"#REF!"}},{"$f":"IF(#REF!<0, 1, 0)","v":{"$error":"#REF!"}},{"$f":"IF(#REF!<0, 1, 0)","v":{"$error":"#REF!"}},null,null,null,null,null,null,null,null,null,null,null,null,null,null,null,null,null,null,null,null,null,null,null,"RATMARKS GATE (CHS)","RATMG","MARKS GATE (CHS)","RATMG","MARKS GATE (CHS)","RAT",null,null,"BIRMINGHAM CHILDREN'S HOSPITAL","MHDU"]
[null,null,null,0,null,null,null,null,{"$f":"IF(#REF!<0, 1, 0)","v":{"$error":"#REF!"}},{"$f":"IF(#REF!<0, 1, 0)","v":{"$error":"#REF!"}},{"$f":"IF(#REF!<0, 1, 0)","v":{"$error":"#REF!"}},{"$f":"IF(#REF!<0, 1, 0)","v":{"$error":"#REF!"}},{"$f":"IF(#REF!<0, 1, 0)","v":{"$error":"#REF!"}},{"$f":"IF(#REF!<0, 1, 0)","v":{"$error":"#REF!"}},{"$f":"IF(#REF!<0, 1, 0)","v":{"$error":"#REF!"}},{"$f":"IF(#REF!<0, 1, 0)","v":{"$error":"#REF!"}},{"$f":"IF(#REF!<0, 1, 0)","v":{"$error":"#REF!"}},{"$f":"IF(#REF!<0, 1, 0)","v":{"$error":"#REF!"}},{"$f":"IF(#REF!<0, 1, 0)","v":{"$error":"#REF!"}},{"$f":"IF(#REF!<0, 1, 0)","v":{"$error":"#REF!"}},{"$f":"IF(#REF!<0, 1, 0)","v":{"$error":"#REF!"}},{"$f":"IF(#REF!<0, 1, 0)","v":{"$error":"#REF!"}},{"$f":"IF(#REF!<0, 1, 0)","v":{"$error":"#REF!"}},{"$f":"IF(#REF!<0, 1, 0)","v":{"$error":"#REF!"}},{"$f":"IF(#REF!<0, 1, 0)","v":{"$error":"#REF!"}},{"$f":"IF(#REF!<0, 1, 0)","v":{"$error":"#REF!"}},{"$f":"IF(#REF!<0, 1, 0)","v":{"$error":"#REF!"}},{"$f":"IF(#REF!<0, 1, 0)","v":{"$error":"#REF!"}},{"$f":"IF(#REF!<0, 1, 0)","v":{"$error":"#REF!"}},null,null,null,null,null,null,null,{"$f":"IF(#REF!<0, 1, 0)","v":{"$error":"#REF!"}},{"$f":"IF(#REF!<0, 1, 0)","v":{"$error":"#REF!"}},{"$f":"IF(#REF!<0, 1, 0)","v":{"$error":"#REF!"}},{"$f":"IF(#REF!<0, 1, 0)","v":{"$error":"#REF!"}},{"$f":"IF(#REF!<0, 1, 0)","v":{"$error":"#REF!"}},{"$f":"IF(#REF!<0, 1, 0)","v":{"$error":"#REF!"}},{"$f":"IF(#REF!<0, 1, 0)","v":{"$error":"#REF!"}},{"$f":"IF(#REF!<0, 1, 0)","v":{"$error":"#REF!"}},{"$f":"IF(#REF!<0, 1, 0)","v":{"$error":"#REF!"}},{"$f":"IF(#REF!<0, 1, 0)","v":{"$error":"#REF!"}},null,null,null,null,null,null,null,null,null,null,null,null,null,null,null,null,null,null,null,null,null,null,null,"RATMASCALLS OLDER PEOPLE HAV","RATHG","MASCALLS OLDER PEOPLE HAV","RATHG","MASCALLS OLDER PEOPLE HAV","RAT",null,null,"BIRMINGHAM CHILDREN'S HOSPITAL","Neonatal Surgical"]
[null,null,null,{"$f":"IF(#REF!=\"\", IF(#REF!=\"\", 0,1),0)","v":{"$error":"#REF!"}},null,null,null,null,{"$f":"IF(#REF!<0, 1, 0)","v":{"$error":"#REF!"}},{"$f":"IF(#REF!<0, 1, 0)","v":{"$error":"#REF!"}},{"$f":"IF(#REF!<0, 1, 0)","v":{"$error":"#REF!"}},{"$f":"IF(#REF!<0, 1, 0)","v":{"$error":"#REF!"}},{"$f":"IF(#REF!<0, 1, 0)","v":{"$error":"#REF!"}},{"$f":"IF(#REF!<0, 1, 0)","v":{"$error":"#REF!"}},{"$f":"IF(#REF!<0, 1, 0)","v":{"$error":"#REF!"}},{"$f":"IF(#REF!<0, 1, 0)","v":{"$error":"#REF!"}},{"$f":"IF(#REF!<0, 1, 0)","v":{"$error":"#REF!"}},{"$f":"IF(#REF!<0, 1, 0)","v":{"$error":"#REF!"}},{"$f":"IF(#REF!<0, 1, 0)","v":{"$error":"#REF!"}},{"$f":"IF(#REF!<0, 1, 0)","v":{"$error":"#REF!"}},{"$f":"IF(#REF!<0, 1, 0)","v":{"$error":"#REF!"}},{"$f":"IF(#REF!<0, 1, 0)","v":{"$error":"#REF!"}},{"$f":"IF(#REF!<0, 1, 0)","v":{"$error":"#REF!"}},{"$f":"IF(#REF!<0, 1, 0)","v":{"$error":"#REF!"}},{"$f":"IF(#REF!<0, 1, 0)","v":{"$error":"#REF!"}},{"$f":"IF(#REF!<0, 1, 0)","v":{"$error":"#REF!"}},{"$f":"IF(#REF!<0, 1, 0)","v":{"$error":"#REF!"}},{"$f":"IF(#REF!<0, 1, 0)","v":{"$error":"#REF!"}},{"$f":"IF(#REF!<0, 1, 0)","v":{"$error":"#REF!"}},null,null,null,null,null,null,null,{"$f":"IF(#REF!<0, 1, 0)","v":{"$error":"#REF!"}},{"$f":"IF(#REF!<0, 1, 0)","v":{"$error":"#REF!"}},{"$f":"IF(#REF!<0, 1, 0)","v":{"$error":"#REF!"}},{"$f":"IF(#REF!<0, 1, 0)","v":{"$error":"#REF!"}},{"$f":"IF(#REF!<0, 1, 0)","v":{"$error":"#REF!"}},{"$f":"IF(#REF!<0, 1, 0)","v":{"$error":"#REF!"}},{"$f":"IF(#REF!<0, 1, 0)","v":{"$error":"#REF!"}},{"$f":"IF(#REF!<0, 1, 0)","v":{"$error":"#REF!"}},{"$f":"IF(#REF!<0, 1, 0)","v":{"$error":"#REF!"}},{"$f":"IF(#REF!<0, 1, 0)","v":{"$error":"#REF!"}},null,null,null,null,null,null,null,null,null,null,null,null,null,null,null,null,null,null,null,null,null,null,null,"RATMAYFIELD CENTRE","RATAF","MAYFIELD CENTRE","RATAF","MAYFIELD CENTRE","RAT",null,null,"BIRMINGHAM CHILDREN'S HOSPITAL","Ocean Ward Complex Care"]
[null,null,null,{"$f":"IF(D46=\"\", IF(E46=\"\", 0,1),0)","v":0},null,null,null,null,{"$f":"IF(#REF!<0, 1, 0)","v":{"$error":"#REF!"}},{"$f":"IF(#REF!<0, 1, 0)","v":{"$error":"#REF!"}},{"$f":"IF(#REF!<0, 1, 0)","v":{"$error":"#REF!"}},{"$f":"IF(#REF!<0, 1, 0)","v":{"$error":"#REF!"}},{"$f":"IF(#REF!<0, 1, 0)","v":{"$error":"#REF!"}},{"$f":"IF(#REF!<0, 1, 0)","v":{"$error":"#REF!"}},{"$f":"IF(#REF!<0, 1, 0)","v":{"$error":"#REF!"}},{"$f":"IF(#REF!<0, 1, 0)","v":{"$error":"#REF!"}},{"$f":"IF(#REF!<0, 1, 0)","v":{"$error":"#REF!"}},{"$f":"IF(#REF!<0, 1, 0)","v":{"$error":"#REF!"}},{"$f":"IF(#REF!<0, 1, 0)","v":{"$error":"#REF!"}},{"$f":"IF(#REF!<0, 1, 0)","v":{"$error":"#REF!"}},{"$f":"IF(#REF!<0, 1, 0)","v":{"$error":"#REF!"}},{"$f":"IF(#REF!<0, 1, 0)","v":{"$error":"#REF!"}},{"$f":"IF(#REF!<0, 1, 0)","v":{"$error":"#REF!"}},{"$f":"IF(#REF!<0, 1, 0)","v":{"$error":"#REF!"}},{"$f":"IF(#REF!<0, 1, 0)","v":{"$error":"#REF!"}},{"$f":"IF(#REF!<0, 1, 0)","v":{"$error":"#REF!"}},{"$f":"IF(#REF!<0, 1, 0)","v":{"$error":"#REF!"}},{"$f":"IF(#REF!<0, 1, 0)","v":{"$error":"#REF!"}},{"$f":"IF(#REF!<0, 1, 0)","v":{"$error":"#REF!"}},null,null,null,null,null,null,null,{"$f":"IF(#REF!<0, 1, 0)","v":{"$error":"#REF!"}},{"$f":"IF(#REF!<0, 1, 0)","v":{"$error":"#REF!"}},{"$f":"IF(#REF!<0, 1, 0)","v":{"$error":"#REF!"}},{"$f":"IF(#REF!<0, 1, 0)","v":{"$error":"#REF!"}},{"$f":"IF(#REF!<0, 1, 0)","v":{"$error":"#REF!"}},{"$f":"IF(#REF!<0, 1, 0)","v":{"$error":"#REF!"}},{"$f":"IF(#REF!<0, 1, 0)","v":{"$error":"#REF!"}},{"$f":"IF(#REF!<0, 1, 0)","v":{"$error":"#REF!"}},{"$f":"IF(#REF!<0, 1, 0)","v":{"$error":"#REF!"}},{"$f":"IF(#REF!<0, 1, 0)","v":{"$error":"#REF!"}},null,null,null,null,null,null,null,null,null,null,null,null,null,null,null,null,null,null,null,null,null,null,null,"RATNEW DIRECTIONS","RATHP","NEW DIRECTIONS","RATHP","NEW DIRECTIONS","RAT",null,null,"BIRMINGHAM CHILDREN'S HOSPITAL","PAU"]
[null,null,null,{"$f":"IF(#REF!=\"\", IF(#REF!=\"\", 0,1),0)","v":{"$error":"#REF!"}},null,null,null,null,{"$f":"IF(#REF!<0, 1, 0)","v":{"$error":"#REF!"}},{"$f":"IF(#REF!<0, 1, 0)","v":{"$error":"#REF!"}},{"$f":"IF(#REF!<0, 1, 0)","v":{"$error":"#REF!"}},{"$f":"IF(#REF!<0, 1, 0)","v":{"$error":"#REF!"}},{"$f":"IF(#REF!<0, 1, 0)","v":{"$error":"#REF!"}},{"$f":"IF(#REF!<0, 1, 0)","v":{"$error":"#REF!"}},{"$f":"IF(#REF!<0, 1, 0)","v":{"$error":"#REF!"}},{"$f":"IF(#REF!<0, 1, 0)","v":{"$error":"#REF!"}},{"$f":"IF(#REF!<0, 1, 0)","v":{"$error":"#REF!"}},{"$f":"IF(#REF!<0, 1, 0)","v":{"$error":"#REF!"}},{"$f":"IF(#REF!<0, 1, 0)","v":{"$error":"#REF!"}},{"$f":"IF(#REF!<0, 1, 0)","v":{"$error":"#REF!"}},{"$f":"IF(#REF!<0, 1, 0)","v":{"$error":"#REF!"}},{"$f":"IF(#REF!<0, 1, 0)","v":{"$error":"#REF!"}},{"$f":"IF(#REF!<0, 1, 0)","v":{"$error":"#REF!"}},{"$f":"IF(#REF!<0, 1, 0)","v":{"$error":"#REF!"}},{"$f":"IF(#REF!<0, 1, 0)","v":{"$error":"#REF!"}},{"$f":"IF(#REF!<0, 1, 0)","v":{"$error":"#REF!"}},{"$f":"IF(#REF!<0, 1, 0)","v":{"$error":"#REF!"}},{"$f":"IF(#REF!<0, 1, 0)","v":{"$error":"#REF!"}},{"$f":"IF(#REF!<0, 1, 0)","v":{"$error":"#REF!"}},null,null,null,null,null,null,null,{"$f":"IF(#REF!<0, 1, 0)","v":{"$error":"#REF!"}},{"$f":"IF(#REF!<0, 1, 0)","v":{"$error":"#REF!"}},{"$f":"IF(#REF!<0, 1, 0)","v":{"$error":"#REF!"}},{"$f":"IF(#REF!<0, 1, 0)","v":{"$error":"#REF!"}},{"$f":"IF(#REF!<0, 1, 0)","v":{"$error":"#REF!"}},{"$f":"IF(#REF!<0, 1, 0)","v":{"$error":"#REF!"}},{"$f":"IF(#REF!<0, 1, 0)","v":{"$error":"#REF!"}},{"$f":"IF(#REF!<0, 1, 0)","v":{"$error":"#REF!"}},{"$f":"IF(#REF!<0, 1, 0)","v":{"$error":"#REF!"}},{"$f":"IF(#REF!<0, 1, 0)","v":{"$error":"#REF!"}},null,null,null,null,null,null,null,null,null,null,null,null,null,null,null,null,null,null,null,null,null,null,null,"RATOAHTT (BARKING HOSPITAL)","RATT3","OAHTT (BARKING HOSPITAL)","RATT3","OAHTT (BARKING HOSPITAL)","RAT",null,null,"BIRMINGHAM CHILDREN'S HOSPITAL","PICU"]
[null,null,null,{"$f":"IF(#REF!=\"\", IF(#REF!=\"\", 0,1),0)","v":{"$error":"#REF!"}},null,null,null,null,{"$f":"IF(#REF!<0, 1, 0)","v":{"$error":"#REF!"}},{"$f":"IF(#REF!<0, 1, 0)","v":{"$error":"#REF!"}},{"$f":"IF(#REF!<0, 1, 0)","v":{"$error":"#REF!"}},{"$f":"IF(#REF!<0, 1, 0)","v":{"$error":"#REF!"}},{"$f":"IF(#REF!<0, 1, 0)","v":{"$error":"#REF!"}},{"$f":"IF(#REF!<0, 1, 0)","v":{"$error":"#REF!"}},{"$f":"IF(#REF!<0, 1, 0)","v":{"$error":"#REF!"}},{"$f":"IF(#REF!<0, 1, 0)","v":{"$error":"#REF!"}},{"$f":"IF(#REF!<0, 1, 0)","v":{"$error":"#REF!"}},{"$f":"IF(#REF!<0, 1, 0)","v":{"$error":"#REF!"}},{"$f":"IF(#REF!<0, 1, 0)","v":{"$error":"#REF!"}},{"$f":"IF(#REF!<0, 1, 0)","v":{"$error":"#REF!"}},{"$f":"IF(#REF!<0, 1, 0)","v":{"$error":"#REF!"}},{"$f":"IF(#REF!<0, 1, 0)","v":{"$error":"#REF!"}},{"$f":"IF(#REF!<0, 1, 0)","v":{"$error":"#REF!"}},{"$f":"IF(#REF!<0, 1, 0)","v":{"$error":"#REF!"}},{"$f":"IF(#REF!<0, 1, 0)","v":{"$error":"#REF!"}},{"$f":"IF(#REF!<0, 1, 0)","v":{"$error":"#REF!"}},{"$f":"IF(#REF!<0, 1, 0)","v":{"$error":"#REF!"}},{"$f":"IF(#REF!<0, 1, 0)","v":{"$error":"#REF!"}},{"$f":"IF(#REF!<0, 1, 0)","v":{"$error":"#REF!"}},null,null,null,null,null,null,null,{"$f":"IF(#REF!<0, 1, 0)","v":{"$error":"#REF!"}},{"$f":"IF(#REF!<0, 1, 0)","v":{"$error":"#REF!"}},{"$f":"IF(#REF!<0, 1, 0)","v":{"$error":"#REF!"}},{"$f":"IF(#REF!<0, 1, 0)","v":{"$error":"#REF!"}},{"$f":"IF(#REF!<0, 1, 0)","v":{"$error":"#REF!"}},{"$f":"IF(#REF!<0, 1, 0)","v":{"$error":"#REF!"}},{"$f":"IF(#REF!<0, 1, 0)","v":{"$error":"#REF!"}},{"$f":"IF(#REF!<0, 1, 0)","v":{"$error":"#REF!"}},{"$f":"IF(#REF!<0, 1, 0)","v":{"$error":"#REF!"}},{"$f":"IF(#REF!<0, 1, 0)","v":{"$error":"#REF!"}},null,null,null,null,null,null,null,null,null,null,null,null,null,null,null,null,null,null,null,null,null,null,null,"RATORSETT HOSPITAL","RATPH","ORSETT HOSPITAL","RATPH","ORSETT HOSPITAL","RAT",null,null,"BIRMINGHAM CHILDREN'S HOSPITAL","Ward 1"]
[null,null,null,{"$f":"IF(#REF!=\"\", IF(#REF!=\"\", 0,1),0)","v":{"$error":"#REF!"}},null,null,null,null,{"$f":"IF(#REF!<0, 1, 0)","v":{"$error":"#REF!"}},{"$f":"IF(#REF!<0, 1, 0)","v":{"$error":"#REF!"}},{"$f":"IF(#REF!<0, 1, 0)","v":{"$error":"#REF!"}},{"$f":"IF(#REF!<0, 1, 0)","v":{"$error":"#REF!"}},{"$f":"IF(#REF!<0, 1, 0)","v":{"$error":"#REF!"}},{"$f":"IF(#REF!<0, 1, 0)","v":{"$error":"#REF!"}},{"$f":"IF(#REF!<0, 1, 0)","v":{"$error":"#REF!"}},{"$f":"IF(#REF!<0, 1, 0)","v":{"$error":"#REF!"}},{"$f":"IF(#REF!<0, 1, 0)","v":{"$error":"#REF!"}},{"$f":"IF(#REF!<0, 1, 0)","v":{"$error":"#REF!"}},{"$f":"IF(#REF!<0, 1, 0)","v":{"$error":"#REF!"}},{"$f":"IF(#REF!<0, 1, 0)","v":{"$error":"#REF!"}},{"$f":"IF(#REF!<0, 1, 0)","v":{"$error":"#REF!"}},{"$f":"IF(#REF!<0, 1, 0)","v":{"$error":"#REF!"}},{"$f":"IF(#REF!<0, 1, 0)","v":{"$error":"#REF!"}},{"$f":"IF(#REF!<0, 1, 0)","v":{"$error":"#REF!"}},{"$f":"IF(#REF!<0, 1, 0)","v":{"$error":"#REF!"}},{"$f":"IF(#REF!<0, 1, 0)","v":{"$error":"#REF!"}},{"$f":"IF(#REF!<0, 1, 0)","v":{"$error":"#REF!"}},{"$f":"IF(#REF!<0, 1, 0)","v":{"$error":"#REF!"}},{"$f":"IF(#REF!<0, 1, 0)","v":{"$error":"#REF!"}},null,null,null,null,null,null,null,{"$f":"IF(#REF!<0, 1, 0)","v":{"$error":"#REF!"}},{"$f":"IF(#REF!<0, 1, 0)","v":{"$error":"#REF!"}},{"$f":"IF(#REF!<0, 1, 0)","v":{"$error":"#REF!"}},{"$f":"IF(#REF!<0, 1, 0)","v":{"$error":"#REF!"}},{"$f":"IF(#REF!<0, 1, 0)","v":{"$error":"#REF!"}},{"$f":"IF(#REF!<0, 1, 0)","v":{"$error":"#REF!"}},{"$f":"IF(#REF!<0, 1, 0)","v":{"$error":"#REF!"}},{"$f":"IF(#REF!<0, 1, 0)","v":{"$error":"#REF!"}},{"$f":"IF(#REF!<0, 1, 0)","v":{"$error":"#REF!"}},{"$f":"IF(#REF!<0, 1, 0)","v":{"$error":"#REF!"}},null,null,null,null,null,null,null,null,null,null,null,null,null,null,null,null,null,null,null,null,null,null,null,"RATQUEENS HOSPITAL","RATQH","QUEENS HOSPITAL","RATQH","QUEENS HOSPITAL","RAT",null,null,"BIRMINGHAM CHILDREN'S HOSPITAL","Ward 10"]
[null,null,null,{"$f":"IF(#REF!=\"\", IF(#REF!=\"\", 0,1),0)","v":{"$error":"#REF!"}},null,null,null,null,{"$f":"IF(#REF!<0, 1, 0)","v":{"$error":"#REF!"}},{"$f":"IF(#REF!<0, 1, 0)","v":{"$error":"#REF!"}},{"$f":"IF(#REF!<0, 1, 0)","v":{"$error":"#REF!"}},{"$f":"IF(#REF!<0, 1, 0)","v":{"$error":"#REF!"}},{"$f":"IF(#REF!<0, 1, 0)","v":{"$error":"#REF!"}},{"$f":"IF(#REF!<0, 1, 0)","v":{"$error":"#REF!"}},{"$f":"IF(#REF!<0, 1, 0)","v":{"$error":"#REF!"}},{"$f":"IF(#REF!<0, 1, 0)","v":{"$error":"#REF!"}},{"$f":"IF(#REF!<0, 1, 0)","v":{"$error":"#REF!"}},{"$f":"IF(#REF!<0, 1, 0)","v":{"$error":"#REF!"}},{"$f":"IF(#REF!<0, 1, 0)","v":{"$error":"#REF!"}},{"$f":"IF(#REF!<0, 1, 0)","v":{"$error":"#REF!"}},{"$f":"IF(#REF!<0, 1, 0)","v":{"$error":"#REF!"}},{"$f":"IF(#REF!<0, 1, 0)","v":{"$error":"#REF!"}},{"$f":"IF(#REF!<0, 1, 0)","v":{"$error":"#REF!"}},{"$f":"IF(#REF!<0, 1, 0)","v":{"$error":"#REF!"}},{"$f":"IF(#REF!<0, 1, 0)","v":{"$error":"#REF!"}},{"$f":"IF(#REF!<0, 1, 0)","v":{"$error":"#REF!"}},{"$f":"IF(#REF!<0, 1, 0)","v":{"$error":"#REF!"}},{"$f":"IF(#REF!<0, 1, 0)","v":{"$error":"#REF!"}},{"$f":"IF(#REF!<0, 1, 0)","v":{"$error":"#REF!"}},null,null,null,null,null,null,null,{"$f":"IF(#REF!<0, 1, 0)","v":{"$error":"#REF!"}},{"$f":"IF(#REF!<0, 1, 0)","v":{"$error":"#REF!"}},{"$f":"IF(#REF!<0, 1, 0)","v":{"$error":"#REF!"}},{"$f":"IF(#REF!<0, 1, 0)","v":{"$error":"#REF!"}},{"$f":"IF(#REF!<0, 1, 0)","v":{"$error":"#REF!"}},{"$f":"IF(#REF!<0, 1, 0)","v":{"$error":"#REF!"}},{"$f":"IF(#REF!<0, 1, 0)","v":{"$error":"#REF!"}},{"$f":"IF(#REF!<0, 1, 0)","v":{"$error":"#REF!"}},{"$f":"IF(#REF!<0, 1, 0)","v":{"$error":"#REF!"}},{"$f":"IF(#REF!<0, 1, 0)","v":{"$error":"#REF!"}},null,null,null,null,null,null,null,null,null,null,null,null,null,null,null,null,null,null,null,null,null,null,null,"RATREDBRIDGE HTT","RATRN","REDBRIDGE HTT","RATRN","REDBRIDGE HTT","RAT",null,null,"BIRMINGHAM CHILDREN'S HOSPITAL","Ward 11"]
[null,null,null,{"$f":"IF(#REF!=\"\", IF(#REF!=\"\", 0,1),0)","v":{"$error":"#REF!"}},null,null,null,null,{"$f":"IF(#REF!<0, 1, 0)","v":{"$error":"#REF!"}},{"$f":"IF(#REF!<0, 1, 0)","v":{"$error":"#REF!"}},{"$f":"IF(#REF!<0, 1, 0)","v":{"$error":"#REF!"}},{"$f":"IF(#REF!<0, 1, 0)","v":{"$error":"#REF!"}},{"$f":"IF(#REF!<0, 1, 0)","v":{"$error":"#REF!"}},{"$f":"IF(#REF!<0, 1, 0)","v":{"$error":"#REF!"}},{"$f":"IF(#REF!<0, 1, 0)","v":{"$error":"#REF!"}},{"$f":"IF(#REF!<0, 1, 0)","v":{"$error":"#REF!"}},{"$f":"IF(#REF!<0, 1, 0)","v":{"$error":"#REF!"}},{"$f":"IF(#REF!<0, 1, 0)","v":{"$error":"#REF!"}},{"$f":"IF(#REF!<0, 1, 0)","v":{"$error":"#REF!"}},{"$f":"IF(#REF!<0, 1, 0)","v":{"$error":"#REF!"}},{"$f":"IF(#REF!<0, 1, 0)","v":{"$error":"#REF!"}},{"$f":"IF(#REF!<0, 1, 0)","v":{"$error":"#REF!"}},{"$f":"IF(#REF!<0, 1, 0)","v":{"$error":"#REF!"}},{"$f":"IF(#REF!<0, 1, 0)","v":{"$error":"#REF!"}},{"$f":"IF(#REF!<0, 1, 0)","v":{"$error":"#REF!"}},{"$f":"IF(#REF!<0, 1, 0)","v":{"$error":"#REF!"}},{"$f":"IF(#REF!<0, 1, 0)","v":{"$error":"#REF!"}},{"$f":"IF(#REF!<0, 1, 0)","v":{"$error":"#REF!"}},{"$f":"IF(#REF!<0, 1, 0)","v":{"$error":"#REF!"}},null,null,null,null,null,null,null,{"$f":"IF(#REF!<0, 1, 0)","v":{"$error":"#REF!"}},{"$f":"IF(#REF!<0, 1, 0)","v":{"$error":"#REF!"}},{"$f":"IF(#REF!<0, 1, 0)","v":{"$error":"#REF!"}},{"$f":"IF(#REF!<0, 1, 0)","v":{"$error":"#REF!"}},{"$f":"IF(#REF!<0, 1, 0)","v":{"$error":"#REF!"}},{"$f":"IF(#REF!<0, 1, 0)","v":{"$error":"#REF!"}},{"$f":"IF(#REF!<0, 1, 0)","v":{"$error":"#REF!"}},{"$f":"IF(#REF!<0, 1, 0)","v":{"$error":"#REF!"}},{"$f":"IF(#REF!<0, 1, 0)","v":{"$error":"#REF!"}},{"$f":"IF(#REF!<0, 1, 0)","v":{"$error":"#REF!"}},null,null,null,null,null,null,null,null,null,null,null,null,null,null,null,null,null,null,null,null,null,null,null,"RATROMFORD CRT","RATH3","ROMFORD CRT","RATH3","ROMFORD CRT","RAT",null,null,"BIRMINGHAM CHILDREN'S HOSPITAL","Ward 12"]
[null,null,null,{"$f":"IF(#REF!=\"\", IF(#REF!=\"\", 0,1),0)","v":{"$error":"#REF!"}},null,null,null,null,{"$f":"IF(#REF!<0, 1, 0)","v":{"$error":"#REF!"}},{"$f":"IF(#REF!<0, 1, 0)","v":{"$error":"#REF!"}},{"$f":"IF(#REF!<0, 1, 0)","v":{"$error":"#REF!"}},{"$f":"IF(#REF!<0, 1, 0)","v":{"$error":"#REF!"}},{"$f":"IF(#REF!<0, 1, 0)","v":{"$error":"#REF!"}},{"$f":"IF(#REF!<0, 1, 0)","v":{"$error":"#REF!"}},{"$f":"IF(#REF!<0, 1, 0)","v":{"$error":"#REF!"}},{"$f":"IF(#REF!<0, 1, 0)","v":{"$error":"#REF!"}},{"$f":"IF(#REF!<0, 1, 0)","v":{"$error":"#REF!"}},{"$f":"IF(#REF!<0, 1, 0)","v":{"$error":"#REF!"}},{"$f":"IF(#REF!<0, 1, 0)","v":{"$error":"#REF!"}},{"$f":"IF(#REF!<0, 1, 0)","v":{"$error":"#REF!"}},{"$f":"IF(#REF!<0, 1, 0)","v":{"$error":"#REF!"}},{"$f":"IF(#REF!<0, 1, 0)","v":{"$error":"#REF!"}},{"$f":"IF(#REF!<0, 1, 0)","v":{"$error":"#REF!"}},{"$f":"IF(#REF!<0, 1, 0)","v":{"$error":"#REF!"}},{"$f":"IF(#REF!<0, 1, 0)","v":{"$error":"#REF!"}},{"$f":"IF(#REF!<0, 1, 0)","v":{"$error":"#REF!"}},{"$f":"IF(#REF!<0, 1, 0)","v":{"$error":"#REF!"}},{"$f":"IF(#REF!<0, 1, 0)","v":{"$error":"#REF!"}},{"$f":"IF(#REF!<0, 1, 0)","v":{"$error":"#REF!"}},null,null,null,null,null,null,null,{"$f":"IF(#REF!<0, 1, 0)","v":{"$error":"#REF!"}},{"$f":"IF(#REF!<0, 1, 0)","v":{"$error":"#REF!"}},{"$f":"IF(#REF!<0, 1, 0)","v":{"$error":"#REF!"}},{"$f":"IF(#REF!<0, 1, 0)","v":{"$error":"#REF!"}},{"$f":"IF(#REF!<0, 1, 0)","v":{"$error":"#REF!"}},{"$f":"IF(#REF!<0, 1, 0)","v":{"$error":"#REF!"}},{"$f":"IF(#REF!<0, 1, 0)","v":{"$error":"#REF!"}},{"$f":"IF(#REF!<0, 1, 0)","v":{"$error":"#REF!"}},{"$f":"IF(#REF!<0, 1, 0)","v":{"$error":"#REF!"}},{"$f":"IF(#REF!<0, 1, 0)","v":{"$error":"#REF!"}},null,null,null,null,null,null,null,null,null,null,null,null,null,null,null,null,null,null,null,null,null,null,null,"RATST GEORGES","RATGK","ST GEORGES","RATGK","ST GEORGES","RAT",null,null,"BIRMINGHAM CHILDREN'S HOSPITAL","Ward 15"]
[null,null,null,{"$f":"IF(#REF!=\"\", IF(#REF!=\"\", 0,1),0)","v":{"$error":"#REF!"}},null,null,null,null,{"$f":"IF(#REF!<0, 1, 0)","v":{"$error":"#REF!"}},{"$f":"IF(#REF!<0, 1, 0)","v":{"$error":"#REF!"}},{"$f":"IF(#REF!<0, 1, 0)","v":{"$error":"#REF!"}},{"$f":"IF(#REF!<0, 1, 0)","v":{"$error":"#REF!"}},{"$f":"IF(#REF!<0, 1, 0)","v":{"$error":"#REF!"}},{"$f":"IF(#REF!<0, 1, 0)","v":{"$error":"#REF!"}},{"$f":"IF(#REF!<0, 1, 0)","v":{"$error":"#REF!"}},{"$f":"IF(#REF!<0, 1, 0)","v":{"$error":"#REF!"}},{"$f":"IF(#REF!<0, 1, 0)","v":{"$error":"#REF!"}},{"$f":"IF(#REF!<0, 1, 0)","v":{"$error":"#REF!"}},{"$f":"IF(#REF!<0, 1, 0)","v":{"$error":"#REF!"}},{"$f":"IF(#REF!<0, 1, 0)","v":{"$error":"#REF!"}},{"$f":"IF(#REF!<0, 1, 0)","v":{"$error":"#REF!"}},{"$f":"IF(#REF!<0, 1, 0)","v":{"$error":"#REF!"}},{"$f":"IF(#REF!<0, 1, 0)","v":{"$error":"#REF!"}},{"$f":"IF(#REF!<0, 1, 0)","v":{"$error":"#REF!"}},{"$f":"IF(#REF!<0, 1, 0)","v":{"$error":"#REF!"}},{"$f":"IF(#REF!<0, 1, 0)","v":{"$error":"#REF!"}},{"$f":"IF(#REF!<0, 1, 0)","v":{"$error":"#REF!"}},{"$f":"IF(#REF!<0, 1, 0)","v":{"$error":"#REF!"}},{"$f":"IF(#REF!<0, 1, 0)","v":{"$error":"#REF!"}},null,null,null,null,null,null,null,{"$f":"IF(#REF!<0, 1, 0)","v":{"$error":"#REF!"}},{"$f":"IF(#REF!<0, 1, 0)","v":{"$error":"#REF!"}},{"$f":"IF(#REF!<0, 1, 0)","v":{"$error":"#REF!"}},{"$f":"IF(#REF!<0, 1, 0)","v":{"$error":"#REF!"}},{"$f":"IF(#REF!<0, 1, 0)","v":{"$error":"#REF!"}},{"$f":"IF(#REF!<0, 1, 0)","v":{"$error":"#REF!"}},{"$f":"IF(#REF!<0, 1, 0)","v":{"$error":"#REF!"}},{"$f":"IF(#REF!<0, 1, 0)","v":{"$error":"#REF!"}},{"$f":"IF(#REF!<0, 1, 0)","v":{"$error":"#REF!"}},{"$f":"IF(#REF!<0, 1, 0)","v":{"$error":"#REF!"}},null,null,null,null,null,null,null,null,null,null,null,null,null,null,null,null,null,null,null,null,null,null,null,"RATST GEORGES DAY HOSPITAL","RATC3","ST GEORGES DAY HOSPITAL","RATC3","ST GEORGES DAY HOSPITAL","RAT",null,null,"BIRMINGHAM CHILDREN'S HOSPITAL","Ward 18"]
[null,null,null,{"$f":"IF(#REF!=\"\", IF(#REF!=\"\", 0,1),0)","v":{"$error":"#REF!"}},null,null,null,null,{"$f":"IF(#REF!<0, 1, 0)","v":{"$error":"#REF!"}},{"$f":"IF(#REF!<0, 1, 0)","v":{"$error":"#REF!"}},{"$f":"IF(#REF!<0, 1, 0)","v":{"$error":"#REF!"}},{"$f":"IF(#REF!<0, 1, 0)","v":{"$error":"#REF!"}},{"$f":"IF(#REF!<0, 1, 0)","v":{"$error":"#REF!"}},{"$f":"IF(#REF!<0, 1, 0)","v":{"$error":"#REF!"}},{"$f":"IF(#REF!<0, 1, 0)","v":{"$error":"#REF!"}},{"$f":"IF(#REF!<0, 1, 0)","v":{"$error":"#REF!"}},{"$f":"IF(#REF!<0, 1, 0)","v":{"$error":"#REF!"}},{"$f":"IF(#REF!<0, 1, 0)","v":{"$error":"#REF!"}},{"$f":"IF(#REF!<0, 1, 0)","v":{"$error":"#REF!"}},{"$f":"IF(#REF!<0, 1, 0)","v":{"$error":"#REF!"}},{"$f":"IF(#REF!<0, 1, 0)","v":{"$error":"#REF!"}},{"$f":"IF(#REF!<0, 1, 0)","v":{"$error":"#REF!"}},{"$f":"IF(#REF!<0, 1, 0)","v":{"$error":"#REF!"}},{"$f":"IF(#REF!<0, 1, 0)","v":{"$error":"#REF!"}},{"$f":"IF(#REF!<0, 1, 0)","v":{"$error":"#REF!"}},{"$f":"IF(#REF!<0, 1, 0)","v":{"$error":"#REF!"}},{"$f":"IF(#REF!<0, 1, 0)","v":{"$error":"#REF!"}},{"$f":"IF(#REF!<0, 1, 0)","v":{"$error":"#REF!"}},{"$f":"IF(#REF!<0, 1, 0)","v":{"$error":"#REF!"}},null,null,null,null,null,null,null,{"$f":"IF(#REF!<0, 1, 0)","v":{"$error":"#REF!"}},{"$f":"IF(#REF!<0, 1, 0)","v":{"$error":"#REF!"}},{"$f":"IF(#REF!<0, 1, 0)","v":{"$error":"#REF!"}},{"$f":"IF(#REF!<0, 1, 0)","v":{"$error":"#REF!"}},{"$f":"IF(#REF!<0, 1, 0)","v":{"$error":"#REF!"}},{"$f":"IF(#REF!<0, 1, 0)","v":{"$error":"#REF!"}},{"$f":"IF(#REF!<0, 1, 0)","v":{"$error":"#REF!"}},{"$f":"IF(#REF!<0, 1, 0)","v":{"$error":"#REF!"}},{"$f":"IF(#REF!<0, 1, 0)","v":{"$error":"#REF!"}},{"$f":"IF(#REF!<0, 1, 0)","v":{"$error":"#REF!"}},null,null,null,null,null,null,null,null,null,null,null,null,null,null,null,null,null,null,null,null,null,null,null,"RATSTONELEA","RATTL","STONELEA","RATTL","STONELEA","RAT",null,null,"BIRMINGHAM CHILDREN'S HOSPITAL","Ward 19"]
[null,null,null,{"$f":"IF(#REF!=\"\", IF(#REF!=\"\", 0,1),0)","v":{"$error":"#REF!"}},null,null,null,null,{"$f":"IF(#REF!<0, 1, 0)","v":{"$error":"#REF!"}},{"$f":"IF(#REF!<0, 1, 0)","v":{"$error":"#REF!"}},{"$f":"IF(#REF!<0, 1, 0)","v":{"$error":"#REF!"}},{"$f":"IF(#REF!<0, 1, 0)","v":{"$error":"#REF!"}},{"$f":"IF(#REF!<0, 1, 0)","v":{"$error":"#REF!"}},{"$f":"IF(#REF!<0, 1, 0)","v":{"$error":"#REF!"}},{"$f":"IF(#REF!<0, 1, 0)","v":{"$error":"#REF!"}},{"$f":"IF(#REF!<0, 1, 0)","v":{"$error":"#REF!"}},{"$f":"IF(#REF!<0, 1, 0)","v":{"$error":"#REF!"}},{"$f":"IF(#REF!<0, 1, 0)","v":{"$error":"#REF!"}},{"$f":"IF(#REF!<0, 1, 0)","v":{"$error":"#REF!"}},{"$f":"IF(#REF!<0, 1, 0)","v":{"$error":"#REF!"}},{"$f":"IF(#REF!<0, 1, 0)","v":{"$error":"#REF!"}},{"$f":"IF(#REF!<0, 1, 0)","v":{"$error":"#REF!"}},{"$f":"IF(#REF!<0, 1, 0)","v":{"$error":"#REF!"}},{"$f":"IF(#REF!<0, 1, 0)","v":{"$error":"#REF!"}},{"$f":"IF(#REF!<0, 1, 0)","v":{"$error":"#REF!"}},{"$f":"IF(#REF!<0, 1, 0)","v":{"$error":"#REF!"}},{"$f":"IF(#REF!<0, 1, 0)","v":{"$error":"#REF!"}},{"$f":"IF(#REF!<0, 1, 0)","v":{"$error":"#REF!"}},{"$f":"IF(#REF!<0, 1, 0)","v":{"$error":"#REF!"}},null,null,null,null,null,null,null,{"$f":"IF(#REF!<0, 1, 0)","v":{"$error":"#REF!"}},{"$f":"IF(#REF!<0, 1, 0)","v":{"$error":"#REF!"}},{"$f":"IF(#REF!<0, 1, 0)","v":{"$error":"#REF!"}},{"$f":"IF(#REF!<0, 1, 0)","v":{"$error":"#REF!"}},{"$f":"IF(#REF!<0, 1, 0)","v":{"$error":"#REF!"}},{"$f":"IF(#REF!<0, 1, 0)","v":{"$error":"#REF!"}},{"$f":"IF(#REF!<0, 1, 0)","v":{"$error":"#REF!"}},{"$f":"IF(#REF!<0, 1, 0)","v":{"$error":"#REF!"}},{"$f":"IF(#REF!<0, 1, 0)","v":{"$error":"#REF!"}},{"$f":"IF(#REF!<0, 1, 0)","v":{"$error":"#REF!"}},null,null,null,null,null,null,null,null,null,null,null,null,null,null,null,null,null,null,null,null,null,null,null,"RATTHAMES VIEW (CHS)","RATTV","THAMES VIEW (CHS)","RATTV","THAMES VIEW (CHS)","RAT",null,null,"BIRMINGHAM CHILDREN'S HOSPITAL","Ward 2"]
[null,null,null,{"$f":"IF(#REF!=\"\", IF(#REF!=\"\", 0,1),0)","v":{"$error":"#REF!"}},null,null,null,null,{"$f":"IF(#REF!<0, 1, 0)","v":{"$error":"#REF!"}},{"$f":"IF(#REF!<0, 1, 0)","v":{"$error":"#REF!"}},{"$f":"IF(#REF!<0, 1, 0)","v":{"$error":"#REF!"}},{"$f":"IF(#REF!<0, 1, 0)","v":{"$error":"#REF!"}},{"$f":"IF(#REF!<0, 1, 0)","v":{"$error":"#REF!"}},{"$f":"IF(#REF!<0, 1, 0)","v":{"$error":"#REF!"}},{"$f":"IF(#REF!<0, 1, 0)","v":{"$error":"#REF!"}},{"$f":"IF(#REF!<0, 1, 0)","v":{"$error":"#REF!"}},{"$f":"IF(#REF!<0, 1, 0)","v":{"$error":"#REF!"}},{"$f":"IF(#REF!<0, 1, 0)","v":{"$error":"#REF!"}},{"$f":"IF(#REF!<0, 1, 0)","v":{"$error":"#REF!"}},{"$f":"IF(#REF!<0, 1, 0)","v":{"$error":"#REF!"}},{"$f":"IF(#REF!<0, 1, 0)","v":{"$error":"#REF!"}},{"$f":"IF(#REF!<0, 1, 0)","v":{"$error":"#REF!"}},{"$f":"IF(#REF!<0, 1, 0)","v":{"$error":"#REF!"}},{"$f":"IF(#REF!<0, 1, 0)","v":{"$error":"#REF!"}},{"$f":"IF(#REF!<0, 1, 0)","v":{"$error":"#REF!"}},{"$f":"IF(#REF!<0, 1, 0)","v":{"$error":"#REF!"}},{"$f":"IF(#REF!<0, 1, 0)","v":{"$error":"#REF!"}},{"$f":"IF(#REF!<0, 1, 0)","v":{"$error":"#REF!"}},{"$f":"IF(#REF!<0, 1, 0)","v":{"$error":"#REF!"}},null,null,null,null,null,null,null,{"$f":"IF(#REF!<0, 1, 0)","v":{"$error":"#REF!"}},{"$f":"IF(#REF!<0, 1, 0)","v":{"$error":"#REF!"}},{"$f":"IF(#REF!<0, 1, 0)","v":{"$error":"#REF!"}},{"$f":"IF(#REF!<0, 1, 0)","v":{"$error":"#REF!"}},{"$f":"IF(#REF!<0, 1, 0)","v":{"$error":"#REF!"}},{"$f":"IF(#REF!<0, 1, 0)","v":{"$error":"#REF!"}},{"$f":"IF(#REF!<0, 1, 0)","v":{"$error":"#REF!"}},{"$f":"IF(#REF!<0, 1, 0)","v":{"$error":"#REF!"}},{"$f":"IF(#REF!<0, 1, 0)","v":{"$error":"#REF!"}},{"$f":"IF(#REF!<0, 1, 0)","v":{"$error":"#REF!"}},null,null,null,null,null,null,null,null,null,null,null,null,null,null,null,null,null,null,null,null,null,null,null,"RATTHE AINSLIE REHAB UNIT","RAT42","THE AINSLIE REHAB UNIT","RAT42","THE AINSLIE REHAB UNIT","RAT",null,null,"BIRMINGHAM CHILDREN'S HOSPITAL","Ward 5"]
[null,null,null,{"$f":"IF(#REF!=\"\", IF(#REF!=\"\", 0,1),0)","v":{"$error":"#REF!"}},null,null,null,null,{"$f":"IF(#REF!<0, 1, 0)","v":{"$error":"#REF!"}},{"$f":"IF(#REF!<0, 1, 0)","v":{"$error":"#REF!"}},{"$f":"IF(#REF!<0, 1, 0)","v":{"$error":"#REF!"}},{"$f":"IF(#REF!<0, 1, 0)","v":{"$error":"#REF!"}},{"$f":"IF(#REF!<0, 1, 0)","v":{"$error":"#REF!"}},{"$f":"IF(#REF!<0, 1, 0)","v":{"$error":"#REF!"}},{"$f":"IF(#REF!<0, 1, 0)","v":{"$error":"#REF!"}},{"$f":"IF(#REF!<0, 1, 0)","v":{"$error":"#REF!"}},{"$f":"IF(#REF!<0, 1, 0)","v":{"$error":"#REF!"}},{"$f":"IF(#REF!<0, 1, 0)","v":{"$error":"#REF!"}},{"$f":"IF(#REF!<0, 1, 0)","v":{"$error":"#REF!"}},{"$f":"IF(#REF!<0, 1, 0)","v":{"$error":"#REF!"}},{"$f":"IF(#REF!<0, 1, 0)","v":{"$error":"#REF!"}},{"$f":"IF(#REF!<0, 1, 0)","v":{"$error":"#REF!"}},{"$f":"IF(#REF!<0, 1, 0)","v":{"$error":"#REF!"}},{"$f":"IF(#REF!<0, 1, 0)","v":{"$error":"#REF!"}},{"$f":"IF(#REF!<0, 1, 0)","v":{"$error":"#REF!"}},{"$f":"IF(#REF!<0, 1, 0)","v":{"$error":"#REF!"}},{"$f":"IF(#REF!<0, 1, 0)","v":{"$error":"#REF!"}},{"$f":"IF(#REF!<0, 1, 0)","v":{"$error":"#REF!"}},{"$f":"IF(#REF!<0, 1, 0)","v":{"$error":"#REF!"}},null,null,null,null,null,null,null,{"$f":"IF(#REF!<0, 1, 0)","v":{"$error":"#REF!"}},{"$f":"IF(#REF!<0, 1, 0)","v":{"$error":"#REF!"}},{"$f":"IF(#REF!<0, 1, 0)","v":{"$error":"#REF!"}},{"$f":"IF(#REF!<0, 1, 0)","v":{"$error":"#REF!"}},{"$f":"IF(#REF!<0, 1, 0)","v":{"$error":"#REF!"}},{"$f":"IF(#REF!<0, 1, 0)","v":{"$error":"#REF!"}},{"$f":"IF(#REF!<0, 1, 0)","v":{"$error":"#REF!"}},{"$f":"IF(#REF!<0, 1, 0)","v":{"$error":"#REF!"}},{"$f":"IF(#REF!<0, 1, 0)","v":{"$error":"#REF!"}},{"$f":"IF(#REF!<0, 1, 0)","v":{"$error":"#REF!"}},null,null,null,null,null,null,null,null,null,null,null,null,null,null,null,null,null,null,null,null,null,null,null,"RATTHORNEBURY UNIT","RATHN","THORNEBURY UNIT","RATHN","THORNEBURY UNIT","RAT",null,null,"BIRMINGHAM CHILDREN'S HOSPITAL","Ward 8"]
[null,null,null,{"$f":"IF(#REF!=\"\", IF(#REF!=\"\", 0,1),0)","v":{"$error":"#REF!"}},null,null,null,null,{"$f":"IF(#REF!<0, 1, 0)","v":{"$error":"#REF!"}},{"$f":"IF(#REF!<0, 1, 0)","v":{"$error":"#REF!"}},{"$f":"IF(#REF!<0, 1, 0)","v":{"$error":"#REF!"}},{"$f":"IF(#REF!<0, 1, 0)","v":{"$error":"#REF!"}},{"$f":"IF(#REF!<0, 1, 0)","v":{"$error":"#REF!"}},{"$f":"IF(#REF!<0, 1, 0)","v":{"$error":"#REF!"}},{"$f":"IF(#REF!<0, 1, 0)","v":{"$error":"#REF!"}},{"$f":"IF(#REF!<0, 1, 0)","v":{"$error":"#REF!"}},{"$f":"IF(#REF!<0, 1, 0)","v":{"$error":"#REF!"}},{"$f":"IF(#REF!<0, 1, 0)","v":{"$error":"#REF!"}},{"$f":"IF(#REF!<0, 1, 0)","v":{"$error":"#REF!"}},{"$f":"IF(#REF!<0, 1, 0)","v":{"$error":"#REF!"}},{"$f":"IF(#REF!<0, 1, 0)","v":{"$error":"#REF!"}},{"$f":"IF(#REF!<0, 1, 0)","v":{"$error":"#REF!"}},{"$f":"IF(#REF!<0, 1, 0)","v":{"$error":"#REF!"}},{"$f":"IF(#REF!<0, 1, 0)","v":{"$error":"#REF!"}},{"$f":"IF(#REF!<0, 1, 0)","v":{"$error":"#REF!"}},{"$f":"IF(#REF!<0, 1, 0)","v":{"$error":"#REF!"}},{"$f":"IF(#REF!<0, 1, 0)","v":{"$error":"#REF!"}},{"$f":"IF(#REF!<0, 1, 0)","v":{"$error":"#REF!"}},{"$f":"IF(#REF!<0, 1, 0)","v":{"$error":"#REF!"}},null,null,null,null,null,null,null,{"$f":"IF(#REF!<0, 1, 0)","v":{"$error":"#REF!"}},{"$f":"IF(#REF!<0, 1, 0)","v":{"$error":"#REF!"}},{"$f":"IF(#REF!<0, 1, 0)","v":{"$error":"#REF!"}},{"$f":"IF(#REF!<0, 1, 0)","v":{"$error":"#REF!"}},{"$f":"IF(#REF!<0, 1, 0)","v":{"$error":"#REF!"}},{"$f":"IF(#REF!<0, 1, 0)","v":{"$error":"#REF!"}},{"$f":"IF(#REF!<0, 1, 0)","v":{"$error":"#REF!"}},{"$f":"IF(#REF!<0, 1, 0)","v":{"$error":"#REF!"}},{"$f":"IF(#REF!<0, 1, 0)","v":{"$error":"#REF!"}},{"$f":"IF(#REF!<0, 1, 0)","v":{"$error":"#REF!"}},null,null,null,null,null,null,null,null,null,null,null,null,null,null,null,null,null,null,null,null,null,null,null,"RATTHORPE COOMBE","RATTH","THORPE COOMBE","RATTH","THORPE COOMBE","RAT",null,null,"BIRMINGHAM CHILDREN'S HOSPITAL","Ward 9"]
[null,null,null,{"$f":"IF(#REF!=\"\", IF(#REF!=\"\", 0,1),0)","v":{"$error":"#REF!"}},null,null,null,null,{"$f":"IF(#REF!<0, 1, 0)","v":{"$error":"#REF!"}},{"$f":"IF(#REF!<0, 1, 0)","v":{"$error":"#REF!"}},{"$f":"IF(#REF!<0, 1, 0)","v":{"$error":"#REF!"}},{"$f":"IF(#REF!<0, 1, 0)","v":{"$error":"#REF!"}},{"$f":"IF(#REF!<0, 1, 0)","v":{"$error":"#REF!"}},{"$f":"IF(#REF!<0, 1, 0)","v":{"$error":"#REF!"}},{"$f":"IF(#REF!<0, 1, 0)","v":{"$error":"#REF!"}},{"$f":"IF(#REF!<0, 1, 0)","v":{"$error":"#REF!"}},{"$f":"IF(#REF!<0, 1, 0)","v":{"$error":"#REF!"}},{"$f":"IF(#REF!<0, 1, 0)","v":{"$error":"#REF!"}},{"$f":"IF(#REF!<0, 1, 0)","v":{"$error":"#REF!"}},{"$f":"IF(#REF!<0, 1, 0)","v":{"$error":"#REF!"}},{"$f":"IF(#REF!<0, 1, 0)","v":{"$error":"#REF!"}},{"$f":"IF(#REF!<0, 1, 0)","v":{"$error":"#REF!"}},{"$f":"IF(#REF!<0, 1, 0)","v":{"$error":"#REF!"}},{"$f":"IF(#REF!<0, 1, 0)","v":{"$error":"#REF!"}},{"$f":"IF(#REF!<0, 1, 0)","v":{"$error":"#REF!"}},{"$f":"IF(#REF!<0, 1, 0)","v":{"$error":"#REF!"}},{"$f":"IF(#REF!<0, 1, 0)","v":{"$error":"#REF!"}},{"$f":"IF(#REF!<0, 1, 0)","v":{"$error":"#REF!"}},{"$f":"IF(#REF!<0, 1, 0)","v":{"$error":"#REF!"}},null,null,null,null,null,null,null,{"$f":"IF(#REF!<0, 1, 0)","v":{"$error":"#REF!"}},{"$f":"IF(#REF!<0, 1, 0)","v":{"$error":"#REF!"}},{"$f":"IF(#REF!<0, 1, 0)","v":{"$error":"#REF!"}},{"$f":"IF(#REF!<0, 1, 0)","v":{"$error":"#REF!"}},{"$f":"IF(#REF!<0, 1, 0)","v":{"$error":"#REF!"}},{"$f":"IF(#REF!<0, 1, 0)","v":{"$error":"#REF!"}},{"$f":"IF(#REF!<0, 1, 0)","v":{"$error":"#REF!"}},{"$f":"IF(#REF!<0, 1, 0)","v":{"$error":"#REF!"}},{"$f":"IF(#REF!<0, 1, 0)","v":{"$error":"#REF!"}},{"$f":"IF(#REF!<0, 1, 0)","v":{"$error":"#REF!"}},null,null,null,null,null,null,null,null,null,null,null,null,null,null,null,null,null,null,null,null,null,null,null,"RATTHURROCK COMMUNITY HOSPITAL","RATH7","THURROCK COMMUNITY HOSPITAL","RATH7","THURROCK COMMUNITY HOSPITAL","RAT",null,null,"BIRMINGHAM WOMEN'S HOSPITAL","Birth Centre"]
[null,null,null,{"$f":"IF(#REF!=\"\", IF(#REF!=\"\", 0,1),0)","v":{"$error":"#REF!"}},null,null,null,null,{"$f":"IF(#REF!<0, 1, 0)","v":{"$error":"#REF!"}},{"$f":"IF(#REF!<0, 1, 0)","v":{"$error":"#REF!"}},{"$f":"IF(#REF!<0, 1, 0)","v":{"$error":"#REF!"}},{"$f":"IF(#REF!<0, 1, 0)","v":{"$error":"#REF!"}},{"$f":"IF(#REF!<0, 1, 0)","v":{"$error":"#REF!"}},{"$f":"IF(#REF!<0, 1, 0)","v":{"$error":"#REF!"}},{"$f":"IF(#REF!<0, 1, 0)","v":{"$error":"#REF!"}},{"$f":"IF(#REF!<0, 1, 0)","v":{"$error":"#REF!"}},{"$f":"IF(#REF!<0, 1, 0)","v":{"$error":"#REF!"}},{"$f":"IF(#REF!<0, 1, 0)","v":{"$error":"#REF!"}},{"$f":"IF(#REF!<0, 1, 0)","v":{"$error":"#REF!"}},{"$f":"IF(#REF!<0, 1, 0)","v":{"$error":"#REF!"}},{"$f":"IF(#REF!<0, 1, 0)","v":{"$error":"#REF!"}},{"$f":"IF(#REF!<0, 1, 0)","v":{"$error":"#REF!"}},{"$f":"IF(#REF!<0, 1, 0)","v":{"$error":"#REF!"}},{"$f":"IF(#REF!<0, 1, 0)","v":{"$error":"#REF!"}},{"$f":"IF(#REF!<0, 1, 0)","v":{"$error":"#REF!"}},{"$f":"IF(#REF!<0, 1, 0)","v":{"$error":"#REF!"}},{"$f":"IF(#REF!<0, 1, 0)","v":{"$error":"#REF!"}},{"$f":"IF(#REF!<0, 1, 0)","v":{"$error":"#REF!"}},{"$f":"IF(#REF!<0, 1, 0)","v":{"$error":"#REF!"}},null,null,null,null,null,null,null,{"$f":"IF(#REF!<0, 1, 0)","v":{"$error":"#REF!"}},{"$f":"IF(#REF!<0, 1, 0)","v":{"$error":"#REF!"}},{"$f":"IF(#REF!<0, 1, 0)","v":{"$error":"#REF!"}},{"$f":"IF(#REF!<0, 1, 0)","v":{"$error":"#REF!"}},{"$f":"IF(#REF!<0, 1, 0)","v":{"$error":"#REF!"}},{"$f":"IF(#REF!<0, 1, 0)","v":{"$error":"#REF!"}},{"$f":"IF(#REF!<0, 1, 0)","v":{"$error":"#REF!"}},{"$f":"IF(#REF!<0, 1, 0)","v":{"$error":"#REF!"}},{"$f":"IF(#REF!<0, 1, 0)","v":{"$error":"#REF!"}},{"$f":"IF(#REF!<0, 1, 0)","v":{"$error":"#REF!"}},null,null,null,null,null,null,null,null,null,null,null,null,null,null,null,null,null,null,null,null,null,null,null,"RATTOMSWOOD REHAB. UNIT","RATWT","TOMSWOOD REHAB. UNIT","RATWT","TOMSWOOD REHAB. UNIT","RAT",null,null,"BIRMINGHAM WOMEN'S HOSPITAL","Delivery Suite"]
[null,null,null,{"$f":"IF(#REF!=\"\", IF(#REF!=\"\", 0,1),0)","v":{"$error":"#REF!"}},null,null,null,null,{"$f":"IF(#REF!<0, 1, 0)","v":{"$error":"#REF!"}},{"$f":"IF(#REF!<0, 1, 0)","v":{"$error":"#REF!"}},{"$f":"IF(#REF!<0, 1, 0)","v":{"$error":"#REF!"}},{"$f":"IF(#REF!<0, 1, 0)","v":{"$error":"#REF!"}},{"$f":"IF(#REF!<0, 1, 0)","v":{"$error":"#REF!"}},{"$f":"IF(#REF!<0, 1, 0)","v":{"$error":"#REF!"}},{"$f":"IF(#REF!<0, 1, 0)","v":{"$error":"#REF!"}},{"$f":"IF(#REF!<0, 1, 0)","v":{"$error":"#REF!"}},{"$f":"IF(#REF!<0, 1, 0)","v":{"$error":"#REF!"}},{"$f":"IF(#REF!<0, 1, 0)","v":{"$error":"#REF!"}},{"$f":"IF(#REF!<0, 1, 0)","v":{"$error":"#REF!"}},{"$f":"IF(#REF!<0, 1, 0)","v":{"$error":"#REF!"}},{"$f":"IF(#REF!<0, 1, 0)","v":{"$error":"#REF!"}},{"$f":"IF(#REF!<0, 1, 0)","v":{"$error":"#REF!"}},{"$f":"IF(#REF!<0, 1, 0)","v":{"$error":"#REF!"}},{"$f":"IF(#REF!<0, 1, 0)","v":{"$error":"#REF!"}},{"$f":"IF(#REF!<0, 1, 0)","v":{"$error":"#REF!"}},{"$f":"IF(#REF!<0, 1, 0)","v":{"$error":"#REF!"}},{"$f":"IF(#REF!<0, 1, 0)","v":{"$error":"#REF!"}},{"$f":"IF(#REF!<0, 1, 0)","v":{"$error":"#REF!"}},{"$f":"IF(#REF!<0, 1, 0)","v":{"$error":"#REF!"}},null,null,null,null,null,null,null,{"$f":"IF(#REF!<0, 1, 0)","v":{"$error":"#REF!"}},{"$f":"IF(#REF!<0, 1, 0)","v":{"$error":"#REF!"}},{"$f":"IF(#REF!<0, 1, 0)","v":{"$error":"#REF!"}},{"$f":"IF(#REF!<0, 1, 0)","v":{"$error":"#REF!"}},{"$f":"IF(#REF!<0, 1, 0)","v":{"$error":"#REF!"}},{"$f":"IF(#REF!<0, 1, 0)","v":{"$error":"#REF!"}},{"$f":"IF(#REF!<0, 1, 0)","v":{"$error":"#REF!"}},{"$f":"IF(#REF!<0, 1, 0)","v":{"$error":"#REF!"}},{"$f":"IF(#REF!<0, 1, 0)","v":{"$error":"#REF!"}},{"$f":"IF(#REF!<0, 1, 0)","v":{"$error":"#REF!"}},null,null,null,null,null,null,null,null,null,null,null,null,null,null,null,null,null,null,null,null,null,null,null,"RATUPMINSTER CRT1","RATH5","UPMINSTER CRT1","RATH5","UPMINSTER CRT1","RAT",null,null,"BIRMINGHAM WOMEN'S HOSPITAL","Neonatal Unit"]
[null,null,null,{"$f":"IF(#REF!=\"\", IF(#REF!=\"\", 0,1),0)","v":{"$error":"#REF!"}},null,null,null,null,{"$f":"IF(#REF!<0, 1, 0)","v":{"$error":"#REF!"}},{"$f":"IF(#REF!<0, 1, 0)","v":{"$error":"#REF!"}},{"$f":"IF(#REF!<0, 1, 0)","v":{"$error":"#REF!"}},{"$f":"IF(#REF!<0, 1, 0)","v":{"$error":"#REF!"}},{"$f":"IF(#REF!<0, 1, 0)","v":{"$error":"#REF!"}},{"$f":"IF(#REF!<0, 1, 0)","v":{"$error":"#REF!"}},{"$f":"IF(#REF!<0, 1, 0)","v":{"$error":"#REF!"}},{"$f":"IF(#REF!<0, 1, 0)","v":{"$error":"#REF!"}},{"$f":"IF(#REF!<0, 1, 0)","v":{"$error":"#REF!"}},{"$f":"IF(#REF!<0, 1, 0)","v":{"$error":"#REF!"}},{"$f":"IF(#REF!<0, 1, 0)","v":{"$error":"#REF!"}},{"$f":"IF(#REF!<0, 1, 0)","v":{"$error":"#REF!"}},{"$f":"IF(#REF!<0, 1, 0)","v":{"$error":"#REF!"}},{"$f":"IF(#REF!<0, 1, 0)","v":{"$error":"#REF!"}},{"$f":"IF(#REF!<0, 1, 0)","v":{"$error":"#REF!"}},{"$f":"IF(#REF!<0, 1, 0)","v":{"$error":"#REF!"}},{"$f":"IF(#REF!<0, 1, 0)","v":{"$error":"#REF!"}},{"$f":"IF(#REF!<0, 1, 0)","v":{"$error":"#REF!"}},{"$f":"IF(#REF!<0, 1, 0)","v":{"$error":"#REF!"}},{"$f":"IF(#REF!<0, 1, 0)","v":{"$error":"#REF!"}},{"$f":"IF(#REF!<0, 1, 0)","v":{"$error":"#REF!"}},null,null,null,null,null,null,null,{"$f":"IF(#REF!<0, 1, 0)","v":{"$error":"#REF!"}},{"$f":"IF(#REF!<0, 1, 0)","v":{"$error":"#REF!"}},{"$f":"IF(#REF!<0, 1, 0)","v":{"$error":"#REF!"}},{"$f":"IF(#REF!<0, 1, 0)","v":{"$error":"#REF!"}},{"$f":"IF(#REF!<0, 1, 0)","v":{"$error":"#REF!"}},{"$f":"IF(#REF!<0, 1, 0)","v":{"$error":"#REF!"}},{"$f":"IF(#REF!<0, 1, 0)","v":{"$error":"#REF!"}},{"$f":"IF(#REF!<0, 1, 0)","v":{"$error":"#REF!"}},{"$f":"IF(#REF!<0, 1, 0)","v":{"$error":"#REF!"}},{"$f":"IF(#REF!<0, 1, 0)","v":{"$error":"#REF!"}},null,null,null,null,null,null,null,null,null,null,null,null,null,null,null,null,null,null,null,null,null,null,null,"RATVICARAGE FIELDS (CHS)","RATVF","VICARAGE FIELDS (CHS)","RATVF","VICARAGE FIELDS (CHS)","RAT",null,null,"BIRMINGHAM WOMEN'S HOSPITAL","Transitional Ward"]
[null,null,null,{"$f":"IF(#REF!=\"\", IF(#REF!=\"\", 0,1),0)","v":{"$error":"#REF!"}},null,null,null,null,{"$f":"IF(#REF!<0, 1, 0)","v":{"$error":"#REF!"}},{"$f":"IF(#REF!<0, 1, 0)","v":{"$error":"#REF!"}},{"$f":"IF(#REF!<0, 1, 0)","v":{"$error":"#REF!"}},{"$f":"IF(#REF!<0, 1, 0)","v":{"$error":"#REF!"}},{"$f":"IF(#REF!<0, 1, 0)","v":{"$error":"#REF!"}},{"$f":"IF(#REF!<0, 1, 0)","v":{"$error":"#REF!"}},{"$f":"IF(#REF!<0, 1, 0)","v":{"$error":"#REF!"}},{"$f":"IF(#REF!<0, 1, 0)","v":{"$error":"#REF!"}},{"$f":"IF(#REF!<0, 1, 0)","v":{"$error":"#REF!"}},{"$f":"IF(#REF!<0, 1, 0)","v":{"$error":"#REF!"}},{"$f":"IF(#REF!<0, 1, 0)","v":{"$error":"#REF!"}},{"$f":"IF(#REF!<0, 1, 0)","v":{"$error":"#REF!"}},{"$f":"IF(#REF!<0, 1, 0)","v":{"$error":"#REF!"}},{"$f":"IF(#REF!<0, 1, 0)","v":{"$error":"#REF!"}},{"$f":"IF(#REF!<0, 1, 0)","v":{"$error":"#REF!"}},{"$f":"IF(#REF!<0, 1, 0)","v":{"$error":"#REF!"}},{"$f":"IF(#REF!<0, 1, 0)","v":{"$error":"#REF!"}},{"$f":"IF(#REF!<0, 1, 0)","v":{"$error":"#REF!"}},{"$f":"IF(#REF!<0, 1, 0)","v":{"$error":"#REF!"}},{"$f":"IF(#REF!<0, 1, 0)","v":{"$error":"#REF!"}},{"$f":"IF(#REF!<0, 1, 0)","v":{"$error":"#REF!"}},null,null,null,null,null,null,null,{"$f":"IF(#REF!<0, 1, 0)","v":{"$error":"#REF!"}},{"$f":"IF(#REF!<0, 1, 0)","v":{"$error":"#REF!"}},{"$f":"IF(#REF!<0, 1, 0)","v":{"$error":"#REF!"}},{"$f":"IF(#REF!<0, 1, 0)","v":{"$error":"#REF!"}},{"$f":"IF(#REF!<0, 1, 0)","v":{"$error":"#REF!"}},{"$f":"IF(#REF!<0, 1, 0)","v":{"$error":"#REF!"}},{"$f":"IF(#REF!<0, 1, 0)","v":{"$error":"#REF!"}},{"$f":"IF(#REF!<0, 1, 0)","v":{"$error":"#REF!"}},{"$f":"IF(#REF!<0, 1, 0)","v":{"$error":"#REF!"}},{"$f":"IF(#REF!<0, 1, 0)","v":{"$error":"#REF!"}},null,null,null,null,null,null,null,null,null,null,null,null,null,null,null,null,null,null,null,null,null,null,null,"RATWOODBURY UNIT","RATWD","WOODBURY UNIT","RATWD","WOODBURY UNIT","RAT",null,null,"BIRMINGHAM WOMEN'S HOSPITAL","Ward 1"]
[null,null,null,{"$f":"IF(#REF!=\"\", IF(#REF!=\"\", 0,1),0)","v":{"$error":"#REF!"}},null,null,null,null,{"$f":"IF(#REF!<0, 1, 0)","v":{"$error":"#REF!"}},{"$f":"IF(#REF!<0, 1, 0)","v":{"$error":"#REF!"}},{"$f":"IF(#REF!<0, 1, 0)","v":{"$error":"#REF!"}},{"$f":"IF(#REF!<0, 1, 0)","v":{"$error":"#REF!"}},{"$f":"IF(#REF!<0, 1, 0)","v":{"$error":"#REF!"}},{"$f":"IF(#REF!<0, 1, 0)","v":{"$error":"#REF!"}},{"$f":"IF(#REF!<0, 1, 0)","v":{"$error":"#REF!"}},{"$f":"IF(#REF!<0, 1, 0)","v":{"$error":"#REF!"}},{"$f":"IF(#REF!<0, 1, 0)","v":{"$error":"#REF!"}},{"$f":"IF(#REF!<0, 1, 0)","v":{"$error":"#REF!"}},{"$f":"IF(#REF!<0, 1, 0)","v":{"$error":"#REF!"}},{"$f":"IF(#REF!<0, 1, 0)","v":{"$error":"#REF!"}},{"$f":"IF(#REF!<0, 1, 0)","v":{"$error":"#REF!"}},{"$f":"IF(#REF!<0, 1, 0)","v":{"$error":"#REF!"}},{"$f":"IF(#REF!<0, 1, 0)","v":{"$error":"#REF!"}},{"$f":"IF(#REF!<0, 1, 0)","v":{"$error":"#REF!"}},{"$f":"IF(#REF!<0, 1, 0)","v":{"$error":"#REF!"}},{"$f":"IF(#REF!<0, 1, 0)","v":{"$error":"#REF!"}},{"$f":"IF(#REF!<0, 1, 0)","v":{"$error":"#REF!"}},{"$f":"IF(#REF!<0, 1, 0)","v":{"$error":"#REF!"}},{"$f":"IF(#REF!<0, 1, 0)","v":{"$error":"#REF!"}},null,null,null,null,null,null,null,{"$f":"IF(#REF!<0, 1, 0)","v":{"$error":"#REF!"}},{"$f":"IF(#REF!<0, 1, 0)","v":{"$error":"#REF!"}},{"$f":"IF(#REF!<0, 1, 0)","v":{"$error":"#REF!"}},{"$f":"IF(#REF!<0, 1, 0)","v":{"$error":"#REF!"}},{"$f":"IF(#REF!<0, 1, 0)","v":{"$error":"#REF!"}},{"$f":"IF(#REF!<0, 1, 0)","v":{"$error":"#REF!"}},{"$f":"IF(#REF!<0, 1, 0)","v":{"$error":"#REF!"}},{"$f":"IF(#REF!<0, 1, 0)","v":{"$error":"#REF!"}},{"$f":"IF(#REF!<0, 1, 0)","v":{"$error":"#REF!"}},{"$f":"IF(#REF!<0, 1, 0)","v":{"$error":"#REF!"}},null,null,null,null,null,null,null,null,null,null,null,null,null,null,null,null,null,null,null,null,null,null,null,"RAXKINGSTON HOSPITAL","RAX01","KINGSTON HOSPITAL","RAX01","KINGSTON HOSPITAL","RAX",null,null,"BIRMINGHAM WOMEN'S HOSPITAL","Ward 3"]
[null,null,null,{"$f":"IF(#REF!=\"\", IF(#REF!=\"\", 0,1),0)","v":{"$error":"#REF!"}},null,null,null,null,{"$f":"IF(#REF!<0, 1, 0)","v":{"$error":"#REF!"}},{"$f":"IF(#REF!<0, 1, 0)","v":{"$error":"#REF!"}},{"$f":"IF(#REF!<0, 1, 0)","v":{"$error":"#REF!"}},{"$f":"IF(#REF!<0, 1, 0)","v":{"$error":"#REF!"}},{"$f":"IF(#REF!<0, 1, 0)","v":{"$error":"#REF!"}},{"$f":"IF(#REF!<0, 1, 0)","v":{"$error":"#REF!"}},{"$f":"IF(#REF!<0, 1, 0)","v":{"$error":"#REF!"}},{"$f":"IF(#REF!<0, 1, 0)","v":{"$error":"#REF!"}},{"$f":"IF(#REF!<0, 1, 0)","v":{"$error":"#REF!"}},{"$f":"IF(#REF!<0, 1, 0)","v":{"$error":"#REF!"}},{"$f":"IF(#REF!<0, 1, 0)","v":{"$error":"#REF!"}},{"$f":"IF(#REF!<0, 1, 0)","v":{"$error":"#REF!"}},{"$f":"IF(#REF!<0, 1, 0)","v":{"$error":"#REF!"}},{"$f":"IF(#REF!<0, 1, 0)","v":{"$error":"#REF!"}},{"$f":"IF(#REF!<0, 1, 0)","v":{"$error":"#REF!"}},{"$f":"IF(#REF!<0, 1, 0)","v":{"$error":"#REF!"}},{"$f":"IF(#REF!<0, 1, 0)","v":{"$error":"#REF!"}},{"$f":"IF(#REF!<0, 1, 0)","v":{"$error":"#REF!"}},{"$f":"IF(#REF!<0, 1, 0)","v":{"$error":"#REF!"}},{"$f":"IF(#REF!<0, 1, 0)","v":{"$error":"#REF!"}},{"$f":"IF(#REF!<0, 1, 0)","v":{"$error":"#REF!"}},null,null,null,null,null,null,null,{"$f":"IF(#REF!<0, 1, 0)","v":{"$error":"#REF!"}},{"$f":"IF(#REF!<0, 1, 0)","v":{"$error":"#REF!"}},{"$f":"IF(#REF!<0, 1, 0)","v":{"$error":"#REF!"}},{"$f":"IF(#REF!<0, 1, 0)","v":{"$error":"#REF!"}},{"$f":"IF(#REF!<0, 1, 0)","v":{"$error":"#REF!"}},{"$f":"IF(#REF!<0, 1, 0)","v":{"$error":"#REF!"}},{"$f":"IF(#REF!<0, 1, 0)","v":{"$error":"#REF!"}},{"$f":"IF(#REF!<0, 1, 0)","v":{"$error":"#REF!"}},{"$f":"IF(#REF!<0, 1, 0)","v":{"$error":"#REF!"}},{"$f":"IF(#REF!<0, 1, 0)","v":{"$error":"#REF!"}},null,null,null,null,null,null,null,null,null,null,null,null,null,null,null,null,null,null,null,null,null,null,null,"RBAFROME VICTORIA HOSPITAL","RBAD1","FROME VICTORIA HOSPITAL","RBAD1","FROME VICTORIA HOSPITAL","RBA",null,null,"BIRMINGHAM WOMEN'S HOSPITAL","Ward 4"]
[null,null,null,{"$f":"IF(#REF!=\"\", IF(#REF!=\"\", 0,1),0)","v":{"$error":"#REF!"}},null,null,null,null,{"$f":"IF(#REF!<0, 1, 0)","v":{"$error":"#REF!"}},{"$f":"IF(#REF!<0, 1, 0)","v":{"$error":"#REF!"}},{"$f":"IF(#REF!<0, 1, 0)","v":{"$error":"#REF!"}},{"$f":"IF(#REF!<0, 1, 0)","v":{"$error":"#REF!"}},{"$f":"IF(#REF!<0, 1, 0)","v":{"$error":"#REF!"}},{"$f":"IF(#REF!<0, 1, 0)","v":{"$error":"#REF!"}},{"$f":"IF(#REF!<0, 1, 0)","v":{"$error":"#REF!"}},{"$f":"IF(#REF!<0, 1, 0)","v":{"$error":"#REF!"}},{"$f":"IF(#REF!<0, 1, 0)","v":{"$error":"#REF!"}},{"$f":"IF(#REF!<0, 1, 0)","v":{"$error":"#REF!"}},{"$f":"IF(#REF!<0, 1, 0)","v":{"$error":"#REF!"}},{"$f":"IF(#REF!<0, 1, 0)","v":{"$error":"#REF!"}},{"$f":"IF(#REF!<0, 1, 0)","v":{"$error":"#REF!"}},{"$f":"IF(#REF!<0, 1, 0)","v":{"$error":"#REF!"}},{"$f":"IF(#REF!<0, 1, 0)","v":{"$error":"#REF!"}},{"$f":"IF(#REF!<0, 1, 0)","v":{"$error":"#REF!"}},{"$f":"IF(#REF!<0, 1, 0)","v":{"$error":"#REF!"}},{"$f":"IF(#REF!<0, 1, 0)","v":{"$error":"#REF!"}},{"$f":"IF(#REF!<0, 1, 0)","v":{"$error":"#REF!"}},{"$f":"IF(#REF!<0, 1, 0)","v":{"$error":"#REF!"}},{"$f":"IF(#REF!<0, 1, 0)","v":{"$error":"#REF!"}},null,null,null,null,null,null,null,{"$f":"IF(#REF!<0, 1, 0)","v":{"$error":"#REF!"}},{"$f":"IF(#REF!<0, 1, 0)","v":{"$error":"#REF!"}},{"$f":"IF(#REF!<0, 1, 0)","v":{"$error":"#REF!"}},{"$f":"IF(#REF!<0, 1, 0)","v":{"$error":"#REF!"}},{"$f":"IF(#REF!<0, 1, 0)","v":{"$error":"#REF!"}},{"$f":"IF(#REF!<0, 1, 0)","v":{"$error":"#REF!"}},{"$f":"IF(#REF!<0, 1, 0)","v":{"$error":"#REF!"}},{"$f":"IF(#REF!<0, 1, 0)","v":{"$error":"#REF!"}},{"$f":"IF(#REF!<0, 1, 0)","v":{"$error":"#REF!"}},{"$f":"IF(#REF!<0, 1, 0)","v":{"$error":"#REF!"}},null,null,null,null,null,null,null,null,null,null,null,null,null,null,null,null,null,null,null,null,null,null,null,"RBAMUSGROVE PARK HOSPITAL","RBA11","MUSGROVE PARK HOSPITAL","RBA11","MUSGROVE PARK HOSPITAL","RBA",null,null,"BIRMINGHAM WOMEN'S HOSPITAL","Ward 8"]
[null,null,null,{"$f":"IF(#REF!=\"\", IF(#REF!=\"\", 0,1),0)","v":{"$error":"#REF!"}},null,null,null,null,{"$f":"IF(#REF!<0, 1, 0)","v":{"$error":"#REF!"}},{"$f":"IF(#REF!<0, 1, 0)","v":{"$error":"#REF!"}},{"$f":"IF(#REF!<0, 1, 0)","v":{"$error":"#REF!"}},{"$f":"IF(#REF!<0, 1, 0)","v":{"$error":"#REF!"}},{"$f":"IF(#REF!<0, 1, 0)","v":{"$error":"#REF!"}},{"$f":"IF(#REF!<0, 1, 0)","v":{"$error":"#REF!"}},{"$f":"IF(#REF!<0, 1, 0)","v":{"$error":"#REF!"}},{"$f":"IF(#REF!<0, 1, 0)","v":{"$error":"#REF!"}},{"$f":"IF(#REF!<0, 1, 0)","v":{"$error":"#REF!"}},{"$f":"IF(#REF!<0, 1, 0)","v":{"$error":"#REF!"}},{"$f":"IF(#REF!<0, 1, 0)","v":{"$error":"#REF!"}},{"$f":"IF(#REF!<0, 1, 0)","v":{"$error":"#REF!"}},{"$f":"IF(#REF!<0, 1, 0)","v":{"$error":"#REF!"}},{"$f":"IF(#REF!<0, 1, 0)","v":{"$error":"#REF!"}},{"$f":"IF(#REF!<0, 1, 0)","v":{"$error":"#REF!"}},{"$f":"IF(#REF!<0, 1, 0)","v":{"$error":"#REF!"}},{"$f":"IF(#REF!<0, 1, 0)","v":{"$error":"#REF!"}},{"$f":"IF(#REF!<0, 1, 0)","v":{"$error":"#REF!"}},{"$f":"IF(#REF!<0, 1, 0)","v":{"$error":"#REF!"}},{"$f":"IF(#REF!<0, 1, 0)","v":{"$error":"#REF!"}},{"$f":"IF(#REF!<0, 1, 0)","v":{"$error":"#REF!"}},null,null,null,null,null,null,null,{"$f":"IF(#REF!<0, 1, 0)","v":{"$error":"#REF!"}},{"$f":"IF(#REF!<0, 1, 0)","v":{"$error":"#REF!"}},{"$f":"IF(#REF!<0, 1, 0)","v":{"$error":"#REF!"}},{"$f":"IF(#REF!<0, 1, 0)","v":{"$error":"#REF!"}},{"$f":"IF(#REF!<0, 1, 0)","v":{"$error":"#REF!"}},{"$f":"IF(#REF!<0, 1, 0)","v":{"$error":"#REF!"}},{"$f":"IF(#REF!<0, 1, 0)","v":{"$error":"#REF!"}},{"$f":"IF(#REF!<0, 1, 0)","v":{"$error":"#REF!"}},{"$f":"IF(#REF!<0, 1, 0)","v":{"$error":"#REF!"}},{"$f":"IF(#REF!<0, 1, 0)","v":{"$error":"#REF!"}},null,null,null,null,null,null,null,null,null,null,null,null,null,null,null,null,null,null,null,null,null,null,null,"RBASHEPTON MALLET COMMUNITY HOSPITAL","RBAD2","SHEPTON MALLET COMMUNITY HOSPITAL","RBAD2","SHEPTON MALLET COMMUNITY HOSPITAL","RBA",null,null,"EDWARD STREET HOSPITAL","Chance"]
[null,null,null,{"$f":"IF(#REF!=\"\", IF(#REF!=\"\", 0,1),0)","v":{"$error":"#REF!"}},null,null,null,null,{"$f":"IF(#REF!<0, 1, 0)","v":{"$error":"#REF!"}},{"$f":"IF(#REF!<0, 1, 0)","v":{"$error":"#REF!"}},{"$f":"IF(#REF!<0, 1, 0)","v":{"$error":"#REF!"}},{"$f":"IF(#REF!<0, 1, 0)","v":{"$error":"#REF!"}},{"$f":"IF(#REF!<0, 1, 0)","v":{"$error":"#REF!"}},{"$f":"IF(#REF!<0, 1, 0)","v":{"$error":"#REF!"}},{"$f":"IF(#REF!<0, 1, 0)","v":{"$error":"#REF!"}},{"$f":"IF(#REF!<0, 1, 0)","v":{"$error":"#REF!"}},{"$f":"IF(#REF!<0, 1, 0)","v":{"$error":"#REF!"}},{"$f":"IF(#REF!<0, 1, 0)","v":{"$error":"#REF!"}},{"$f":"IF(#REF!<0, 1, 0)","v":{"$error":"#REF!"}},{"$f":"IF(#REF!<0, 1, 0)","v":{"$error":"#REF!"}},{"$f":"IF(#REF!<0, 1, 0)","v":{"$error":"#REF!"}},{"$f":"IF(#REF!<0, 1, 0)","v":{"$error":"#REF!"}},{"$f":"IF(#REF!<0, 1, 0)","v":{"$error":"#REF!"}},{"$f":"IF(#REF!<0, 1, 0)","v":{"$error":"#REF!"}},{"$f":"IF(#REF!<0, 1, 0)","v":{"$error":"#REF!"}},{"$f":"IF(#REF!<0, 1, 0)","v":{"$error":"#REF!"}},{"$f":"IF(#REF!<0, 1, 0)","v":{"$error":"#REF!"}},{"$f":"IF(#REF!<0, 1, 0)","v":{"$error":"#REF!"}},{"$f":"IF(#REF!<0, 1, 0)","v":{"$error":"#REF!"}},null,null,null,null,null,null,null,{"$f":"IF(#REF!<0, 1, 0)","v":{"$error":"#REF!"}},{"$f":"IF(#REF!<0, 1, 0)","v":{"$error":"#REF!"}},{"$f":"IF(#REF!<0, 1, 0)","v":{"$error":"#REF!"}},{"$f":"IF(#REF!<0, 1, 0)","v":{"$error":"#REF!"}},{"$f":"IF(#REF!<0, 1, 0)","v":{"$error":"#REF!"}},{"$f":"IF(#REF!<0, 1, 0)","v":{"$error":"#REF!"}},{"$f":"IF(#REF!<0, 1, 0)","v":{"$error":"#REF!"}},{"$f":"IF(#REF!<0, 1, 0)","v":{"$error":"#REF!"}},{"$f":"IF(#REF!<0, 1, 0)","v":{"$error":"#REF!"}},{"$f":"IF(#REF!<0, 1, 0)","v":{"$error":"#REF!"}},null,null,null,null,null,null,null,null,null,null,null,null,null,null,null,null,null,null,null,null,null,null,null,"RBBCHIPPENHAM HOSPITAL","RBBP1","CHIPPENHAM HOSPITAL","RBBP1","CHIPPENHAM HOSPITAL","RBB",null,null,"EDWARD STREET HOSPITAL","Salter"]
[null,null,null,{"$f":"IF(#REF!=\"\", IF(#REF!=\"\", 0,1),0)","v":{"$error":"#REF!"}},null,null,null,null,{"$f":"IF(#REF!<0, 1, 0)","v":{"$error":"#REF!"}},{"$f":"IF(#REF!<0, 1, 0)","v":{"$error":"#REF!"}},{"$f":"IF(#REF!<0, 1, 0)","v":{"$error":"#REF!"}},{"$f":"IF(#REF!<0, 1, 0)","v":{"$error":"#REF!"}},{"$f":"IF(#REF!<0, 1, 0)","v":{"$error":"#REF!"}},{"$f":"IF(#REF!<0, 1, 0)","v":{"$error":"#REF!"}},{"$f":"IF(#REF!<0, 1, 0)","v":{"$error":"#REF!"}},{"$f":"IF(#REF!<0, 1, 0)","v":{"$error":"#REF!"}},{"$f":"IF(#REF!<0, 1, 0)","v":{"$error":"#REF!"}},{"$f":"IF(#REF!<0, 1, 0)","v":{"$error":"#REF!"}},{"$f":"IF(#REF!<0, 1, 0)","v":{"$error":"#REF!"}},{"$f":"IF(#REF!<0, 1, 0)","v":{"$error":"#REF!"}},{"$f":"IF(#REF!<0, 1, 0)","v":{"$error":"#REF!"}},{"$f":"IF(#REF!<0, 1, 0)","v":{"$error":"#REF!"}},{"$f":"IF(#REF!<0, 1, 0)","v":{"$error":"#REF!"}},{"$f":"IF(#REF!<0, 1, 0)","v":{"$error":"#REF!"}},{"$f":"IF(#REF!<0, 1, 0)","v":{"$error":"#REF!"}},{"$f":"IF(#REF!<0, 1, 0)","v":{"$error":"#REF!"}},{"$f":"IF(#REF!<0, 1, 0)","v":{"$error":"#REF!"}},{"$f":"IF(#REF!<0, 1, 0)","v":{"$error":"#REF!"}},{"$f":"IF(#REF!<0, 1, 0)","v":{"$error":"#REF!"}},null,null,null,null,null,null,null,{"$f":"IF(#REF!<0, 1, 0)","v":{"$error":"#REF!"}},{"$f":"IF(#REF!<0, 1, 0)","v":{"$error":"#REF!"}},{"$f":"IF(#REF!<0, 1, 0)","v":{"$error":"#REF!"}},{"$f":"IF(#REF!<0, 1, 0)","v":{"$error":"#REF!"}},{"$f":"IF(#REF!<0, 1, 0)","v":{"$error":"#REF!"}},{"$f":"IF(#REF!<0, 1, 0)","v":{"$error":"#REF!"}},{"$f":"IF(#REF!<0, 1, 0)","v":{"$error":"#REF!"}},{"$f":"IF(#REF!<0, 1, 0)","v":{"$error":"#REF!"}},{"$f":"IF(#REF!<0, 1, 0)","v":{"$error":"#REF!"}},{"$f":"IF(#REF!<0, 1, 0)","v":{"$error":"#REF!"}},null,null,null,null,null,null,null,null,null,null,null,null,null,null,null,null,null,null,null,null,null,null,null,"RBBDEVIZES HOSPITAL","RBBP2","DEVIZES HOSPITAL","RBBP2","DEVIZES HOSPITAL","RBB",null,null,"HALLAM STREET HOSPITAL","Abbey"]
[null,null,null,{"$f":"IF(#REF!=\"\", IF(#REF!=\"\", 0,1),0)","v":{"$error":"#REF!"}},null,null,null,null,{"$f":"IF(#REF!<0, 1, 0)","v":{"$error":"#REF!"}},{"$f":"IF(#REF!<0, 1, 0)","v":{"$error":"#REF!"}},{"$f":"IF(#REF!<0, 1, 0)","v":{"$error":"#REF!"}},{"$f":"IF(#REF!<0, 1, 0)","v":{"$error":"#REF!"}},{"$f":"IF(#REF!<0, 1, 0)","v":{"$error":"#REF!"}},{"$f":"IF(#REF!<0, 1, 0)","v":{"$error":"#REF!"}},{"$f":"IF(#REF!<0, 1, 0)","v":{"$error":"#REF!"}},{"$f":"IF(#REF!<0, 1, 0)","v":{"$error":"#REF!"}},{"$f":"IF(#REF!<0, 1, 0)","v":{"$error":"#REF!"}},{"$f":"IF(#REF!<0, 1, 0)","v":{"$error":"#REF!"}},{"$f":"IF(#REF!<0, 1, 0)","v":{"$error":"#REF!"}},{"$f":"IF(#REF!<0, 1, 0)","v":{"$error":"#REF!"}},{"$f":"IF(#REF!<0, 1, 0)","v":{"$error":"#REF!"}},{"$f":"IF(#REF!<0, 1, 0)","v":{"$error":"#REF!"}},{"$f":"IF(#REF!<0, 1, 0)","v":{"$error":"#REF!"}},{"$f":"IF(#REF!<0, 1, 0)","v":{"$error":"#REF!"}},{"$f":"IF(#REF!<0, 1, 0)","v":{"$error":"#REF!"}},{"$f":"IF(#REF!<0, 1, 0)","v":{"$error":"#REF!"}},{"$f":"IF(#REF!<0, 1, 0)","v":{"$error":"#REF!"}},{"$f":"IF(#REF!<0, 1, 0)","v":{"$error":"#REF!"}},{"$f":"IF(#REF!<0, 1, 0)","v":{"$error":"#REF!"}},null,null,null,null,null,null,null,{"$f":"IF(#REF!<0, 1, 0)","v":{"$error":"#REF!"}},{"$f":"IF(#REF!<0, 1, 0)","v":{"$error":"#REF!"}},{"$f":"IF(#REF!<0, 1, 0)","v":{"$error":"#REF!"}},{"$f":"IF(#REF!<0, 1, 0)","v":{"$error":"#REF!"}},{"$f":"IF(#REF!<0, 1, 0)","v":{"$error":"#REF!"}},{"$f":"IF(#REF!<0, 1, 0)","v":{"$error":"#REF!"}},{"$f":"IF(#REF!<0, 1, 0)","v":{"$error":"#REF!"}},{"$f":"IF(#REF!<0, 1, 0)","v":{"$error":"#REF!"}},{"$f":"IF(#REF!<0, 1, 0)","v":{"$error":"#REF!"}},{"$f":"IF(#REF!<0, 1, 0)","v":{"$error":"#REF!"}},null,null,null,null,null,null,null,null,null,null,null,null,null,null,null,null,null,null,null,null,null,null,null,"RBBFROME COMMUNITY HOSPITAL","RBBP3","FROME COMMUNITY HOSPITAL","RBBP3","FROME COMMUNITY HOSPITAL","RBB",null,null,"HALLAM STREET HOSPITAL","Charlemont"]
[null,null,null,{"$f":"IF(#REF!=\"\", IF(#REF!=\"\", 0,1),0)","v":{"$error":"#REF!"}},null,null,null,null,{"$f":"IF(#REF!<0, 1, 0)","v":{"$error":"#REF!"}},{"$f":"IF(#REF!<0, 1, 0)","v":{"$error":"#REF!"}},{"$f":"IF(#REF!<0, 1, 0)","v":{"$error":"#REF!"}},{"$f":"IF(#REF!<0, 1, 0)","v":{"$error":"#REF!"}},{"$f":"IF(#REF!<0, 1, 0)","v":{"$error":"#REF!"}},{"$f":"IF(#REF!<0, 1, 0)","v":{"$error":"#REF!"}},{"$f":"IF(#REF!<0, 1, 0)","v":{"$error":"#REF!"}},{"$f":"IF(#REF!<0, 1, 0)","v":{"$error":"#REF!"}},{"$f":"IF(#REF!<0, 1, 0)","v":{"$error":"#REF!"}},{"$f":"IF(#REF!<0, 1, 0)","v":{"$error":"#REF!"}},{"$f":"IF(#REF!<0, 1, 0)","v":{"$error":"#REF!"}},{"$f":"IF(#REF!<0, 1, 0)","v":{"$error":"#REF!"}},{"$f":"IF(#REF!<0, 1, 0)","v":{"$error":"#REF!"}},{"$f":"IF(#REF!<0, 1, 0)","v":{"$error":"#REF!"}},{"$f":"IF(#REF!<0, 1, 0)","v":{"$error":"#REF!"}},{"$f":"IF(#REF!<0, 1, 0)","v":{"$error":"#REF!"}},{"$f":"IF(#REF!<0, 1, 0)","v":{"$error":"#REF!"}},{"$f":"IF(#REF!<0, 1, 0)","v":{"$error":"#REF!"}},{"$f":"IF(#REF!<0, 1, 0)","v":{"$error":"#REF!"}},{"$f":"IF(#REF!<0, 1, 0)","v":{"$error":"#REF!"}},{"$f":"IF(#REF!<0, 1, 0)","v":{"$error":"#REF!"}},null,null,null,null,null,null,null,{"$f":"IF(#REF!<0, 1, 0)","v":{"$error":"#REF!"}},{"$f":"IF(#REF!<0, 1, 0)","v":{"$error":"#REF!"}},{"$f":"IF(#REF!<0, 1, 0)","v":{"$error":"#REF!"}},{"$f":"IF(#REF!<0, 1, 0)","v":{"$error":"#REF!"}},{"$f":"IF(#REF!<0, 1, 0)","v":{"$error":"#REF!"}},{"$f":"IF(#REF!<0, 1, 0)","v":{"$error":"#REF!"}},{"$f":"IF(#REF!<0, 1, 0)","v":{"$error":"#REF!"}},{"$f":"IF(#REF!<0, 1, 0)","v":{"$error":"#REF!"}},{"$f":"IF(#REF!<0, 1, 0)","v":{"$error":"#REF!"}},{"$f":"IF(#REF!<0, 1, 0)","v":{"$error":"#REF!"}},null,null,null,null,null,null,null,null,null,null,null,null,null,null,null,null,null,null,null,null,null,null,null,"RBBPAULTON MEMORIAL HOSPITAL","RBBP4","PAULTON MEMORIAL HOSPITAL","RBBP4","PAULTON MEMORIAL HOSPITAL","RBB",null,null,"HALLAM STREET HOSPITAL","Friar"]
[null,null,null,{"$f":"IF(#REF!=\"\", IF(#REF!=\"\", 0,1),0)","v":{"$error":"#REF!"}},null,null,null,null,{"$f":"IF(#REF!<0, 1, 0)","v":{"$error":"#REF!"}},{"$f":"IF(#REF!<0, 1, 0)","v":{"$error":"#REF!"}},{"$f":"IF(#REF!<0, 1, 0)","v":{"$error":"#REF!"}},{"$f":"IF(#REF!<0, 1, 0)","v":{"$error":"#REF!"}},{"$f":"IF(#REF!<0, 1, 0)","v":{"$error":"#REF!"}},{"$f":"IF(#REF!<0, 1, 0)","v":{"$error":"#REF!"}},{"$f":"IF(#REF!<0, 1, 0)","v":{"$error":"#REF!"}},{"$f":"IF(#REF!<0, 1, 0)","v":{"$error":"#REF!"}},{"$f":"IF(#REF!<0, 1, 0)","v":{"$error":"#REF!"}},{"$f":"IF(#REF!<0, 1, 0)","v":{"$error":"#REF!"}},{"$f":"IF(#REF!<0, 1, 0)","v":{"$error":"#REF!"}},{"$f":"IF(#REF!<0, 1, 0)","v":{"$error":"#REF!"}},{"$f":"IF(#REF!<0, 1, 0)","v":{"$error":"#REF!"}},{"$f":"IF(#REF!<0, 1, 0)","v":{"$error":"#REF!"}},{"$f":"IF(#REF!<0, 1, 0)","v":{"$error":"#REF!"}},{"$f":"IF(#REF!<0, 1, 0)","v":{"$error":"#REF!"}},{"$f":"IF(#REF!<0, 1, 0)","v":{"$error":"#REF!"}},{"$f":"IF(#REF!<0, 1, 0)","v":{"$error":"#REF!"}},{"$f":"IF(#REF!<0, 1, 0)","v":{"$error":"#REF!"}},{"$f":"IF(#REF!<0, 1, 0)","v":{"$error":"#REF!"}},{"$f":"IF(#REF!<0, 1, 0)","v":{"$error":"#REF!"}},null,null,null,null,null,null,null,{"$f":"IF(#REF!<0, 1, 0)","v":{"$error":"#REF!"}},{"$f":"IF(#REF!<0, 1, 0)","v":{"$error":"#REF!"}},{"$f":"IF(#REF!<0, 1, 0)","v":{"$error":"#REF!"}},{"$f":"IF(#REF!<0, 1, 0)","v":{"$error":"#REF!"}},{"$f":"IF(#REF!<0, 1, 0)","v":{"$error":"#REF!"}},{"$f":"IF(#REF!<0, 1, 0)","v":{"$error":"#REF!"}},{"$f":"IF(#REF!<0, 1, 0)","v":{"$error":"#REF!"}},{"$f":"IF(#REF!<0, 1, 0)","v":{"$error":"#REF!"}},{"$f":"IF(#REF!<0, 1, 0)","v":{"$error":"#REF!"}},{"$f":"IF(#REF!<0, 1, 0)","v":{"$error":"#REF!"}},null,null,null,null,null,null,null,null,null,null,null,null,null,null,null,null,null,null,null,null,null,null,null,"RBBWARMINSTER HOSPITAL","RBBP5","WARMINSTER HOSPITAL","RBBP5","WARMINSTER HOSPITAL","RBB",null,null,"HALLAM STREET HOSPITAL","The Larches"]
[null,null,null,{"$f":"IF(#REF!=\"\", IF(#REF!=\"\", 0,1),0)","v":{"$error":"#REF!"}},null,null,null,null,{"$f":"IF(#REF!<0, 1, 0)","v":{"$error":"#REF!"}},{"$f":"IF(#REF!<0, 1, 0)","v":{"$error":"#REF!"}},{"$f":"IF(#REF!<0, 1, 0)","v":{"$error":"#REF!"}},{"$f":"IF(#REF!<0, 1, 0)","v":{"$error":"#REF!"}},{"$f":"IF(#REF!<0, 1, 0)","v":{"$error":"#REF!"}},{"$f":"IF(#REF!<0, 1, 0)","v":{"$error":"#REF!"}},{"$f":"IF(#REF!<0, 1, 0)","v":{"$error":"#REF!"}},{"$f":"IF(#REF!<0, 1, 0)","v":{"$error":"#REF!"}},{"$f":"IF(#REF!<0, 1, 0)","v":{"$error":"#REF!"}},{"$f":"IF(#REF!<0, 1, 0)","v":{"$error":"#REF!"}},{"$f":"IF(#REF!<0, 1, 0)","v":{"$error":"#REF!"}},{"$f":"IF(#REF!<0, 1, 0)","v":{"$error":"#REF!"}},{"$f":"IF(#REF!<0, 1, 0)","v":{"$error":"#REF!"}},{"$f":"IF(#REF!<0, 1, 0)","v":{"$error":"#REF!"}},{"$f":"IF(#REF!<0, 1, 0)","v":{"$error":"#REF!"}},{"$f":"IF(#REF!<0, 1, 0)","v":{"$error":"#REF!"}},{"$f":"IF(#REF!<0, 1, 0)","v":{"$error":"#REF!"}},{"$f":"IF(#REF!<0, 1, 0)","v":{"$error":"#REF!"}},{"$f":"IF(#REF!<0, 1, 0)","v":{"$error":"#REF!"}},{"$f":"IF(#REF!<0, 1, 0)","v":{"$error":"#REF!"}},{"$f":"IF(#REF!<0, 1, 0)","v":{"$error":"#REF!"}},null,null,null,null,null,null,null,{"$f":"IF(#REF!<0, 1, 0)","v":{"$error":"#REF!"}},{"$f":"IF(#REF!<0, 1, 0)","v":{"$error":"#REF!"}},{"$f":"IF(#REF!<0, 1, 0)","v":{"$error":"#REF!"}},{"$f":"IF(#REF!<0, 1, 0)","v":{"$error":"#REF!"}},{"$f":"IF(#REF!<0, 1, 0)","v":{"$error":"#REF!"}},{"$f":"IF(#REF!<0, 1, 0)","v":{"$error":"#REF!"}},{"$f":"IF(#REF!<0, 1, 0)","v":{"$error":"#REF!"}},{"$f":"IF(#REF!<0, 1, 0)","v":{"$error":"#REF!"}},{"$f":"IF(#REF!<0, 1, 0)","v":{"$error":"#REF!"}},{"$f":"IF(#REF!<0, 1, 0)","v":{"$error":"#REF!"}},null,null,null,null,null,null,null,null,null,null,null,null,null,null,null,null,null,null,null,null,null,null,null,"RBDBLANDFORD COMMUNITY HOSPITAL","RBD20","BLANDFORD COMMUNITY HOSPITAL","RBD20","BLANDFORD COMMUNITY HOSPITAL","RBD",null,null,"HEATH LANE HOSPITAL","Gerry Simon"]
[null,null,null,{"$f":"IF(#REF!=\"\", IF(#REF!=\"\", 0,1),0)","v":{"$error":"#REF!"}},null,null,null,null,{"$f":"IF(#REF!<0, 1, 0)","v":{"$error":"#REF!"}},{"$f":"IF(#REF!<0, 1, 0)","v":{"$error":"#REF!"}},{"$f":"IF(#REF!<0, 1, 0)","v":{"$error":"#REF!"}},{"$f":"IF(#REF!<0, 1, 0)","v":{"$error":"#REF!"}},{"$f":"IF(#REF!<0, 1, 0)","v":{"$error":"#REF!"}},{"$f":"IF(#REF!<0, 1, 0)","v":{"$error":"#REF!"}},{"$f":"IF(#REF!<0, 1, 0)","v":{"$error":"#REF!"}},{"$f":"IF(#REF!<0, 1, 0)","v":{"$error":"#REF!"}},{"$f":"IF(#REF!<0, 1, 0)","v":{"$error":"#REF!"}},{"$f":"IF(#REF!<0, 1, 0)","v":{"$error":"#REF!"}},{"$f":"IF(#REF!<0, 1, 0)","v":{"$error":"#REF!"}},{"$f":"IF(#REF!<0, 1, 0)","v":{"$error":"#REF!"}},{"$f":"IF(#REF!<0, 1, 0)","v":{"$error":"#REF!"}},{"$f":"IF(#REF!<0, 1, 0)","v":{"$error":"#REF!"}},{"$f":"IF(#REF!<0, 1, 0)","v":{"$error":"#REF!"}},{"$f":"IF(#REF!<0, 1, 0)","v":{"$error":"#REF!"}},{"$f":"IF(#REF!<0, 1, 0)","v":{"$error":"#REF!"}},{"$f":"IF(#REF!<0, 1, 0)","v":{"$error":"#REF!"}},{"$f":"IF(#REF!<0, 1, 0)","v":{"$error":"#REF!"}},{"$f":"IF(#REF!<0, 1, 0)","v":{"$error":"#REF!"}},{"$f":"IF(#REF!<0, 1, 0)","v":{"$error":"#REF!"}},null,null,null,null,null,null,null,{"$f":"IF(#REF!<0, 1, 0)","v":{"$error":"#REF!"}},{"$f":"IF(#REF!<0, 1, 0)","v":{"$error":"#REF!"}},{"$f":"IF(#REF!<0, 1, 0)","v":{"$error":"#REF!"}},{"$f":"IF(#REF!<0, 1, 0)","v":{"$error":"#REF!"}},{"$f":"IF(#REF!<0, 1, 0)","v":{"$error":"#REF!"}},{"$f":"IF(#REF!<0, 1, 0)","v":{"$error":"#REF!"}},{"$f":"IF(#REF!<0, 1, 0)","v":{"$error":"#REF!"}},{"$f":"IF(#REF!<0, 1, 0)","v":{"$error":"#REF!"}},{"$f":"IF(#REF!<0, 1, 0)","v":{"$error":"#REF!"}},{"$f":"IF(#REF!<0, 1, 0)","v":{"$error":"#REF!"}},null,null,null,null,null,null,null,null,null,null,null,null,null,null,null,null,null,null,null,null,null,null,null,"RBDBRIDPORT COMMUNITY HOSPITAL","RBD42","BRIDPORT COMMUNITY HOSPITAL","RBD42","BRIDPORT COMMUNITY HOSPITAL","RBD",null,null,"HEATH LANE HOSPITAL","MacArthur"]
[null,null,null,{"$f":"IF(#REF!=\"\", IF(#REF!=\"\", 0,1),0)","v":{"$error":"#REF!"}},null,null,null,null,{"$f":"IF(#REF!<0, 1, 0)","v":{"$error":"#REF!"}},{"$f":"IF(#REF!<0, 1, 0)","v":{"$error":"#REF!"}},{"$f":"IF(#REF!<0, 1, 0)","v":{"$error":"#REF!"}},{"$f":"IF(#REF!<0, 1, 0)","v":{"$error":"#REF!"}},{"$f":"IF(#REF!<0, 1, 0)","v":{"$error":"#REF!"}},{"$f":"IF(#REF!<0, 1, 0)","v":{"$error":"#REF!"}},{"$f":"IF(#REF!<0, 1, 0)","v":{"$error":"#REF!"}},{"$f":"IF(#REF!<0, 1, 0)","v":{"$error":"#REF!"}},{"$f":"IF(#REF!<0, 1, 0)","v":{"$error":"#REF!"}},{"$f":"IF(#REF!<0, 1, 0)","v":{"$error":"#REF!"}},{"$f":"IF(#REF!<0, 1, 0)","v":{"$error":"#REF!"}},{"$f":"IF(#REF!<0, 1, 0)","v":{"$error":"#REF!"}},{"$f":"IF(#REF!<0, 1, 0)","v":{"$error":"#REF!"}},{"$f":"IF(#REF!<0, 1, 0)","v":{"$error":"#REF!"}},{"$f":"IF(#REF!<0, 1, 0)","v":{"$error":"#REF!"}},{"$f":"IF(#REF!<0, 1, 0)","v":{"$error":"#REF!"}},{"$f":"IF(#REF!<0, 1, 0)","v":{"$error":"#REF!"}},{"$f":"IF(#REF!<0, 1, 0)","v":{"$error":"#REF!"}},{"$f":"IF(#REF!<0, 1, 0)","v":{"$error":"#REF!"}},{"$f":"IF(#REF!<0, 1, 0)","v":{"$error":"#REF!"}},{"$f":"IF(#REF!<0, 1, 0)","v":{"$error":"#REF!"}},null,null,null,null,null,null,null,{"$f":"IF(#REF!<0, 1, 0)","v":{"$error":"#REF!"}},{"$f":"IF(#REF!<0, 1, 0)","v":{"$error":"#REF!"}},{"$f":"IF(#REF!<0, 1, 0)","v":{"$error":"#REF!"}},{"$f":"IF(#REF!<0, 1, 0)","v":{"$error":"#REF!"}},{"$f":"IF(#REF!<0, 1, 0)","v":{"$error":"#REF!"}},{"$f":"IF(#REF!<0, 1, 0)","v":{"$error":"#REF!"}},{"$f":"IF(#REF!<0, 1, 0)","v":{"$error":"#REF!"}},{"$f":"IF(#REF!<0, 1, 0)","v":{"$error":"#REF!"}},{"$f":"IF(#REF!<0, 1, 0)","v":{"$error":"#REF!"}},{"$f":"IF(#REF!<0, 1, 0)","v":{"$error":"#REF!"}},null,null,null,null,null,null,null,null,null,null,null,null,null,null,null,null,null,null,null,null,null,null,null,"RBDDORSET COUNTY HOSPITAL","RBD01","DORSET COUNTY HOSPITAL","RBD01","DORSET COUNTY HOSPITAL","RBD",null,null,"HEATH LANE HOSPITAL","Penrose"]
[null,null,null,{"$f":"IF(#REF!=\"\", IF(#REF!=\"\", 0,1),0)","v":{"$error":"#REF!"}},null,null,null,null,{"$f":"IF(#REF!<0, 1, 0)","v":{"$error":"#REF!"}},{"$f":"IF(#REF!<0, 1, 0)","v":{"$error":"#REF!"}},{"$f":"IF(#REF!<0, 1, 0)","v":{"$error":"#REF!"}},{"$f":"IF(#REF!<0, 1, 0)","v":{"$error":"#REF!"}},{"$f":"IF(#REF!<0, 1, 0)","v":{"$error":"#REF!"}},{"$f":"IF(#REF!<0, 1, 0)","v":{"$error":"#REF!"}},{"$f":"IF(#REF!<0, 1, 0)","v":{"$error":"#REF!"}},{"$f":"IF(#REF!<0, 1, 0)","v":{"$error":"#REF!"}},{"$f":"IF(#REF!<0, 1, 0)","v":{"$error":"#REF!"}},{"$f":"IF(#REF!<0, 1, 0)","v":{"$error":"#REF!"}},{"$f":"IF(#REF!<0, 1, 0)","v":{"$error":"#REF!"}},{"$f":"IF(#REF!<0, 1, 0)","v":{"$error":"#REF!"}},{"$f":"IF(#REF!<0, 1, 0)","v":{"$error":"#REF!"}},{"$f":"IF(#REF!<0, 1, 0)","v":{"$error":"#REF!"}},{"$f":"IF(#REF!<0, 1, 0)","v":{"$error":"#REF!"}},{"$f":"IF(#REF!<0, 1, 0)","v":{"$error":"#REF!"}},{"$f":"IF(#REF!<0, 1, 0)","v":{"$error":"#REF!"}},{"$f":"IF(#REF!<0, 1, 0)","v":{"$error":"#REF!"}},{"$f":"IF(#REF!<0, 1, 0)","v":{"$error":"#REF!"}},{"$f":"IF(#REF!<0, 1, 0)","v":{"$error":"#REF!"}},{"$f":"IF(#REF!<0, 1, 0)","v":{"$error":"#REF!"}},null,null,null,null,null,null,null,{"$f":"IF(#REF!<0, 1, 0)","v":{"$error":"#REF!"}},{"$f":"IF(#REF!<0, 1, 0)","v":{"$error":"#REF!"}},{"$f":"IF(#REF!<0, 1, 0)","v":{"$error":"#REF!"}},{"$f":"IF(#REF!<0, 1, 0)","v":{"$error":"#REF!"}},{"$f":"IF(#REF!<0, 1, 0)","v":{"$error":"#REF!"}},{"$f":"IF(#REF!<0, 1, 0)","v":{"$error":"#REF!"}},{"$f":"IF(#REF!<0, 1, 0)","v":{"$error":"#REF!"}},{"$f":"IF(#REF!<0, 1, 0)","v":{"$error":"#REF!"}},{"$f":"IF(#REF!<0, 1, 0)","v":{"$error":"#REF!"}},{"$f":"IF(#REF!<0, 1, 0)","v":{"$error":"#REF!"}},null,null,null,null,null,null,null,null,null,null,null,null,null,null,null,null,null,null,null,null,null,null,null,"RBDPORTLAND HOSPITAL","RBD08","PORTLAND HOSPITAL","RBD08","PORTLAND HOSPITAL","RBD",null,null,"PENN HOSPITAL","Brook"]
[null,null,null,{"$f":"IF(#REF!=\"\", IF(#REF!=\"\", 0,1),0)","v":{"$error":"#REF!"}},null,null,null,null,{"$f":"IF(#REF!<0, 1, 0)","v":{"$error":"#REF!"}},{"$f":"IF(#REF!<0, 1, 0)","v":{"$error":"#REF!"}},{"$f":"IF(#REF!<0, 1, 0)","v":{"$error":"#REF!"}},{"$f":"IF(#REF!<0, 1, 0)","v":{"$error":"#REF!"}},{"$f":"IF(#REF!<0, 1, 0)","v":{"$error":"#REF!"}},{"$f":"IF(#REF!<0, 1, 0)","v":{"$error":"#REF!"}},{"$f":"IF(#REF!<0, 1, 0)","v":{"$error":"#REF!"}},{"$f":"IF(#REF!<0, 1, 0)","v":{"$error":"#REF!"}},{"$f":"IF(#REF!<0, 1, 0)","v":{"$error":"#REF!"}},{"$f":"IF(#REF!<0, 1, 0)","v":{"$error":"#REF!"}},{"$f":"IF(#REF!<0, 1, 0)","v":{"$error":"#REF!"}},{"$f":"IF(#REF!<0, 1, 0)","v":{"$error":"#REF!"}},{"$f":"IF(#REF!<0, 1, 0)","v":{"$error":"#REF!"}},{"$f":"IF(#REF!<0, 1, 0)","v":{"$error":"#REF!"}},{"$f":"IF(#REF!<0, 1, 0)","v":{"$error":"#REF!"}},{"$f":"IF(#REF!<0, 1, 0)","v":{"$error":"#REF!"}},{"$f":"IF(#REF!<0, 1, 0)","v":{"$error":"#REF!"}},{"$f":"IF(#REF!<0, 1, 0)","v":{"$error":"#REF!"}},{"$f":"IF(#REF!<0, 1, 0)","v":{"$error":"#REF!"}},{"$f":"IF(#REF!<0, 1, 0)","v":{"$error":"#REF!"}},{"$f":"IF(#REF!<0, 1, 0)","v":{"$error":"#REF!"}},null,null,null,null,null,null,null,{"$f":"IF(#REF!<0, 1, 0)","v":{"$error":"#REF!"}},{"$f":"IF(#REF!<0, 1, 0)","v":{"$error":"#REF!"}},{"$f":"IF(#REF!<0, 1, 0)","v":{"$error":"#REF!"}},{"$f":"IF(#REF!<0, 1, 0)","v":{"$error":"#REF!"}},{"$f":"IF(#REF!<0, 1, 0)","v":{"$error":"#REF!"}},{"$f":"IF(#REF!<0, 1, 0)","v":{"$error":"#REF!"}},{"$f":"IF(#REF!<0, 1, 0)","v":{"$error":"#REF!"}},{"$f":"IF(#REF!<0, 1, 0)","v":{"$error":"#REF!"}},{"$f":"IF(#REF!<0, 1, 0)","v":{"$error":"#REF!"}},{"$f":"IF(#REF!<0, 1, 0)","v":{"$error":"#REF!"}},null,null,null,null,null,null,null,null,null,null,null,null,null,null,null,null,null,null,null,null,null,null,null,"RBDWEYMOUTH COMMUNITY HOSPITAL","RBD05","WEYMOUTH COMMUNITY HOSPITAL","RBD05","WEYMOUTH COMMUNITY HOSPITAL","RBD",null,null,"PENN HOSPITAL","Dale"]
[null,null,null,{"$f":"IF(#REF!=\"\", IF(#REF!=\"\", 0,1),0)","v":{"$error":"#REF!"}},null,null,null,null,{"$f":"IF(#REF!<0, 1, 0)","v":{"$error":"#REF!"}},{"$f":"IF(#REF!<0, 1, 0)","v":{"$error":"#REF!"}},{"$f":"IF(#REF!<0, 1, 0)","v":{"$error":"#REF!"}},{"$f":"IF(#REF!<0, 1, 0)","v":{"$error":"#REF!"}},{"$f":"IF(#REF!<0, 1, 0)","v":{"$error":"#REF!"}},{"$f":"IF(#REF!<0, 1, 0)","v":{"$error":"#REF!"}},{"$f":"IF(#REF!<0, 1, 0)","v":{"$error":"#REF!"}},{"$f":"IF(#REF!<0, 1, 0)","v":{"$error":"#REF!"}},{"$f":"IF(#REF!<0, 1, 0)","v":{"$error":"#REF!"}},{"$f":"IF(#REF!<0, 1, 0)","v":{"$error":"#REF!"}},{"$f":"IF(#REF!<0, 1, 0)","v":{"$error":"#REF!"}},{"$f":"IF(#REF!<0, 1, 0)","v":{"$error":"#REF!"}},{"$f":"IF(#REF!<0, 1, 0)","v":{"$error":"#REF!"}},{"$f":"IF(#REF!<0, 1, 0)","v":{"$error":"#REF!"}},{"$f":"IF(#REF!<0, 1, 0)","v":{"$error":"#REF!"}},{"$f":"IF(#REF!<0, 1, 0)","v":{"$error":"#REF!"}},{"$f":"IF(#REF!<0, 1, 0)","v":{"$error":"#REF!"}},{"$f":"IF(#REF!<0, 1, 0)","v":{"$error":"#REF!"}},{"$f":"IF(#REF!<0, 1, 0)","v":{"$error":"#REF!"}},{"$f":"IF(#REF!<0, 1, 0)","v":{"$error":"#REF!"}},{"$f":"IF(#REF!<0, 1, 0)","v":{"$error":"#REF!"}},null,null,null,null,null,null,null,{"$f":"IF(#REF!<0, 1, 0)","v":{"$error":"#REF!"}},{"$f":"IF(#REF!<0, 1, 0)","v":{"$error":"#REF!"}},{"$f":"IF(#REF!<0, 1, 0)","v":{"$error":"#REF!"}},{"$f":"IF(#REF!<0, 1, 0)","v":{"$error":"#REF!"}},{"$f":"IF(#REF!<0, 1, 0)","v":{"$error":"#REF!"}},{"$f":"IF(#REF!<0, 1, 0)","v":{"$error":"#REF!"}},{"$f":"IF(#REF!<0, 1, 0)","v":{"$error":"#REF!"}},{"$f":"IF(#REF!<0, 1, 0)","v":{"$error":"#REF!"}},{"$f":"IF(#REF!<0, 1, 0)","v":{"$error":"#REF!"}},{"$f":"IF(#REF!<0, 1, 0)","v":{"$error":"#REF!"}},null,null,null,null,null,null,null,null,null,null,null,null,null,null,null,null,null,null,null,null,null,null,null,"RBDYEATMAN HOSPITAL","RBD30","YEATMAN HOSPITAL","RBD30","YEATMAN HOSPITAL","RBD",null,null,"PENN HOSPITAL","Meadow"]
[null,null,null,{"$f":"IF(#REF!=\"\", IF(#REF!=\"\", 0,1),0)","v":{"$error":"#REF!"}},null,null,null,null,{"$f":"IF(#REF!<0, 1, 0)","v":{"$error":"#REF!"}},{"$f":"IF(#REF!<0, 1, 0)","v":{"$error":"#REF!"}},{"$f":"IF(#REF!<0, 1, 0)","v":{"$error":"#REF!"}},{"$f":"IF(#REF!<0, 1, 0)","v":{"$error":"#REF!"}},{"$f":"IF(#REF!<0, 1, 0)","v":{"$error":"#REF!"}},{"$f":"IF(#REF!<0, 1, 0)","v":{"$error":"#REF!"}},{"$f":"IF(#REF!<0, 1, 0)","v":{"$error":"#REF!"}},{"$f":"IF(#REF!<0, 1, 0)","v":{"$error":"#REF!"}},{"$f":"IF(#REF!<0, 1, 0)","v":{"$error":"#REF!"}},{"$f":"IF(#REF!<0, 1, 0)","v":{"$error":"#REF!"}},{"$f":"IF(#REF!<0, 1, 0)","v":{"$error":"#REF!"}},{"$f":"IF(#REF!<0, 1, 0)","v":{"$error":"#REF!"}},{"$f":"IF(#REF!<0, 1, 0)","v":{"$error":"#REF!"}},{"$f":"IF(#REF!<0, 1, 0)","v":{"$error":"#REF!"}},{"$f":"IF(#REF!<0, 1, 0)","v":{"$error":"#REF!"}},{"$f":"IF(#REF!<0, 1, 0)","v":{"$error":"#REF!"}},{"$f":"IF(#REF!<0, 1, 0)","v":{"$error":"#REF!"}},{"$f":"IF(#REF!<0, 1, 0)","v":{"$error":"#REF!"}},{"$f":"IF(#REF!<0, 1, 0)","v":{"$error":"#REF!"}},{"$f":"IF(#REF!<0, 1, 0)","v":{"$error":"#REF!"}},{"$f":"IF(#REF!<0, 1, 0)","v":{"$error":"#REF!"}},null,null,null,null,null,null,null,{"$f":"IF(#REF!<0, 1, 0)","v":{"$error":"#REF!"}},{"$f":"IF(#REF!<0, 1, 0)","v":{"$error":"#REF!"}},{"$f":"IF(#REF!<0, 1, 0)","v":{"$error":"#REF!"}},{"$f":"IF(#REF!<0, 1, 0)","v":{"$error":"#REF!"}},{"$f":"IF(#REF!<0, 1, 0)","v":{"$error":"#REF!"}},{"$f":"IF(#REF!<0, 1, 0)","v":{"$error":"#REF!"}},{"$f":"IF(#REF!<0, 1, 0)","v":{"$error":"#REF!"}},{"$f":"IF(#REF!<0, 1, 0)","v":{"$error":"#REF!"}},{"$f":"IF(#REF!<0, 1, 0)","v":{"$error":"#REF!"}},{"$f":"IF(#REF!<0, 1, 0)","v":{"$error":"#REF!"}},null,null,null,null,null,null,null,null,null,null,null,null,null,null,null,null,null,null,null,null,null,null,null,"RBKGOSCOTE HOSPITAL","RBK03","GOSCOTE HOSPITAL","RBK03","GOSCOTE HOSPITAL","RBK",null,null,"BLACKPOOL VICTORIA HOSPITAL","AMU"]
[null,null,null,{"$f":"IF(#REF!=\"\", IF(#REF!=\"\", 0,1),0)","v":{"$error":"#REF!"}},null,null,null,null,{"$f":"IF(#REF!<0, 1, 0)","v":{"$error":"#REF!"}},{"$f":"IF(#REF!<0, 1, 0)","v":{"$error":"#REF!"}},{"$f":"IF(#REF!<0, 1, 0)","v":{"$error":"#REF!"}},{"$f":"IF(#REF!<0, 1, 0)","v":{"$error":"#REF!"}},{"$f":"IF(#REF!<0, 1, 0)","v":{"$error":"#REF!"}},{"$f":"IF(#REF!<0, 1, 0)","v":{"$error":"#REF!"}},{"$f":"IF(#REF!<0, 1, 0)","v":{"$error":"#REF!"}},{"$f":"IF(#REF!<0, 1, 0)","v":{"$error":"#REF!"}},{"$f":"IF(#REF!<0, 1, 0)","v":{"$error":"#REF!"}},{"$f":"IF(#REF!<0, 1, 0)","v":{"$error":"#REF!"}},{"$f":"IF(#REF!<0, 1, 0)","v":{"$error":"#REF!"}},{"$f":"IF(#REF!<0, 1, 0)","v":{"$error":"#REF!"}},{"$f":"IF(#REF!<0, 1, 0)","v":{"$error":"#REF!"}},{"$f":"IF(#REF!<0, 1, 0)","v":{"$error":"#REF!"}},{"$f":"IF(#REF!<0, 1, 0)","v":{"$error":"#REF!"}},{"$f":"IF(#REF!<0, 1, 0)","v":{"$error":"#REF!"}},{"$f":"IF(#REF!<0, 1, 0)","v":{"$error":"#REF!"}},{"$f":"IF(#REF!<0, 1, 0)","v":{"$error":"#REF!"}},{"$f":"IF(#REF!<0, 1, 0)","v":{"$error":"#REF!"}},{"$f":"IF(#REF!<0, 1, 0)","v":{"$error":"#REF!"}},{"$f":"IF(#REF!<0, 1, 0)","v":{"$error":"#REF!"}},null,null,null,null,null,null,null,{"$f":"IF(#REF!<0, 1, 0)","v":{"$error":"#REF!"}},{"$f":"IF(#REF!<0, 1, 0)","v":{"$error":"#REF!"}},{"$f":"IF(#REF!<0, 1, 0)","v":{"$error":"#REF!"}},{"$f":"IF(#REF!<0, 1, 0)","v":{"$error":"#REF!"}},{"$f":"IF(#REF!<0, 1, 0)","v":{"$error":"#REF!"}},{"$f":"IF(#REF!<0, 1, 0)","v":{"$error":"#REF!"}},{"$f":"IF(#REF!<0, 1, 0)","v":{"$error":"#REF!"}},{"$f":"IF(#REF!<0, 1, 0)","v":{"$error":"#REF!"}},{"$f":"IF(#REF!<0, 1, 0)","v":{"$error":"#REF!"}},{"$f":"IF(#REF!<0, 1, 0)","v":{"$error":"#REF!"}},null,null,null,null,null,null,null,null,null,null,null,null,null,null,null,null,null,null,null,null,null,null,null,"RBKMANOR HOSPITAL","RBK02","MANOR HOSPITAL","RBK02","MANOR HOSPITAL","RBK",null,null,"BLACKPOOL VICTORIA HOSPITAL","CCU"]
[null,null,null,{"$f":"IF(#REF!=\"\", IF(#REF!=\"\", 0,1),0)","v":{"$error":"#REF!"}},null,null,null,null,{"$f":"IF(#REF!<0, 1, 0)","v":{"$error":"#REF!"}},{"$f":"IF(#REF!<0, 1, 0)","v":{"$error":"#REF!"}},{"$f":"IF(#REF!<0, 1, 0)","v":{"$error":"#REF!"}},{"$f":"IF(#REF!<0, 1, 0)","v":{"$error":"#REF!"}},{"$f":"IF(#REF!<0, 1, 0)","v":{"$error":"#REF!"}},{"$f":"IF(#REF!<0, 1, 0)","v":{"$error":"#REF!"}},{"$f":"IF(#REF!<0, 1, 0)","v":{"$error":"#REF!"}},{"$f":"IF(#REF!<0, 1, 0)","v":{"$error":"#REF!"}},{"$f":"IF(#REF!<0, 1, 0)","v":{"$error":"#REF!"}},{"$f":"IF(#REF!<0, 1, 0)","v":{"$error":"#REF!"}},{"$f":"IF(#REF!<0, 1, 0)","v":{"$error":"#REF!"}},{"$f":"IF(#REF!<0, 1, 0)","v":{"$error":"#REF!"}},{"$f":"IF(#REF!<0, 1, 0)","v":{"$error":"#REF!"}},{"$f":"IF(#REF!<0, 1, 0)","v":{"$error":"#REF!"}},{"$f":"IF(#REF!<0, 1, 0)","v":{"$error":"#REF!"}},{"$f":"IF(#REF!<0, 1, 0)","v":{"$error":"#REF!"}},{"$f":"IF(#REF!<0, 1, 0)","v":{"$error":"#REF!"}},{"$f":"IF(#REF!<0, 1, 0)","v":{"$error":"#REF!"}},{"$f":"IF(#REF!<0, 1, 0)","v":{"$error":"#REF!"}},{"$f":"IF(#REF!<0, 1, 0)","v":{"$error":"#REF!"}},{"$f":"IF(#REF!<0, 1, 0)","v":{"$error":"#REF!"}},null,null,null,null,null,null,null,{"$f":"IF(#REF!<0, 1, 0)","v":{"$error":"#REF!"}},{"$f":"IF(#REF!<0, 1, 0)","v":{"$error":"#REF!"}},{"$f":"IF(#REF!<0, 1, 0)","v":{"$error":"#REF!"}},{"$f":"IF(#REF!<0, 1, 0)","v":{"$error":"#REF!"}},{"$f":"IF(#REF!<0, 1, 0)","v":{"$error":"#REF!"}},{"$f":"IF(#REF!<0, 1, 0)","v":{"$error":"#REF!"}},{"$f":"IF(#REF!<0, 1, 0)","v":{"$error":"#REF!"}},{"$f":"IF(#REF!<0, 1, 0)","v":{"$error":"#REF!"}},{"$f":"IF(#REF!<0, 1, 0)","v":{"$error":"#REF!"}},{"$f":"IF(#REF!<0, 1, 0)","v":{"$error":"#REF!"}},null,null,null,null,null,null,null,null,null,null,null,null,null,null,null,null,null,null,null,null,null,null,null,"RBLARROWE PARK HOSPITAL","RBL14","ARROWE PARK HOSPITAL","RBL14","ARROWE PARK HOSPITAL","RBL",null,null,"BLACKPOOL VICTORIA HOSPITAL","Childrens Ward and Adolescent Ward"]
[null,null,null,{"$f":"IF(#REF!=\"\", IF(#REF!=\"\", 0,1),0)","v":{"$error":"#REF!"}},null,null,null,null,{"$f":"IF(#REF!<0, 1, 0)","v":{"$error":"#REF!"}},{"$f":"IF(#REF!<0, 1, 0)","v":{"$error":"#REF!"}},{"$f":"IF(#REF!<0, 1, 0)","v":{"$error":"#REF!"}},{"$f":"IF(#REF!<0, 1, 0)","v":{"$error":"#REF!"}},{"$f":"IF(#REF!<0, 1, 0)","v":{"$error":"#REF!"}},{"$f":"IF(#REF!<0, 1, 0)","v":{"$error":"#REF!"}},{"$f":"IF(#REF!<0, 1, 0)","v":{"$error":"#REF!"}},{"$f":"IF(#REF!<0, 1, 0)","v":{"$error":"#REF!"}},{"$f":"IF(#REF!<0, 1, 0)","v":{"$error":"#REF!"}},{"$f":"IF(#REF!<0, 1, 0)","v":{"$error":"#REF!"}},{"$f":"IF(#REF!<0, 1, 0)","v":{"$error":"#REF!"}},{"$f":"IF(#REF!<0, 1, 0)","v":{"$error":"#REF!"}},{"$f":"IF(#REF!<0, 1, 0)","v":{"$error":"#REF!"}},{"$f":"IF(#REF!<0, 1, 0)","v":{"$error":"#REF!"}},{"$f":"IF(#REF!<0, 1, 0)","v":{"$error":"#REF!"}},{"$f":"IF(#REF!<0, 1, 0)","v":{"$error":"#REF!"}},{"$f":"IF(#REF!<0, 1, 0)","v":{"$error":"#REF!"}},{"$f":"IF(#REF!<0, 1, 0)","v":{"$error":"#REF!"}},{"$f":"IF(#REF!<0, 1, 0)","v":{"$error":"#REF!"}},{"$f":"IF(#REF!<0, 1, 0)","v":{"$error":"#REF!"}},{"$f":"IF(#REF!<0, 1, 0)","v":{"$error":"#REF!"}},null,null,null,null,null,null,null,{"$f":"IF(#REF!<0, 1, 0)","v":{"$error":"#REF!"}},{"$f":"IF(#REF!<0, 1, 0)","v":{"$error":"#REF!"}},{"$f":"IF(#REF!<0, 1, 0)","v":{"$error":"#REF!"}},{"$f":"IF(#REF!<0, 1, 0)","v":{"$error":"#REF!"}},{"$f":"IF(#REF!<0, 1, 0)","v":{"$error":"#REF!"}},{"$f":"IF(#REF!<0, 1, 0)","v":{"$error":"#REF!"}},{"$f":"IF(#REF!<0, 1, 0)","v":{"$error":"#REF!"}},{"$f":"IF(#REF!<0, 1, 0)","v":{"$error":"#REF!"}},{"$f":"IF(#REF!<0, 1, 0)","v":{"$error":"#REF!"}},{"$f":"IF(#REF!<0, 1, 0)","v":{"$error":"#REF!"}},null,null,null,null,null,null,null,null,null,null,null,null,null,null,null,null,null,null,null,null,null,null,null,"RBLCLATTERBRIDGE HOSPITAL","RBL20","CLATTERBRIDGE HOSPITAL","RBL20","CLATTERBRIDGE HOSPITAL","RBL",null,null,"BLACKPOOL VICTORIA HOSPITAL","CITU"]
[null,null,null,{"$f":"IF(#REF!=\"\", IF(#REF!=\"\", 0,1),0)","v":{"$error":"#REF!"}},null,null,null,null,{"$f":"IF(#REF!<0, 1, 0)","v":{"$error":"#REF!"}},{"$f":"IF(#REF!<0, 1, 0)","v":{"$error":"#REF!"}},{"$f":"IF(#REF!<0, 1, 0)","v":{"$error":"#REF!"}},{"$f":"IF(#REF!<0, 1, 0)","v":{"$error":"#REF!"}},{"$f":"IF(#REF!<0, 1, 0)","v":{"$error":"#REF!"}},{"$f":"IF(#REF!<0, 1, 0)","v":{"$error":"#REF!"}},{"$f":"IF(#REF!<0, 1, 0)","v":{"$error":"#REF!"}},{"$f":"IF(#REF!<0, 1, 0)","v":{"$error":"#REF!"}},{"$f":"IF(#REF!<0, 1, 0)","v":{"$error":"#REF!"}},{"$f":"IF(#REF!<0, 1, 0)","v":{"$error":"#REF!"}},{"$f":"IF(#REF!<0, 1, 0)","v":{"$error":"#REF!"}},{"$f":"IF(#REF!<0, 1, 0)","v":{"$error":"#REF!"}},{"$f":"IF(#REF!<0, 1, 0)","v":{"$error":"#REF!"}},{"$f":"IF(#REF!<0, 1, 0)","v":{"$error":"#REF!"}},{"$f":"IF(#REF!<0, 1, 0)","v":{"$error":"#REF!"}},{"$f":"IF(#REF!<0, 1, 0)","v":{"$error":"#REF!"}},{"$f":"IF(#REF!<0, 1, 0)","v":{"$error":"#REF!"}},{"$f":"IF(#REF!<0, 1, 0)","v":{"$error":"#REF!"}},{"$f":"IF(#REF!<0, 1, 0)","v":{"$error":"#REF!"}},{"$f":"IF(#REF!<0, 1, 0)","v":{"$error":"#REF!"}},{"$f":"IF(#REF!<0, 1, 0)","v":{"$error":"#REF!"}},null,null,null,null,null,null,null,{"$f":"IF(#REF!<0, 1, 0)","v":{"$error":"#REF!"}},{"$f":"IF(#REF!<0, 1, 0)","v":{"$error":"#REF!"}},{"$f":"IF(#REF!<0, 1, 0)","v":{"$error":"#REF!"}},{"$f":"IF(#REF!<0, 1, 0)","v":{"$error":"#REF!"}},{"$f":"IF(#REF!<0, 1, 0)","v":{"$error":"#REF!"}},{"$f":"IF(#REF!<0, 1, 0)","v":{"$error":"#REF!"}},{"$f":"IF(#REF!<0, 1, 0)","v":{"$error":"#REF!"}},{"$f":"IF(#REF!<0, 1, 0)","v":{"$error":"#REF!"}},{"$f":"IF(#REF!<0, 1, 0)","v":{"$error":"#REF!"}},{"$f":"IF(#REF!<0, 1, 0)","v":{"$error":"#REF!"}},null,null,null,null,null,null,null,null,null,null,null,null,null,null,null,null,null,null,null,null,null,null,null,"RBLOUTPATIENTS DEPARTMENT (ST JOHN'S HOSPICE)","RBL25","OUTPATIENTS DEPARTMENT (ST JOHN'S HOSPICE)","RBL25","OUTPATIENTS DEPARTMENT (ST JOHN'S HOSPICE)","RBL",null,null,"BLACKPOOL VICTORIA HOSPITAL","Haematology Ward"]
[null,null,null,{"$f":"IF(#REF!=\"\", IF(#REF!=\"\", 0,1),0)","v":{"$error":"#REF!"}},null,null,null,null,{"$f":"IF(#REF!<0, 1, 0)","v":{"$error":"#REF!"}},{"$f":"IF(#REF!<0, 1, 0)","v":{"$error":"#REF!"}},{"$f":"IF(#REF!<0, 1, 0)","v":{"$error":"#REF!"}},{"$f":"IF(#REF!<0, 1, 0)","v":{"$error":"#REF!"}},{"$f":"IF(#REF!<0, 1, 0)","v":{"$error":"#REF!"}},{"$f":"IF(#REF!<0, 1, 0)","v":{"$error":"#REF!"}},{"$f":"IF(#REF!<0, 1, 0)","v":{"$error":"#REF!"}},{"$f":"IF(#REF!<0, 1, 0)","v":{"$error":"#REF!"}},{"$f":"IF(#REF!<0, 1, 0)","v":{"$error":"#REF!"}},{"$f":"IF(#REF!<0, 1, 0)","v":{"$error":"#REF!"}},{"$f":"IF(#REF!<0, 1, 0)","v":{"$error":"#REF!"}},{"$f":"IF(#REF!<0, 1, 0)","v":{"$error":"#REF!"}},{"$f":"IF(#REF!<0, 1, 0)","v":{"$error":"#REF!"}},{"$f":"IF(#REF!<0, 1, 0)","v":{"$error":"#REF!"}},{"$f":"IF(#REF!<0, 1, 0)","v":{"$error":"#REF!"}},{"$f":"IF(#REF!<0, 1, 0)","v":{"$error":"#REF!"}},{"$f":"IF(#REF!<0, 1, 0)","v":{"$error":"#REF!"}},{"$f":"IF(#REF!<0, 1, 0)","v":{"$error":"#REF!"}},{"$f":"IF(#REF!<0, 1, 0)","v":{"$error":"#REF!"}},{"$f":"IF(#REF!<0, 1, 0)","v":{"$error":"#REF!"}},{"$f":"IF(#REF!<0, 1, 0)","v":{"$error":"#REF!"}},null,null,null,null,null,null,null,{"$f":"IF(#REF!<0, 1, 0)","v":{"$error":"#REF!"}},{"$f":"IF(#REF!<0, 1, 0)","v":{"$error":"#REF!"}},{"$f":"IF(#REF!<0, 1, 0)","v":{"$error":"#REF!"}},{"$f":"IF(#REF!<0, 1, 0)","v":{"$error":"#REF!"}},{"$f":"IF(#REF!<0, 1, 0)","v":{"$error":"#REF!"}},{"$f":"IF(#REF!<0, 1, 0)","v":{"$error":"#REF!"}},{"$f":"IF(#REF!<0, 1, 0)","v":{"$error":"#REF!"}},{"$f":"IF(#REF!<0, 1, 0)","v":{"$error":"#REF!"}},{"$f":"IF(#REF!<0, 1, 0)","v":{"$error":"#REF!"}},{"$f":"IF(#REF!<0, 1, 0)","v":{"$error":"#REF!"}},null,null,null,null,null,null,null,null,null,null,null,null,null,null,null,null,null,null,null,null,null,null,null,"RBLST. CATHERINES HOSPITAL","RBL01","ST. CATHERINES HOSPITAL","RBL01","ST. CATHERINES HOSPITAL","RBL",null,null,"BLACKPOOL VICTORIA HOSPITAL","ITU"]
[null,null,null,{"$f":"IF(#REF!=\"\", IF(#REF!=\"\", 0,1),0)","v":{"$error":"#REF!"}},null,null,null,null,{"$f":"IF(#REF!<0, 1, 0)","v":{"$error":"#REF!"}},{"$f":"IF(#REF!<0, 1, 0)","v":{"$error":"#REF!"}},{"$f":"IF(#REF!<0, 1, 0)","v":{"$error":"#REF!"}},{"$f":"IF(#REF!<0, 1, 0)","v":{"$error":"#REF!"}},{"$f":"IF(#REF!<0, 1, 0)","v":{"$error":"#REF!"}},{"$f":"IF(#REF!<0, 1, 0)","v":{"$error":"#REF!"}},{"$f":"IF(#REF!<0, 1, 0)","v":{"$error":"#REF!"}},{"$f":"IF(#REF!<0, 1, 0)","v":{"$error":"#REF!"}},{"$f":"IF(#REF!<0, 1, 0)","v":{"$error":"#REF!"}},{"$f":"IF(#REF!<0, 1, 0)","v":{"$error":"#REF!"}},{"$f":"IF(#REF!<0, 1, 0)","v":{"$error":"#REF!"}},{"$f":"IF(#REF!<0, 1, 0)","v":{"$error":"#REF!"}},{"$f":"IF(#REF!<0, 1, 0)","v":{"$error":"#REF!"}},{"$f":"IF(#REF!<0, 1, 0)","v":{"$error":"#REF!"}},{"$f":"IF(#REF!<0, 1, 0)","v":{"$error":"#REF!"}},{"$f":"IF(#REF!<0, 1, 0)","v":{"$error":"#REF!"}},{"$f":"IF(#REF!<0, 1, 0)","v":{"$error":"#REF!"}},{"$f":"IF(#REF!<0, 1, 0)","v":{"$error":"#REF!"}},{"$f":"IF(#REF!<0, 1, 0)","v":{"$error":"#REF!"}},{"$f":"IF(#REF!<0, 1, 0)","v":{"$error":"#REF!"}},{"$f":"IF(#REF!<0, 1, 0)","v":{"$error":"#REF!"}},null,null,null,null,null,null,null,{"$f":"IF(#REF!<0, 1, 0)","v":{"$error":"#REF!"}},{"$f":"IF(#REF!<0, 1, 0)","v":{"$error":"#REF!"}},{"$f":"IF(#REF!<0, 1, 0)","v":{"$error":"#REF!"}},{"$f":"IF(#REF!<0, 1, 0)","v":{"$error":"#REF!"}},{"$f":"IF(#REF!<0, 1, 0)","v":{"$error":"#REF!"}},{"$f":"IF(#REF!<0, 1, 0)","v":{"$error":"#REF!"}},{"$f":"IF(#REF!<0, 1, 0)","v":{"$error":"#REF!"}},{"$f":"IF(#REF!<0, 1, 0)","v":{"$error":"#REF!"}},{"$f":"IF(#REF!<0, 1, 0)","v":{"$error":"#REF!"}},{"$f":"IF(#REF!<0, 1, 0)","v":{"$error":"#REF!"}},null,null,null,null,null,null,null,null,null,null,null,null,null,null,null,null,null,null,null,null,null,null,null,"RBLVICTORIA CENTRAL HOSPITAL","RBL02","VICTORIA CENTRAL HOSPITAL","RBL02","VICTORIA CENTRAL HOSPITAL","RBL",null,null,"BLACKPOOL VICTORIA HOSPITAL","Lancashire Suite"]
[null,null,null,{"$f":"IF(#REF!=\"\", IF(#REF!=\"\", 0,1),0)","v":{"$error":"#REF!"}},null,null,null,null,{"$f":"IF(#REF!<0, 1, 0)","v":{"$error":"#REF!"}},{"$f":"IF(#REF!<0, 1, 0)","v":{"$error":"#REF!"}},{"$f":"IF(#REF!<0, 1, 0)","v":{"$error":"#REF!"}},{"$f":"IF(#REF!<0, 1, 0)","v":{"$error":"#REF!"}},{"$f":"IF(#REF!<0, 1, 0)","v":{"$error":"#REF!"}},{"$f":"IF(#REF!<0, 1, 0)","v":{"$error":"#REF!"}},{"$f":"IF(#REF!<0, 1, 0)","v":{"$error":"#REF!"}},{"$f":"IF(#REF!<0, 1, 0)","v":{"$error":"#REF!"}},{"$f":"IF(#REF!<0, 1, 0)","v":{"$error":"#REF!"}},{"$f":"IF(#REF!<0, 1, 0)","v":{"$error":"#REF!"}},{"$f":"IF(#REF!<0, 1, 0)","v":{"$error":"#REF!"}},{"$f":"IF(#REF!<0, 1, 0)","v":{"$error":"#REF!"}},{"$f":"IF(#REF!<0, 1, 0)","v":{"$error":"#REF!"}},{"$f":"IF(#REF!<0, 1, 0)","v":{"$error":"#REF!"}},{"$f":"IF(#REF!<0, 1, 0)","v":{"$error":"#REF!"}},{"$f":"IF(#REF!<0, 1, 0)","v":{"$error":"#REF!"}},{"$f":"IF(#REF!<0, 1, 0)","v":{"$error":"#REF!"}},{"$f":"IF(#REF!<0, 1, 0)","v":{"$error":"#REF!"}},{"$f":"IF(#REF!<0, 1, 0)","v":{"$error":"#REF!"}},{"$f":"IF(#REF!<0, 1, 0)","v":{"$error":"#REF!"}},{"$f":"IF(#REF!<0, 1, 0)","v":{"$error":"#REF!"}},null,null,null,null,null,null,null,{"$f":"IF(#REF!<0, 1, 0)","v":{"$error":"#REF!"}},{"$f":"IF(#REF!<0, 1, 0)","v":{"$error":"#REF!"}},{"$f":"IF(#REF!<0, 1, 0)","v":{"$error":"#REF!"}},{"$f":"IF(#REF!<0, 1, 0)","v":{"$error":"#REF!"}},{"$f":"IF(#REF!<0, 1, 0)","v":{"$error":"#REF!"}},{"$f":"IF(#REF!<0, 1, 0)","v":{"$error":"#REF!"}},{"$f":"IF(#REF!<0, 1, 0)","v":{"$error":"#REF!"}},{"$f":"IF(#REF!<0, 1, 0)","v":{"$error":"#REF!"}},{"$f":"IF(#REF!<0, 1, 0)","v":{"$error":"#REF!"}},{"$f":"IF(#REF!<0, 1, 0)","v":{"$error":"#REF!"}},null,null,null,null,null,null,null,null,null,null,null,null,null,null,null,null,null,null,null,null,null,null,null,"RBNNEWTON COMMUNITY HOSPITAL","RBN03","NEWTON COMMUNITY HOSPITAL","RBN03","NEWTON COMMUNITY HOSPITAL","RBN",null,null,"BLACKPOOL VICTORIA HOSPITAL","Maternity Unit Ward D"]
[null,null,null,{"$f":"IF(#REF!=\"\", IF(#REF!=\"\", 0,1),0)","v":{"$error":"#REF!"}},null,null,null,null,{"$f":"IF(#REF!<0, 1, 0)","v":{"$error":"#REF!"}},{"$f":"IF(#REF!<0, 1, 0)","v":{"$error":"#REF!"}},{"$f":"IF(#REF!<0, 1, 0)","v":{"$error":"#REF!"}},{"$f":"IF(#REF!<0, 1, 0)","v":{"$error":"#REF!"}},{"$f":"IF(#REF!<0, 1, 0)","v":{"$error":"#REF!"}},{"$f":"IF(#REF!<0, 1, 0)","v":{"$error":"#REF!"}},{"$f":"IF(#REF!<0, 1, 0)","v":{"$error":"#REF!"}},{"$f":"IF(#REF!<0, 1, 0)","v":{"$error":"#REF!"}},{"$f":"IF(#REF!<0, 1, 0)","v":{"$error":"#REF!"}},{"$f":"IF(#REF!<0, 1, 0)","v":{"$error":"#REF!"}},{"$f":"IF(#REF!<0, 1, 0)","v":{"$error":"#REF!"}},{"$f":"IF(#REF!<0, 1, 0)","v":{"$error":"#REF!"}},{"$f":"IF(#REF!<0, 1, 0)","v":{"$error":"#REF!"}},{"$f":"IF(#REF!<0, 1, 0)","v":{"$error":"#REF!"}},{"$f":"IF(#REF!<0, 1, 0)","v":{"$error":"#REF!"}},{"$f":"IF(#REF!<0, 1, 0)","v":{"$error":"#REF!"}},{"$f":"IF(#REF!<0, 1, 0)","v":{"$error":"#REF!"}},{"$f":"IF(#REF!<0, 1, 0)","v":{"$error":"#REF!"}},{"$f":"IF(#REF!<0, 1, 0)","v":{"$error":"#REF!"}},{"$f":"IF(#REF!<0, 1, 0)","v":{"$error":"#REF!"}},{"$f":"IF(#REF!<0, 1, 0)","v":{"$error":"#REF!"}},null,null,null,null,null,null,null,{"$f":"IF(#REF!<0, 1, 0)","v":{"$error":"#REF!"}},{"$f":"IF(#REF!<0, 1, 0)","v":{"$error":"#REF!"}},{"$f":"IF(#REF!<0, 1, 0)","v":{"$error":"#REF!"}},{"$f":"IF(#REF!<0, 1, 0)","v":{"$error":"#REF!"}},{"$f":"IF(#REF!<0, 1, 0)","v":{"$error":"#REF!"}},{"$f":"IF(#REF!<0, 1, 0)","v":{"$error":"#REF!"}},{"$f":"IF(#REF!<0, 1, 0)","v":{"$error":"#REF!"}},{"$f":"IF(#REF!<0, 1, 0)","v":{"$error":"#REF!"}},{"$f":"IF(#REF!<0, 1, 0)","v":{"$error":"#REF!"}},{"$f":"IF(#REF!<0, 1, 0)","v":{"$error":"#REF!"}},null,null,null,null,null,null,null,null,null,null,null,null,null,null,null,null,null,null,null,null,null,null,null,"RBNST HELENS HOSPITAL","RBN02","ST HELENS HOSPITAL","RBN02","ST HELENS HOSPITAL","RBN",null,null,"BLACKPOOL VICTORIA HOSPITAL","NEONATES"]
[null,null,null,{"$f":"IF(#REF!=\"\", IF(#REF!=\"\", 0,1),0)","v":{"$error":"#REF!"}},null,null,null,null,{"$f":"IF(#REF!<0, 1, 0)","v":{"$error":"#REF!"}},{"$f":"IF(#REF!<0, 1, 0)","v":{"$error":"#REF!"}},{"$f":"IF(#REF!<0, 1, 0)","v":{"$error":"#REF!"}},{"$f":"IF(#REF!<0, 1, 0)","v":{"$error":"#REF!"}},{"$f":"IF(#REF!<0, 1, 0)","v":{"$error":"#REF!"}},{"$f":"IF(#REF!<0, 1, 0)","v":{"$error":"#REF!"}},{"$f":"IF(#REF!<0, 1, 0)","v":{"$error":"#REF!"}},{"$f":"IF(#REF!<0, 1, 0)","v":{"$error":"#REF!"}},{"$f":"IF(#REF!<0, 1, 0)","v":{"$error":"#REF!"}},{"$f":"IF(#REF!<0, 1, 0)","v":{"$error":"#REF!"}},{"$f":"IF(#REF!<0, 1, 0)","v":{"$error":"#REF!"}},{"$f":"IF(#REF!<0, 1, 0)","v":{"$error":"#REF!"}},{"$f":"IF(#REF!<0, 1, 0)","v":{"$error":"#REF!"}},{"$f":"IF(#REF!<0, 1, 0)","v":{"$error":"#REF!"}},{"$f":"IF(#REF!<0, 1, 0)","v":{"$error":"#REF!"}},{"$f":"IF(#REF!<0, 1, 0)","v":{"$error":"#REF!"}},{"$f":"IF(#REF!<0, 1, 0)","v":{"$error":"#REF!"}},{"$f":"IF(#REF!<0, 1, 0)","v":{"$error":"#REF!"}},{"$f":"IF(#REF!<0, 1, 0)","v":{"$error":"#REF!"}},{"$f":"IF(#REF!<0, 1, 0)","v":{"$error":"#REF!"}},{"$f":"IF(#REF!<0, 1, 0)","v":{"$error":"#REF!"}},null,null,null,null,null,null,null,{"$f":"IF(#REF!<0, 1, 0)","v":{"$error":"#REF!"}},{"$f":"IF(#REF!<0, 1, 0)","v":{"$error":"#REF!"}},{"$f":"IF(#REF!<0, 1, 0)","v":{"$error":"#REF!"}},{"$f":"IF(#REF!<0, 1, 0)","v":{"$error":"#REF!"}},{"$f":"IF(#REF!<0, 1, 0)","v":{"$error":"#REF!"}},{"$f":"IF(#REF!<0, 1, 0)","v":{"$error":"#REF!"}},{"$f":"IF(#REF!<0, 1, 0)","v":{"$error":"#REF!"}},{"$f":"IF(#REF!<0, 1, 0)","v":{"$error":"#REF!"}},{"$f":"IF(#REF!<0, 1, 0)","v":{"$error":"#REF!"}},{"$f":"IF(#REF!<0, 1, 0)","v":{"$error":"#REF!"}},null,null,null,null,null,null,null,null,null,null,null,null,null,null,null,null,null,null,null,null,null,null,null,"RBNWHISTON HEALTH CENTRE","RBN34","WHISTON HEALTH CENTRE","RBN34","WHISTON HEALTH CENTRE","RBN",null,null,"BLACKPOOL VICTORIA HOSPITAL","Stroke Unit"]
[null,null,null,{"$f":"IF(#REF!=\"\", IF(#REF!=\"\", 0,1),0)","v":{"$error":"#REF!"}},null,null,null,null,{"$f":"IF(#REF!<0, 1, 0)","v":{"$error":"#REF!"}},{"$f":"IF(#REF!<0, 1, 0)","v":{"$error":"#REF!"}},{"$f":"IF(#REF!<0, 1, 0)","v":{"$error":"#REF!"}},{"$f":"IF(#REF!<0, 1, 0)","v":{"$error":"#REF!"}},{"$f":"IF(#REF!<0, 1, 0)","v":{"$error":"#REF!"}},{"$f":"IF(#REF!<0, 1, 0)","v":{"$error":"#REF!"}},{"$f":"IF(#REF!<0, 1, 0)","v":{"$error":"#REF!"}},{"$f":"IF(#REF!<0, 1, 0)","v":{"$error":"#REF!"}},{"$f":"IF(#REF!<0, 1, 0)","v":{"$error":"#REF!"}},{"$f":"IF(#REF!<0, 1, 0)","v":{"$error":"#REF!"}},{"$f":"IF(#REF!<0, 1, 0)","v":{"$error":"#REF!"}},{"$f":"IF(#REF!<0, 1, 0)","v":{"$error":"#REF!"}},{"$f":"IF(#REF!<0, 1, 0)","v":{"$error":"#REF!"}},{"$f":"IF(#REF!<0, 1, 0)","v":{"$error":"#REF!"}},{"$f":"IF(#REF!<0, 1, 0)","v":{"$error":"#REF!"}},{"$f":"IF(#REF!<0, 1, 0)","v":{"$error":"#REF!"}},{"$f":"IF(#REF!<0, 1, 0)","v":{"$error":"#REF!"}},{"$f":"IF(#REF!<0, 1, 0)","v":{"$error":"#REF!"}},{"$f":"IF(#REF!<0, 1, 0)","v":{"$error":"#REF!"}},{"$f":"IF(#REF!<0, 1, 0)","v":{"$error":"#REF!"}},{"$f":"IF(#REF!<0, 1, 0)","v":{"$error":"#REF!"}},null,null,null,null,null,null,null,{"$f":"IF(#REF!<0, 1, 0)","v":{"$error":"#REF!"}},{"$f":"IF(#REF!<0, 1, 0)","v":{"$error":"#REF!"}},{"$f":"IF(#REF!<0, 1, 0)","v":{"$error":"#REF!"}},{"$f":"IF(#REF!<0, 1, 0)","v":{"$error":"#REF!"}},{"$f":"IF(#REF!<0, 1, 0)","v":{"$error":"#REF!"}},{"$f":"IF(#REF!<0, 1, 0)","v":{"$error":"#REF!"}},{"$f":"IF(#REF!<0, 1, 0)","v":{"$error":"#REF!"}},{"$f":"IF(#REF!<0, 1, 0)","v":{"$error":"#REF!"}},{"$f":"IF(#REF!<0, 1, 0)","v":{"$error":"#REF!"}},{"$f":"IF(#REF!<0, 1, 0)","v":{"$error":"#REF!"}},null,null,null,null,null,null,null,null,null,null,null,null,null,null,null,null,null,null,null,null,null,null,null,"RBNWHISTON HOSPITAL","RBN01","WHISTON HOSPITAL","RBN01","WHISTON HOSPITAL","RBN",null,null,"BLACKPOOL VICTORIA HOSPITAL","Surgical Assessment Unit"]
[null,null,null,{"$f":"IF(#REF!=\"\", IF(#REF!=\"\", 0,1),0)","v":{"$error":"#REF!"}},null,null,null,null,{"$f":"IF(#REF!<0, 1, 0)","v":{"$error":"#REF!"}},{"$f":"IF(#REF!<0, 1, 0)","v":{"$error":"#REF!"}},{"$f":"IF(#REF!<0, 1, 0)","v":{"$error":"#REF!"}},{"$f":"IF(#REF!<0, 1, 0)","v":{"$error":"#REF!"}},{"$f":"IF(#REF!<0, 1, 0)","v":{"$error":"#REF!"}},{"$f":"IF(#REF!<0, 1, 0)","v":{"$error":"#REF!"}},{"$f":"IF(#REF!<0, 1, 0)","v":{"$error":"#REF!"}},{"$f":"IF(#REF!<0, 1, 0)","v":{"$error":"#REF!"}},{"$f":"IF(#REF!<0, 1, 0)","v":{"$error":"#REF!"}},{"$f":"IF(#REF!<0, 1, 0)","v":{"$error":"#REF!"}},{"$f":"IF(#REF!<0, 1, 0)","v":{"$error":"#REF!"}},{"$f":"IF(#REF!<0, 1, 0)","v":{"$error":"#REF!"}},{"$f":"IF(#REF!<0, 1, 0)","v":{"$error":"#REF!"}},{"$f":"IF(#REF!<0, 1, 0)","v":{"$error":"#REF!"}},{"$f":"IF(#REF!<0, 1, 0)","v":{"$error":"#REF!"}},{"$f":"IF(#REF!<0, 1, 0)","v":{"$error":"#REF!"}},{"$f":"IF(#REF!<0, 1, 0)","v":{"$error":"#REF!"}},{"$f":"IF(#REF!<0, 1, 0)","v":{"$error":"#REF!"}},{"$f":"IF(#REF!<0, 1, 0)","v":{"$error":"#REF!"}},{"$f":"IF(#REF!<0, 1, 0)","v":{"$error":"#REF!"}},{"$f":"IF(#REF!<0, 1, 0)","v":{"$error":"#REF!"}},null,null,null,null,null,null,null,{"$f":"IF(#REF!<0, 1, 0)","v":{"$error":"#REF!"}},{"$f":"IF(#REF!<0, 1, 0)","v":{"$error":"#REF!"}},{"$f":"IF(#REF!<0, 1, 0)","v":{"$error":"#REF!"}},{"$f":"IF(#REF!<0, 1, 0)","v":{"$error":"#REF!"}},{"$f":"IF(#REF!<0, 1, 0)","v":{"$error":"#REF!"}},{"$f":"IF(#REF!<0, 1, 0)","v":{"$error":"#REF!"}},{"$f":"IF(#REF!<0, 1, 0)","v":{"$error":"#REF!"}},{"$f":"IF(#REF!<0, 1, 0)","v":{"$error":"#REF!"}},{"$f":"IF(#REF!<0, 1, 0)","v":{"$error":"#REF!"}},{"$f":"IF(#REF!<0, 1, 0)","v":{"$error":"#REF!"}},null,null,null,null,null,null,null,null,null,null,null,null,null,null,null,null,null,null,null,null,null,null,null,"RBQLIVERPOOL HEART AND CHEST HOSPITAL NHS TRUST HQ","RBQHQ","LIVERPOOL HEART AND CHEST HOSPITAL NHS TRUST HQ","RBQHQ","LIVERPOOL HEART AND CHEST HOSPITAL NHS TRUST HQ","RBQ",null,null,"BLACKPOOL VICTORIA HOSPITAL","Ward 10"]
[null,null,null,{"$f":"IF(#REF!=\"\", IF(#REF!=\"\", 0,1),0)","v":{"$error":"#REF!"}},null,null,null,null,{"$f":"IF(#REF!<0, 1, 0)","v":{"$error":"#REF!"}},{"$f":"IF(#REF!<0, 1, 0)","v":{"$error":"#REF!"}},{"$f":"IF(#REF!<0, 1, 0)","v":{"$error":"#REF!"}},{"$f":"IF(#REF!<0, 1, 0)","v":{"$error":"#REF!"}},{"$f":"IF(#REF!<0, 1, 0)","v":{"$error":"#REF!"}},{"$f":"IF(#REF!<0, 1, 0)","v":{"$error":"#REF!"}},{"$f":"IF(#REF!<0, 1, 0)","v":{"$error":"#REF!"}},{"$f":"IF(#REF!<0, 1, 0)","v":{"$error":"#REF!"}},{"$f":"IF(#REF!<0, 1, 0)","v":{"$error":"#REF!"}},{"$f":"IF(#REF!<0, 1, 0)","v":{"$error":"#REF!"}},{"$f":"IF(#REF!<0, 1, 0)","v":{"$error":"#REF!"}},{"$f":"IF(#REF!<0, 1, 0)","v":{"$error":"#REF!"}},{"$f":"IF(#REF!<0, 1, 0)","v":{"$error":"#REF!"}},{"$f":"IF(#REF!<0, 1, 0)","v":{"$error":"#REF!"}},{"$f":"IF(#REF!<0, 1, 0)","v":{"$error":"#REF!"}},{"$f":"IF(#REF!<0, 1, 0)","v":{"$error":"#REF!"}},{"$f":"IF(#REF!<0, 1, 0)","v":{"$error":"#REF!"}},{"$f":"IF(#REF!<0, 1, 0)","v":{"$error":"#REF!"}},{"$f":"IF(#REF!<0, 1, 0)","v":{"$error":"#REF!"}},{"$f":"IF(#REF!<0, 1, 0)","v":{"$error":"#REF!"}},{"$f":"IF(#REF!<0, 1, 0)","v":{"$error":"#REF!"}},null,null,null,null,null,null,null,{"$f":"IF(#REF!<0, 1, 0)","v":{"$error":"#REF!"}},{"$f":"IF(#REF!<0, 1, 0)","v":{"$error":"#REF!"}},{"$f":"IF(#REF!<0, 1, 0)","v":{"$error":"#REF!"}},{"$f":"IF(#REF!<0, 1, 0)","v":{"$error":"#REF!"}},{"$f":"IF(#REF!<0, 1, 0)","v":{"$error":"#REF!"}},{"$f":"IF(#REF!<0, 1, 0)","v":{"$error":"#REF!"}},{"$f":"IF(#REF!<0, 1, 0)","v":{"$error":"#REF!"}},{"$f":"IF(#REF!<0, 1, 0)","v":{"$error":"#REF!"}},{"$f":"IF(#REF!<0, 1, 0)","v":{"$error":"#REF!"}},{"$f":"IF(#REF!<0, 1, 0)","v":{"$error":"#REF!"}},null,null,null,null,null,null,null,null,null,null,null,null,null,null,null,null,null,null,null,null,null,null,null,"RBSALDER HEY CHILDREN'S NHS","RBS25","ALDER HEY CHILDREN'S NHS","RBS25","ALDER HEY CHILDREN'S NHS","RBS",null,null,"BLACKPOOL VICTORIA HOSPITAL","Ward 11"]
[null,null,null,{"$f":"IF(#REF!=\"\", IF(#REF!=\"\", 0,1),0)","v":{"$error":"#REF!"}},null,null,null,null,{"$f":"IF(#REF!<0, 1, 0)","v":{"$error":"#REF!"}},{"$f":"IF(#REF!<0, 1, 0)","v":{"$error":"#REF!"}},{"$f":"IF(#REF!<0, 1, 0)","v":{"$error":"#REF!"}},{"$f":"IF(#REF!<0, 1, 0)","v":{"$error":"#REF!"}},{"$f":"IF(#REF!<0, 1, 0)","v":{"$error":"#REF!"}},{"$f":"IF(#REF!<0, 1, 0)","v":{"$error":"#REF!"}},{"$f":"IF(#REF!<0, 1, 0)","v":{"$error":"#REF!"}},{"$f":"IF(#REF!<0, 1, 0)","v":{"$error":"#REF!"}},{"$f":"IF(#REF!<0, 1, 0)","v":{"$error":"#REF!"}},{"$f":"IF(#REF!<0, 1, 0)","v":{"$error":"#REF!"}},{"$f":"IF(#REF!<0, 1, 0)","v":{"$error":"#REF!"}},{"$f":"IF(#REF!<0, 1, 0)","v":{"$error":"#REF!"}},{"$f":"IF(#REF!<0, 1, 0)","v":{"$error":"#REF!"}},{"$f":"IF(#REF!<0, 1, 0)","v":{"$error":"#REF!"}},{"$f":"IF(#REF!<0, 1, 0)","v":{"$error":"#REF!"}},{"$f":"IF(#REF!<0, 1, 0)","v":{"$error":"#REF!"}},{"$f":"IF(#REF!<0, 1, 0)","v":{"$error":"#REF!"}},{"$f":"IF(#REF!<0, 1, 0)","v":{"$error":"#REF!"}},{"$f":"IF(#REF!<0, 1, 0)","v":{"$error":"#REF!"}},{"$f":"IF(#REF!<0, 1, 0)","v":{"$error":"#REF!"}},{"$f":"IF(#REF!<0, 1, 0)","v":{"$error":"#REF!"}},null,null,null,null,null,null,null,{"$f":"IF(#REF!<0, 1, 0)","v":{"$error":"#REF!"}},{"$f":"IF(#REF!<0, 1, 0)","v":{"$error":"#REF!"}},{"$f":"IF(#REF!<0, 1, 0)","v":{"$error":"#REF!"}},{"$f":"IF(#REF!<0, 1, 0)","v":{"$error":"#REF!"}},{"$f":"IF(#REF!<0, 1, 0)","v":{"$error":"#REF!"}},{"$f":"IF(#REF!<0, 1, 0)","v":{"$error":"#REF!"}},{"$f":"IF(#REF!<0, 1, 0)","v":{"$error":"#REF!"}},{"$f":"IF(#REF!<0, 1, 0)","v":{"$error":"#REF!"}},{"$f":"IF(#REF!<0, 1, 0)","v":{"$error":"#REF!"}},{"$f":"IF(#REF!<0, 1, 0)","v":{"$error":"#REF!"}},null,null,null,null,null,null,null,null,null,null,null,null,null,null,null,null,null,null,null,null,null,null,null,"RBSLIVERPOOL WOMEN'S HOSPITAL","RBS76","LIVERPOOL WOMEN'S HOSPITAL","RBS76","LIVERPOOL WOMEN'S HOSPITAL","RBS",null,null,"BLACKPOOL VICTORIA HOSPITAL","Ward 12"]
[null,null,null,{"$f":"IF(#REF!=\"\", IF(#REF!=\"\", 0,1),0)","v":{"$error":"#REF!"}},null,null,null,null,{"$f":"IF(#REF!<0, 1, 0)","v":{"$error":"#REF!"}},{"$f":"IF(#REF!<0, 1, 0)","v":{"$error":"#REF!"}},{"$f":"IF(#REF!<0, 1, 0)","v":{"$error":"#REF!"}},{"$f":"IF(#REF!<0, 1, 0)","v":{"$error":"#REF!"}},{"$f":"IF(#REF!<0, 1, 0)","v":{"$error":"#REF!"}},{"$f":"IF(#REF!<0, 1, 0)","v":{"$error":"#REF!"}},{"$f":"IF(#REF!<0, 1, 0)","v":{"$error":"#REF!"}},{"$f":"IF(#REF!<0, 1, 0)","v":{"$error":"#REF!"}},{"$f":"IF(#REF!<0, 1, 0)","v":{"$error":"#REF!"}},{"$f":"IF(#REF!<0, 1, 0)","v":{"$error":"#REF!"}},{"$f":"IF(#REF!<0, 1, 0)","v":{"$error":"#REF!"}},{"$f":"IF(#REF!<0, 1, 0)","v":{"$error":"#REF!"}},{"$f":"IF(#REF!<0, 1, 0)","v":{"$error":"#REF!"}},{"$f":"IF(#REF!<0, 1, 0)","v":{"$error":"#REF!"}},{"$f":"IF(#REF!<0, 1, 0)","v":{"$error":"#REF!"}},{"$f":"IF(#REF!<0, 1, 0)","v":{"$error":"#REF!"}},{"$f":"IF(#REF!<0, 1, 0)","v":{"$error":"#REF!"}},{"$f":"IF(#REF!<0, 1, 0)","v":{"$error":"#REF!"}},{"$f":"IF(#REF!<0, 1, 0)","v":{"$error":"#REF!"}},{"$f":"IF(#REF!<0, 1, 0)","v":{"$error":"#REF!"}},{"$f":"IF(#REF!<0, 1, 0)","v":{"$error":"#REF!"}},null,null,null,null,null,null,null,{"$f":"IF(#REF!<0, 1, 0)","v":{"$error":"#REF!"}},{"$f":"IF(#REF!<0, 1, 0)","v":{"$error":"#REF!"}},{"$f":"IF(#REF!<0, 1, 0)","v":{"$error":"#REF!"}},{"$f":"IF(#REF!<0, 1, 0)","v":{"$error":"#REF!"}},{"$f":"IF(#REF!<0, 1, 0)","v":{"$error":"#REF!"}},{"$f":"IF(#REF!<0, 1, 0)","v":{"$error":"#REF!"}},{"$f":"IF(#REF!<0, 1, 0)","v":{"$error":"#REF!"}},{"$f":"IF(#REF!<0, 1, 0)","v":{"$error":"#REF!"}},{"$f":"IF(#REF!<0, 1, 0)","v":{"$error":"#REF!"}},{"$f":"IF(#REF!<0, 1, 0)","v":{"$error":"#REF!"}},null,null,null,null,null,null,null,null,null,null,null,null,null,null,null,null,null,null,null,null,null,null,null,"RBTLEIGHTON HOSPITAL","RBT20","LEIGHTON HOSPITAL","RBT20","LEIGHTON HOSPITAL","RBT",null,null,"BLACKPOOL VICTORIA HOSPITAL","Ward 14"]
[null,null,null,{"$f":"IF(#REF!=\"\", IF(#REF!=\"\", 0,1),0)","v":{"$error":"#REF!"}},null,null,null,null,{"$f":"IF(#REF!<0, 1, 0)","v":{"$error":"#REF!"}},{"$f":"IF(#REF!<0, 1, 0)","v":{"$error":"#REF!"}},{"$f":"IF(#REF!<0, 1, 0)","v":{"$error":"#REF!"}},{"$f":"IF(#REF!<0, 1, 0)","v":{"$error":"#REF!"}},{"$f":"IF(#REF!<0, 1, 0)","v":{"$error":"#REF!"}},{"$f":"IF(#REF!<0, 1, 0)","v":{"$error":"#REF!"}},{"$f":"IF(#REF!<0, 1, 0)","v":{"$error":"#REF!"}},{"$f":"IF(#REF!<0, 1, 0)","v":{"$error":"#REF!"}},{"$f":"IF(#REF!<0, 1, 0)","v":{"$error":"#REF!"}},{"$f":"IF(#REF!<0, 1, 0)","v":{"$error":"#REF!"}},{"$f":"IF(#REF!<0, 1, 0)","v":{"$error":"#REF!"}},{"$f":"IF(#REF!<0, 1, 0)","v":{"$error":"#REF!"}},{"$f":"IF(#REF!<0, 1, 0)","v":{"$error":"#REF!"}},{"$f":"IF(#REF!<0, 1, 0)","v":{"$error":"#REF!"}},{"$f":"IF(#REF!<0, 1, 0)","v":{"$error":"#REF!"}},{"$f":"IF(#REF!<0, 1, 0)","v":{"$error":"#REF!"}},{"$f":"IF(#REF!<0, 1, 0)","v":{"$error":"#REF!"}},{"$f":"IF(#REF!<0, 1, 0)","v":{"$error":"#REF!"}},{"$f":"IF(#REF!<0, 1, 0)","v":{"$error":"#REF!"}},{"$f":"IF(#REF!<0, 1, 0)","v":{"$error":"#REF!"}},{"$f":"IF(#REF!<0, 1, 0)","v":{"$error":"#REF!"}},null,null,null,null,null,null,null,{"$f":"IF(#REF!<0, 1, 0)","v":{"$error":"#REF!"}},{"$f":"IF(#REF!<0, 1, 0)","v":{"$error":"#REF!"}},{"$f":"IF(#REF!<0, 1, 0)","v":{"$error":"#REF!"}},{"$f":"IF(#REF!<0, 1, 0)","v":{"$error":"#REF!"}},{"$f":"IF(#REF!<0, 1, 0)","v":{"$error":"#REF!"}},{"$f":"IF(#REF!<0, 1, 0)","v":{"$error":"#REF!"}},{"$f":"IF(#REF!<0, 1, 0)","v":{"$error":"#REF!"}},{"$f":"IF(#REF!<0, 1, 0)","v":{"$error":"#REF!"}},{"$f":"IF(#REF!<0, 1, 0)","v":{"$error":"#REF!"}},{"$f":"IF(#REF!<0, 1, 0)","v":{"$error":"#REF!"}},null,null,null,null,null,null,null,null,null,null,null,null,null,null,null,null,null,null,null,null,null,null,null,"RBTTARPORLEY WAR MEMORIAL HOSPITAL","RBT22","TARPORLEY WAR MEMORIAL HOSPITAL","RBT22","TARPORLEY WAR MEMORIAL HOSPITAL","RBT",null,null,"BLACKPOOL VICTORIA HOSPITAL","Ward 15a"]
[null,null,null,{"$f":"IF(#REF!=\"\", IF(#REF!=\"\", 0,1),0)","v":{"$error":"#REF!"}},null,null,null,null,{"$f":"IF(#REF!<0, 1, 0)","v":{"$error":"#REF!"}},{"$f":"IF(#REF!<0, 1, 0)","v":{"$error":"#REF!"}},{"$f":"IF(#REF!<0, 1, 0)","v":{"$error":"#REF!"}},{"$f":"IF(#REF!<0, 1, 0)","v":{"$error":"#REF!"}},{"$f":"IF(#REF!<0, 1, 0)","v":{"$error":"#REF!"}},{"$f":"IF(#REF!<0, 1, 0)","v":{"$error":"#REF!"}},{"$f":"IF(#REF!<0, 1, 0)","v":{"$error":"#REF!"}},{"$f":"IF(#REF!<0, 1, 0)","v":{"$error":"#REF!"}},{"$f":"IF(#REF!<0, 1, 0)","v":{"$error":"#REF!"}},{"$f":"IF(#REF!<0, 1, 0)","v":{"$error":"#REF!"}},{"$f":"IF(#REF!<0, 1, 0)","v":{"$error":"#REF!"}},{"$f":"IF(#REF!<0, 1, 0)","v":{"$error":"#REF!"}},{"$f":"IF(#REF!<0, 1, 0)","v":{"$error":"#REF!"}},{"$f":"IF(#REF!<0, 1, 0)","v":{"$error":"#REF!"}},{"$f":"IF(#REF!<0, 1, 0)","v":{"$error":"#REF!"}},{"$f":"IF(#REF!<0, 1, 0)","v":{"$error":"#REF!"}},{"$f":"IF(#REF!<0, 1, 0)","v":{"$error":"#REF!"}},{"$f":"IF(#REF!<0, 1, 0)","v":{"$error":"#REF!"}},{"$f":"IF(#REF!<0, 1, 0)","v":{"$error":"#REF!"}},{"$f":"IF(#REF!<0, 1, 0)","v":{"$error":"#REF!"}},{"$f":"IF(#REF!<0, 1, 0)","v":{"$error":"#REF!"}},null,null,null,null,null,null,null,{"$f":"IF(#REF!<0, 1, 0)","v":{"$error":"#REF!"}},{"$f":"IF(#REF!<0, 1, 0)","v":{"$error":"#REF!"}},{"$f":"IF(#REF!<0, 1, 0)","v":{"$error":"#REF!"}},{"$f":"IF(#REF!<0, 1, 0)","v":{"$error":"#REF!"}},{"$f":"IF(#REF!<0, 1, 0)","v":{"$error":"#REF!"}},{"$f":"IF(#REF!<0, 1, 0)","v":{"$error":"#REF!"}},{"$f":"IF(#REF!<0, 1, 0)","v":{"$error":"#REF!"}},{"$f":"IF(#REF!<0, 1, 0)","v":{"$error":"#REF!"}},{"$f":"IF(#REF!<0, 1, 0)","v":{"$error":"#REF!"}},{"$f":"IF(#REF!<0, 1, 0)","v":{"$error":"#REF!"}},null,null,null,null,null,null,null,null,null,null,null,null,null,null,null,null,null,null,null,null,null,null,null,"RBTVICTORIA INFIRMARY (NORTHWICH)","RBT21","VICTORIA INFIRMARY (NORTHWICH)","RBT21","VICTORIA INFIRMARY (NORTHWICH)","RBT",null,null,"BLACKPOOL VICTORIA HOSPITAL","Ward 15b"]
[null,null,null,{"$f":"IF(#REF!=\"\", IF(#REF!=\"\", 0,1),0)","v":{"$error":"#REF!"}},null,null,null,null,{"$f":"IF(#REF!<0, 1, 0)","v":{"$error":"#REF!"}},{"$f":"IF(#REF!<0, 1, 0)","v":{"$error":"#REF!"}},{"$f":"IF(#REF!<0, 1, 0)","v":{"$error":"#REF!"}},{"$f":"IF(#REF!<0, 1, 0)","v":{"$error":"#REF!"}},{"$f":"IF(#REF!<0, 1, 0)","v":{"$error":"#REF!"}},{"$f":"IF(#REF!<0, 1, 0)","v":{"$error":"#REF!"}},{"$f":"IF(#REF!<0, 1, 0)","v":{"$error":"#REF!"}},{"$f":"IF(#REF!<0, 1, 0)","v":{"$error":"#REF!"}},{"$f":"IF(#REF!<0, 1, 0)","v":{"$error":"#REF!"}},{"$f":"IF(#REF!<0, 1, 0)","v":{"$error":"#REF!"}},{"$f":"IF(#REF!<0, 1, 0)","v":{"$error":"#REF!"}},{"$f":"IF(#REF!<0, 1, 0)","v":{"$error":"#REF!"}},{"$f":"IF(#REF!<0, 1, 0)","v":{"$error":"#REF!"}},{"$f":"IF(#REF!<0, 1, 0)","v":{"$error":"#REF!"}},{"$f":"IF(#REF!<0, 1, 0)","v":{"$error":"#REF!"}},{"$f":"IF(#REF!<0, 1, 0)","v":{"$error":"#REF!"}},{"$f":"IF(#REF!<0, 1, 0)","v":{"$error":"#REF!"}},{"$f":"IF(#REF!<0, 1, 0)","v":{"$error":"#REF!"}},{"$f":"IF(#REF!<0, 1, 0)","v":{"$error":"#REF!"}},{"$f":"IF(#REF!<0, 1, 0)","v":{"$error":"#REF!"}},{"$f":"IF(#REF!<0, 1, 0)","v":{"$error":"#REF!"}},null,null,null,null,null,null,null,{"$f":"IF(#REF!<0, 1, 0)","v":{"$error":"#REF!"}},{"$f":"IF(#REF!<0, 1, 0)","v":{"$error":"#REF!"}},{"$f":"IF(#REF!<0, 1, 0)","v":{"$error":"#REF!"}},{"$f":"IF(#REF!<0, 1, 0)","v":{"$error":"#REF!"}},{"$f":"IF(#REF!<0, 1, 0)","v":{"$error":"#REF!"}},{"$f":"IF(#REF!<0, 1, 0)","v":{"$error":"#REF!"}},{"$f":"IF(#REF!<0, 1, 0)","v":{"$error":"#REF!"}},{"$f":"IF(#REF!<0, 1, 0)","v":{"$error":"#REF!"}},{"$f":"IF(#REF!<0, 1, 0)","v":{"$error":"#REF!"}},{"$f":"IF(#REF!<0, 1, 0)","v":{"$error":"#REF!"}},null,null,null,null,null,null,null,null,null,null,null,null,null,null,null,null,null,null,null,null,null,null,null,"RBVTHE CHRISTIE","RBV01","THE CHRISTIE","RBV01","THE CHRISTIE","RBV",null,null,"BLACKPOOL VICTORIA HOSPITAL","Ward 16"]
[null,null,null,{"$f":"IF(#REF!=\"\", IF(#REF!=\"\", 0,1),0)","v":{"$error":"#REF!"}},null,null,null,null,{"$f":"IF(#REF!<0, 1, 0)","v":{"$error":"#REF!"}},{"$f":"IF(#REF!<0, 1, 0)","v":{"$error":"#REF!"}},{"$f":"IF(#REF!<0, 1, 0)","v":{"$error":"#REF!"}},{"$f":"IF(#REF!<0, 1, 0)","v":{"$error":"#REF!"}},{"$f":"IF(#REF!<0, 1, 0)","v":{"$error":"#REF!"}},{"$f":"IF(#REF!<0, 1, 0)","v":{"$error":"#REF!"}},{"$f":"IF(#REF!<0, 1, 0)","v":{"$error":"#REF!"}},{"$f":"IF(#REF!<0, 1, 0)","v":{"$error":"#REF!"}},{"$f":"IF(#REF!<0, 1, 0)","v":{"$error":"#REF!"}},{"$f":"IF(#REF!<0, 1, 0)","v":{"$error":"#REF!"}},{"$f":"IF(#REF!<0, 1, 0)","v":{"$error":"#REF!"}},{"$f":"IF(#REF!<0, 1, 0)","v":{"$error":"#REF!"}},{"$f":"IF(#REF!<0, 1, 0)","v":{"$error":"#REF!"}},{"$f":"IF(#REF!<0, 1, 0)","v":{"$error":"#REF!"}},{"$f":"IF(#REF!<0, 1, 0)","v":{"$error":"#REF!"}},{"$f":"IF(#REF!<0, 1, 0)","v":{"$error":"#REF!"}},{"$f":"IF(#REF!<0, 1, 0)","v":{"$error":"#REF!"}},{"$f":"IF(#REF!<0, 1, 0)","v":{"$error":"#REF!"}},{"$f":"IF(#REF!<0, 1, 0)","v":{"$error":"#REF!"}},{"$f":"IF(#REF!<0, 1, 0)","v":{"$error":"#REF!"}},{"$f":"IF(#REF!<0, 1, 0)","v":{"$error":"#REF!"}},null,null,null,null,null,null,null,{"$f":"IF(#REF!<0, 1, 0)","v":{"$error":"#REF!"}},{"$f":"IF(#REF!<0, 1, 0)","v":{"$error":"#REF!"}},{"$f":"IF(#REF!<0, 1, 0)","v":{"$error":"#REF!"}},{"$f":"IF(#REF!<0, 1, 0)","v":{"$error":"#REF!"}},{"$f":"IF(#REF!<0, 1, 0)","v":{"$error":"#REF!"}},{"$f":"IF(#REF!<0, 1, 0)","v":{"$error":"#REF!"}},{"$f":"IF(#REF!<0, 1, 0)","v":{"$error":"#REF!"}},{"$f":"IF(#REF!<0, 1, 0)","v":{"$error":"#REF!"}},{"$f":"IF(#REF!<0, 1, 0)","v":{"$error":"#REF!"}},{"$f":"IF(#REF!<0, 1, 0)","v":{"$error":"#REF!"}},null,null,null,null,null,null,null,null,null,null,null,null,null,null,null,null,null,null,null,null,null,null,null,"RBZAXMINSTER HOSPITAL","RBZ82","AXMINSTER HOSPITAL","RBZ82","AXMINSTER HOSPITAL","RBZ",null,null,"BLACKPOOL VICTORIA HOSPITAL","Ward 18"]
[null,null,null,{"$f":"IF(#REF!=\"\", IF(#REF!=\"\", 0,1),0)","v":{"$error":"#REF!"}},null,null,null,null,{"$f":"IF(#REF!<0, 1, 0)","v":{"$error":"#REF!"}},{"$f":"IF(#REF!<0, 1, 0)","v":{"$error":"#REF!"}},{"$f":"IF(#REF!<0, 1, 0)","v":{"$error":"#REF!"}},{"$f":"IF(#REF!<0, 1, 0)","v":{"$error":"#REF!"}},{"$f":"IF(#REF!<0, 1, 0)","v":{"$error":"#REF!"}},{"$f":"IF(#REF!<0, 1, 0)","v":{"$error":"#REF!"}},{"$f":"IF(#REF!<0, 1, 0)","v":{"$error":"#REF!"}},{"$f":"IF(#REF!<0, 1, 0)","v":{"$error":"#REF!"}},{"$f":"IF(#REF!<0, 1, 0)","v":{"$error":"#REF!"}},{"$f":"IF(#REF!<0, 1, 0)","v":{"$error":"#REF!"}},{"$f":"IF(#REF!<0, 1, 0)","v":{"$error":"#REF!"}},{"$f":"IF(#REF!<0, 1, 0)","v":{"$error":"#REF!"}},{"$f":"IF(#REF!<0, 1, 0)","v":{"$error":"#REF!"}},{"$f":"IF(#REF!<0, 1, 0)","v":{"$error":"#REF!"}},{"$f":"IF(#REF!<0, 1, 0)","v":{"$error":"#REF!"}},{"$f":"IF(#REF!<0, 1, 0)","v":{"$error":"#REF!"}},{"$f":"IF(#REF!<0, 1, 0)","v":{"$error":"#REF!"}},{"$f":"IF(#REF!<0, 1, 0)","v":{"$error":"#REF!"}},{"$f":"IF(#REF!<0, 1, 0)","v":{"$error":"#REF!"}},{"$f":"IF(#REF!<0, 1, 0)","v":{"$error":"#REF!"}},{"$f":"IF(#REF!<0, 1, 0)","v":{"$error":"#REF!"}},null,null,null,null,null,null,null,{"$f":"IF(#REF!<0, 1, 0)","v":{"$error":"#REF!"}},{"$f":"IF(#REF!<0, 1, 0)","v":{"$error":"#REF!"}},{"$f":"IF(#REF!<0, 1, 0)","v":{"$error":"#REF!"}},{"$f":"IF(#REF!<0, 1, 0)","v":{"$error":"#REF!"}},{"$f":"IF(#REF!<0, 1, 0)","v":{"$error":"#REF!"}},{"$f":"IF(#REF!<0, 1, 0)","v":{"$error":"#REF!"}},{"$f":"IF(#REF!<0, 1, 0)","v":{"$error":"#REF!"}},{"$f":"IF(#REF!<0, 1, 0)","v":{"$error":"#REF!"}},{"$f":"IF(#REF!<0, 1, 0)","v":{"$error":"#REF!"}},{"$f":"IF(#REF!<0, 1, 0)","v":{"$error":"#REF!"}},null,null,null,null,null,null,null,null,null,null,null,null,null,null,null,null,null,null,null,null,null,null,null,"RBZBIDEFORD HOSPITAL","RBZ95","BIDEFORD HOSPITAL","RBZ95","BIDEFORD HOSPITAL","RBZ",null,null,"BLACKPOOL VICTORIA HOSPITAL","Ward 2"]
[null,null,null,{"$f":"IF(#REF!=\"\", IF(#REF!=\"\", 0,1),0)","v":{"$error":"#REF!"}},null,null,null,null,{"$f":"IF(#REF!<0, 1, 0)","v":{"$error":"#REF!"}},{"$f":"IF(#REF!<0, 1, 0)","v":{"$error":"#REF!"}},{"$f":"IF(#REF!<0, 1, 0)","v":{"$error":"#REF!"}},{"$f":"IF(#REF!<0, 1, 0)","v":{"$error":"#REF!"}},{"$f":"IF(#REF!<0, 1, 0)","v":{"$error":"#REF!"}},{"$f":"IF(#REF!<0, 1, 0)","v":{"$error":"#REF!"}},{"$f":"IF(#REF!<0, 1, 0)","v":{"$error":"#REF!"}},{"$f":"IF(#REF!<0, 1, 0)","v":{"$error":"#REF!"}},{"$f":"IF(#REF!<0, 1, 0)","v":{"$error":"#REF!"}},{"$f":"IF(#REF!<0, 1, 0)","v":{"$error":"#REF!"}},{"$f":"IF(#REF!<0, 1, 0)","v":{"$error":"#REF!"}},{"$f":"IF(#REF!<0, 1, 0)","v":{"$error":"#REF!"}},{"$f":"IF(#REF!<0, 1, 0)","v":{"$error":"#REF!"}},{"$f":"IF(#REF!<0, 1, 0)","v":{"$error":"#REF!"}},{"$f":"IF(#REF!<0, 1, 0)","v":{"$error":"#REF!"}},{"$f":"IF(#REF!<0, 1, 0)","v":{"$error":"#REF!"}},{"$f":"IF(#REF!<0, 1, 0)","v":{"$error":"#REF!"}},{"$f":"IF(#REF!<0, 1, 0)","v":{"$error":"#REF!"}},{"$f":"IF(#REF!<0, 1, 0)","v":{"$error":"#REF!"}},{"$f":"IF(#REF!<0, 1, 0)","v":{"$error":"#REF!"}},{"$f":"IF(#REF!<0, 1, 0)","v":{"$error":"#REF!"}},null,null,null,null,null,null,null,{"$f":"IF(#REF!<0, 1, 0)","v":{"$error":"#REF!"}},{"$f":"IF(#REF!<0, 1, 0)","v":{"$error":"#REF!"}},{"$f":"IF(#REF!<0, 1, 0)","v":{"$error":"#REF!"}},{"$f":"IF(#REF!<0, 1, 0)","v":{"$error":"#REF!"}},{"$f":"IF(#REF!<0, 1, 0)","v":{"$error":"#REF!"}},{"$f":"IF(#REF!<0, 1, 0)","v":{"$error":"#REF!"}},{"$f":"IF(#REF!<0, 1, 0)","v":{"$error":"#REF!"}},{"$f":"IF(#REF!<0, 1, 0)","v":{"$error":"#REF!"}},{"$f":"IF(#REF!<0, 1, 0)","v":{"$error":"#REF!"}},{"$f":"IF(#REF!<0, 1, 0)","v":{"$error":"#REF!"}},null,null,null,null,null,null,null,null,null,null,null,null,null,null,null,null,null,null,null,null,null,null,null,"RBZCREDITON HOSPITAL","RBZ88","CREDITON HOSPITAL","RBZ88","CREDITON HOSPITAL","RBZ",null,null,"BLACKPOOL VICTORIA HOSPITAL","Ward 23"]
[null,null,null,{"$f":"IF(#REF!=\"\", IF(#REF!=\"\", 0,1),0)","v":{"$error":"#REF!"}},null,null,null,null,{"$f":"IF(#REF!<0, 1, 0)","v":{"$error":"#REF!"}},{"$f":"IF(#REF!<0, 1, 0)","v":{"$error":"#REF!"}},{"$f":"IF(#REF!<0, 1, 0)","v":{"$error":"#REF!"}},{"$f":"IF(#REF!<0, 1, 0)","v":{"$error":"#REF!"}},{"$f":"IF(#REF!<0, 1, 0)","v":{"$error":"#REF!"}},{"$f":"IF(#REF!<0, 1, 0)","v":{"$error":"#REF!"}},{"$f":"IF(#REF!<0, 1, 0)","v":{"$error":"#REF!"}},{"$f":"IF(#REF!<0, 1, 0)","v":{"$error":"#REF!"}},{"$f":"IF(#REF!<0, 1, 0)","v":{"$error":"#REF!"}},{"$f":"IF(#REF!<0, 1, 0)","v":{"$error":"#REF!"}},{"$f":"IF(#REF!<0, 1, 0)","v":{"$error":"#REF!"}},{"$f":"IF(#REF!<0, 1, 0)","v":{"$error":"#REF!"}},{"$f":"IF(#REF!<0, 1, 0)","v":{"$error":"#REF!"}},{"$f":"IF(#REF!<0, 1, 0)","v":{"$error":"#REF!"}},{"$f":"IF(#REF!<0, 1, 0)","v":{"$error":"#REF!"}},{"$f":"IF(#REF!<0, 1, 0)","v":{"$error":"#REF!"}},{"$f":"IF(#REF!<0, 1, 0)","v":{"$error":"#REF!"}},{"$f":"IF(#REF!<0, 1, 0)","v":{"$error":"#REF!"}},{"$f":"IF(#REF!<0, 1, 0)","v":{"$error":"#REF!"}},{"$f":"IF(#REF!<0, 1, 0)","v":{"$error":"#REF!"}},{"$f":"IF(#REF!<0, 1, 0)","v":{"$error":"#REF!"}},null,null,null,null,null,null,null,{"$f":"IF(#REF!<0, 1, 0)","v":{"$error":"#REF!"}},{"$f":"IF(#REF!<0, 1, 0)","v":{"$error":"#REF!"}},{"$f":"IF(#REF!<0, 1, 0)","v":{"$error":"#REF!"}},{"$f":"IF(#REF!<0, 1, 0)","v":{"$error":"#REF!"}},{"$f":"IF(#REF!<0, 1, 0)","v":{"$error":"#REF!"}},{"$f":"IF(#REF!<0, 1, 0)","v":{"$error":"#REF!"}},{"$f":"IF(#REF!<0, 1, 0)","v":{"$error":"#REF!"}},{"$f":"IF(#REF!<0, 1, 0)","v":{"$error":"#REF!"}},{"$f":"IF(#REF!<0, 1, 0)","v":{"$error":"#REF!"}},{"$f":"IF(#REF!<0, 1, 0)","v":{"$error":"#REF!"}},null,null,null,null,null,null,null,null,null,null,null,null,null,null,null,null,null,null,null,null,null,null,null,{"$f":"CONCATENATE(LEFT(BS343, 3),BT343)","v":"RBZEXMOUTH HOSPITAL"},"RBZ84","EXMOUTH HOSPITAL","RBZ84","EXMOUTH HOSPITAL","RBZ",null,null,"BLACKPOOL VICTORIA HOSPITAL","Ward 24"]
[null,null,null,{"$f":"IF(#REF!=\"\", IF(#REF!=\"\", 0,1),0)","v":{"$error":"#REF!"}},null,null,null,null,{"$f":"IF(#REF!<0, 1, 0)","v":{"$error":"#REF!"}},{"$f":"IF(#REF!<0, 1, 0)","v":{"$error":"#REF!"}},{"$f":"IF(#REF!<0, 1, 0)","v":{"$error":"#REF!"}},{"$f":"IF(#REF!<0, 1, 0)","v":{"$error":"#REF!"}},{"$f":"IF(#REF!<0, 1, 0)","v":{"$error":"#REF!"}},{"$f":"IF(#REF!<0, 1, 0)","v":{"$error":"#REF!"}},{"$f":"IF(#REF!<0, 1, 0)","v":{"$error":"#REF!"}},{"$f":"IF(#REF!<0, 1, 0)","v":{"$error":"#REF!"}},{"$f":"IF(#REF!<0, 1, 0)","v":{"$error":"#REF!"}},{"$f":"IF(#REF!<0, 1, 0)","v":{"$error":"#REF!"}},{"$f":"IF(#REF!<0, 1, 0)","v":{"$error":"#REF!"}},{"$f":"IF(#REF!<0, 1, 0)","v":{"$error":"#REF!"}},{"$f":"IF(#REF!<0, 1, 0)","v":{"$error":"#REF!"}},{"$f":"IF(#REF!<0, 1, 0)","v":{"$error":"#REF!"}},{"$f":"IF(#REF!<0, 1, 0)","v":{"$error":"#REF!"}},{"$f":"IF(#REF!<0, 1, 0)","v":{"$error":"#REF!"}},{"$f":"IF(#REF!<0, 1, 0)","v":{"$error":"#REF!"}},{"$f":"IF(#REF!<0, 1, 0)","v":{"$error":"#REF!"}},{"$f":"IF(#REF!<0, 1, 0)","v":{"$error":"#REF!"}},{"$f":"IF(#REF!<0, 1, 0)","v":{"$error":"#REF!"}},{"$f":"IF(#REF!<0, 1, 0)","v":{"$error":"#REF!"}},null,null,null,null,null,null,null,{"$f":"IF(#REF!<0, 1, 0)","v":{"$error":"#REF!"}},{"$f":"IF(#REF!<0, 1, 0)","v":{"$error":"#REF!"}},{"$f":"IF(#REF!<0, 1, 0)","v":{"$error":"#REF!"}},{"$f":"IF(#REF!<0, 1, 0)","v":{"$error":"#REF!"}},{"$f":"IF(#REF!<0, 1, 0)","v":{"$error":"#REF!"}},{"$f":"IF(#REF!<0, 1, 0)","v":{"$error":"#REF!"}},{"$f":"IF(#REF!<0, 1, 0)","v":{"$error":"#REF!"}},{"$f":"IF(#REF!<0, 1, 0)","v":{"$error":"#REF!"}},{"$f":"IF(#REF!<0, 1, 0)","v":{"$error":"#REF!"}},{"$f":"IF(#REF!<0, 1, 0)","v":{"$error":"#REF!"}},null,null,null,null,null,null,null,null,null,null,null,null,null,null,null,null,null,null,null,null,null,null,null,"RBZEXMOUTH HOSPITAL","RBZ85","EXMOUTH HOSPITAL","RBZ85","EXMOUTH HOSPITAL","RBZ",null,null,"BLACKPOOL VICTORIA HOSPITAL","Ward 25"]
[null,null,null,{"$f":"IF(#REF!=\"\", IF(#REF!=\"\", 0,1),0)","v":{"$error":"#REF!"}},null,null,null,null,{"$f":"IF(#REF!<0, 1, 0)","v":{"$error":"#REF!"}},{"$f":"IF(#REF!<0, 1, 0)","v":{"$error":"#REF!"}},{"$f":"IF(#REF!<0, 1, 0)","v":{"$error":"#REF!"}},{"$f":"IF(#REF!<0, 1, 0)","v":{"$error":"#REF!"}},{"$f":"IF(#REF!<0, 1, 0)","v":{"$error":"#REF!"}},{"$f":"IF(#REF!<0, 1, 0)","v":{"$error":"#REF!"}},{"$f":"IF(#REF!<0, 1, 0)","v":{"$error":"#REF!"}},{"$f":"IF(#REF!<0, 1, 0)","v":{"$error":"#REF!"}},{"$f":"IF(#REF!<0, 1, 0)","v":{"$error":"#REF!"}},{"$f":"IF(#REF!<0, 1, 0)","v":{"$error":"#REF!"}},{"$f":"IF(#REF!<0, 1, 0)","v":{"$error":"#REF!"}},{"$f":"IF(#REF!<0, 1, 0)","v":{"$error":"#REF!"}},{"$f":"IF(#REF!<0, 1, 0)","v":{"$error":"#REF!"}},{"$f":"IF(#REF!<0, 1, 0)","v":{"$error":"#REF!"}},{"$f":"IF(#REF!<0, 1, 0)","v":{"$error":"#REF!"}},{"$f":"IF(#REF!<0, 1, 0)","v":{"$error":"#REF!"}},{"$f":"IF(#REF!<0, 1, 0)","v":{"$error":"#REF!"}},{"$f":"IF(#REF!<0, 1, 0)","v":{"$error":"#REF!"}},{"$f":"IF(#REF!<0, 1, 0)","v":{"$error":"#REF!"}},{"$f":"IF(#REF!<0, 1, 0)","v":{"$error":"#REF!"}},{"$f":"IF(#REF!<0, 1, 0)","v":{"$error":"#REF!"}},null,null,null,null,null,null,null,{"$f":"IF(#REF!<0, 1, 0)","v":{"$error":"#REF!"}},{"$f":"IF(#REF!<0, 1, 0)","v":{"$error":"#REF!"}},{"$f":"IF(#REF!<0, 1, 0)","v":{"$error":"#REF!"}},{"$f":"IF(#REF!<0, 1, 0)","v":{"$error":"#REF!"}},{"$f":"IF(#REF!<0, 1, 0)","v":{"$error":"#REF!"}},{"$f":"IF(#REF!<0, 1, 0)","v":{"$error":"#REF!"}},{"$f":"IF(#REF!<0, 1, 0)","v":{"$error":"#REF!"}},{"$f":"IF(#REF!<0, 1, 0)","v":{"$error":"#REF!"}},{"$f":"IF(#REF!<0, 1, 0)","v":{"$error":"#REF!"}},{"$f":"IF(#REF!<0, 1, 0)","v":{"$error":"#REF!"}},null,null,null,null,null,null,null,null,null,null,null,null,null,null,null,null,null,null,null,null,null,null,null,"RBZHOLSWORTHY HOSPITAL","RBZ92","HOLSWORTHY HOSPITAL","RBZ92","HOLSWORTHY HOSPITAL","RBZ",null,null,"BLACKPOOL VICTORIA HOSPITAL","Ward 26"]
[null,null,null,{"$f":"IF(#REF!=\"\", IF(#REF!=\"\", 0,1),0)","v":{"$error":"#REF!"}},null,null,null,null,{"$f":"IF(#REF!<0, 1, 0)","v":{"$error":"#REF!"}},{"$f":"IF(#REF!<0, 1, 0)","v":{"$error":"#REF!"}},{"$f":"IF(#REF!<0, 1, 0)","v":{"$error":"#REF!"}},{"$f":"IF(#REF!<0, 1, 0)","v":{"$error":"#REF!"}},{"$f":"IF(#REF!<0, 1, 0)","v":{"$error":"#REF!"}},{"$f":"IF(#REF!<0, 1, 0)","v":{"$error":"#REF!"}},{"$f":"IF(#REF!<0, 1, 0)","v":{"$error":"#REF!"}},{"$f":"IF(#REF!<0, 1, 0)","v":{"$error":"#REF!"}},{"$f":"IF(#REF!<0, 1, 0)","v":{"$error":"#REF!"}},{"$f":"IF(#REF!<0, 1, 0)","v":{"$error":"#REF!"}},{"$f":"IF(#REF!<0, 1, 0)","v":{"$error":"#REF!"}},{"$f":"IF(#REF!<0, 1, 0)","v":{"$error":"#REF!"}},{"$f":"IF(#REF!<0, 1, 0)","v":{"$error":"#REF!"}},{"$f":"IF(#REF!<0, 1, 0)","v":{"$error":"#REF!"}},{"$f":"IF(#REF!<0, 1, 0)","v":{"$error":"#REF!"}},{"$f":"IF(#REF!<0, 1, 0)","v":{"$error":"#REF!"}},{"$f":"IF(#REF!<0, 1, 0)","v":{"$error":"#REF!"}},{"$f":"IF(#REF!<0, 1, 0)","v":{"$error":"#REF!"}},{"$f":"IF(#REF!<0, 1, 0)","v":{"$error":"#REF!"}},{"$f":"IF(#REF!<0, 1, 0)","v":{"$error":"#REF!"}},{"$f":"IF(#REF!<0, 1, 0)","v":{"$error":"#REF!"}},null,null,null,null,null,null,null,{"$f":"IF(#REF!<0, 1, 0)","v":{"$error":"#REF!"}},{"$f":"IF(#REF!<0, 1, 0)","v":{"$error":"#REF!"}},{"$f":"IF(#REF!<0, 1, 0)","v":{"$error":"#REF!"}},{"$f":"IF(#REF!<0, 1, 0)","v":{"$error":"#REF!"}},{"$f":"IF(#REF!<0, 1, 0)","v":{"$error":"#REF!"}},{"$f":"IF(#REF!<0, 1, 0)","v":{"$error":"#REF!"}},{"$f":"IF(#REF!<0, 1, 0)","v":{"$error":"#REF!"}},{"$f":"IF(#REF!<0, 1, 0)","v":{"$error":"#REF!"}},{"$f":"IF(#REF!<0, 1, 0)","v":{"$error":"#REF!"}},{"$f":"IF(#REF!<0, 1, 0)","v":{"$error":"#REF!"}},null,null,null,null,null,null,null,null,null,null,null,null,null,null,null,null,null,null,null,null,null,null,null,"RBZHONITON HOSPITAL","RBZ80","HONITON HOSPITAL","RBZ80","HONITON HOSPITAL","RBZ",null,null,"BLACKPOOL VICTORIA HOSPITAL","Ward 3"]
[null,null,null,{"$f":"IF(#REF!=\"\", IF(#REF!=\"\", 0,1),0)","v":{"$error":"#REF!"}},null,null,null,null,{"$f":"IF(#REF!<0, 1, 0)","v":{"$error":"#REF!"}},{"$f":"IF(#REF!<0, 1, 0)","v":{"$error":"#REF!"}},{"$f":"IF(#REF!<0, 1, 0)","v":{"$error":"#REF!"}},{"$f":"IF(#REF!<0, 1, 0)","v":{"$error":"#REF!"}},{"$f":"IF(#REF!<0, 1, 0)","v":{"$error":"#REF!"}},{"$f":"IF(#REF!<0, 1, 0)","v":{"$error":"#REF!"}},{"$f":"IF(#REF!<0, 1, 0)","v":{"$error":"#REF!"}},{"$f":"IF(#REF!<0, 1, 0)","v":{"$error":"#REF!"}},{"$f":"IF(#REF!<0, 1, 0)","v":{"$error":"#REF!"}},{"$f":"IF(#REF!<0, 1, 0)","v":{"$error":"#REF!"}},{"$f":"IF(#REF!<0, 1, 0)","v":{"$error":"#REF!"}},{"$f":"IF(#REF!<0, 1, 0)","v":{"$error":"#REF!"}},{"$f":"IF(#REF!<0, 1, 0)","v":{"$error":"#REF!"}},{"$f":"IF(#REF!<0, 1, 0)","v":{"$error":"#REF!"}},{"$f":"IF(#REF!<0, 1, 0)","v":{"$error":"#REF!"}},{"$f":"IF(#REF!<0, 1, 0)","v":{"$error":"#REF!"}},{"$f":"IF(#REF!<0, 1, 0)","v":{"$error":"#REF!"}},{"$f":"IF(#REF!<0, 1, 0)","v":{"$error":"#REF!"}},{"$f":"IF(#REF!<0, 1, 0)","v":{"$error":"#REF!"}},{"$f":"IF(#REF!<0, 1, 0)","v":{"$error":"#REF!"}},{"$f":"IF(#REF!<0, 1, 0)","v":{"$error":"#REF!"}},null,null,null,null,null,null,null,{"$f":"IF(#REF!<0, 1, 0)","v":{"$error":"#REF!"}},{"$f":"IF(#REF!<0, 1, 0)","v":{"$error":"#REF!"}},{"$f":"IF(#REF!<0, 1, 0)","v":{"$error":"#REF!"}},{"$f":"IF(#REF!<0, 1, 0)","v":{"$error":"#REF!"}},{"$f":"IF(#REF!<0, 1, 0)","v":{"$error":"#REF!"}},{"$f":"IF(#REF!<0, 1, 0)","v":{"$error":"#REF!"}},{"$f":"IF(#REF!<0, 1, 0)","v":{"$error":"#REF!"}},{"$f":"IF(#REF!<0, 1, 0)","v":{"$error":"#REF!"}},{"$f":"IF(#REF!<0, 1, 0)","v":{"$error":"#REF!"}},{"$f":"IF(#REF!<0, 1, 0)","v":{"$error":"#REF!"}},null,null,null,null,null,null,null,null,null,null,null,null,null,null,null,null,null,null,null,null,null,null,null,"RBZILFRACOMBE","RBZ91","ILFRACOMBE","RBZ91","ILFRACOMBE","RBZ",null,null,"BLACKPOOL VICTORIA HOSPITAL","Ward 34"]
[null,null,null,{"$f":"IF(#REF!=\"\", IF(#REF!=\"\", 0,1),0)","v":{"$error":"#REF!"}},null,null,null,null,{"$f":"IF(#REF!<0, 1, 0)","v":{"$error":"#REF!"}},{"$f":"IF(#REF!<0, 1, 0)","v":{"$error":"#REF!"}},{"$f":"IF(#REF!<0, 1, 0)","v":{"$error":"#REF!"}},{"$f":"IF(#REF!<0, 1, 0)","v":{"$error":"#REF!"}},{"$f":"IF(#REF!<0, 1, 0)","v":{"$error":"#REF!"}},{"$f":"IF(#REF!<0, 1, 0)","v":{"$error":"#REF!"}},{"$f":"IF(#REF!<0, 1, 0)","v":{"$error":"#REF!"}},{"$f":"IF(#REF!<0, 1, 0)","v":{"$error":"#REF!"}},{"$f":"IF(#REF!<0, 1, 0)","v":{"$error":"#REF!"}},{"$f":"IF(#REF!<0, 1, 0)","v":{"$error":"#REF!"}},{"$f":"IF(#REF!<0, 1, 0)","v":{"$error":"#REF!"}},{"$f":"IF(#REF!<0, 1, 0)","v":{"$error":"#REF!"}},{"$f":"IF(#REF!<0, 1, 0)","v":{"$error":"#REF!"}},{"$f":"IF(#REF!<0, 1, 0)","v":{"$error":"#REF!"}},{"$f":"IF(#REF!<0, 1, 0)","v":{"$error":"#REF!"}},{"$f":"IF(#REF!<0, 1, 0)","v":{"$error":"#REF!"}},{"$f":"IF(#REF!<0, 1, 0)","v":{"$error":"#REF!"}},{"$f":"IF(#REF!<0, 1, 0)","v":{"$error":"#REF!"}},{"$f":"IF(#REF!<0, 1, 0)","v":{"$error":"#REF!"}},{"$f":"IF(#REF!<0, 1, 0)","v":{"$error":"#REF!"}},{"$f":"IF(#REF!<0, 1, 0)","v":{"$error":"#REF!"}},null,null,null,null,null,null,null,{"$f":"IF(#REF!<0, 1, 0)","v":{"$error":"#REF!"}},{"$f":"IF(#REF!<0, 1, 0)","v":{"$error":"#REF!"}},{"$f":"IF(#REF!<0, 1, 0)","v":{"$error":"#REF!"}},{"$f":"IF(#REF!<0, 1, 0)","v":{"$error":"#REF!"}},{"$f":"IF(#REF!<0, 1, 0)","v":{"$error":"#REF!"}},{"$f":"IF(#REF!<0, 1, 0)","v":{"$error":"#REF!"}},{"$f":"IF(#REF!<0, 1, 0)","v":{"$error":"#REF!"}},{"$f":"IF(#REF!<0, 1, 0)","v":{"$error":"#REF!"}},{"$f":"IF(#REF!<0, 1, 0)","v":{"$error":"#REF!"}},{"$f":"IF(#REF!<0, 1, 0)","v":{"$error":"#REF!"}},null,null,null,null,null,null,null,null,null,null,null,null,null,null,null,null,null,null,null,null,null,null,null,"RBZNORTH DEVON DISTRICT HOSPITAL","RBZ12","NORTH DEVON DISTRICT HOSPITAL","RBZ12","NORTH DEVON DISTRICT HOSPITAL","RBZ",null,null,"BLACKPOOL VICTORIA HOSPITAL","Ward 35"]
[null,null,null,{"$f":"IF(#REF!=\"\", IF(#REF!=\"\", 0,1),0)","v":{"$error":"#REF!"}},null,null,null,null,{"$f":"IF(#REF!<0, 1, 0)","v":{"$error":"#REF!"}},{"$f":"IF(#REF!<0, 1, 0)","v":{"$error":"#REF!"}},{"$f":"IF(#REF!<0, 1, 0)","v":{"$error":"#REF!"}},{"$f":"IF(#REF!<0, 1, 0)","v":{"$error":"#REF!"}},{"$f":"IF(#REF!<0, 1, 0)","v":{"$error":"#REF!"}},{"$f":"IF(#REF!<0, 1, 0)","v":{"$error":"#REF!"}},{"$f":"IF(#REF!<0, 1, 0)","v":{"$error":"#REF!"}},{"$f":"IF(#REF!<0, 1, 0)","v":{"$error":"#REF!"}},{"$f":"IF(#REF!<0, 1, 0)","v":{"$error":"#REF!"}},{"$f":"IF(#REF!<0, 1, 0)","v":{"$error":"#REF!"}},{"$f":"IF(#REF!<0, 1, 0)","v":{"$error":"#REF!"}},{"$f":"IF(#REF!<0, 1, 0)","v":{"$error":"#REF!"}},{"$f":"IF(#REF!<0, 1, 0)","v":{"$error":"#REF!"}},{"$f":"IF(#REF!<0, 1, 0)","v":{"$error":"#REF!"}},{"$f":"IF(#REF!<0, 1, 0)","v":{"$error":"#REF!"}},{"$f":"IF(#REF!<0, 1, 0)","v":{"$error":"#REF!"}},{"$f":"IF(#REF!<0, 1, 0)","v":{"$error":"#REF!"}},{"$f":"IF(#REF!<0, 1, 0)","v":{"$error":"#REF!"}},{"$f":"IF(#REF!<0, 1, 0)","v":{"$error":"#REF!"}},{"$f":"IF(#REF!<0, 1, 0)","v":{"$error":"#REF!"}},{"$f":"IF(#REF!<0, 1, 0)","v":{"$error":"#REF!"}},null,null,null,null,null,null,null,{"$f":"IF(#REF!<0, 1, 0)","v":{"$error":"#REF!"}},{"$f":"IF(#REF!<0, 1, 0)","v":{"$error":"#REF!"}},{"$f":"IF(#REF!<0, 1, 0)","v":{"$error":"#REF!"}},{"$f":"IF(#REF!<0, 1, 0)","v":{"$error":"#REF!"}},{"$f":"IF(#REF!<0, 1, 0)","v":{"$error":"#REF!"}},{"$f":"IF(#REF!<0, 1, 0)","v":{"$error":"#REF!"}},{"$f":"IF(#REF!<0, 1, 0)","v":{"$error":"#REF!"}},{"$f":"IF(#REF!<0, 1, 0)","v":{"$error":"#REF!"}},{"$f":"IF(#REF!<0, 1, 0)","v":{"$error":"#REF!"}},{"$f":"IF(#REF!<0, 1, 0)","v":{"$error":"#REF!"}},null,null,null,null,null,null,null,null,null,null,null,null,null,null,null,null,null,null,null,null,null,null,null,"RBZOKEHAMPTON HOSPITAL","RBZ87","OKEHAMPTON HOSPITAL","RBZ87","OKEHAMPTON HOSPITAL","RBZ",null,null,"BLACKPOOL VICTORIA HOSPITAL","Ward 37"]
[null,null,null,{"$f":"IF(#REF!=\"\", IF(#REF!=\"\", 0,1),0)","v":{"$error":"#REF!"}},null,null,null,null,{"$f":"IF(#REF!<0, 1, 0)","v":{"$error":"#REF!"}},{"$f":"IF(#REF!<0, 1, 0)","v":{"$error":"#REF!"}},{"$f":"IF(#REF!<0, 1, 0)","v":{"$error":"#REF!"}},{"$f":"IF(#REF!<0, 1, 0)","v":{"$error":"#REF!"}},{"$f":"IF(#REF!<0, 1, 0)","v":{"$error":"#REF!"}},{"$f":"IF(#REF!<0, 1, 0)","v":{"$error":"#REF!"}},{"$f":"IF(#REF!<0, 1, 0)","v":{"$error":"#REF!"}},{"$f":"IF(#REF!<0, 1, 0)","v":{"$error":"#REF!"}},{"$f":"IF(#REF!<0, 1, 0)","v":{"$error":"#REF!"}},{"$f":"IF(#REF!<0, 1, 0)","v":{"$error":"#REF!"}},{"$f":"IF(#REF!<0, 1, 0)","v":{"$error":"#REF!"}},{"$f":"IF(#REF!<0, 1, 0)","v":{"$error":"#REF!"}},{"$f":"IF(#REF!<0, 1, 0)","v":{"$error":"#REF!"}},{"$f":"IF(#REF!<0, 1, 0)","v":{"$error":"#REF!"}},{"$f":"IF(#REF!<0, 1, 0)","v":{"$error":"#REF!"}},{"$f":"IF(#REF!<0, 1, 0)","v":{"$error":"#REF!"}},{"$f":"IF(#REF!<0, 1, 0)","v":{"$error":"#REF!"}},{"$f":"IF(#REF!<0, 1, 0)","v":{"$error":"#REF!"}},{"$f":"IF(#REF!<0, 1, 0)","v":{"$error":"#REF!"}},{"$f":"IF(#REF!<0, 1, 0)","v":{"$error":"#REF!"}},{"$f":"IF(#REF!<0, 1, 0)","v":{"$error":"#REF!"}},null,null,null,null,null,null,null,{"$f":"IF(#REF!<0, 1, 0)","v":{"$error":"#REF!"}},{"$f":"IF(#REF!<0, 1, 0)","v":{"$error":"#REF!"}},{"$f":"IF(#REF!<0, 1, 0)","v":{"$error":"#REF!"}},{"$f":"IF(#REF!<0, 1, 0)","v":{"$error":"#REF!"}},{"$f":"IF(#REF!<0, 1, 0)","v":{"$error":"#REF!"}},{"$f":"IF(#REF!<0, 1, 0)","v":{"$error":"#REF!"}},{"$f":"IF(#REF!<0, 1, 0)","v":{"$error":"#REF!"}},{"$f":"IF(#REF!<0, 1, 0)","v":{"$error":"#REF!"}},{"$f":"IF(#REF!<0, 1, 0)","v":{"$error":"#REF!"}},{"$f":"IF(#REF!<0, 1, 0)","v":{"$error":"#REF!"}},null,null,null,null,null,null,null,null,null,null,null,null,null,null,null,null,null,null,null,null,null,null,null,"RBZOTTERY ST MARY HOSPITAL","RBZ81","OTTERY ST MARY HOSPITAL","RBZ81","OTTERY ST MARY HOSPITAL","RBZ",null,null,"BLACKPOOL VICTORIA HOSPITAL","Ward 38"]
[null,null,null,{"$f":"IF(#REF!=\"\", IF(#REF!=\"\", 0,1),0)","v":{"$error":"#REF!"}},null,null,null,null,{"$f":"IF(#REF!<0, 1, 0)","v":{"$error":"#REF!"}},{"$f":"IF(#REF!<0, 1, 0)","v":{"$error":"#REF!"}},{"$f":"IF(#REF!<0, 1, 0)","v":{"$error":"#REF!"}},{"$f":"IF(#REF!<0, 1, 0)","v":{"$error":"#REF!"}},{"$f":"IF(#REF!<0, 1, 0)","v":{"$error":"#REF!"}},{"$f":"IF(#REF!<0, 1, 0)","v":{"$error":"#REF!"}},{"$f":"IF(#REF!<0, 1, 0)","v":{"$error":"#REF!"}},{"$f":"IF(#REF!<0, 1, 0)","v":{"$error":"#REF!"}},{"$f":"IF(#REF!<0, 1, 0)","v":{"$error":"#REF!"}},{"$f":"IF(#REF!<0, 1, 0)","v":{"$error":"#REF!"}},{"$f":"IF(#REF!<0, 1, 0)","v":{"$error":"#REF!"}},{"$f":"IF(#REF!<0, 1, 0)","v":{"$error":"#REF!"}},{"$f":"IF(#REF!<0, 1, 0)","v":{"$error":"#REF!"}},{"$f":"IF(#REF!<0, 1, 0)","v":{"$error":"#REF!"}},{"$f":"IF(#REF!<0, 1, 0)","v":{"$error":"#REF!"}},{"$f":"IF(#REF!<0, 1, 0)","v":{"$error":"#REF!"}},{"$f":"IF(#REF!<0, 1, 0)","v":{"$error":"#REF!"}},{"$f":"IF(#REF!<0, 1, 0)","v":{"$error":"#REF!"}},{"$f":"IF(#REF!<0, 1, 0)","v":{"$error":"#REF!"}},{"$f":"IF(#REF!<0, 1, 0)","v":{"$error":"#REF!"}},{"$f":"IF(#REF!<0, 1, 0)","v":{"$error":"#REF!"}},null,null,null,null,null,null,null,{"$f":"IF(#REF!<0, 1, 0)","v":{"$error":"#REF!"}},{"$f":"IF(#REF!<0, 1, 0)","v":{"$error":"#REF!"}},{"$f":"IF(#REF!<0, 1, 0)","v":{"$error":"#REF!"}},{"$f":"IF(#REF!<0, 1, 0)","v":{"$error":"#REF!"}},{"$f":"IF(#REF!<0, 1, 0)","v":{"$error":"#REF!"}},{"$f":"IF(#REF!<0, 1, 0)","v":{"$error":"#REF!"}},{"$f":"IF(#REF!<0, 1, 0)","v":{"$error":"#REF!"}},{"$f":"IF(#REF!<0, 1, 0)","v":{"$error":"#REF!"}},{"$f":"IF(#REF!<0, 1, 0)","v":{"$error":"#REF!"}},{"$f":"IF(#REF!<0, 1, 0)","v":{"$error":"#REF!"}},null,null,null,null,null,null,null,null,null,null,null,null,null,null,null,null,null,null,null,null,null,null,null,"RBZSEATON HOSPITAL","RBZ86","SEATON HOSPITAL","RBZ86","SEATON HOSPITAL","RBZ",null,null,"BLACKPOOL VICTORIA HOSPITAL","Ward 39"]
[null,null,null,{"$f":"IF(#REF!=\"\", IF(#REF!=\"\", 0,1),0)","v":{"$error":"#REF!"}},null,null,null,null,{"$f":"IF(#REF!<0, 1, 0)","v":{"$error":"#REF!"}},{"$f":"IF(#REF!<0, 1, 0)","v":{"$error":"#REF!"}},{"$f":"IF(#REF!<0, 1, 0)","v":{"$error":"#REF!"}},{"$f":"IF(#REF!<0, 1, 0)","v":{"$error":"#REF!"}},{"$f":"IF(#REF!<0, 1, 0)","v":{"$error":"#REF!"}},{"$f":"IF(#REF!<0, 1, 0)","v":{"$error":"#REF!"}},{"$f":"IF(#REF!<0, 1, 0)","v":{"$error":"#REF!"}},{"$f":"IF(#REF!<0, 1, 0)","v":{"$error":"#REF!"}},{"$f":"IF(#REF!<0, 1, 0)","v":{"$error":"#REF!"}},{"$f":"IF(#REF!<0, 1, 0)","v":{"$error":"#REF!"}},{"$f":"IF(#REF!<0, 1, 0)","v":{"$error":"#REF!"}},{"$f":"IF(#REF!<0, 1, 0)","v":{"$error":"#REF!"}},{"$f":"IF(#REF!<0, 1, 0)","v":{"$error":"#REF!"}},{"$f":"IF(#REF!<0, 1, 0)","v":{"$error":"#REF!"}},{"$f":"IF(#REF!<0, 1, 0)","v":{"$error":"#REF!"}},{"$f":"IF(#REF!<0, 1, 0)","v":{"$error":"#REF!"}},{"$f":"IF(#REF!<0, 1, 0)","v":{"$error":"#REF!"}},{"$f":"IF(#REF!<0, 1, 0)","v":{"$error":"#REF!"}},{"$f":"IF(#REF!<0, 1, 0)","v":{"$error":"#REF!"}},{"$f":"IF(#REF!<0, 1, 0)","v":{"$error":"#REF!"}},{"$f":"IF(#REF!<0, 1, 0)","v":{"$error":"#REF!"}},null,null,null,null,null,null,null,{"$f":"IF(#REF!<0, 1, 0)","v":{"$error":"#REF!"}},{"$f":"IF(#REF!<0, 1, 0)","v":{"$error":"#REF!"}},{"$f":"IF(#REF!<0, 1, 0)","v":{"$error":"#REF!"}},{"$f":"IF(#REF!<0, 1, 0)","v":{"$error":"#REF!"}},{"$f":"IF(#REF!<0, 1, 0)","v":{"$error":"#REF!"}},{"$f":"IF(#REF!<0, 1, 0)","v":{"$error":"#REF!"}},{"$f":"IF(#REF!<0, 1, 0)","v":{"$error":"#REF!"}},{"$f":"IF(#REF!<0, 1, 0)","v":{"$error":"#REF!"}},{"$f":"IF(#REF!<0, 1, 0)","v":{"$error":"#REF!"}},{"$f":"IF(#REF!<0, 1, 0)","v":{"$error":"#REF!"}},null,null,null,null,null,null,null,null,null,null,null,null,null,null,null,null,null,null,null,null,null,null,null,"RBZSIDMOUTH HOSPITAL","RBZ83","SIDMOUTH HOSPITAL","RBZ83","SIDMOUTH HOSPITAL","RBZ",null,null,"BLACKPOOL VICTORIA HOSPITAL","Ward 5"]
[null,null,null,{"$f":"IF(#REF!=\"\", IF(#REF!=\"\", 0,1),0)","v":{"$error":"#REF!"}},null,null,null,null,{"$f":"IF(#REF!<0, 1, 0)","v":{"$error":"#REF!"}},{"$f":"IF(#REF!<0, 1, 0)","v":{"$error":"#REF!"}},{"$f":"IF(#REF!<0, 1, 0)","v":{"$error":"#REF!"}},{"$f":"IF(#REF!<0, 1, 0)","v":{"$error":"#REF!"}},{"$f":"IF(#REF!<0, 1, 0)","v":{"$error":"#REF!"}},{"$f":"IF(#REF!<0, 1, 0)","v":{"$error":"#REF!"}},{"$f":"IF(#REF!<0, 1, 0)","v":{"$error":"#REF!"}},{"$f":"IF(#REF!<0, 1, 0)","v":{"$error":"#REF!"}},{"$f":"IF(#REF!<0, 1, 0)","v":{"$error":"#REF!"}},{"$f":"IF(#REF!<0, 1, 0)","v":{"$error":"#REF!"}},{"$f":"IF(#REF!<0, 1, 0)","v":{"$error":"#REF!"}},{"$f":"IF(#REF!<0, 1, 0)","v":{"$error":"#REF!"}},{"$f":"IF(#REF!<0, 1, 0)","v":{"$error":"#REF!"}},{"$f":"IF(#REF!<0, 1, 0)","v":{"$error":"#REF!"}},{"$f":"IF(#REF!<0, 1, 0)","v":{"$error":"#REF!"}},{"$f":"IF(#REF!<0, 1, 0)","v":{"$error":"#REF!"}},{"$f":"IF(#REF!<0, 1, 0)","v":{"$error":"#REF!"}},{"$f":"IF(#REF!<0, 1, 0)","v":{"$error":"#REF!"}},{"$f":"IF(#REF!<0, 1, 0)","v":{"$error":"#REF!"}},{"$f":"IF(#REF!<0, 1, 0)","v":{"$error":"#REF!"}},{"$f":"IF(#REF!<0, 1, 0)","v":{"$error":"#REF!"}},null,null,null,null,null,null,null,{"$f":"IF(#REF!<0, 1, 0)","v":{"$error":"#REF!"}},{"$f":"IF(#REF!<0, 1, 0)","v":{"$error":"#REF!"}},{"$f":"IF(#REF!<0, 1, 0)","v":{"$error":"#REF!"}},{"$f":"IF(#REF!<0, 1, 0)","v":{"$error":"#REF!"}},{"$f":"IF(#REF!<0, 1, 0)","v":{"$error":"#REF!"}},{"$f":"IF(#REF!<0, 1, 0)","v":{"$error":"#REF!"}},{"$f":"IF(#REF!<0, 1, 0)","v":{"$error":"#REF!"}},{"$f":"IF(#REF!<0, 1, 0)","v":{"$error":"#REF!"}},{"$f":"IF(#REF!<0, 1, 0)","v":{"$error":"#REF!"}},{"$f":"IF(#REF!<0, 1, 0)","v":{"$error":"#REF!"}},null,null,null,null,null,null,null,null,null,null,null,null,null,null,null,null,null,null,null,null,null,null,null,"RBZSOUTH MOLTON HOSPITAL","RBZ99","SOUTH MOLTON HOSPITAL","RBZ99","SOUTH MOLTON HOSPITAL","RBZ",null,null,"BLACKPOOL VICTORIA HOSPITAL","Ward 6"]
[null,null,null,{"$f":"IF(#REF!=\"\", IF(#REF!=\"\", 0,1),0)","v":{"$error":"#REF!"}},null,null,null,null,{"$f":"IF(#REF!<0, 1, 0)","v":{"$error":"#REF!"}},{"$f":"IF(#REF!<0, 1, 0)","v":{"$error":"#REF!"}},{"$f":"IF(#REF!<0, 1, 0)","v":{"$error":"#REF!"}},{"$f":"IF(#REF!<0, 1, 0)","v":{"$error":"#REF!"}},{"$f":"IF(#REF!<0, 1, 0)","v":{"$error":"#REF!"}},{"$f":"IF(#REF!<0, 1, 0)","v":{"$error":"#REF!"}},{"$f":"IF(#REF!<0, 1, 0)","v":{"$error":"#REF!"}},{"$f":"IF(#REF!<0, 1, 0)","v":{"$error":"#REF!"}},{"$f":"IF(#REF!<0, 1, 0)","v":{"$error":"#REF!"}},{"$f":"IF(#REF!<0, 1, 0)","v":{"$error":"#REF!"}},{"$f":"IF(#REF!<0, 1, 0)","v":{"$error":"#REF!"}},{"$f":"IF(#REF!<0, 1, 0)","v":{"$error":"#REF!"}},{"$f":"IF(#REF!<0, 1, 0)","v":{"$error":"#REF!"}},{"$f":"IF(#REF!<0, 1, 0)","v":{"$error":"#REF!"}},{"$f":"IF(#REF!<0, 1, 0)","v":{"$error":"#REF!"}},{"$f":"IF(#REF!<0, 1, 0)","v":{"$error":"#REF!"}},{"$f":"IF(#REF!<0, 1, 0)","v":{"$error":"#REF!"}},{"$f":"IF(#REF!<0, 1, 0)","v":{"$error":"#REF!"}},{"$f":"IF(#REF!<0, 1, 0)","v":{"$error":"#REF!"}},{"$f":"IF(#REF!<0, 1, 0)","v":{"$error":"#REF!"}},{"$f":"IF(#REF!<0, 1, 0)","v":{"$error":"#REF!"}},null,null,null,null,null,null,null,{"$f":"IF(#REF!<0, 1, 0)","v":{"$error":"#REF!"}},{"$f":"IF(#REF!<0, 1, 0)","v":{"$error":"#REF!"}},{"$f":"IF(#REF!<0, 1, 0)","v":{"$error":"#REF!"}},{"$f":"IF(#REF!<0, 1, 0)","v":{"$error":"#REF!"}},{"$f":"IF(#REF!<0, 1, 0)","v":{"$error":"#REF!"}},{"$f":"IF(#REF!<0, 1, 0)","v":{"$error":"#REF!"}},{"$f":"IF(#REF!<0, 1, 0)","v":{"$error":"#REF!"}},{"$f":"IF(#REF!<0, 1, 0)","v":{"$error":"#REF!"}},{"$f":"IF(#REF!<0, 1, 0)","v":{"$error":"#REF!"}},{"$f":"IF(#REF!<0, 1, 0)","v":{"$error":"#REF!"}},null,null,null,null,null,null,null,null,null,null,null,null,null,null,null,null,null,null,null,null,null,null,null,"RBZTIVERTON AND DISTRICT HOSPITAL","RBZ93","TIVERTON AND DISTRICT HOSPITAL","RBZ93","TIVERTON AND DISTRICT HOSPITAL","RBZ",null,null,"BLACKPOOL VICTORIA HOSPITAL","Ward 7"]
[null,null,null,{"$f":"IF(#REF!=\"\", IF(#REF!=\"\", 0,1),0)","v":{"$error":"#REF!"}},null,null,null,null,{"$f":"IF(#REF!<0, 1, 0)","v":{"$error":"#REF!"}},{"$f":"IF(#REF!<0, 1, 0)","v":{"$error":"#REF!"}},{"$f":"IF(#REF!<0, 1, 0)","v":{"$error":"#REF!"}},{"$f":"IF(#REF!<0, 1, 0)","v":{"$error":"#REF!"}},{"$f":"IF(#REF!<0, 1, 0)","v":{"$error":"#REF!"}},{"$f":"IF(#REF!<0, 1, 0)","v":{"$error":"#REF!"}},{"$f":"IF(#REF!<0, 1, 0)","v":{"$error":"#REF!"}},{"$f":"IF(#REF!<0, 1, 0)","v":{"$error":"#REF!"}},{"$f":"IF(#REF!<0, 1, 0)","v":{"$error":"#REF!"}},{"$f":"IF(#REF!<0, 1, 0)","v":{"$error":"#REF!"}},{"$f":"IF(#REF!<0, 1, 0)","v":{"$error":"#REF!"}},{"$f":"IF(#REF!<0, 1, 0)","v":{"$error":"#REF!"}},{"$f":"IF(#REF!<0, 1, 0)","v":{"$error":"#REF!"}},{"$f":"IF(#REF!<0, 1, 0)","v":{"$error":"#REF!"}},{"$f":"IF(#REF!<0, 1, 0)","v":{"$error":"#REF!"}},{"$f":"IF(#REF!<0, 1, 0)","v":{"$error":"#REF!"}},{"$f":"IF(#REF!<0, 1, 0)","v":{"$error":"#REF!"}},{"$f":"IF(#REF!<0, 1, 0)","v":{"$error":"#REF!"}},{"$f":"IF(#REF!<0, 1, 0)","v":{"$error":"#REF!"}},{"$f":"IF(#REF!<0, 1, 0)","v":{"$error":"#REF!"}},{"$f":"IF(#REF!<0, 1, 0)","v":{"$error":"#REF!"}},null,null,null,null,null,null,null,{"$f":"IF(#REF!<0, 1, 0)","v":{"$error":"#REF!"}},{"$f":"IF(#REF!<0, 1, 0)","v":{"$error":"#REF!"}},{"$f":"IF(#REF!<0, 1, 0)","v":{"$error":"#REF!"}},{"$f":"IF(#REF!<0, 1, 0)","v":{"$error":"#REF!"}},{"$f":"IF(#REF!<0, 1, 0)","v":{"$error":"#REF!"}},{"$f":"IF(#REF!<0, 1, 0)","v":{"$error":"#REF!"}},{"$f":"IF(#REF!<0, 1, 0)","v":{"$error":"#REF!"}},{"$f":"IF(#REF!<0, 1, 0)","v":{"$error":"#REF!"}},{"$f":"IF(#REF!<0, 1, 0)","v":{"$error":"#REF!"}},{"$f":"IF(#REF!<0, 1, 0)","v":{"$error":"#REF!"}},null,null,null,null,null,null,null,null,null,null,null,null,null,null,null,null,null,null,null,null,null,null,null,"RBZTORRINGTON HOSPITAL","RBZ98","TORRINGTON HOSPITAL","RBZ98","TORRINGTON HOSPITAL","RBZ",null,null,"BLACKPOOL VICTORIA HOSPITAL","Ward 8"]
[null,null,null,{"$f":"IF(#REF!=\"\", IF(#REF!=\"\", 0,1),0)","v":{"$error":"#REF!"}},null,null,null,null,{"$f":"IF(#REF!<0, 1, 0)","v":{"$error":"#REF!"}},{"$f":"IF(#REF!<0, 1, 0)","v":{"$error":"#REF!"}},{"$f":"IF(#REF!<0, 1, 0)","v":{"$error":"#REF!"}},{"$f":"IF(#REF!<0, 1, 0)","v":{"$error":"#REF!"}},{"$f":"IF(#REF!<0, 1, 0)","v":{"$error":"#REF!"}},{"$f":"IF(#REF!<0, 1, 0)","v":{"$error":"#REF!"}},{"$f":"IF(#REF!<0, 1, 0)","v":{"$error":"#REF!"}},{"$f":"IF(#REF!<0, 1, 0)","v":{"$error":"#REF!"}},{"$f":"IF(#REF!<0, 1, 0)","v":{"$error":"#REF!"}},{"$f":"IF(#REF!<0, 1, 0)","v":{"$error":"#REF!"}},{"$f":"IF(#REF!<0, 1, 0)","v":{"$error":"#REF!"}},{"$f":"IF(#REF!<0, 1, 0)","v":{"$error":"#REF!"}},{"$f":"IF(#REF!<0, 1, 0)","v":{"$error":"#REF!"}},{"$f":"IF(#REF!<0, 1, 0)","v":{"$error":"#REF!"}},{"$f":"IF(#REF!<0, 1, 0)","v":{"$error":"#REF!"}},{"$f":"IF(#REF!<0, 1, 0)","v":{"$error":"#REF!"}},{"$f":"IF(#REF!<0, 1, 0)","v":{"$error":"#REF!"}},{"$f":"IF(#REF!<0, 1, 0)","v":{"$error":"#REF!"}},{"$f":"IF(#REF!<0, 1, 0)","v":{"$error":"#REF!"}},{"$f":"IF(#REF!<0, 1, 0)","v":{"$error":"#REF!"}},{"$f":"IF(#REF!<0, 1, 0)","v":{"$error":"#REF!"}},null,null,null,null,null,null,null,{"$f":"IF(#REF!<0, 1, 0)","v":{"$error":"#REF!"}},{"$f":"IF(#REF!<0, 1, 0)","v":{"$error":"#REF!"}},{"$f":"IF(#REF!<0, 1, 0)","v":{"$error":"#REF!"}},{"$f":"IF(#REF!<0, 1, 0)","v":{"$error":"#REF!"}},{"$f":"IF(#REF!<0, 1, 0)","v":{"$error":"#REF!"}},{"$f":"IF(#REF!<0, 1, 0)","v":{"$error":"#REF!"}},{"$f":"IF(#REF!<0, 1, 0)","v":{"$error":"#REF!"}},{"$f":"IF(#REF!<0, 1, 0)","v":{"$error":"#REF!"}},{"$f":"IF(#REF!<0, 1, 0)","v":{"$error":"#REF!"}},{"$f":"IF(#REF!<0, 1, 0)","v":{"$error":"#REF!"}},null,null,null,null,null,null,null,null,null,null,null,null,null,null,null,null,null,null,null,null,null,null,null,"RBZWHIPTON HOSPITAL","RBZ79","WHIPTON HOSPITAL","RBZ79","WHIPTON HOSPITAL","RBZ",null,null,"BLACKPOOL VICTORIA HOSPITAL","Ward C"]
[null,null,null,{"$f":"IF(#REF!=\"\", IF(#REF!=\"\", 0,1),0)","v":{"$error":"#REF!"}},null,null,null,null,{"$f":"IF(#REF!<0, 1, 0)","v":{"$error":"#REF!"}},{"$f":"IF(#REF!<0, 1, 0)","v":{"$error":"#REF!"}},{"$f":"IF(#REF!<0, 1, 0)","v":{"$error":"#REF!"}},{"$f":"IF(#REF!<0, 1, 0)","v":{"$error":"#REF!"}},{"$f":"IF(#REF!<0, 1, 0)","v":{"$error":"#REF!"}},{"$f":"IF(#REF!<0, 1, 0)","v":{"$error":"#REF!"}},{"$f":"IF(#REF!<0, 1, 0)","v":{"$error":"#REF!"}},{"$f":"IF(#REF!<0, 1, 0)","v":{"$error":"#REF!"}},{"$f":"IF(#REF!<0, 1, 0)","v":{"$error":"#REF!"}},{"$f":"IF(#REF!<0, 1, 0)","v":{"$error":"#REF!"}},{"$f":"IF(#REF!<0, 1, 0)","v":{"$error":"#REF!"}},{"$f":"IF(#REF!<0, 1, 0)","v":{"$error":"#REF!"}},{"$f":"IF(#REF!<0, 1, 0)","v":{"$error":"#REF!"}},{"$f":"IF(#REF!<0, 1, 0)","v":{"$error":"#REF!"}},{"$f":"IF(#REF!<0, 1, 0)","v":{"$error":"#REF!"}},{"$f":"IF(#REF!<0, 1, 0)","v":{"$error":"#REF!"}},{"$f":"IF(#REF!<0, 1, 0)","v":{"$error":"#REF!"}},{"$f":"IF(#REF!<0, 1, 0)","v":{"$error":"#REF!"}},{"$f":"IF(#REF!<0, 1, 0)","v":{"$error":"#REF!"}},{"$f":"IF(#REF!<0, 1, 0)","v":{"$error":"#REF!"}},{"$f":"IF(#REF!<0, 1, 0)","v":{"$error":"#REF!"}},null,null,null,null,null,null,null,{"$f":"IF(#REF!<0, 1, 0)","v":{"$error":"#REF!"}},{"$f":"IF(#REF!<0, 1, 0)","v":{"$error":"#REF!"}},{"$f":"IF(#REF!<0, 1, 0)","v":{"$error":"#REF!"}},{"$f":"IF(#REF!<0, 1, 0)","v":{"$error":"#REF!"}},{"$f":"IF(#REF!<0, 1, 0)","v":{"$error":"#REF!"}},{"$f":"IF(#REF!<0, 1, 0)","v":{"$error":"#REF!"}},{"$f":"IF(#REF!<0, 1, 0)","v":{"$error":"#REF!"}},{"$f":"IF(#REF!<0, 1, 0)","v":{"$error":"#REF!"}},{"$f":"IF(#REF!<0, 1, 0)","v":{"$error":"#REF!"}},{"$f":"IF(#REF!<0, 1, 0)","v":{"$error":"#REF!"}},null,null,null,null,null,null,null,null,null,null,null,null,null,null,null,null,null,null,null,null,null,null,null,"RC1BEDFORD HOSPITAL NORTH WING","RC111","BEDFORD HOSPITAL NORTH WING","RC111","BEDFORD HOSPITAL NORTH WING","RC1",null,null,"CLIFTON HOSPITAL","Clifton Hospital W1"]
[null,null,null,{"$f":"IF(#REF!=\"\", IF(#REF!=\"\", 0,1),0)","v":{"$error":"#REF!"}},null,null,null,null,{"$f":"IF(#REF!<0, 1, 0)","v":{"$error":"#REF!"}},{"$f":"IF(#REF!<0, 1, 0)","v":{"$error":"#REF!"}},{"$f":"IF(#REF!<0, 1, 0)","v":{"$error":"#REF!"}},{"$f":"IF(#REF!<0, 1, 0)","v":{"$error":"#REF!"}},{"$f":"IF(#REF!<0, 1, 0)","v":{"$error":"#REF!"}},{"$f":"IF(#REF!<0, 1, 0)","v":{"$error":"#REF!"}},{"$f":"IF(#REF!<0, 1, 0)","v":{"$error":"#REF!"}},{"$f":"IF(#REF!<0, 1, 0)","v":{"$error":"#REF!"}},{"$f":"IF(#REF!<0, 1, 0)","v":{"$error":"#REF!"}},{"$f":"IF(#REF!<0, 1, 0)","v":{"$error":"#REF!"}},{"$f":"IF(#REF!<0, 1, 0)","v":{"$error":"#REF!"}},{"$f":"IF(#REF!<0, 1, 0)","v":{"$error":"#REF!"}},{"$f":"IF(#REF!<0, 1, 0)","v":{"$error":"#REF!"}},{"$f":"IF(#REF!<0, 1, 0)","v":{"$error":"#REF!"}},{"$f":"IF(#REF!<0, 1, 0)","v":{"$error":"#REF!"}},{"$f":"IF(#REF!<0, 1, 0)","v":{"$error":"#REF!"}},{"$f":"IF(#REF!<0, 1, 0)","v":{"$error":"#REF!"}},{"$f":"IF(#REF!<0, 1, 0)","v":{"$error":"#REF!"}},{"$f":"IF(#REF!<0, 1, 0)","v":{"$error":"#REF!"}},{"$f":"IF(#REF!<0, 1, 0)","v":{"$error":"#REF!"}},{"$f":"IF(#REF!<0, 1, 0)","v":{"$error":"#REF!"}},null,null,null,null,null,null,null,{"$f":"IF(#REF!<0, 1, 0)","v":{"$error":"#REF!"}},{"$f":"IF(#REF!<0, 1, 0)","v":{"$error":"#REF!"}},{"$f":"IF(#REF!<0, 1, 0)","v":{"$error":"#REF!"}},{"$f":"IF(#REF!<0, 1, 0)","v":{"$error":"#REF!"}},{"$f":"IF(#REF!<0, 1, 0)","v":{"$error":"#REF!"}},{"$f":"IF(#REF!<0, 1, 0)","v":{"$error":"#REF!"}},{"$f":"IF(#REF!<0, 1, 0)","v":{"$error":"#REF!"}},{"$f":"IF(#REF!<0, 1, 0)","v":{"$error":"#REF!"}},{"$f":"IF(#REF!<0, 1, 0)","v":{"$error":"#REF!"}},{"$f":"IF(#REF!<0, 1, 0)","v":{"$error":"#REF!"}},null,null,null,null,null,null,null,null,null,null,null,null,null,null,null,null,null,null,null,null,null,null,null,"RC1BEDFORD HOSPITAL SOUTH WING","RC110","BEDFORD HOSPITAL SOUTH WING","RC110","BEDFORD HOSPITAL SOUTH WING","RC1",null,null,"CLIFTON HOSPITAL","Clifton Hospital W2"]
[null,null,null,{"$f":"IF(#REF!=\"\", IF(#REF!=\"\", 0,1),0)","v":{"$error":"#REF!"}},null,null,null,null,{"$f":"IF(#REF!<0, 1, 0)","v":{"$error":"#REF!"}},{"$f":"IF(#REF!<0, 1, 0)","v":{"$error":"#REF!"}},{"$f":"IF(#REF!<0, 1, 0)","v":{"$error":"#REF!"}},{"$f":"IF(#REF!<0, 1, 0)","v":{"$error":"#REF!"}},{"$f":"IF(#REF!<0, 1, 0)","v":{"$error":"#REF!"}},{"$f":"IF(#REF!<0, 1, 0)","v":{"$error":"#REF!"}},{"$f":"IF(#REF!<0, 1, 0)","v":{"$error":"#REF!"}},{"$f":"IF(#REF!<0, 1, 0)","v":{"$error":"#REF!"}},{"$f":"IF(#REF!<0, 1, 0)","v":{"$error":"#REF!"}},{"$f":"IF(#REF!<0, 1, 0)","v":{"$error":"#REF!"}},{"$f":"IF(#REF!<0, 1, 0)","v":{"$error":"#REF!"}},{"$f":"IF(#REF!<0, 1, 0)","v":{"$error":"#REF!"}},{"$f":"IF(#REF!<0, 1, 0)","v":{"$error":"#REF!"}},{"$f":"IF(#REF!<0, 1, 0)","v":{"$error":"#REF!"}},{"$f":"IF(#REF!<0, 1, 0)","v":{"$error":"#REF!"}},{"$f":"IF(#REF!<0, 1, 0)","v":{"$error":"#REF!"}},{"$f":"IF(#REF!<0, 1, 0)","v":{"$error":"#REF!"}},{"$f":"IF(#REF!<0, 1, 0)","v":{"$error":"#REF!"}},{"$f":"IF(#REF!<0, 1, 0)","v":{"$error":"#REF!"}},{"$f":"IF(#REF!<0, 1, 0)","v":{"$error":"#REF!"}},{"$f":"IF(#REF!<0, 1, 0)","v":{"$error":"#REF!"}},null,null,null,null,null,null,null,{"$f":"IF(#REF!<0, 1, 0)","v":{"$error":"#REF!"}},{"$f":"IF(#REF!<0, 1, 0)","v":{"$error":"#REF!"}},{"$f":"IF(#REF!<0, 1, 0)","v":{"$error":"#REF!"}},{"$f":"IF(#REF!<0, 1, 0)","v":{"$error":"#REF!"}},{"$f":"IF(#REF!<0, 1, 0)","v":{"$error":"#REF!"}},{"$f":"IF(#REF!<0, 1, 0)","v":{"$error":"#REF!"}},{"$f":"IF(#REF!<0, 1, 0)","v":{"$error":"#REF!"}},{"$f":"IF(#REF!<0, 1, 0)","v":{"$error":"#REF!"}},{"$f":"IF(#REF!<0, 1, 0)","v":{"$error":"#REF!"}},{"$f":"IF(#REF!<0, 1, 0)","v":{"$error":"#REF!"}},null,null,null,null,null,null,null,null,null,null,null,null,null,null,null,null,null,null,null,null,null,null,null,"RC3CENTRAL MIDDLESEX HOSPITAL","RC321","CENTRAL MIDDLESEX HOSPITAL","RC321","CENTRAL MIDDLESEX HOSPITAL","RC3",null,null,"CLIFTON HOSPITAL","Clifton Hospital W2B"]
[null,null,null,{"$f":"IF(#REF!=\"\", IF(#REF!=\"\", 0,1),0)","v":{"$error":"#REF!"}},null,null,null,null,{"$f":"IF(#REF!<0, 1, 0)","v":{"$error":"#REF!"}},{"$f":"IF(#REF!<0, 1, 0)","v":{"$error":"#REF!"}},{"$f":"IF(#REF!<0, 1, 0)","v":{"$error":"#REF!"}},{"$f":"IF(#REF!<0, 1, 0)","v":{"$error":"#REF!"}},{"$f":"IF(#REF!<0, 1, 0)","v":{"$error":"#REF!"}},{"$f":"IF(#REF!<0, 1, 0)","v":{"$error":"#REF!"}},{"$f":"IF(#REF!<0, 1, 0)","v":{"$error":"#REF!"}},{"$f":"IF(#REF!<0, 1, 0)","v":{"$error":"#REF!"}},{"$f":"IF(#REF!<0, 1, 0)","v":{"$error":"#REF!"}},{"$f":"IF(#REF!<0, 1, 0)","v":{"$error":"#REF!"}},{"$f":"IF(#REF!<0, 1, 0)","v":{"$error":"#REF!"}},{"$f":"IF(#REF!<0, 1, 0)","v":{"$error":"#REF!"}},{"$f":"IF(#REF!<0, 1, 0)","v":{"$error":"#REF!"}},{"$f":"IF(#REF!<0, 1, 0)","v":{"$error":"#REF!"}},{"$f":"IF(#REF!<0, 1, 0)","v":{"$error":"#REF!"}},{"$f":"IF(#REF!<0, 1, 0)","v":{"$error":"#REF!"}},{"$f":"IF(#REF!<0, 1, 0)","v":{"$error":"#REF!"}},{"$f":"IF(#REF!<0, 1, 0)","v":{"$error":"#REF!"}},{"$f":"IF(#REF!<0, 1, 0)","v":{"$error":"#REF!"}},{"$f":"IF(#REF!<0, 1, 0)","v":{"$error":"#REF!"}},{"$f":"IF(#REF!<0, 1, 0)","v":{"$error":"#REF!"}},null,null,null,null,null,null,null,{"$f":"IF(#REF!<0, 1, 0)","v":{"$error":"#REF!"}},{"$f":"IF(#REF!<0, 1, 0)","v":{"$error":"#REF!"}},{"$f":"IF(#REF!<0, 1, 0)","v":{"$error":"#REF!"}},{"$f":"IF(#REF!<0, 1, 0)","v":{"$error":"#REF!"}},{"$f":"IF(#REF!<0, 1, 0)","v":{"$error":"#REF!"}},{"$f":"IF(#REF!<0, 1, 0)","v":{"$error":"#REF!"}},{"$f":"IF(#REF!<0, 1, 0)","v":{"$error":"#REF!"}},{"$f":"IF(#REF!<0, 1, 0)","v":{"$error":"#REF!"}},{"$f":"IF(#REF!<0, 1, 0)","v":{"$error":"#REF!"}},{"$f":"IF(#REF!<0, 1, 0)","v":{"$error":"#REF!"}},null,null,null,null,null,null,null,null,null,null,null,null,null,null,null,null,null,null,null,null,null,null,null,"RC3EALING HOSPITAL","RC368","EALING HOSPITAL","RC368","EALING HOSPITAL","RC3",null,null,"CLIFTON HOSPITAL","Clifton Hospital W3"]
[null,null,null,{"$f":"IF(#REF!=\"\", IF(#REF!=\"\", 0,1),0)","v":{"$error":"#REF!"}},null,null,null,null,{"$f":"IF(#REF!<0, 1, 0)","v":{"$error":"#REF!"}},{"$f":"IF(#REF!<0, 1, 0)","v":{"$error":"#REF!"}},{"$f":"IF(#REF!<0, 1, 0)","v":{"$error":"#REF!"}},{"$f":"IF(#REF!<0, 1, 0)","v":{"$error":"#REF!"}},{"$f":"IF(#REF!<0, 1, 0)","v":{"$error":"#REF!"}},{"$f":"IF(#REF!<0, 1, 0)","v":{"$error":"#REF!"}},{"$f":"IF(#REF!<0, 1, 0)","v":{"$error":"#REF!"}},{"$f":"IF(#REF!<0, 1, 0)","v":{"$error":"#REF!"}},{"$f":"IF(#REF!<0, 1, 0)","v":{"$error":"#REF!"}},{"$f":"IF(#REF!<0, 1, 0)","v":{"$error":"#REF!"}},{"$f":"IF(#REF!<0, 1, 0)","v":{"$error":"#REF!"}},{"$f":"IF(#REF!<0, 1, 0)","v":{"$error":"#REF!"}},{"$f":"IF(#REF!<0, 1, 0)","v":{"$error":"#REF!"}},{"$f":"IF(#REF!<0, 1, 0)","v":{"$error":"#REF!"}},{"$f":"IF(#REF!<0, 1, 0)","v":{"$error":"#REF!"}},{"$f":"IF(#REF!<0, 1, 0)","v":{"$error":"#REF!"}},{"$f":"IF(#REF!<0, 1, 0)","v":{"$error":"#REF!"}},{"$f":"IF(#REF!<0, 1, 0)","v":{"$error":"#REF!"}},{"$f":"IF(#REF!<0, 1, 0)","v":{"$error":"#REF!"}},{"$f":"IF(#REF!<0, 1, 0)","v":{"$error":"#REF!"}},{"$f":"IF(#REF!<0, 1, 0)","v":{"$error":"#REF!"}},null,null,null,null,null,null,null,{"$f":"IF(#REF!<0, 1, 0)","v":{"$error":"#REF!"}},{"$f":"IF(#REF!<0, 1, 0)","v":{"$error":"#REF!"}},{"$f":"IF(#REF!<0, 1, 0)","v":{"$error":"#REF!"}},{"$f":"IF(#REF!<0, 1, 0)","v":{"$error":"#REF!"}},{"$f":"IF(#REF!<0, 1, 0)","v":{"$error":"#REF!"}},{"$f":"IF(#REF!<0, 1, 0)","v":{"$error":"#REF!"}},{"$f":"IF(#REF!<0, 1, 0)","v":{"$error":"#REF!"}},{"$f":"IF(#REF!<0, 1, 0)","v":{"$error":"#REF!"}},{"$f":"IF(#REF!<0, 1, 0)","v":{"$error":"#REF!"}},{"$f":"IF(#REF!<0, 1, 0)","v":{"$error":"#REF!"}},null,null,null,null,null,null,null,null,null,null,null,null,null,null,null,null,null,null,null,null,null,null,null,"RC3FROME COMMUNITY HOSPITAL","RC3C2","FROME COMMUNITY HOSPITAL","RC3C2","FROME COMMUNITY HOSPITAL","RC3",null,null,"CLIFTON HOSPITAL","Clifton Hospital W4"]
[null,null,null,{"$f":"IF(#REF!=\"\", IF(#REF!=\"\", 0,1),0)","v":{"$error":"#REF!"}},null,null,null,null,{"$f":"IF(#REF!<0, 1, 0)","v":{"$error":"#REF!"}},{"$f":"IF(#REF!<0, 1, 0)","v":{"$error":"#REF!"}},{"$f":"IF(#REF!<0, 1, 0)","v":{"$error":"#REF!"}},{"$f":"IF(#REF!<0, 1, 0)","v":{"$error":"#REF!"}},{"$f":"IF(#REF!<0, 1, 0)","v":{"$error":"#REF!"}},{"$f":"IF(#REF!<0, 1, 0)","v":{"$error":"#REF!"}},{"$f":"IF(#REF!<0, 1, 0)","v":{"$error":"#REF!"}},{"$f":"IF(#REF!<0, 1, 0)","v":{"$error":"#REF!"}},{"$f":"IF(#REF!<0, 1, 0)","v":{"$error":"#REF!"}},{"$f":"IF(#REF!<0, 1, 0)","v":{"$error":"#REF!"}},{"$f":"IF(#REF!<0, 1, 0)","v":{"$error":"#REF!"}},{"$f":"IF(#REF!<0, 1, 0)","v":{"$error":"#REF!"}},{"$f":"IF(#REF!<0, 1, 0)","v":{"$error":"#REF!"}},{"$f":"IF(#REF!<0, 1, 0)","v":{"$error":"#REF!"}},{"$f":"IF(#REF!<0, 1, 0)","v":{"$error":"#REF!"}},{"$f":"IF(#REF!<0, 1, 0)","v":{"$error":"#REF!"}},{"$f":"IF(#REF!<0, 1, 0)","v":{"$error":"#REF!"}},{"$f":"IF(#REF!<0, 1, 0)","v":{"$error":"#REF!"}},{"$f":"IF(#REF!<0, 1, 0)","v":{"$error":"#REF!"}},{"$f":"IF(#REF!<0, 1, 0)","v":{"$error":"#REF!"}},{"$f":"IF(#REF!<0, 1, 0)","v":{"$error":"#REF!"}},null,null,null,null,null,null,null,{"$f":"IF(#REF!<0, 1, 0)","v":{"$error":"#REF!"}},{"$f":"IF(#REF!<0, 1, 0)","v":{"$error":"#REF!"}},{"$f":"IF(#REF!<0, 1, 0)","v":{"$error":"#REF!"}},{"$f":"IF(#REF!<0, 1, 0)","v":{"$error":"#REF!"}},{"$f":"IF(#REF!<0, 1, 0)","v":{"$error":"#REF!"}},{"$f":"IF(#REF!<0, 1, 0)","v":{"$error":"#REF!"}},{"$f":"IF(#REF!<0, 1, 0)","v":{"$error":"#REF!"}},{"$f":"IF(#REF!<0, 1, 0)","v":{"$error":"#REF!"}},{"$f":"IF(#REF!<0, 1, 0)","v":{"$error":"#REF!"}},{"$f":"IF(#REF!<0, 1, 0)","v":{"$error":"#REF!"}},null,null,null,null,null,null,null,null,null,null,null,null,null,null,null,null,null,null,null,null,null,null,null,"RC3NEW SPECIALTY-INTERMEDIATE CARE EALING ","RC330","NEW SPECIALTY-INTERMEDIATE CARE EALING ","RC330","NEW SPECIALTY-INTERMEDIATE CARE EALING ","RC3",null,null,"ROYAL BOLTON HOSPITAL","Acute Frailty Unit - B1"]
[null,null,null,{"$f":"IF(#REF!=\"\", IF(#REF!=\"\", 0,1),0)","v":{"$error":"#REF!"}},null,null,null,null,{"$f":"IF(#REF!<0, 1, 0)","v":{"$error":"#REF!"}},{"$f":"IF(#REF!<0, 1, 0)","v":{"$error":"#REF!"}},{"$f":"IF(#REF!<0, 1, 0)","v":{"$error":"#REF!"}},{"$f":"IF(#REF!<0, 1, 0)","v":{"$error":"#REF!"}},{"$f":"IF(#REF!<0, 1, 0)","v":{"$error":"#REF!"}},{"$f":"IF(#REF!<0, 1, 0)","v":{"$error":"#REF!"}},{"$f":"IF(#REF!<0, 1, 0)","v":{"$error":"#REF!"}},{"$f":"IF(#REF!<0, 1, 0)","v":{"$error":"#REF!"}},{"$f":"IF(#REF!<0, 1, 0)","v":{"$error":"#REF!"}},{"$f":"IF(#REF!<0, 1, 0)","v":{"$error":"#REF!"}},{"$f":"IF(#REF!<0, 1, 0)","v":{"$error":"#REF!"}},{"$f":"IF(#REF!<0, 1, 0)","v":{"$error":"#REF!"}},{"$f":"IF(#REF!<0, 1, 0)","v":{"$error":"#REF!"}},{"$f":"IF(#REF!<0, 1, 0)","v":{"$error":"#REF!"}},{"$f":"IF(#REF!<0, 1, 0)","v":{"$error":"#REF!"}},{"$f":"IF(#REF!<0, 1, 0)","v":{"$error":"#REF!"}},{"$f":"IF(#REF!<0, 1, 0)","v":{"$error":"#REF!"}},{"$f":"IF(#REF!<0, 1, 0)","v":{"$error":"#REF!"}},{"$f":"IF(#REF!<0, 1, 0)","v":{"$error":"#REF!"}},{"$f":"IF(#REF!<0, 1, 0)","v":{"$error":"#REF!"}},{"$f":"IF(#REF!<0, 1, 0)","v":{"$error":"#REF!"}},null,null,null,null,null,null,null,{"$f":"IF(#REF!<0, 1, 0)","v":{"$error":"#REF!"}},{"$f":"IF(#REF!<0, 1, 0)","v":{"$error":"#REF!"}},{"$f":"IF(#REF!<0, 1, 0)","v":{"$error":"#REF!"}},{"$f":"IF(#REF!<0, 1, 0)","v":{"$error":"#REF!"}},{"$f":"IF(#REF!<0, 1, 0)","v":{"$error":"#REF!"}},{"$f":"IF(#REF!<0, 1, 0)","v":{"$error":"#REF!"}},{"$f":"IF(#REF!<0, 1, 0)","v":{"$error":"#REF!"}},{"$f":"IF(#REF!<0, 1, 0)","v":{"$error":"#REF!"}},{"$f":"IF(#REF!<0, 1, 0)","v":{"$error":"#REF!"}},{"$f":"IF(#REF!<0, 1, 0)","v":{"$error":"#REF!"}},null,null,null,null,null,null,null,null,null,null,null,null,null,null,null,null,null,null,null,null,null,null,null,"RC3THE MANOR HOUSE","RC328","THE MANOR HOUSE","RC328","THE MANOR HOUSE","RC3",null,null,"ROYAL BOLTON HOSPITAL","Birth Suite"]
[null,null,null,{"$f":"IF(#REF!=\"\", IF(#REF!=\"\", 0,1),0)","v":{"$error":"#REF!"}},null,null,null,null,{"$f":"IF(#REF!<0, 1, 0)","v":{"$error":"#REF!"}},{"$f":"IF(#REF!<0, 1, 0)","v":{"$error":"#REF!"}},{"$f":"IF(#REF!<0, 1, 0)","v":{"$error":"#REF!"}},{"$f":"IF(#REF!<0, 1, 0)","v":{"$error":"#REF!"}},{"$f":"IF(#REF!<0, 1, 0)","v":{"$error":"#REF!"}},{"$f":"IF(#REF!<0, 1, 0)","v":{"$error":"#REF!"}},{"$f":"IF(#REF!<0, 1, 0)","v":{"$error":"#REF!"}},{"$f":"IF(#REF!<0, 1, 0)","v":{"$error":"#REF!"}},{"$f":"IF(#REF!<0, 1, 0)","v":{"$error":"#REF!"}},{"$f":"IF(#REF!<0, 1, 0)","v":{"$error":"#REF!"}},{"$f":"IF(#REF!<0, 1, 0)","v":{"$error":"#REF!"}},{"$f":"IF(#REF!<0, 1, 0)","v":{"$error":"#REF!"}},{"$f":"IF(#REF!<0, 1, 0)","v":{"$error":"#REF!"}},{"$f":"IF(#REF!<0, 1, 0)","v":{"$error":"#REF!"}},{"$f":"IF(#REF!<0, 1, 0)","v":{"$error":"#REF!"}},{"$f":"IF(#REF!<0, 1, 0)","v":{"$error":"#REF!"}},{"$f":"IF(#REF!<0, 1, 0)","v":{"$error":"#REF!"}},{"$f":"IF(#REF!<0, 1, 0)","v":{"$error":"#REF!"}},{"$f":"IF(#REF!<0, 1, 0)","v":{"$error":"#REF!"}},{"$f":"IF(#REF!<0, 1, 0)","v":{"$error":"#REF!"}},{"$f":"IF(#REF!<0, 1, 0)","v":{"$error":"#REF!"}},null,null,null,null,null,null,null,{"$f":"IF(#REF!<0, 1, 0)","v":{"$error":"#REF!"}},{"$f":"IF(#REF!<0, 1, 0)","v":{"$error":"#REF!"}},{"$f":"IF(#REF!<0, 1, 0)","v":{"$error":"#REF!"}},{"$f":"IF(#REF!<0, 1, 0)","v":{"$error":"#REF!"}},{"$f":"IF(#REF!<0, 1, 0)","v":{"$error":"#REF!"}},{"$f":"IF(#REF!<0, 1, 0)","v":{"$error":"#REF!"}},{"$f":"IF(#REF!<0, 1, 0)","v":{"$error":"#REF!"}},{"$f":"IF(#REF!<0, 1, 0)","v":{"$error":"#REF!"}},{"$f":"IF(#REF!<0, 1, 0)","v":{"$error":"#REF!"}},{"$f":"IF(#REF!<0, 1, 0)","v":{"$error":"#REF!"}},null,null,null,null,null,null,null,null,null,null,null,null,null,null,null,null,null,null,null,null,null,null,null,"RC3WILLESDEN CENTRE FOR HEALTH AND CARE","RC304","WILLESDEN CENTRE FOR HEALTH AND CARE","RC304","WILLESDEN CENTRE FOR HEALTH AND CARE","RC3",null,null,"ROYAL BOLTON HOSPITAL","Central Delivery Suite"]
[null,null,null,{"$f":"IF(#REF!=\"\", IF(#REF!=\"\", 0,1),0)","v":{"$error":"#REF!"}},null,null,null,null,{"$f":"IF(#REF!<0, 1, 0)","v":{"$error":"#REF!"}},{"$f":"IF(#REF!<0, 1, 0)","v":{"$error":"#REF!"}},{"$f":"IF(#REF!<0, 1, 0)","v":{"$error":"#REF!"}},{"$f":"IF(#REF!<0, 1, 0)","v":{"$error":"#REF!"}},{"$f":"IF(#REF!<0, 1, 0)","v":{"$error":"#REF!"}},{"$f":"IF(#REF!<0, 1, 0)","v":{"$error":"#REF!"}},{"$f":"IF(#REF!<0, 1, 0)","v":{"$error":"#REF!"}},{"$f":"IF(#REF!<0, 1, 0)","v":{"$error":"#REF!"}},{"$f":"IF(#REF!<0, 1, 0)","v":{"$error":"#REF!"}},{"$f":"IF(#REF!<0, 1, 0)","v":{"$error":"#REF!"}},{"$f":"IF(#REF!<0, 1, 0)","v":{"$error":"#REF!"}},{"$f":"IF(#REF!<0, 1, 0)","v":{"$error":"#REF!"}},{"$f":"IF(#REF!<0, 1, 0)","v":{"$error":"#REF!"}},{"$f":"IF(#REF!<0, 1, 0)","v":{"$error":"#REF!"}},{"$f":"IF(#REF!<0, 1, 0)","v":{"$error":"#REF!"}},{"$f":"IF(#REF!<0, 1, 0)","v":{"$error":"#REF!"}},{"$f":"IF(#REF!<0, 1, 0)","v":{"$error":"#REF!"}},{"$f":"IF(#REF!<0, 1, 0)","v":{"$error":"#REF!"}},{"$f":"IF(#REF!<0, 1, 0)","v":{"$error":"#REF!"}},{"$f":"IF(#REF!<0, 1, 0)","v":{"$error":"#REF!"}},{"$f":"IF(#REF!<0, 1, 0)","v":{"$error":"#REF!"}},null,null,null,null,null,null,null,{"$f":"IF(#REF!<0, 1, 0)","v":{"$error":"#REF!"}},{"$f":"IF(#REF!<0, 1, 0)","v":{"$error":"#REF!"}},{"$f":"IF(#REF!<0, 1, 0)","v":{"$error":"#REF!"}},{"$f":"IF(#REF!<0, 1, 0)","v":{"$error":"#REF!"}},{"$f":"IF(#REF!<0, 1, 0)","v":{"$error":"#REF!"}},{"$f":"IF(#REF!<0, 1, 0)","v":{"$error":"#REF!"}},{"$f":"IF(#REF!<0, 1, 0)","v":{"$error":"#REF!"}},{"$f":"IF(#REF!<0, 1, 0)","v":{"$error":"#REF!"}},{"$f":"IF(#REF!<0, 1, 0)","v":{"$error":"#REF!"}},{"$f":"IF(#REF!<0, 1, 0)","v":{"$error":"#REF!"}},null,null,null,null,null,null,null,null,null,null,null,null,null,null,null,null,null,null,null,null,null,null,null,"RC9LUTON AND DUNSTABLE HOSPITAL","RC971","LUTON AND DUNSTABLE HOSPITAL","RC971","LUTON AND DUNSTABLE HOSPITAL","RC9",null,null,"ROYAL BOLTON HOSPITAL","Coronary Care Unit"]
[null,null,null,{"$f":"IF(#REF!=\"\", IF(#REF!=\"\", 0,1),0)","v":{"$error":"#REF!"}},null,null,null,null,{"$f":"IF(#REF!<0, 1, 0)","v":{"$error":"#REF!"}},{"$f":"IF(#REF!<0, 1, 0)","v":{"$error":"#REF!"}},{"$f":"IF(#REF!<0, 1, 0)","v":{"$error":"#REF!"}},{"$f":"IF(#REF!<0, 1, 0)","v":{"$error":"#REF!"}},{"$f":"IF(#REF!<0, 1, 0)","v":{"$error":"#REF!"}},{"$f":"IF(#REF!<0, 1, 0)","v":{"$error":"#REF!"}},{"$f":"IF(#REF!<0, 1, 0)","v":{"$error":"#REF!"}},{"$f":"IF(#REF!<0, 1, 0)","v":{"$error":"#REF!"}},{"$f":"IF(#REF!<0, 1, 0)","v":{"$error":"#REF!"}},{"$f":"IF(#REF!<0, 1, 0)","v":{"$error":"#REF!"}},{"$f":"IF(#REF!<0, 1, 0)","v":{"$error":"#REF!"}},{"$f":"IF(#REF!<0, 1, 0)","v":{"$error":"#REF!"}},{"$f":"IF(#REF!<0, 1, 0)","v":{"$error":"#REF!"}},{"$f":"IF(#REF!<0, 1, 0)","v":{"$error":"#REF!"}},{"$f":"IF(#REF!<0, 1, 0)","v":{"$error":"#REF!"}},{"$f":"IF(#REF!<0, 1, 0)","v":{"$error":"#REF!"}},{"$f":"IF(#REF!<0, 1, 0)","v":{"$error":"#REF!"}},{"$f":"IF(#REF!<0, 1, 0)","v":{"$error":"#REF!"}},{"$f":"IF(#REF!<0, 1, 0)","v":{"$error":"#REF!"}},{"$f":"IF(#REF!<0, 1, 0)","v":{"$error":"#REF!"}},{"$f":"IF(#REF!<0, 1, 0)","v":{"$error":"#REF!"}},null,null,null,null,null,null,null,{"$f":"IF(#REF!<0, 1, 0)","v":{"$error":"#REF!"}},{"$f":"IF(#REF!<0, 1, 0)","v":{"$error":"#REF!"}},{"$f":"IF(#REF!<0, 1, 0)","v":{"$error":"#REF!"}},{"$f":"IF(#REF!<0, 1, 0)","v":{"$error":"#REF!"}},{"$f":"IF(#REF!<0, 1, 0)","v":{"$error":"#REF!"}},{"$f":"IF(#REF!<0, 1, 0)","v":{"$error":"#REF!"}},{"$f":"IF(#REF!<0, 1, 0)","v":{"$error":"#REF!"}},{"$f":"IF(#REF!<0, 1, 0)","v":{"$error":"#REF!"}},{"$f":"IF(#REF!<0, 1, 0)","v":{"$error":"#REF!"}},{"$f":"IF(#REF!<0, 1, 0)","v":{"$error":"#REF!"}},null,null,null,null,null,null,null,null,null,null,null,null,null,null,null,null,null,null,null,null,null,null,null,"RCBARCHWAYS INTERMEDIATE CARE UNIT","RCBAW","ARCHWAYS INTERMEDIATE CARE UNIT","RCBAW","ARCHWAYS INTERMEDIATE CARE UNIT","RCB",null,null,"ROYAL BOLTON HOSPITAL","High Dependancy Unit"]
[null,null,null,{"$f":"IF(#REF!=\"\", IF(#REF!=\"\", 0,1),0)","v":{"$error":"#REF!"}},null,null,null,null,{"$f":"IF(#REF!<0, 1, 0)","v":{"$error":"#REF!"}},{"$f":"IF(#REF!<0, 1, 0)","v":{"$error":"#REF!"}},{"$f":"IF(#REF!<0, 1, 0)","v":{"$error":"#REF!"}},{"$f":"IF(#REF!<0, 1, 0)","v":{"$error":"#REF!"}},{"$f":"IF(#REF!<0, 1, 0)","v":{"$error":"#REF!"}},{"$f":"IF(#REF!<0, 1, 0)","v":{"$error":"#REF!"}},{"$f":"IF(#REF!<0, 1, 0)","v":{"$error":"#REF!"}},{"$f":"IF(#REF!<0, 1, 0)","v":{"$error":"#REF!"}},{"$f":"IF(#REF!<0, 1, 0)","v":{"$error":"#REF!"}},{"$f":"IF(#REF!<0, 1, 0)","v":{"$error":"#REF!"}},{"$f":"IF(#REF!<0, 1, 0)","v":{"$error":"#REF!"}},{"$f":"IF(#REF!<0, 1, 0)","v":{"$error":"#REF!"}},{"$f":"IF(#REF!<0, 1, 0)","v":{"$error":"#REF!"}},{"$f":"IF(#REF!<0, 1, 0)","v":{"$error":"#REF!"}},{"$f":"IF(#REF!<0, 1, 0)","v":{"$error":"#REF!"}},{"$f":"IF(#REF!<0, 1, 0)","v":{"$error":"#REF!"}},{"$f":"IF(#REF!<0, 1, 0)","v":{"$error":"#REF!"}},{"$f":"IF(#REF!<0, 1, 0)","v":{"$error":"#REF!"}},{"$f":"IF(#REF!<0, 1, 0)","v":{"$error":"#REF!"}},{"$f":"IF(#REF!<0, 1, 0)","v":{"$error":"#REF!"}},{"$f":"IF(#REF!<0, 1, 0)","v":{"$error":"#REF!"}},null,null,null,null,null,null,null,{"$f":"IF(#REF!<0, 1, 0)","v":{"$error":"#REF!"}},{"$f":"IF(#REF!<0, 1, 0)","v":{"$error":"#REF!"}},{"$f":"IF(#REF!<0, 1, 0)","v":{"$error":"#REF!"}},{"$f":"IF(#REF!<0, 1, 0)","v":{"$error":"#REF!"}},{"$f":"IF(#REF!<0, 1, 0)","v":{"$error":"#REF!"}},{"$f":"IF(#REF!<0, 1, 0)","v":{"$error":"#REF!"}},{"$f":"IF(#REF!<0, 1, 0)","v":{"$error":"#REF!"}},{"$f":"IF(#REF!<0, 1, 0)","v":{"$error":"#REF!"}},{"$f":"IF(#REF!<0, 1, 0)","v":{"$error":"#REF!"}},{"$f":"IF(#REF!<0, 1, 0)","v":{"$error":"#REF!"}},null,null,null,null,null,null,null,null,null,null,null,null,null,null,null,null,null,null,null,null,null,null,null,"RCBBOOTHAM PARK HOSPITAL","RCB16","BOOTHAM PARK HOSPITAL","RCB16","BOOTHAM PARK HOSPITAL","RCB",null,null,"ROYAL BOLTON HOSPITAL","Intensive Care Unit"]
[null,null,null,{"$f":"IF(#REF!=\"\", IF(#REF!=\"\", 0,1),0)","v":{"$error":"#REF!"}},null,null,null,null,{"$f":"IF(#REF!<0, 1, 0)","v":{"$error":"#REF!"}},{"$f":"IF(#REF!<0, 1, 0)","v":{"$error":"#REF!"}},{"$f":"IF(#REF!<0, 1, 0)","v":{"$error":"#REF!"}},{"$f":"IF(#REF!<0, 1, 0)","v":{"$error":"#REF!"}},{"$f":"IF(#REF!<0, 1, 0)","v":{"$error":"#REF!"}},{"$f":"IF(#REF!<0, 1, 0)","v":{"$error":"#REF!"}},{"$f":"IF(#REF!<0, 1, 0)","v":{"$error":"#REF!"}},{"$f":"IF(#REF!<0, 1, 0)","v":{"$error":"#REF!"}},{"$f":"IF(#REF!<0, 1, 0)","v":{"$error":"#REF!"}},{"$f":"IF(#REF!<0, 1, 0)","v":{"$error":"#REF!"}},{"$f":"IF(#REF!<0, 1, 0)","v":{"$error":"#REF!"}},{"$f":"IF(#REF!<0, 1, 0)","v":{"$error":"#REF!"}},{"$f":"IF(#REF!<0, 1, 0)","v":{"$error":"#REF!"}},{"$f":"IF(#REF!<0, 1, 0)","v":{"$error":"#REF!"}},{"$f":"IF(#REF!<0, 1, 0)","v":{"$error":"#REF!"}},{"$f":"IF(#REF!<0, 1, 0)","v":{"$error":"#REF!"}},{"$f":"IF(#REF!<0, 1, 0)","v":{"$error":"#REF!"}},{"$f":"IF(#REF!<0, 1, 0)","v":{"$error":"#REF!"}},{"$f":"IF(#REF!<0, 1, 0)","v":{"$error":"#REF!"}},{"$f":"IF(#REF!<0, 1, 0)","v":{"$error":"#REF!"}},{"$f":"IF(#REF!<0, 1, 0)","v":{"$error":"#REF!"}},null,null,null,null,null,null,null,{"$f":"IF(#REF!<0, 1, 0)","v":{"$error":"#REF!"}},{"$f":"IF(#REF!<0, 1, 0)","v":{"$error":"#REF!"}},{"$f":"IF(#REF!<0, 1, 0)","v":{"$error":"#REF!"}},{"$f":"IF(#REF!<0, 1, 0)","v":{"$error":"#REF!"}},{"$f":"IF(#REF!<0, 1, 0)","v":{"$error":"#REF!"}},{"$f":"IF(#REF!<0, 1, 0)","v":{"$error":"#REF!"}},{"$f":"IF(#REF!<0, 1, 0)","v":{"$error":"#REF!"}},{"$f":"IF(#REF!<0, 1, 0)","v":{"$error":"#REF!"}},{"$f":"IF(#REF!<0, 1, 0)","v":{"$error":"#REF!"}},{"$f":"IF(#REF!<0, 1, 0)","v":{"$error":"#REF!"}},null,null,null,null,null,null,null,null,null,null,null,null,null,null,null,null,null,null,null,null,null,null,null,"RCBBRIDLINGTON AND DISTRICT HOSPITAL","RCBNH","BRIDLINGTON AND DISTRICT HOSPITAL","RCBNH","BRIDLINGTON AND DISTRICT HOSPITAL","RCB",null,null,"ROYAL BOLTON HOSPITAL","Neonatal Unit"]
[null,null,null,{"$f":"IF(#REF!=\"\", IF(#REF!=\"\", 0,1),0)","v":{"$error":"#REF!"}},null,null,null,null,{"$f":"IF(#REF!<0, 1, 0)","v":{"$error":"#REF!"}},{"$f":"IF(#REF!<0, 1, 0)","v":{"$error":"#REF!"}},{"$f":"IF(#REF!<0, 1, 0)","v":{"$error":"#REF!"}},{"$f":"IF(#REF!<0, 1, 0)","v":{"$error":"#REF!"}},{"$f":"IF(#REF!<0, 1, 0)","v":{"$error":"#REF!"}},{"$f":"IF(#REF!<0, 1, 0)","v":{"$error":"#REF!"}},{"$f":"IF(#REF!<0, 1, 0)","v":{"$error":"#REF!"}},{"$f":"IF(#REF!<0, 1, 0)","v":{"$error":"#REF!"}},{"$f":"IF(#REF!<0, 1, 0)","v":{"$error":"#REF!"}},{"$f":"IF(#REF!<0, 1, 0)","v":{"$error":"#REF!"}},{"$f":"IF(#REF!<0, 1, 0)","v":{"$error":"#REF!"}},{"$f":"IF(#REF!<0, 1, 0)","v":{"$error":"#REF!"}},{"$f":"IF(#REF!<0, 1, 0)","v":{"$error":"#REF!"}},{"$f":"IF(#REF!<0, 1, 0)","v":{"$error":"#REF!"}},{"$f":"IF(#REF!<0, 1, 0)","v":{"$error":"#REF!"}},{"$f":"IF(#REF!<0, 1, 0)","v":{"$error":"#REF!"}},{"$f":"IF(#REF!<0, 1, 0)","v":{"$error":"#REF!"}},{"$f":"IF(#REF!<0, 1, 0)","v":{"$error":"#REF!"}},{"$f":"IF(#REF!<0, 1, 0)","v":{"$error":"#REF!"}},{"$f":"IF(#REF!<0, 1, 0)","v":{"$error":"#REF!"}},{"$f":"IF(#REF!<0, 1, 0)","v":{"$error":"#REF!"}},null,null,null,null,null,null,null,{"$f":"IF(#REF!<0, 1, 0)","v":{"$error":"#REF!"}},{"$f":"IF(#REF!<0, 1, 0)","v":{"$error":"#REF!"}},{"$f":"IF(#REF!<0, 1, 0)","v":{"$error":"#REF!"}},{"$f":"IF(#REF!<0, 1, 0)","v":{"$error":"#REF!"}},{"$f":"IF(#REF!<0, 1, 0)","v":{"$error":"#REF!"}},{"$f":"IF(#REF!<0, 1, 0)","v":{"$error":"#REF!"}},{"$f":"IF(#REF!<0, 1, 0)","v":{"$error":"#REF!"}},{"$f":"IF(#REF!<0, 1, 0)","v":{"$error":"#REF!"}},{"$f":"IF(#REF!<0, 1, 0)","v":{"$error":"#REF!"}},{"$f":"IF(#REF!<0, 1, 0)","v":{"$error":"#REF!"}},null,null,null,null,null,null,null,null,null,null,null,null,null,null,null,null,null,null,null,null,null,null,null,"RCBCROSS LANE HOSPITAL","RCBN1","CROSS LANE HOSPITAL","RCBN1","CROSS LANE HOSPITAL","RCB",null,null,"ROYAL BOLTON HOSPITAL","Ward A4"]
[null,null,null,{"$f":"IF(#REF!=\"\", IF(#REF!=\"\", 0,1),0)","v":{"$error":"#REF!"}},null,null,null,null,{"$f":"IF(#REF!<0, 1, 0)","v":{"$error":"#REF!"}},{"$f":"IF(#REF!<0, 1, 0)","v":{"$error":"#REF!"}},{"$f":"IF(#REF!<0, 1, 0)","v":{"$error":"#REF!"}},{"$f":"IF(#REF!<0, 1, 0)","v":{"$error":"#REF!"}},{"$f":"IF(#REF!<0, 1, 0)","v":{"$error":"#REF!"}},{"$f":"IF(#REF!<0, 1, 0)","v":{"$error":"#REF!"}},{"$f":"IF(#REF!<0, 1, 0)","v":{"$error":"#REF!"}},{"$f":"IF(#REF!<0, 1, 0)","v":{"$error":"#REF!"}},{"$f":"IF(#REF!<0, 1, 0)","v":{"$error":"#REF!"}},{"$f":"IF(#REF!<0, 1, 0)","v":{"$error":"#REF!"}},{"$f":"IF(#REF!<0, 1, 0)","v":{"$error":"#REF!"}},{"$f":"IF(#REF!<0, 1, 0)","v":{"$error":"#REF!"}},{"$f":"IF(#REF!<0, 1, 0)","v":{"$error":"#REF!"}},{"$f":"IF(#REF!<0, 1, 0)","v":{"$error":"#REF!"}},{"$f":"IF(#REF!<0, 1, 0)","v":{"$error":"#REF!"}},{"$f":"IF(#REF!<0, 1, 0)","v":{"$error":"#REF!"}},{"$f":"IF(#REF!<0, 1, 0)","v":{"$error":"#REF!"}},{"$f":"IF(#REF!<0, 1, 0)","v":{"$error":"#REF!"}},{"$f":"IF(#REF!<0, 1, 0)","v":{"$error":"#REF!"}},{"$f":"IF(#REF!<0, 1, 0)","v":{"$error":"#REF!"}},{"$f":"IF(#REF!<0, 1, 0)","v":{"$error":"#REF!"}},null,null,null,null,null,null,null,{"$f":"IF(#REF!<0, 1, 0)","v":{"$error":"#REF!"}},{"$f":"IF(#REF!<0, 1, 0)","v":{"$error":"#REF!"}},{"$f":"IF(#REF!<0, 1, 0)","v":{"$error":"#REF!"}},{"$f":"IF(#REF!<0, 1, 0)","v":{"$error":"#REF!"}},{"$f":"IF(#REF!<0, 1, 0)","v":{"$error":"#REF!"}},{"$f":"IF(#REF!<0, 1, 0)","v":{"$error":"#REF!"}},{"$f":"IF(#REF!<0, 1, 0)","v":{"$error":"#REF!"}},{"$f":"IF(#REF!<0, 1, 0)","v":{"$error":"#REF!"}},{"$f":"IF(#REF!<0, 1, 0)","v":{"$error":"#REF!"}},{"$f":"IF(#REF!<0, 1, 0)","v":{"$error":"#REF!"}},null,null,null,null,null,null,null,null,null,null,null,null,null,null,null,null,null,null,null,null,null,null,null,"RCBMALTON COMMUNITY HOSPITAL","RCBL8","MALTON COMMUNITY HOSPITAL","RCBL8","MALTON COMMUNITY HOSPITAL","RCB",null,null,"ROYAL BOLTON HOSPITAL","Ward B3 - Bluebell Unit"]
[null,null,null,{"$f":"IF(#REF!=\"\", IF(#REF!=\"\", 0,1),0)","v":{"$error":"#REF!"}},null,null,null,null,{"$f":"IF(#REF!<0, 1, 0)","v":{"$error":"#REF!"}},{"$f":"IF(#REF!<0, 1, 0)","v":{"$error":"#REF!"}},{"$f":"IF(#REF!<0, 1, 0)","v":{"$error":"#REF!"}},{"$f":"IF(#REF!<0, 1, 0)","v":{"$error":"#REF!"}},{"$f":"IF(#REF!<0, 1, 0)","v":{"$error":"#REF!"}},{"$f":"IF(#REF!<0, 1, 0)","v":{"$error":"#REF!"}},{"$f":"IF(#REF!<0, 1, 0)","v":{"$error":"#REF!"}},{"$f":"IF(#REF!<0, 1, 0)","v":{"$error":"#REF!"}},{"$f":"IF(#REF!<0, 1, 0)","v":{"$error":"#REF!"}},{"$f":"IF(#REF!<0, 1, 0)","v":{"$error":"#REF!"}},{"$f":"IF(#REF!<0, 1, 0)","v":{"$error":"#REF!"}},{"$f":"IF(#REF!<0, 1, 0)","v":{"$error":"#REF!"}},{"$f":"IF(#REF!<0, 1, 0)","v":{"$error":"#REF!"}},{"$f":"IF(#REF!<0, 1, 0)","v":{"$error":"#REF!"}},{"$f":"IF(#REF!<0, 1, 0)","v":{"$error":"#REF!"}},{"$f":"IF(#REF!<0, 1, 0)","v":{"$error":"#REF!"}},{"$f":"IF(#REF!<0, 1, 0)","v":{"$error":"#REF!"}},{"$f":"IF(#REF!<0, 1, 0)","v":{"$error":"#REF!"}},{"$f":"IF(#REF!<0, 1, 0)","v":{"$error":"#REF!"}},{"$f":"IF(#REF!<0, 1, 0)","v":{"$error":"#REF!"}},{"$f":"IF(#REF!<0, 1, 0)","v":{"$error":"#REF!"}},null,null,null,null,null,null,null,{"$f":"IF(#REF!<0, 1, 0)","v":{"$error":"#REF!"}},{"$f":"IF(#REF!<0, 1, 0)","v":{"$error":"#REF!"}},{"$f":"IF(#REF!<0, 1, 0)","v":{"$error":"#REF!"}},{"$f":"IF(#REF!<0, 1, 0)","v":{"$error":"#REF!"}},{"$f":"IF(#REF!<0, 1, 0)","v":{"$error":"#REF!"}},{"$f":"IF(#REF!<0, 1, 0)","v":{"$error":"#REF!"}},{"$f":"IF(#REF!<0, 1, 0)","v":{"$error":"#REF!"}},{"$f":"IF(#REF!<0, 1, 0)","v":{"$error":"#REF!"}},{"$f":"IF(#REF!<0, 1, 0)","v":{"$error":"#REF!"}},{"$f":"IF(#REF!<0, 1, 0)","v":{"$error":"#REF!"}},null,null,null,null,null,null,null,null,null,null,null,null,null,null,null,null,null,null,null,null,null,null,null,"RCBSCARBOROUGH GENERAL HOSPITAL","RCBCA","SCARBOROUGH GENERAL HOSPITAL","RCBCA","SCARBOROUGH GENERAL HOSPITAL","RCB",null,null,"ROYAL BOLTON HOSPITAL","Ward C1"]
[null,null,null,{"$f":"IF(#REF!=\"\", IF(#REF!=\"\", 0,1),0)","v":{"$error":"#REF!"}},null,null,null,null,{"$f":"IF(#REF!<0, 1, 0)","v":{"$error":"#REF!"}},{"$f":"IF(#REF!<0, 1, 0)","v":{"$error":"#REF!"}},{"$f":"IF(#REF!<0, 1, 0)","v":{"$error":"#REF!"}},{"$f":"IF(#REF!<0, 1, 0)","v":{"$error":"#REF!"}},{"$f":"IF(#REF!<0, 1, 0)","v":{"$error":"#REF!"}},{"$f":"IF(#REF!<0, 1, 0)","v":{"$error":"#REF!"}},{"$f":"IF(#REF!<0, 1, 0)","v":{"$error":"#REF!"}},{"$f":"IF(#REF!<0, 1, 0)","v":{"$error":"#REF!"}},{"$f":"IF(#REF!<0, 1, 0)","v":{"$error":"#REF!"}},{"$f":"IF(#REF!<0, 1, 0)","v":{"$error":"#REF!"}},{"$f":"IF(#REF!<0, 1, 0)","v":{"$error":"#REF!"}},{"$f":"IF(#REF!<0, 1, 0)","v":{"$error":"#REF!"}},{"$f":"IF(#REF!<0, 1, 0)","v":{"$error":"#REF!"}},{"$f":"IF(#REF!<0, 1, 0)","v":{"$error":"#REF!"}},{"$f":"IF(#REF!<0, 1, 0)","v":{"$error":"#REF!"}},{"$f":"IF(#REF!<0, 1, 0)","v":{"$error":"#REF!"}},{"$f":"IF(#REF!<0, 1, 0)","v":{"$error":"#REF!"}},{"$f":"IF(#REF!<0, 1, 0)","v":{"$error":"#REF!"}},{"$f":"IF(#REF!<0, 1, 0)","v":{"$error":"#REF!"}},{"$f":"IF(#REF!<0, 1, 0)","v":{"$error":"#REF!"}},{"$f":"IF(#REF!<0, 1, 0)","v":{"$error":"#REF!"}},null,null,null,null,null,null,null,{"$f":"IF(#REF!<0, 1, 0)","v":{"$error":"#REF!"}},{"$f":"IF(#REF!<0, 1, 0)","v":{"$error":"#REF!"}},{"$f":"IF(#REF!<0, 1, 0)","v":{"$error":"#REF!"}},{"$f":"IF(#REF!<0, 1, 0)","v":{"$error":"#REF!"}},{"$f":"IF(#REF!<0, 1, 0)","v":{"$error":"#REF!"}},{"$f":"IF(#REF!<0, 1, 0)","v":{"$error":"#REF!"}},{"$f":"IF(#REF!<0, 1, 0)","v":{"$error":"#REF!"}},{"$f":"IF(#REF!<0, 1, 0)","v":{"$error":"#REF!"}},{"$f":"IF(#REF!<0, 1, 0)","v":{"$error":"#REF!"}},{"$f":"IF(#REF!<0, 1, 0)","v":{"$error":"#REF!"}},null,null,null,null,null,null,null,null,null,null,null,null,null,null,null,null,null,null,null,null,null,null,null,"RCBSELBY AND DISTRICT WAR MEMORIAL HOSPITAL","RCB07","SELBY AND DISTRICT WAR MEMORIAL HOSPITAL","RCB07","SELBY AND DISTRICT WAR MEMORIAL HOSPITAL","RCB",null,null,"ROYAL BOLTON HOSPITAL","Ward C2"]
[null,null,null,{"$f":"IF(#REF!=\"\", IF(#REF!=\"\", 0,1),0)","v":{"$error":"#REF!"}},null,null,null,null,{"$f":"IF(#REF!<0, 1, 0)","v":{"$error":"#REF!"}},{"$f":"IF(#REF!<0, 1, 0)","v":{"$error":"#REF!"}},{"$f":"IF(#REF!<0, 1, 0)","v":{"$error":"#REF!"}},{"$f":"IF(#REF!<0, 1, 0)","v":{"$error":"#REF!"}},{"$f":"IF(#REF!<0, 1, 0)","v":{"$error":"#REF!"}},{"$f":"IF(#REF!<0, 1, 0)","v":{"$error":"#REF!"}},{"$f":"IF(#REF!<0, 1, 0)","v":{"$error":"#REF!"}},{"$f":"IF(#REF!<0, 1, 0)","v":{"$error":"#REF!"}},{"$f":"IF(#REF!<0, 1, 0)","v":{"$error":"#REF!"}},{"$f":"IF(#REF!<0, 1, 0)","v":{"$error":"#REF!"}},{"$f":"IF(#REF!<0, 1, 0)","v":{"$error":"#REF!"}},{"$f":"IF(#REF!<0, 1, 0)","v":{"$error":"#REF!"}},{"$f":"IF(#REF!<0, 1, 0)","v":{"$error":"#REF!"}},{"$f":"IF(#REF!<0, 1, 0)","v":{"$error":"#REF!"}},{"$f":"IF(#REF!<0, 1, 0)","v":{"$error":"#REF!"}},{"$f":"IF(#REF!<0, 1, 0)","v":{"$error":"#REF!"}},{"$f":"IF(#REF!<0, 1, 0)","v":{"$error":"#REF!"}},{"$f":"IF(#REF!<0, 1, 0)","v":{"$error":"#REF!"}},{"$f":"IF(#REF!<0, 1, 0)","v":{"$error":"#REF!"}},{"$f":"IF(#REF!<0, 1, 0)","v":{"$error":"#REF!"}},{"$f":"IF(#REF!<0, 1, 0)","v":{"$error":"#REF!"}},null,null,null,null,null,null,null,{"$f":"IF(#REF!<0, 1, 0)","v":{"$error":"#REF!"}},{"$f":"IF(#REF!<0, 1, 0)","v":{"$error":"#REF!"}},{"$f":"IF(#REF!<0, 1, 0)","v":{"$error":"#REF!"}},{"$f":"IF(#REF!<0, 1, 0)","v":{"$error":"#REF!"}},{"$f":"IF(#REF!<0, 1, 0)","v":{"$error":"#REF!"}},{"$f":"IF(#REF!<0, 1, 0)","v":{"$error":"#REF!"}},{"$f":"IF(#REF!<0, 1, 0)","v":{"$error":"#REF!"}},{"$f":"IF(#REF!<0, 1, 0)","v":{"$error":"#REF!"}},{"$f":"IF(#REF!<0, 1, 0)","v":{"$error":"#REF!"}},{"$f":"IF(#REF!<0, 1, 0)","v":{"$error":"#REF!"}},null,null,null,null,null,null,null,null,null,null,null,null,null,null,null,null,null,null,null,null,null,null,null,"RCBST HELENS REHABILITATION HOSPITAL","RCBTV","ST HELENS REHABILITATION HOSPITAL","RCBTV","ST HELENS REHABILITATION HOSPITAL","RCB",null,null,"ROYAL BOLTON HOSPITAL","Ward C3"]
[null,null,null,{"$f":"IF(#REF!=\"\", IF(#REF!=\"\", 0,1),0)","v":{"$error":"#REF!"}},null,null,null,null,{"$f":"IF(#REF!<0, 1, 0)","v":{"$error":"#REF!"}},{"$f":"IF(#REF!<0, 1, 0)","v":{"$error":"#REF!"}},{"$f":"IF(#REF!<0, 1, 0)","v":{"$error":"#REF!"}},{"$f":"IF(#REF!<0, 1, 0)","v":{"$error":"#REF!"}},{"$f":"IF(#REF!<0, 1, 0)","v":{"$error":"#REF!"}},{"$f":"IF(#REF!<0, 1, 0)","v":{"$error":"#REF!"}},{"$f":"IF(#REF!<0, 1, 0)","v":{"$error":"#REF!"}},{"$f":"IF(#REF!<0, 1, 0)","v":{"$error":"#REF!"}},{"$f":"IF(#REF!<0, 1, 0)","v":{"$error":"#REF!"}},{"$f":"IF(#REF!<0, 1, 0)","v":{"$error":"#REF!"}},{"$f":"IF(#REF!<0, 1, 0)","v":{"$error":"#REF!"}},{"$f":"IF(#REF!<0, 1, 0)","v":{"$error":"#REF!"}},{"$f":"IF(#REF!<0, 1, 0)","v":{"$error":"#REF!"}},{"$f":"IF(#REF!<0, 1, 0)","v":{"$error":"#REF!"}},{"$f":"IF(#REF!<0, 1, 0)","v":{"$error":"#REF!"}},{"$f":"IF(#REF!<0, 1, 0)","v":{"$error":"#REF!"}},{"$f":"IF(#REF!<0, 1, 0)","v":{"$error":"#REF!"}},{"$f":"IF(#REF!<0, 1, 0)","v":{"$error":"#REF!"}},{"$f":"IF(#REF!<0, 1, 0)","v":{"$error":"#REF!"}},{"$f":"IF(#REF!<0, 1, 0)","v":{"$error":"#REF!"}},{"$f":"IF(#REF!<0, 1, 0)","v":{"$error":"#REF!"}},null,null,null,null,null,null,null,{"$f":"IF(#REF!<0, 1, 0)","v":{"$error":"#REF!"}},{"$f":"IF(#REF!<0, 1, 0)","v":{"$error":"#REF!"}},{"$f":"IF(#REF!<0, 1, 0)","v":{"$error":"#REF!"}},{"$f":"IF(#REF!<0, 1, 0)","v":{"$error":"#REF!"}},{"$f":"IF(#REF!<0, 1, 0)","v":{"$error":"#REF!"}},{"$f":"IF(#REF!<0, 1, 0)","v":{"$error":"#REF!"}},{"$f":"IF(#REF!<0, 1, 0)","v":{"$error":"#REF!"}},{"$f":"IF(#REF!<0, 1, 0)","v":{"$error":"#REF!"}},{"$f":"IF(#REF!<0, 1, 0)","v":{"$error":"#REF!"}},{"$f":"IF(#REF!<0, 1, 0)","v":{"$error":"#REF!"}},null,null,null,null,null,null,null,null,null,null,null,null,null,null,null,null,null,null,null,null,null,null,null,"RCBST MARY'S HOSPITAL","RCBN2","ST MARY'S HOSPITAL","RCBN2","ST MARY'S HOSPITAL","RCB",null,null,"ROYAL BOLTON HOSPITAL","Ward C4"]
[null,null,null,{"$f":"IF(#REF!=\"\", IF(#REF!=\"\", 0,1),0)","v":{"$error":"#REF!"}},null,null,null,null,{"$f":"IF(#REF!<0, 1, 0)","v":{"$error":"#REF!"}},{"$f":"IF(#REF!<0, 1, 0)","v":{"$error":"#REF!"}},{"$f":"IF(#REF!<0, 1, 0)","v":{"$error":"#REF!"}},{"$f":"IF(#REF!<0, 1, 0)","v":{"$error":"#REF!"}},{"$f":"IF(#REF!<0, 1, 0)","v":{"$error":"#REF!"}},{"$f":"IF(#REF!<0, 1, 0)","v":{"$error":"#REF!"}},{"$f":"IF(#REF!<0, 1, 0)","v":{"$error":"#REF!"}},{"$f":"IF(#REF!<0, 1, 0)","v":{"$error":"#REF!"}},{"$f":"IF(#REF!<0, 1, 0)","v":{"$error":"#REF!"}},{"$f":"IF(#REF!<0, 1, 0)","v":{"$error":"#REF!"}},{"$f":"IF(#REF!<0, 1, 0)","v":{"$error":"#REF!"}},{"$f":"IF(#REF!<0, 1, 0)","v":{"$error":"#REF!"}},{"$f":"IF(#REF!<0, 1, 0)","v":{"$error":"#REF!"}},{"$f":"IF(#REF!<0, 1, 0)","v":{"$error":"#REF!"}},{"$f":"IF(#REF!<0, 1, 0)","v":{"$error":"#REF!"}},{"$f":"IF(#REF!<0, 1, 0)","v":{"$error":"#REF!"}},{"$f":"IF(#REF!<0, 1, 0)","v":{"$error":"#REF!"}},{"$f":"IF(#REF!<0, 1, 0)","v":{"$error":"#REF!"}},{"$f":"IF(#REF!<0, 1, 0)","v":{"$error":"#REF!"}},{"$f":"IF(#REF!<0, 1, 0)","v":{"$error":"#REF!"}},{"$f":"IF(#REF!<0, 1, 0)","v":{"$error":"#REF!"}},null,null,null,null,null,null,null,{"$f":"IF(#REF!<0, 1, 0)","v":{"$error":"#REF!"}},{"$f":"IF(#REF!<0, 1, 0)","v":{"$error":"#REF!"}},{"$f":"IF(#REF!<0, 1, 0)","v":{"$error":"#REF!"}},{"$f":"IF(#REF!<0, 1, 0)","v":{"$error":"#REF!"}},{"$f":"IF(#REF!<0, 1, 0)","v":{"$error":"#REF!"}},{"$f":"IF(#REF!<0, 1, 0)","v":{"$error":"#REF!"}},{"$f":"IF(#REF!<0, 1, 0)","v":{"$error":"#REF!"}},{"$f":"IF(#REF!<0, 1, 0)","v":{"$error":"#REF!"}},{"$f":"IF(#REF!<0, 1, 0)","v":{"$error":"#REF!"}},{"$f":"IF(#REF!<0, 1, 0)","v":{"$error":"#REF!"}},null,null,null,null,null,null,null,null,null,null,null,null,null,null,null,null,null,null,null,null,null,null,null,"RCBST MONICAS HOSPITAL","RCB05","ST MONICAS HOSPITAL","RCB05","ST MONICAS HOSPITAL","RCB",null,null,"ROYAL BOLTON HOSPITAL","Ward D3"]
[null,null,null,{"$f":"IF(#REF!=\"\", IF(#REF!=\"\", 0,1),0)","v":{"$error":"#REF!"}},null,null,null,null,{"$f":"IF(#REF!<0, 1, 0)","v":{"$error":"#REF!"}},{"$f":"IF(#REF!<0, 1, 0)","v":{"$error":"#REF!"}},{"$f":"IF(#REF!<0, 1, 0)","v":{"$error":"#REF!"}},{"$f":"IF(#REF!<0, 1, 0)","v":{"$error":"#REF!"}},{"$f":"IF(#REF!<0, 1, 0)","v":{"$error":"#REF!"}},{"$f":"IF(#REF!<0, 1, 0)","v":{"$error":"#REF!"}},{"$f":"IF(#REF!<0, 1, 0)","v":{"$error":"#REF!"}},{"$f":"IF(#REF!<0, 1, 0)","v":{"$error":"#REF!"}},{"$f":"IF(#REF!<0, 1, 0)","v":{"$error":"#REF!"}},{"$f":"IF(#REF!<0, 1, 0)","v":{"$error":"#REF!"}},{"$f":"IF(#REF!<0, 1, 0)","v":{"$error":"#REF!"}},{"$f":"IF(#REF!<0, 1, 0)","v":{"$error":"#REF!"}},{"$f":"IF(#REF!<0, 1, 0)","v":{"$error":"#REF!"}},{"$f":"IF(#REF!<0, 1, 0)","v":{"$error":"#REF!"}},{"$f":"IF(#REF!<0, 1, 0)","v":{"$error":"#REF!"}},{"$f":"IF(#REF!<0, 1, 0)","v":{"$error":"#REF!"}},{"$f":"IF(#REF!<0, 1, 0)","v":{"$error":"#REF!"}},{"$f":"IF(#REF!<0, 1, 0)","v":{"$error":"#REF!"}},{"$f":"IF(#REF!<0, 1, 0)","v":{"$error":"#REF!"}},{"$f":"IF(#REF!<0, 1, 0)","v":{"$error":"#REF!"}},{"$f":"IF(#REF!<0, 1, 0)","v":{"$error":"#REF!"}},null,null,null,null,null,null,null,{"$f":"IF(#REF!<0, 1, 0)","v":{"$error":"#REF!"}},{"$f":"IF(#REF!<0, 1, 0)","v":{"$error":"#REF!"}},{"$f":"IF(#REF!<0, 1, 0)","v":{"$error":"#REF!"}},{"$f":"IF(#REF!<0, 1, 0)","v":{"$error":"#REF!"}},{"$f":"IF(#REF!<0, 1, 0)","v":{"$error":"#REF!"}},{"$f":"IF(#REF!<0, 1, 0)","v":{"$error":"#REF!"}},{"$f":"IF(#REF!<0, 1, 0)","v":{"$error":"#REF!"}},{"$f":"IF(#REF!<0, 1, 0)","v":{"$error":"#REF!"}},{"$f":"IF(#REF!<0, 1, 0)","v":{"$error":"#REF!"}},{"$f":"IF(#REF!<0, 1, 0)","v":{"$error":"#REF!"}},null,null,null,null,null,null,null,null,null,null,null,null,null,null,null,null,null,null,null,null,null,null,null,"RCBWHITBY COMMUNITY HOSPITAL","RCBG1","WHITBY COMMUNITY HOSPITAL","RCBG1","WHITBY COMMUNITY HOSPITAL","RCB",null,null,"ROYAL BOLTON HOSPITAL","Ward D4"]
[null,null,null,{"$f":"IF(#REF!=\"\", IF(#REF!=\"\", 0,1),0)","v":{"$error":"#REF!"}},null,null,null,null,{"$f":"IF(#REF!<0, 1, 0)","v":{"$error":"#REF!"}},{"$f":"IF(#REF!<0, 1, 0)","v":{"$error":"#REF!"}},{"$f":"IF(#REF!<0, 1, 0)","v":{"$error":"#REF!"}},{"$f":"IF(#REF!<0, 1, 0)","v":{"$error":"#REF!"}},{"$f":"IF(#REF!<0, 1, 0)","v":{"$error":"#REF!"}},{"$f":"IF(#REF!<0, 1, 0)","v":{"$error":"#REF!"}},{"$f":"IF(#REF!<0, 1, 0)","v":{"$error":"#REF!"}},{"$f":"IF(#REF!<0, 1, 0)","v":{"$error":"#REF!"}},{"$f":"IF(#REF!<0, 1, 0)","v":{"$error":"#REF!"}},{"$f":"IF(#REF!<0, 1, 0)","v":{"$error":"#REF!"}},{"$f":"IF(#REF!<0, 1, 0)","v":{"$error":"#REF!"}},{"$f":"IF(#REF!<0, 1, 0)","v":{"$error":"#REF!"}},{"$f":"IF(#REF!<0, 1, 0)","v":{"$error":"#REF!"}},{"$f":"IF(#REF!<0, 1, 0)","v":{"$error":"#REF!"}},{"$f":"IF(#REF!<0, 1, 0)","v":{"$error":"#REF!"}},{"$f":"IF(#REF!<0, 1, 0)","v":{"$error":"#REF!"}},{"$f":"IF(#REF!<0, 1, 0)","v":{"$error":"#REF!"}},{"$f":"IF(#REF!<0, 1, 0)","v":{"$error":"#REF!"}},{"$f":"IF(#REF!<0, 1, 0)","v":{"$error":"#REF!"}},{"$f":"IF(#REF!<0, 1, 0)","v":{"$error":"#REF!"}},{"$f":"IF(#REF!<0, 1, 0)","v":{"$error":"#REF!"}},null,null,null,null,null,null,null,{"$f":"IF(#REF!<0, 1, 0)","v":{"$error":"#REF!"}},{"$f":"IF(#REF!<0, 1, 0)","v":{"$error":"#REF!"}},{"$f":"IF(#REF!<0, 1, 0)","v":{"$error":"#REF!"}},{"$f":"IF(#REF!<0, 1, 0)","v":{"$error":"#REF!"}},{"$f":"IF(#REF!<0, 1, 0)","v":{"$error":"#REF!"}},{"$f":"IF(#REF!<0, 1, 0)","v":{"$error":"#REF!"}},{"$f":"IF(#REF!<0, 1, 0)","v":{"$error":"#REF!"}},{"$f":"IF(#REF!<0, 1, 0)","v":{"$error":"#REF!"}},{"$f":"IF(#REF!<0, 1, 0)","v":{"$error":"#REF!"}},{"$f":"IF(#REF!<0, 1, 0)","v":{"$error":"#REF!"}},null,null,null,null,null,null,null,null,null,null,null,null,null,null,null,null,null,null,null,null,null,null,null,"RCBWHITE CROSS REHABILITATION HOSPITAL","RCBP9","WHITE CROSS REHABILITATION HOSPITAL","RCBP9","WHITE CROSS REHABILITATION HOSPITAL","RCB",null,null,"ROYAL BOLTON HOSPITAL","Ward E3"]
[null,null,null,{"$f":"IF(#REF!=\"\", IF(#REF!=\"\", 0,1),0)","v":{"$error":"#REF!"}},null,null,null,null,{"$f":"IF(#REF!<0, 1, 0)","v":{"$error":"#REF!"}},{"$f":"IF(#REF!<0, 1, 0)","v":{"$error":"#REF!"}},{"$f":"IF(#REF!<0, 1, 0)","v":{"$error":"#REF!"}},{"$f":"IF(#REF!<0, 1, 0)","v":{"$error":"#REF!"}},{"$f":"IF(#REF!<0, 1, 0)","v":{"$error":"#REF!"}},{"$f":"IF(#REF!<0, 1, 0)","v":{"$error":"#REF!"}},{"$f":"IF(#REF!<0, 1, 0)","v":{"$error":"#REF!"}},{"$f":"IF(#REF!<0, 1, 0)","v":{"$error":"#REF!"}},{"$f":"IF(#REF!<0, 1, 0)","v":{"$error":"#REF!"}},{"$f":"IF(#REF!<0, 1, 0)","v":{"$error":"#REF!"}},{"$f":"IF(#REF!<0, 1, 0)","v":{"$error":"#REF!"}},{"$f":"IF(#REF!<0, 1, 0)","v":{"$error":"#REF!"}},{"$f":"IF(#REF!<0, 1, 0)","v":{"$error":"#REF!"}},{"$f":"IF(#REF!<0, 1, 0)","v":{"$error":"#REF!"}},{"$f":"IF(#REF!<0, 1, 0)","v":{"$error":"#REF!"}},{"$f":"IF(#REF!<0, 1, 0)","v":{"$error":"#REF!"}},{"$f":"IF(#REF!<0, 1, 0)","v":{"$error":"#REF!"}},{"$f":"IF(#REF!<0, 1, 0)","v":{"$error":"#REF!"}},{"$f":"IF(#REF!<0, 1, 0)","v":{"$error":"#REF!"}},{"$f":"IF(#REF!<0, 1, 0)","v":{"$error":"#REF!"}},{"$f":"IF(#REF!<0, 1, 0)","v":{"$error":"#REF!"}},null,null,null,null,null,null,null,{"$f":"IF(#REF!<0, 1, 0)","v":{"$error":"#REF!"}},{"$f":"IF(#REF!<0, 1, 0)","v":{"$error":"#REF!"}},{"$f":"IF(#REF!<0, 1, 0)","v":{"$error":"#REF!"}},{"$f":"IF(#REF!<0, 1, 0)","v":{"$error":"#REF!"}},{"$f":"IF(#REF!<0, 1, 0)","v":{"$error":"#REF!"}},{"$f":"IF(#REF!<0, 1, 0)","v":{"$error":"#REF!"}},{"$f":"IF(#REF!<0, 1, 0)","v":{"$error":"#REF!"}},{"$f":"IF(#REF!<0, 1, 0)","v":{"$error":"#REF!"}},{"$f":"IF(#REF!<0, 1, 0)","v":{"$error":"#REF!"}},{"$f":"IF(#REF!<0, 1, 0)","v":{"$error":"#REF!"}},null,null,null,null,null,null,null,null,null,null,null,null,null,null,null,null,null,null,null,null,null,null,null,"RCBYORK HOSPITAL","RCB55","YORK HOSPITAL","RCB55","YORK HOSPITAL","RCB",null,null,"ROYAL BOLTON HOSPITAL","Ward E4"]
[null,null,null,{"$f":"IF(#REF!=\"\", IF(#REF!=\"\", 0,1),0)","v":{"$error":"#REF!"}},null,null,null,null,{"$f":"IF(#REF!<0, 1, 0)","v":{"$error":"#REF!"}},{"$f":"IF(#REF!<0, 1, 0)","v":{"$error":"#REF!"}},{"$f":"IF(#REF!<0, 1, 0)","v":{"$error":"#REF!"}},{"$f":"IF(#REF!<0, 1, 0)","v":{"$error":"#REF!"}},{"$f":"IF(#REF!<0, 1, 0)","v":{"$error":"#REF!"}},{"$f":"IF(#REF!<0, 1, 0)","v":{"$error":"#REF!"}},{"$f":"IF(#REF!<0, 1, 0)","v":{"$error":"#REF!"}},{"$f":"IF(#REF!<0, 1, 0)","v":{"$error":"#REF!"}},{"$f":"IF(#REF!<0, 1, 0)","v":{"$error":"#REF!"}},{"$f":"IF(#REF!<0, 1, 0)","v":{"$error":"#REF!"}},{"$f":"IF(#REF!<0, 1, 0)","v":{"$error":"#REF!"}},{"$f":"IF(#REF!<0, 1, 0)","v":{"$error":"#REF!"}},{"$f":"IF(#REF!<0, 1, 0)","v":{"$error":"#REF!"}},{"$f":"IF(#REF!<0, 1, 0)","v":{"$error":"#REF!"}},{"$f":"IF(#REF!<0, 1, 0)","v":{"$error":"#REF!"}},{"$f":"IF(#REF!<0, 1, 0)","v":{"$error":"#REF!"}},{"$f":"IF(#REF!<0, 1, 0)","v":{"$error":"#REF!"}},{"$f":"IF(#REF!<0, 1, 0)","v":{"$error":"#REF!"}},{"$f":"IF(#REF!<0, 1, 0)","v":{"$error":"#REF!"}},{"$f":"IF(#REF!<0, 1, 0)","v":{"$error":"#REF!"}},{"$f":"IF(#REF!<0, 1, 0)","v":{"$error":"#REF!"}},null,null,null,null,null,null,null,{"$f":"IF(#REF!<0, 1, 0)","v":{"$error":"#REF!"}},{"$f":"IF(#REF!<0, 1, 0)","v":{"$error":"#REF!"}},{"$f":"IF(#REF!<0, 1, 0)","v":{"$error":"#REF!"}},{"$f":"IF(#REF!<0, 1, 0)","v":{"$error":"#REF!"}},{"$f":"IF(#REF!<0, 1, 0)","v":{"$error":"#REF!"}},{"$f":"IF(#REF!<0, 1, 0)","v":{"$error":"#REF!"}},{"$f":"IF(#REF!<0, 1, 0)","v":{"$error":"#REF!"}},{"$f":"IF(#REF!<0, 1, 0)","v":{"$error":"#REF!"}},{"$f":"IF(#REF!<0, 1, 0)","v":{"$error":"#REF!"}},{"$f":"IF(#REF!<0, 1, 0)","v":{"$error":"#REF!"}},null,null,null,null,null,null,null,null,null,null,null,null,null,null,null,null,null,null,null,null,null,null,null,"RCDHARROGATE DISTRICT HOSPITAL","RCD01","HARROGATE DISTRICT HOSPITAL","RCD01","HARROGATE DISTRICT HOSPITAL","RCD",null,null,"ROYAL BOLTON HOSPITAL","Ward E5"]
[null,null,null,{"$f":"IF(#REF!=\"\", IF(#REF!=\"\", 0,1),0)","v":{"$error":"#REF!"}},null,null,null,null,{"$f":"IF(#REF!<0, 1, 0)","v":{"$error":"#REF!"}},{"$f":"IF(#REF!<0, 1, 0)","v":{"$error":"#REF!"}},{"$f":"IF(#REF!<0, 1, 0)","v":{"$error":"#REF!"}},{"$f":"IF(#REF!<0, 1, 0)","v":{"$error":"#REF!"}},{"$f":"IF(#REF!<0, 1, 0)","v":{"$error":"#REF!"}},{"$f":"IF(#REF!<0, 1, 0)","v":{"$error":"#REF!"}},{"$f":"IF(#REF!<0, 1, 0)","v":{"$error":"#REF!"}},{"$f":"IF(#REF!<0, 1, 0)","v":{"$error":"#REF!"}},{"$f":"IF(#REF!<0, 1, 0)","v":{"$error":"#REF!"}},{"$f":"IF(#REF!<0, 1, 0)","v":{"$error":"#REF!"}},{"$f":"IF(#REF!<0, 1, 0)","v":{"$error":"#REF!"}},{"$f":"IF(#REF!<0, 1, 0)","v":{"$error":"#REF!"}},{"$f":"IF(#REF!<0, 1, 0)","v":{"$error":"#REF!"}},{"$f":"IF(#REF!<0, 1, 0)","v":{"$error":"#REF!"}},{"$f":"IF(#REF!<0, 1, 0)","v":{"$error":"#REF!"}},{"$f":"IF(#REF!<0, 1, 0)","v":{"$error":"#REF!"}},{"$f":"IF(#REF!<0, 1, 0)","v":{"$error":"#REF!"}},{"$f":"IF(#REF!<0, 1, 0)","v":{"$error":"#REF!"}},{"$f":"IF(#REF!<0, 1, 0)","v":{"$error":"#REF!"}},{"$f":"IF(#REF!<0, 1, 0)","v":{"$error":"#REF!"}},{"$f":"IF(#REF!<0, 1, 0)","v":{"$error":"#REF!"}},null,null,null,null,null,null,null,{"$f":"IF(#REF!<0, 1, 0)","v":{"$error":"#REF!"}},{"$f":"IF(#REF!<0, 1, 0)","v":{"$error":"#REF!"}},{"$f":"IF(#REF!<0, 1, 0)","v":{"$error":"#REF!"}},{"$f":"IF(#REF!<0, 1, 0)","v":{"$error":"#REF!"}},{"$f":"IF(#REF!<0, 1, 0)","v":{"$error":"#REF!"}},{"$f":"IF(#REF!<0, 1, 0)","v":{"$error":"#REF!"}},{"$f":"IF(#REF!<0, 1, 0)","v":{"$error":"#REF!"}},{"$f":"IF(#REF!<0, 1, 0)","v":{"$error":"#REF!"}},{"$f":"IF(#REF!<0, 1, 0)","v":{"$error":"#REF!"}},{"$f":"IF(#REF!<0, 1, 0)","v":{"$error":"#REF!"}},null,null,null,null,null,null,null,null,null,null,null,null,null,null,null,null,null,null,null,null,null,null,null,"RCDLANCASTER PARK ROAD (SITE 2)","RCD22","LANCASTER PARK ROAD (SITE 2)","RCD22","LANCASTER PARK ROAD (SITE 2)","RCD",null,null,"ROYAL BOLTON HOSPITAL","Ward F4"]
[null,null,null,{"$f":"IF(#REF!=\"\", IF(#REF!=\"\", 0,1),0)","v":{"$error":"#REF!"}},null,null,null,null,{"$f":"IF(#REF!<0, 1, 0)","v":{"$error":"#REF!"}},{"$f":"IF(#REF!<0, 1, 0)","v":{"$error":"#REF!"}},{"$f":"IF(#REF!<0, 1, 0)","v":{"$error":"#REF!"}},{"$f":"IF(#REF!<0, 1, 0)","v":{"$error":"#REF!"}},{"$f":"IF(#REF!<0, 1, 0)","v":{"$error":"#REF!"}},{"$f":"IF(#REF!<0, 1, 0)","v":{"$error":"#REF!"}},{"$f":"IF(#REF!<0, 1, 0)","v":{"$error":"#REF!"}},{"$f":"IF(#REF!<0, 1, 0)","v":{"$error":"#REF!"}},{"$f":"IF(#REF!<0, 1, 0)","v":{"$error":"#REF!"}},{"$f":"IF(#REF!<0, 1, 0)","v":{"$error":"#REF!"}},{"$f":"IF(#REF!<0, 1, 0)","v":{"$error":"#REF!"}},{"$f":"IF(#REF!<0, 1, 0)","v":{"$error":"#REF!"}},{"$f":"IF(#REF!<0, 1, 0)","v":{"$error":"#REF!"}},{"$f":"IF(#REF!<0, 1, 0)","v":{"$error":"#REF!"}},{"$f":"IF(#REF!<0, 1, 0)","v":{"$error":"#REF!"}},{"$f":"IF(#REF!<0, 1, 0)","v":{"$error":"#REF!"}},{"$f":"IF(#REF!<0, 1, 0)","v":{"$error":"#REF!"}},{"$f":"IF(#REF!<0, 1, 0)","v":{"$error":"#REF!"}},{"$f":"IF(#REF!<0, 1, 0)","v":{"$error":"#REF!"}},{"$f":"IF(#REF!<0, 1, 0)","v":{"$error":"#REF!"}},{"$f":"IF(#REF!<0, 1, 0)","v":{"$error":"#REF!"}},null,null,null,null,null,null,null,{"$f":"IF(#REF!<0, 1, 0)","v":{"$error":"#REF!"}},{"$f":"IF(#REF!<0, 1, 0)","v":{"$error":"#REF!"}},{"$f":"IF(#REF!<0, 1, 0)","v":{"$error":"#REF!"}},{"$f":"IF(#REF!<0, 1, 0)","v":{"$error":"#REF!"}},{"$f":"IF(#REF!<0, 1, 0)","v":{"$error":"#REF!"}},{"$f":"IF(#REF!<0, 1, 0)","v":{"$error":"#REF!"}},{"$f":"IF(#REF!<0, 1, 0)","v":{"$error":"#REF!"}},{"$f":"IF(#REF!<0, 1, 0)","v":{"$error":"#REF!"}},{"$f":"IF(#REF!<0, 1, 0)","v":{"$error":"#REF!"}},{"$f":"IF(#REF!<0, 1, 0)","v":{"$error":"#REF!"}},null,null,null,null,null,null,null,null,null,null,null,null,null,null,null,null,null,null,null,null,null,null,null,"RCDLANCASTER PARK ROAD (SITE 3)","RCD23","LANCASTER PARK ROAD (SITE 3)","RCD23","LANCASTER PARK ROAD (SITE 3)","RCD",null,null,"ROYAL BOLTON HOSPITAL","Ward G3"]
[null,null,null,{"$f":"IF(#REF!=\"\", IF(#REF!=\"\", 0,1),0)","v":{"$error":"#REF!"}},null,null,null,null,{"$f":"IF(#REF!<0, 1, 0)","v":{"$error":"#REF!"}},{"$f":"IF(#REF!<0, 1, 0)","v":{"$error":"#REF!"}},{"$f":"IF(#REF!<0, 1, 0)","v":{"$error":"#REF!"}},{"$f":"IF(#REF!<0, 1, 0)","v":{"$error":"#REF!"}},{"$f":"IF(#REF!<0, 1, 0)","v":{"$error":"#REF!"}},{"$f":"IF(#REF!<0, 1, 0)","v":{"$error":"#REF!"}},{"$f":"IF(#REF!<0, 1, 0)","v":{"$error":"#REF!"}},{"$f":"IF(#REF!<0, 1, 0)","v":{"$error":"#REF!"}},{"$f":"IF(#REF!<0, 1, 0)","v":{"$error":"#REF!"}},{"$f":"IF(#REF!<0, 1, 0)","v":{"$error":"#REF!"}},{"$f":"IF(#REF!<0, 1, 0)","v":{"$error":"#REF!"}},{"$f":"IF(#REF!<0, 1, 0)","v":{"$error":"#REF!"}},{"$f":"IF(#REF!<0, 1, 0)","v":{"$error":"#REF!"}},{"$f":"IF(#REF!<0, 1, 0)","v":{"$error":"#REF!"}},{"$f":"IF(#REF!<0, 1, 0)","v":{"$error":"#REF!"}},{"$f":"IF(#REF!<0, 1, 0)","v":{"$error":"#REF!"}},{"$f":"IF(#REF!<0, 1, 0)","v":{"$error":"#REF!"}},{"$f":"IF(#REF!<0, 1, 0)","v":{"$error":"#REF!"}},{"$f":"IF(#REF!<0, 1, 0)","v":{"$error":"#REF!"}},{"$f":"IF(#REF!<0, 1, 0)","v":{"$error":"#REF!"}},{"$f":"IF(#REF!<0, 1, 0)","v":{"$error":"#REF!"}},null,null,null,null,null,null,null,{"$f":"IF(#REF!<0, 1, 0)","v":{"$error":"#REF!"}},{"$f":"IF(#REF!<0, 1, 0)","v":{"$error":"#REF!"}},{"$f":"IF(#REF!<0, 1, 0)","v":{"$error":"#REF!"}},{"$f":"IF(#REF!<0, 1, 0)","v":{"$error":"#REF!"}},{"$f":"IF(#REF!<0, 1, 0)","v":{"$error":"#REF!"}},{"$f":"IF(#REF!<0, 1, 0)","v":{"$error":"#REF!"}},{"$f":"IF(#REF!<0, 1, 0)","v":{"$error":"#REF!"}},{"$f":"IF(#REF!<0, 1, 0)","v":{"$error":"#REF!"}},{"$f":"IF(#REF!<0, 1, 0)","v":{"$error":"#REF!"}},{"$f":"IF(#REF!<0, 1, 0)","v":{"$error":"#REF!"}},null,null,null,null,null,null,null,null,null,null,null,null,null,null,null,null,null,null,null,null,null,null,null,"RCDLASCELLES YOUNGER DISABLED UNIT","RCD08","LASCELLES YOUNGER DISABLED UNIT","RCD08","LASCELLES YOUNGER DISABLED UNIT","RCD",null,null,"ROYAL BOLTON HOSPITAL","Ward G4"]
[null,null,null,{"$f":"IF(#REF!=\"\", IF(#REF!=\"\", 0,1),0)","v":{"$error":"#REF!"}},null,null,null,null,{"$f":"IF(#REF!<0, 1, 0)","v":{"$error":"#REF!"}},{"$f":"IF(#REF!<0, 1, 0)","v":{"$error":"#REF!"}},{"$f":"IF(#REF!<0, 1, 0)","v":{"$error":"#REF!"}},{"$f":"IF(#REF!<0, 1, 0)","v":{"$error":"#REF!"}},{"$f":"IF(#REF!<0, 1, 0)","v":{"$error":"#REF!"}},{"$f":"IF(#REF!<0, 1, 0)","v":{"$error":"#REF!"}},{"$f":"IF(#REF!<0, 1, 0)","v":{"$error":"#REF!"}},{"$f":"IF(#REF!<0, 1, 0)","v":{"$error":"#REF!"}},{"$f":"IF(#REF!<0, 1, 0)","v":{"$error":"#REF!"}},{"$f":"IF(#REF!<0, 1, 0)","v":{"$error":"#REF!"}},{"$f":"IF(#REF!<0, 1, 0)","v":{"$error":"#REF!"}},{"$f":"IF(#REF!<0, 1, 0)","v":{"$error":"#REF!"}},{"$f":"IF(#REF!<0, 1, 0)","v":{"$error":"#REF!"}},{"$f":"IF(#REF!<0, 1, 0)","v":{"$error":"#REF!"}},{"$f":"IF(#REF!<0, 1, 0)","v":{"$error":"#REF!"}},{"$f":"IF(#REF!<0, 1, 0)","v":{"$error":"#REF!"}},{"$f":"IF(#REF!<0, 1, 0)","v":{"$error":"#REF!"}},{"$f":"IF(#REF!<0, 1, 0)","v":{"$error":"#REF!"}},{"$f":"IF(#REF!<0, 1, 0)","v":{"$error":"#REF!"}},{"$f":"IF(#REF!<0, 1, 0)","v":{"$error":"#REF!"}},{"$f":"IF(#REF!<0, 1, 0)","v":{"$error":"#REF!"}},null,null,null,null,null,null,null,{"$f":"IF(#REF!<0, 1, 0)","v":{"$error":"#REF!"}},{"$f":"IF(#REF!<0, 1, 0)","v":{"$error":"#REF!"}},{"$f":"IF(#REF!<0, 1, 0)","v":{"$error":"#REF!"}},{"$f":"IF(#REF!<0, 1, 0)","v":{"$error":"#REF!"}},{"$f":"IF(#REF!<0, 1, 0)","v":{"$error":"#REF!"}},{"$f":"IF(#REF!<0, 1, 0)","v":{"$error":"#REF!"}},{"$f":"IF(#REF!<0, 1, 0)","v":{"$error":"#REF!"}},{"$f":"IF(#REF!<0, 1, 0)","v":{"$error":"#REF!"}},{"$f":"IF(#REF!<0, 1, 0)","v":{"$error":"#REF!"}},{"$f":"IF(#REF!<0, 1, 0)","v":{"$error":"#REF!"}},null,null,null,null,null,null,null,null,null,null,null,null,null,null,null,null,null,null,null,null,null,null,null,"RCDRIPON AND DISTRICT COMMUNITY HOSPITAL","RCD02","RIPON AND DISTRICT COMMUNITY HOSPITAL","RCD02","RIPON AND DISTRICT COMMUNITY HOSPITAL","RCD",null,null,"ROYAL BOLTON HOSPITAL","Ward G5"]
[null,null,null,{"$f":"IF(#REF!=\"\", IF(#REF!=\"\", 0,1),0)","v":{"$error":"#REF!"}},null,null,null,null,{"$f":"IF(#REF!<0, 1, 0)","v":{"$error":"#REF!"}},{"$f":"IF(#REF!<0, 1, 0)","v":{"$error":"#REF!"}},{"$f":"IF(#REF!<0, 1, 0)","v":{"$error":"#REF!"}},{"$f":"IF(#REF!<0, 1, 0)","v":{"$error":"#REF!"}},{"$f":"IF(#REF!<0, 1, 0)","v":{"$error":"#REF!"}},{"$f":"IF(#REF!<0, 1, 0)","v":{"$error":"#REF!"}},{"$f":"IF(#REF!<0, 1, 0)","v":{"$error":"#REF!"}},{"$f":"IF(#REF!<0, 1, 0)","v":{"$error":"#REF!"}},{"$f":"IF(#REF!<0, 1, 0)","v":{"$error":"#REF!"}},{"$f":"IF(#REF!<0, 1, 0)","v":{"$error":"#REF!"}},{"$f":"IF(#REF!<0, 1, 0)","v":{"$error":"#REF!"}},{"$f":"IF(#REF!<0, 1, 0)","v":{"$error":"#REF!"}},{"$f":"IF(#REF!<0, 1, 0)","v":{"$error":"#REF!"}},{"$f":"IF(#REF!<0, 1, 0)","v":{"$error":"#REF!"}},{"$f":"IF(#REF!<0, 1, 0)","v":{"$error":"#REF!"}},{"$f":"IF(#REF!<0, 1, 0)","v":{"$error":"#REF!"}},{"$f":"IF(#REF!<0, 1, 0)","v":{"$error":"#REF!"}},{"$f":"IF(#REF!<0, 1, 0)","v":{"$error":"#REF!"}},{"$f":"IF(#REF!<0, 1, 0)","v":{"$error":"#REF!"}},{"$f":"IF(#REF!<0, 1, 0)","v":{"$error":"#REF!"}},{"$f":"IF(#REF!<0, 1, 0)","v":{"$error":"#REF!"}},null,null,null,null,null,null,null,{"$f":"IF(#REF!<0, 1, 0)","v":{"$error":"#REF!"}},{"$f":"IF(#REF!<0, 1, 0)","v":{"$error":"#REF!"}},{"$f":"IF(#REF!<0, 1, 0)","v":{"$error":"#REF!"}},{"$f":"IF(#REF!<0, 1, 0)","v":{"$error":"#REF!"}},{"$f":"IF(#REF!<0, 1, 0)","v":{"$error":"#REF!"}},{"$f":"IF(#REF!<0, 1, 0)","v":{"$error":"#REF!"}},{"$f":"IF(#REF!<0, 1, 0)","v":{"$error":"#REF!"}},{"$f":"IF(#REF!<0, 1, 0)","v":{"$error":"#REF!"}},{"$f":"IF(#REF!<0, 1, 0)","v":{"$error":"#REF!"}},{"$f":"IF(#REF!<0, 1, 0)","v":{"$error":"#REF!"}},null,null,null,null,null,null,null,null,null,null,null,null,null,null,null,null,null,null,null,null,null,null,null,"RCFAIREDALE GENERAL HOSPITAL","RCF22","AIREDALE GENERAL HOSPITAL","RCF22","AIREDALE GENERAL HOSPITAL","RCF",null,null,"ROYAL BOLTON HOSPITAL","Ward H3"]
[null,null,null,{"$f":"IF(#REF!=\"\", IF(#REF!=\"\", 0,1),0)","v":{"$error":"#REF!"}},null,null,null,null,{"$f":"IF(#REF!<0, 1, 0)","v":{"$error":"#REF!"}},{"$f":"IF(#REF!<0, 1, 0)","v":{"$error":"#REF!"}},{"$f":"IF(#REF!<0, 1, 0)","v":{"$error":"#REF!"}},{"$f":"IF(#REF!<0, 1, 0)","v":{"$error":"#REF!"}},{"$f":"IF(#REF!<0, 1, 0)","v":{"$error":"#REF!"}},{"$f":"IF(#REF!<0, 1, 0)","v":{"$error":"#REF!"}},{"$f":"IF(#REF!<0, 1, 0)","v":{"$error":"#REF!"}},{"$f":"IF(#REF!<0, 1, 0)","v":{"$error":"#REF!"}},{"$f":"IF(#REF!<0, 1, 0)","v":{"$error":"#REF!"}},{"$f":"IF(#REF!<0, 1, 0)","v":{"$error":"#REF!"}},{"$f":"IF(#REF!<0, 1, 0)","v":{"$error":"#REF!"}},{"$f":"IF(#REF!<0, 1, 0)","v":{"$error":"#REF!"}},{"$f":"IF(#REF!<0, 1, 0)","v":{"$error":"#REF!"}},{"$f":"IF(#REF!<0, 1, 0)","v":{"$error":"#REF!"}},{"$f":"IF(#REF!<0, 1, 0)","v":{"$error":"#REF!"}},{"$f":"IF(#REF!<0, 1, 0)","v":{"$error":"#REF!"}},{"$f":"IF(#REF!<0, 1, 0)","v":{"$error":"#REF!"}},{"$f":"IF(#REF!<0, 1, 0)","v":{"$error":"#REF!"}},{"$f":"IF(#REF!<0, 1, 0)","v":{"$error":"#REF!"}},{"$f":"IF(#REF!<0, 1, 0)","v":{"$error":"#REF!"}},{"$f":"IF(#REF!<0, 1, 0)","v":{"$error":"#REF!"}},null,null,null,null,null,null,null,{"$f":"IF(#REF!<0, 1, 0)","v":{"$error":"#REF!"}},{"$f":"IF(#REF!<0, 1, 0)","v":{"$error":"#REF!"}},{"$f":"IF(#REF!<0, 1, 0)","v":{"$error":"#REF!"}},{"$f":"IF(#REF!<0, 1, 0)","v":{"$error":"#REF!"}},{"$f":"IF(#REF!<0, 1, 0)","v":{"$error":"#REF!"}},{"$f":"IF(#REF!<0, 1, 0)","v":{"$error":"#REF!"}},{"$f":"IF(#REF!<0, 1, 0)","v":{"$error":"#REF!"}},{"$f":"IF(#REF!<0, 1, 0)","v":{"$error":"#REF!"}},{"$f":"IF(#REF!<0, 1, 0)","v":{"$error":"#REF!"}},{"$f":"IF(#REF!<0, 1, 0)","v":{"$error":"#REF!"}},null,null,null,null,null,null,null,null,null,null,null,null,null,null,null,null,null,null,null,null,null,null,null,"RCFBINGLEY HOSPITAL","RCF23","BINGLEY HOSPITAL","RCF23","BINGLEY HOSPITAL","RCF",null,null,"ROYAL BOLTON HOSPITAL","Ward M1"]
[null,null,null,{"$f":"IF(#REF!=\"\", IF(#REF!=\"\", 0,1),0)","v":{"$error":"#REF!"}},null,null,null,null,{"$f":"IF(#REF!<0, 1, 0)","v":{"$error":"#REF!"}},{"$f":"IF(#REF!<0, 1, 0)","v":{"$error":"#REF!"}},{"$f":"IF(#REF!<0, 1, 0)","v":{"$error":"#REF!"}},{"$f":"IF(#REF!<0, 1, 0)","v":{"$error":"#REF!"}},{"$f":"IF(#REF!<0, 1, 0)","v":{"$error":"#REF!"}},{"$f":"IF(#REF!<0, 1, 0)","v":{"$error":"#REF!"}},{"$f":"IF(#REF!<0, 1, 0)","v":{"$error":"#REF!"}},{"$f":"IF(#REF!<0, 1, 0)","v":{"$error":"#REF!"}},{"$f":"IF(#REF!<0, 1, 0)","v":{"$error":"#REF!"}},{"$f":"IF(#REF!<0, 1, 0)","v":{"$error":"#REF!"}},{"$f":"IF(#REF!<0, 1, 0)","v":{"$error":"#REF!"}},{"$f":"IF(#REF!<0, 1, 0)","v":{"$error":"#REF!"}},{"$f":"IF(#REF!<0, 1, 0)","v":{"$error":"#REF!"}},{"$f":"IF(#REF!<0, 1, 0)","v":{"$error":"#REF!"}},{"$f":"IF(#REF!<0, 1, 0)","v":{"$error":"#REF!"}},{"$f":"IF(#REF!<0, 1, 0)","v":{"$error":"#REF!"}},{"$f":"IF(#REF!<0, 1, 0)","v":{"$error":"#REF!"}},{"$f":"IF(#REF!<0, 1, 0)","v":{"$error":"#REF!"}},{"$f":"IF(#REF!<0, 1, 0)","v":{"$error":"#REF!"}},{"$f":"IF(#REF!<0, 1, 0)","v":{"$error":"#REF!"}},{"$f":"IF(#REF!<0, 1, 0)","v":{"$error":"#REF!"}},null,null,null,null,null,null,null,{"$f":"IF(#REF!<0, 1, 0)","v":{"$error":"#REF!"}},{"$f":"IF(#REF!<0, 1, 0)","v":{"$error":"#REF!"}},{"$f":"IF(#REF!<0, 1, 0)","v":{"$error":"#REF!"}},{"$f":"IF(#REF!<0, 1, 0)","v":{"$error":"#REF!"}},{"$f":"IF(#REF!<0, 1, 0)","v":{"$error":"#REF!"}},{"$f":"IF(#REF!<0, 1, 0)","v":{"$error":"#REF!"}},{"$f":"IF(#REF!<0, 1, 0)","v":{"$error":"#REF!"}},{"$f":"IF(#REF!<0, 1, 0)","v":{"$error":"#REF!"}},{"$f":"IF(#REF!<0, 1, 0)","v":{"$error":"#REF!"}},{"$f":"IF(#REF!<0, 1, 0)","v":{"$error":"#REF!"}},null,null,null,null,null,null,null,null,null,null,null,null,null,null,null,null,null,null,null,null,null,null,null,"RCFCASTLEBERG HOSPITAL","RCF30","CASTLEBERG HOSPITAL","RCF30","CASTLEBERG HOSPITAL","RCF",null,null,"ROYAL BOLTON HOSPITAL","Ward M2 - Obstetrics"]
[null,null,null,{"$f":"IF(#REF!=\"\", IF(#REF!=\"\", 0,1),0)","v":{"$error":"#REF!"}},null,null,null,null,{"$f":"IF(#REF!<0, 1, 0)","v":{"$error":"#REF!"}},{"$f":"IF(#REF!<0, 1, 0)","v":{"$error":"#REF!"}},{"$f":"IF(#REF!<0, 1, 0)","v":{"$error":"#REF!"}},{"$f":"IF(#REF!<0, 1, 0)","v":{"$error":"#REF!"}},{"$f":"IF(#REF!<0, 1, 0)","v":{"$error":"#REF!"}},{"$f":"IF(#REF!<0, 1, 0)","v":{"$error":"#REF!"}},{"$f":"IF(#REF!<0, 1, 0)","v":{"$error":"#REF!"}},{"$f":"IF(#REF!<0, 1, 0)","v":{"$error":"#REF!"}},{"$f":"IF(#REF!<0, 1, 0)","v":{"$error":"#REF!"}},{"$f":"IF(#REF!<0, 1, 0)","v":{"$error":"#REF!"}},{"$f":"IF(#REF!<0, 1, 0)","v":{"$error":"#REF!"}},{"$f":"IF(#REF!<0, 1, 0)","v":{"$error":"#REF!"}},{"$f":"IF(#REF!<0, 1, 0)","v":{"$error":"#REF!"}},{"$f":"IF(#REF!<0, 1, 0)","v":{"$error":"#REF!"}},{"$f":"IF(#REF!<0, 1, 0)","v":{"$error":"#REF!"}},{"$f":"IF(#REF!<0, 1, 0)","v":{"$error":"#REF!"}},{"$f":"IF(#REF!<0, 1, 0)","v":{"$error":"#REF!"}},{"$f":"IF(#REF!<0, 1, 0)","v":{"$error":"#REF!"}},{"$f":"IF(#REF!<0, 1, 0)","v":{"$error":"#REF!"}},{"$f":"IF(#REF!<0, 1, 0)","v":{"$error":"#REF!"}},{"$f":"IF(#REF!<0, 1, 0)","v":{"$error":"#REF!"}},null,null,null,null,null,null,null,{"$f":"IF(#REF!<0, 1, 0)","v":{"$error":"#REF!"}},{"$f":"IF(#REF!<0, 1, 0)","v":{"$error":"#REF!"}},{"$f":"IF(#REF!<0, 1, 0)","v":{"$error":"#REF!"}},{"$f":"IF(#REF!<0, 1, 0)","v":{"$error":"#REF!"}},{"$f":"IF(#REF!<0, 1, 0)","v":{"$error":"#REF!"}},{"$f":"IF(#REF!<0, 1, 0)","v":{"$error":"#REF!"}},{"$f":"IF(#REF!<0, 1, 0)","v":{"$error":"#REF!"}},{"$f":"IF(#REF!<0, 1, 0)","v":{"$error":"#REF!"}},{"$f":"IF(#REF!<0, 1, 0)","v":{"$error":"#REF!"}},{"$f":"IF(#REF!<0, 1, 0)","v":{"$error":"#REF!"}},null,null,null,null,null,null,null,null,null,null,null,null,null,null,null,null,null,null,null,null,null,null,null,"RCFCORONATION HOSPITAL","RCF26","CORONATION HOSPITAL","RCF26","CORONATION HOSPITAL","RCF",null,null,"ROYAL BOLTON HOSPITAL","Ward M4/M5 Post Natal"]
[null,null,null,{"$f":"IF(#REF!=\"\", IF(#REF!=\"\", 0,1),0)","v":{"$error":"#REF!"}},null,null,null,null,{"$f":"IF(#REF!<0, 1, 0)","v":{"$error":"#REF!"}},{"$f":"IF(#REF!<0, 1, 0)","v":{"$error":"#REF!"}},{"$f":"IF(#REF!<0, 1, 0)","v":{"$error":"#REF!"}},{"$f":"IF(#REF!<0, 1, 0)","v":{"$error":"#REF!"}},{"$f":"IF(#REF!<0, 1, 0)","v":{"$error":"#REF!"}},{"$f":"IF(#REF!<0, 1, 0)","v":{"$error":"#REF!"}},{"$f":"IF(#REF!<0, 1, 0)","v":{"$error":"#REF!"}},{"$f":"IF(#REF!<0, 1, 0)","v":{"$error":"#REF!"}},{"$f":"IF(#REF!<0, 1, 0)","v":{"$error":"#REF!"}},{"$f":"IF(#REF!<0, 1, 0)","v":{"$error":"#REF!"}},{"$f":"IF(#REF!<0, 1, 0)","v":{"$error":"#REF!"}},{"$f":"IF(#REF!<0, 1, 0)","v":{"$error":"#REF!"}},{"$f":"IF(#REF!<0, 1, 0)","v":{"$error":"#REF!"}},{"$f":"IF(#REF!<0, 1, 0)","v":{"$error":"#REF!"}},{"$f":"IF(#REF!<0, 1, 0)","v":{"$error":"#REF!"}},{"$f":"IF(#REF!<0, 1, 0)","v":{"$error":"#REF!"}},{"$f":"IF(#REF!<0, 1, 0)","v":{"$error":"#REF!"}},{"$f":"IF(#REF!<0, 1, 0)","v":{"$error":"#REF!"}},{"$f":"IF(#REF!<0, 1, 0)","v":{"$error":"#REF!"}},{"$f":"IF(#REF!<0, 1, 0)","v":{"$error":"#REF!"}},{"$f":"IF(#REF!<0, 1, 0)","v":{"$error":"#REF!"}},null,null,null,null,null,null,null,{"$f":"IF(#REF!<0, 1, 0)","v":{"$error":"#REF!"}},{"$f":"IF(#REF!<0, 1, 0)","v":{"$error":"#REF!"}},{"$f":"IF(#REF!<0, 1, 0)","v":{"$error":"#REF!"}},{"$f":"IF(#REF!<0, 1, 0)","v":{"$error":"#REF!"}},{"$f":"IF(#REF!<0, 1, 0)","v":{"$error":"#REF!"}},{"$f":"IF(#REF!<0, 1, 0)","v":{"$error":"#REF!"}},{"$f":"IF(#REF!<0, 1, 0)","v":{"$error":"#REF!"}},{"$f":"IF(#REF!<0, 1, 0)","v":{"$error":"#REF!"}},{"$f":"IF(#REF!<0, 1, 0)","v":{"$error":"#REF!"}},{"$f":"IF(#REF!<0, 1, 0)","v":{"$error":"#REF!"}},null,null,null,null,null,null,null,null,null,null,null,null,null,null,null,null,null,null,null,null,null,null,null,"RCFGROVE CONVALESCENT HOSPITAL","RCF32","GROVE CONVALESCENT HOSPITAL","RCF32","GROVE CONVALESCENT HOSPITAL","RCF",null,null,"AIREDALE CENTRE FOR MENTAL HEALTH","Bracken"]
[null,null,null,{"$f":"IF(#REF!=\"\", IF(#REF!=\"\", 0,1),0)","v":{"$error":"#REF!"}},null,null,null,null,{"$f":"IF(#REF!<0, 1, 0)","v":{"$error":"#REF!"}},{"$f":"IF(#REF!<0, 1, 0)","v":{"$error":"#REF!"}},{"$f":"IF(#REF!<0, 1, 0)","v":{"$error":"#REF!"}},{"$f":"IF(#REF!<0, 1, 0)","v":{"$error":"#REF!"}},{"$f":"IF(#REF!<0, 1, 0)","v":{"$error":"#REF!"}},{"$f":"IF(#REF!<0, 1, 0)","v":{"$error":"#REF!"}},{"$f":"IF(#REF!<0, 1, 0)","v":{"$error":"#REF!"}},{"$f":"IF(#REF!<0, 1, 0)","v":{"$error":"#REF!"}},{"$f":"IF(#REF!<0, 1, 0)","v":{"$error":"#REF!"}},{"$f":"IF(#REF!<0, 1, 0)","v":{"$error":"#REF!"}},{"$f":"IF(#REF!<0, 1, 0)","v":{"$error":"#REF!"}},{"$f":"IF(#REF!<0, 1, 0)","v":{"$error":"#REF!"}},{"$f":"IF(#REF!<0, 1, 0)","v":{"$error":"#REF!"}},{"$f":"IF(#REF!<0, 1, 0)","v":{"$error":"#REF!"}},{"$f":"IF(#REF!<0, 1, 0)","v":{"$error":"#REF!"}},{"$f":"IF(#REF!<0, 1, 0)","v":{"$error":"#REF!"}},{"$f":"IF(#REF!<0, 1, 0)","v":{"$error":"#REF!"}},{"$f":"IF(#REF!<0, 1, 0)","v":{"$error":"#REF!"}},{"$f":"IF(#REF!<0, 1, 0)","v":{"$error":"#REF!"}},{"$f":"IF(#REF!<0, 1, 0)","v":{"$error":"#REF!"}},{"$f":"IF(#REF!<0, 1, 0)","v":{"$error":"#REF!"}},null,null,null,null,null,null,null,{"$f":"IF(#REF!<0, 1, 0)","v":{"$error":"#REF!"}},{"$f":"IF(#REF!<0, 1, 0)","v":{"$error":"#REF!"}},{"$f":"IF(#REF!<0, 1, 0)","v":{"$error":"#REF!"}},{"$f":"IF(#REF!<0, 1, 0)","v":{"$error":"#REF!"}},{"$f":"IF(#REF!<0, 1, 0)","v":{"$error":"#REF!"}},{"$f":"IF(#REF!<0, 1, 0)","v":{"$error":"#REF!"}},{"$f":"IF(#REF!<0, 1, 0)","v":{"$error":"#REF!"}},{"$f":"IF(#REF!<0, 1, 0)","v":{"$error":"#REF!"}},{"$f":"IF(#REF!<0, 1, 0)","v":{"$error":"#REF!"}},{"$f":"IF(#REF!<0, 1, 0)","v":{"$error":"#REF!"}},null,null,null,null,null,null,null,null,null,null,null,null,null,null,null,null,null,null,null,null,null,null,null,"RCFSCALEBOR PARK HOSPITAL","RCF25","SCALEBOR PARK HOSPITAL","RCF25","SCALEBOR PARK HOSPITAL","RCF",null,null,"AIREDALE CENTRE FOR MENTAL HEALTH","Fern"]
[null,null,null,{"$f":"IF(#REF!=\"\", IF(#REF!=\"\", 0,1),0)","v":{"$error":"#REF!"}},null,null,null,null,{"$f":"IF(#REF!<0, 1, 0)","v":{"$error":"#REF!"}},{"$f":"IF(#REF!<0, 1, 0)","v":{"$error":"#REF!"}},{"$f":"IF(#REF!<0, 1, 0)","v":{"$error":"#REF!"}},{"$f":"IF(#REF!<0, 1, 0)","v":{"$error":"#REF!"}},{"$f":"IF(#REF!<0, 1, 0)","v":{"$error":"#REF!"}},{"$f":"IF(#REF!<0, 1, 0)","v":{"$error":"#REF!"}},{"$f":"IF(#REF!<0, 1, 0)","v":{"$error":"#REF!"}},{"$f":"IF(#REF!<0, 1, 0)","v":{"$error":"#REF!"}},{"$f":"IF(#REF!<0, 1, 0)","v":{"$error":"#REF!"}},{"$f":"IF(#REF!<0, 1, 0)","v":{"$error":"#REF!"}},{"$f":"IF(#REF!<0, 1, 0)","v":{"$error":"#REF!"}},{"$f":"IF(#REF!<0, 1, 0)","v":{"$error":"#REF!"}},{"$f":"IF(#REF!<0, 1, 0)","v":{"$error":"#REF!"}},{"$f":"IF(#REF!<0, 1, 0)","v":{"$error":"#REF!"}},{"$f":"IF(#REF!<0, 1, 0)","v":{"$error":"#REF!"}},{"$f":"IF(#REF!<0, 1, 0)","v":{"$error":"#REF!"}},{"$f":"IF(#REF!<0, 1, 0)","v":{"$error":"#REF!"}},{"$f":"IF(#REF!<0, 1, 0)","v":{"$error":"#REF!"}},{"$f":"IF(#REF!<0, 1, 0)","v":{"$error":"#REF!"}},{"$f":"IF(#REF!<0, 1, 0)","v":{"$error":"#REF!"}},{"$f":"IF(#REF!<0, 1, 0)","v":{"$error":"#REF!"}},null,null,null,null,null,null,null,{"$f":"IF(#REF!<0, 1, 0)","v":{"$error":"#REF!"}},{"$f":"IF(#REF!<0, 1, 0)","v":{"$error":"#REF!"}},{"$f":"IF(#REF!<0, 1, 0)","v":{"$error":"#REF!"}},{"$f":"IF(#REF!<0, 1, 0)","v":{"$error":"#REF!"}},{"$f":"IF(#REF!<0, 1, 0)","v":{"$error":"#REF!"}},{"$f":"IF(#REF!<0, 1, 0)","v":{"$error":"#REF!"}},{"$f":"IF(#REF!<0, 1, 0)","v":{"$error":"#REF!"}},{"$f":"IF(#REF!<0, 1, 0)","v":{"$error":"#REF!"}},{"$f":"IF(#REF!<0, 1, 0)","v":{"$error":"#REF!"}},{"$f":"IF(#REF!<0, 1, 0)","v":{"$error":"#REF!"}},null,null,null,null,null,null,null,null,null,null,null,null,null,null,null,null,null,null,null,null,null,null,null,"RCFSKIPTON GENERAL HOSPITAL","RCF31","SKIPTON GENERAL HOSPITAL","RCF31","SKIPTON GENERAL HOSPITAL","RCF",null,null,"AIREDALE CENTRE FOR MENTAL HEALTH","Heather"]
[null,null,null,{"$f":"IF(#REF!=\"\", IF(#REF!=\"\", 0,1),0)","v":{"$error":"#REF!"}},null,null,null,null,{"$f":"IF(#REF!<0, 1, 0)","v":{"$error":"#REF!"}},{"$f":"IF(#REF!<0, 1, 0)","v":{"$error":"#REF!"}},{"$f":"IF(#REF!<0, 1, 0)","v":{"$error":"#REF!"}},{"$f":"IF(#REF!<0, 1, 0)","v":{"$error":"#REF!"}},{"$f":"IF(#REF!<0, 1, 0)","v":{"$error":"#REF!"}},{"$f":"IF(#REF!<0, 1, 0)","v":{"$error":"#REF!"}},{"$f":"IF(#REF!<0, 1, 0)","v":{"$error":"#REF!"}},{"$f":"IF(#REF!<0, 1, 0)","v":{"$error":"#REF!"}},{"$f":"IF(#REF!<0, 1, 0)","v":{"$error":"#REF!"}},{"$f":"IF(#REF!<0, 1, 0)","v":{"$error":"#REF!"}},{"$f":"IF(#REF!<0, 1, 0)","v":{"$error":"#REF!"}},{"$f":"IF(#REF!<0, 1, 0)","v":{"$error":"#REF!"}},{"$f":"IF(#REF!<0, 1, 0)","v":{"$error":"#REF!"}},{"$f":"IF(#REF!<0, 1, 0)","v":{"$error":"#REF!"}},{"$f":"IF(#REF!<0, 1, 0)","v":{"$error":"#REF!"}},{"$f":"IF(#REF!<0, 1, 0)","v":{"$error":"#REF!"}},{"$f":"IF(#REF!<0, 1, 0)","v":{"$error":"#REF!"}},{"$f":"IF(#REF!<0, 1, 0)","v":{"$error":"#REF!"}},{"$f":"IF(#REF!<0, 1, 0)","v":{"$error":"#REF!"}},{"$f":"IF(#REF!<0, 1, 0)","v":{"$error":"#REF!"}},{"$f":"IF(#REF!<0, 1, 0)","v":{"$error":"#REF!"}},null,null,null,null,null,null,null,{"$f":"IF(#REF!<0, 1, 0)","v":{"$error":"#REF!"}},{"$f":"IF(#REF!<0, 1, 0)","v":{"$error":"#REF!"}},{"$f":"IF(#REF!<0, 1, 0)","v":{"$error":"#REF!"}},{"$f":"IF(#REF!<0, 1, 0)","v":{"$error":"#REF!"}},{"$f":"IF(#REF!<0, 1, 0)","v":{"$error":"#REF!"}},{"$f":"IF(#REF!<0, 1, 0)","v":{"$error":"#REF!"}},{"$f":"IF(#REF!<0, 1, 0)","v":{"$error":"#REF!"}},{"$f":"IF(#REF!<0, 1, 0)","v":{"$error":"#REF!"}},{"$f":"IF(#REF!<0, 1, 0)","v":{"$error":"#REF!"}},{"$f":"IF(#REF!<0, 1, 0)","v":{"$error":"#REF!"}},null,null,null,null,null,null,null,null,null,null,null,null,null,null,null,null,null,null,null,null,null,null,null,"RCUCENTRAL HEALTH CLINIC","RCU04","CENTRAL HEALTH CLINIC","RCU04","CENTRAL HEALTH CLINIC","RCU",null,null,"LYNFIELD MOUNT HOSPITAL","Ashbrook"]
[null,null,null,{"$f":"IF(#REF!=\"\", IF(#REF!=\"\", 0,1),0)","v":{"$error":"#REF!"}},null,null,null,null,{"$f":"IF(#REF!<0, 1, 0)","v":{"$error":"#REF!"}},{"$f":"IF(#REF!<0, 1, 0)","v":{"$error":"#REF!"}},{"$f":"IF(#REF!<0, 1, 0)","v":{"$error":"#REF!"}},{"$f":"IF(#REF!<0, 1, 0)","v":{"$error":"#REF!"}},{"$f":"IF(#REF!<0, 1, 0)","v":{"$error":"#REF!"}},{"$f":"IF(#REF!<0, 1, 0)","v":{"$error":"#REF!"}},{"$f":"IF(#REF!<0, 1, 0)","v":{"$error":"#REF!"}},{"$f":"IF(#REF!<0, 1, 0)","v":{"$error":"#REF!"}},{"$f":"IF(#REF!<0, 1, 0)","v":{"$error":"#REF!"}},{"$f":"IF(#REF!<0, 1, 0)","v":{"$error":"#REF!"}},{"$f":"IF(#REF!<0, 1, 0)","v":{"$error":"#REF!"}},{"$f":"IF(#REF!<0, 1, 0)","v":{"$error":"#REF!"}},{"$f":"IF(#REF!<0, 1, 0)","v":{"$error":"#REF!"}},{"$f":"IF(#REF!<0, 1, 0)","v":{"$error":"#REF!"}},{"$f":"IF(#REF!<0, 1, 0)","v":{"$error":"#REF!"}},{"$f":"IF(#REF!<0, 1, 0)","v":{"$error":"#REF!"}},{"$f":"IF(#REF!<0, 1, 0)","v":{"$error":"#REF!"}},{"$f":"IF(#REF!<0, 1, 0)","v":{"$error":"#REF!"}},{"$f":"IF(#REF!<0, 1, 0)","v":{"$error":"#REF!"}},{"$f":"IF(#REF!<0, 1, 0)","v":{"$error":"#REF!"}},{"$f":"IF(#REF!<0, 1, 0)","v":{"$error":"#REF!"}},null,null,null,null,null,null,null,{"$f":"IF(#REF!<0, 1, 0)","v":{"$error":"#REF!"}},{"$f":"IF(#REF!<0, 1, 0)","v":{"$error":"#REF!"}},{"$f":"IF(#REF!<0, 1, 0)","v":{"$error":"#REF!"}},{"$f":"IF(#REF!<0, 1, 0)","v":{"$error":"#REF!"}},{"$f":"IF(#REF!<0, 1, 0)","v":{"$error":"#REF!"}},{"$f":"IF(#REF!<0, 1, 0)","v":{"$error":"#REF!"}},{"$f":"IF(#REF!<0, 1, 0)","v":{"$error":"#REF!"}},{"$f":"IF(#REF!<0, 1, 0)","v":{"$error":"#REF!"}},{"$f":"IF(#REF!<0, 1, 0)","v":{"$error":"#REF!"}},{"$f":"IF(#REF!<0, 1, 0)","v":{"$error":"#REF!"}},null,null,null,null,null,null,null,null,null,null,null,null,null,null,null,null,null,null,null,null,null,null,null,"RCUNORTHERN GENERAL HOSPITAL","RCU03","NORTHERN GENERAL HOSPITAL","RCU03","NORTHERN GENERAL HOSPITAL","RCU",null,null,"LYNFIELD MOUNT HOSPITAL","Assessment & Treatment Unit (LD)"]
[null,null,null,{"$f":"IF(#REF!=\"\", IF(#REF!=\"\", 0,1),0)","v":{"$error":"#REF!"}},null,null,null,null,{"$f":"IF(#REF!<0, 1, 0)","v":{"$error":"#REF!"}},{"$f":"IF(#REF!<0, 1, 0)","v":{"$error":"#REF!"}},{"$f":"IF(#REF!<0, 1, 0)","v":{"$error":"#REF!"}},{"$f":"IF(#REF!<0, 1, 0)","v":{"$error":"#REF!"}},{"$f":"IF(#REF!<0, 1, 0)","v":{"$error":"#REF!"}},{"$f":"IF(#REF!<0, 1, 0)","v":{"$error":"#REF!"}},{"$f":"IF(#REF!<0, 1, 0)","v":{"$error":"#REF!"}},{"$f":"IF(#REF!<0, 1, 0)","v":{"$error":"#REF!"}},{"$f":"IF(#REF!<0, 1, 0)","v":{"$error":"#REF!"}},{"$f":"IF(#REF!<0, 1, 0)","v":{"$error":"#REF!"}},{"$f":"IF(#REF!<0, 1, 0)","v":{"$error":"#REF!"}},{"$f":"IF(#REF!<0, 1, 0)","v":{"$error":"#REF!"}},{"$f":"IF(#REF!<0, 1, 0)","v":{"$error":"#REF!"}},{"$f":"IF(#REF!<0, 1, 0)","v":{"$error":"#REF!"}},{"$f":"IF(#REF!<0, 1, 0)","v":{"$error":"#REF!"}},{"$f":"IF(#REF!<0, 1, 0)","v":{"$error":"#REF!"}},{"$f":"IF(#REF!<0, 1, 0)","v":{"$error":"#REF!"}},{"$f":"IF(#REF!<0, 1, 0)","v":{"$error":"#REF!"}},{"$f":"IF(#REF!<0, 1, 0)","v":{"$error":"#REF!"}},{"$f":"IF(#REF!<0, 1, 0)","v":{"$error":"#REF!"}},{"$f":"IF(#REF!<0, 1, 0)","v":{"$error":"#REF!"}},null,null,null,null,null,null,null,{"$f":"IF(#REF!<0, 1, 0)","v":{"$error":"#REF!"}},{"$f":"IF(#REF!<0, 1, 0)","v":{"$error":"#REF!"}},{"$f":"IF(#REF!<0, 1, 0)","v":{"$error":"#REF!"}},{"$f":"IF(#REF!<0, 1, 0)","v":{"$error":"#REF!"}},{"$f":"IF(#REF!<0, 1, 0)","v":{"$error":"#REF!"}},{"$f":"IF(#REF!<0, 1, 0)","v":{"$error":"#REF!"}},{"$f":"IF(#REF!<0, 1, 0)","v":{"$error":"#REF!"}},{"$f":"IF(#REF!<0, 1, 0)","v":{"$error":"#REF!"}},{"$f":"IF(#REF!<0, 1, 0)","v":{"$error":"#REF!"}},{"$f":"IF(#REF!<0, 1, 0)","v":{"$error":"#REF!"}},null,null,null,null,null,null,null,null,null,null,null,null,null,null,null,null,null,null,null,null,null,null,null,"RCUOAKWOOD YOUNG PEOPLES CENTRE","RCU55","OAKWOOD YOUNG PEOPLES CENTRE","RCU55","OAKWOOD YOUNG PEOPLES CENTRE","RCU",null,null,"LYNFIELD MOUNT HOSPITAL","Baildon"]
[null,null,null,{"$f":"IF(#REF!=\"\", IF(#REF!=\"\", 0,1),0)","v":{"$error":"#REF!"}},null,null,null,null,{"$f":"IF(#REF!<0, 1, 0)","v":{"$error":"#REF!"}},{"$f":"IF(#REF!<0, 1, 0)","v":{"$error":"#REF!"}},{"$f":"IF(#REF!<0, 1, 0)","v":{"$error":"#REF!"}},{"$f":"IF(#REF!<0, 1, 0)","v":{"$error":"#REF!"}},{"$f":"IF(#REF!<0, 1, 0)","v":{"$error":"#REF!"}},{"$f":"IF(#REF!<0, 1, 0)","v":{"$error":"#REF!"}},{"$f":"IF(#REF!<0, 1, 0)","v":{"$error":"#REF!"}},{"$f":"IF(#REF!<0, 1, 0)","v":{"$error":"#REF!"}},{"$f":"IF(#REF!<0, 1, 0)","v":{"$error":"#REF!"}},{"$f":"IF(#REF!<0, 1, 0)","v":{"$error":"#REF!"}},{"$f":"IF(#REF!<0, 1, 0)","v":{"$error":"#REF!"}},{"$f":"IF(#REF!<0, 1, 0)","v":{"$error":"#REF!"}},{"$f":"IF(#REF!<0, 1, 0)","v":{"$error":"#REF!"}},{"$f":"IF(#REF!<0, 1, 0)","v":{"$error":"#REF!"}},{"$f":"IF(#REF!<0, 1, 0)","v":{"$error":"#REF!"}},{"$f":"IF(#REF!<0, 1, 0)","v":{"$error":"#REF!"}},{"$f":"IF(#REF!<0, 1, 0)","v":{"$error":"#REF!"}},{"$f":"IF(#REF!<0, 1, 0)","v":{"$error":"#REF!"}},{"$f":"IF(#REF!<0, 1, 0)","v":{"$error":"#REF!"}},{"$f":"IF(#REF!<0, 1, 0)","v":{"$error":"#REF!"}},{"$f":"IF(#REF!<0, 1, 0)","v":{"$error":"#REF!"}},null,null,null,null,null,null,null,{"$f":"IF(#REF!<0, 1, 0)","v":{"$error":"#REF!"}},{"$f":"IF(#REF!<0, 1, 0)","v":{"$error":"#REF!"}},{"$f":"IF(#REF!<0, 1, 0)","v":{"$error":"#REF!"}},{"$f":"IF(#REF!<0, 1, 0)","v":{"$error":"#REF!"}},{"$f":"IF(#REF!<0, 1, 0)","v":{"$error":"#REF!"}},{"$f":"IF(#REF!<0, 1, 0)","v":{"$error":"#REF!"}},{"$f":"IF(#REF!<0, 1, 0)","v":{"$error":"#REF!"}},{"$f":"IF(#REF!<0, 1, 0)","v":{"$error":"#REF!"}},{"$f":"IF(#REF!<0, 1, 0)","v":{"$error":"#REF!"}},{"$f":"IF(#REF!<0, 1, 0)","v":{"$error":"#REF!"}},null,null,null,null,null,null,null,null,null,null,null,null,null,null,null,null,null,null,null,null,null,null,null,"RCUSHEFFIELD CHILDREN'S HOSPITAL","RCUEF","SHEFFIELD CHILDREN'S HOSPITAL","RCUEF","SHEFFIELD CHILDREN'S HOSPITAL","RCU",null,null,"LYNFIELD MOUNT HOSPITAL","Clover (PICU)"]
[null,null,null,{"$f":"IF(#REF!=\"\", IF(#REF!=\"\", 0,1),0)","v":{"$error":"#REF!"}},null,null,null,null,{"$f":"IF(#REF!<0, 1, 0)","v":{"$error":"#REF!"}},{"$f":"IF(#REF!<0, 1, 0)","v":{"$error":"#REF!"}},{"$f":"IF(#REF!<0, 1, 0)","v":{"$error":"#REF!"}},{"$f":"IF(#REF!<0, 1, 0)","v":{"$error":"#REF!"}},{"$f":"IF(#REF!<0, 1, 0)","v":{"$error":"#REF!"}},{"$f":"IF(#REF!<0, 1, 0)","v":{"$error":"#REF!"}},{"$f":"IF(#REF!<0, 1, 0)","v":{"$error":"#REF!"}},{"$f":"IF(#REF!<0, 1, 0)","v":{"$error":"#REF!"}},{"$f":"IF(#REF!<0, 1, 0)","v":{"$error":"#REF!"}},{"$f":"IF(#REF!<0, 1, 0)","v":{"$error":"#REF!"}},{"$f":"IF(#REF!<0, 1, 0)","v":{"$error":"#REF!"}},{"$f":"IF(#REF!<0, 1, 0)","v":{"$error":"#REF!"}},{"$f":"IF(#REF!<0, 1, 0)","v":{"$error":"#REF!"}},{"$f":"IF(#REF!<0, 1, 0)","v":{"$error":"#REF!"}},{"$f":"IF(#REF!<0, 1, 0)","v":{"$error":"#REF!"}},{"$f":"IF(#REF!<0, 1, 0)","v":{"$error":"#REF!"}},{"$f":"IF(#REF!<0, 1, 0)","v":{"$error":"#REF!"}},{"$f":"IF(#REF!<0, 1, 0)","v":{"$error":"#REF!"}},{"$f":"IF(#REF!<0, 1, 0)","v":{"$error":"#REF!"}},{"$f":"IF(#REF!<0, 1, 0)","v":{"$error":"#REF!"}},{"$f":"IF(#REF!<0, 1, 0)","v":{"$error":"#REF!"}},null,null,null,null,null,null,null,{"$f":"IF(#REF!<0, 1, 0)","v":{"$error":"#REF!"}},{"$f":"IF(#REF!<0, 1, 0)","v":{"$error":"#REF!"}},{"$f":"IF(#REF!<0, 1, 0)","v":{"$error":"#REF!"}},{"$f":"IF(#REF!<0, 1, 0)","v":{"$error":"#REF!"}},{"$f":"IF(#REF!<0, 1, 0)","v":{"$error":"#REF!"}},{"$f":"IF(#REF!<0, 1, 0)","v":{"$error":"#REF!"}},{"$f":"IF(#REF!<0, 1, 0)","v":{"$error":"#REF!"}},{"$f":"IF(#REF!<0, 1, 0)","v":{"$error":"#REF!"}},{"$f":"IF(#REF!<0, 1, 0)","v":{"$error":"#REF!"}},{"$f":"IF(#REF!<0, 1, 0)","v":{"$error":"#REF!"}},null,null,null,null,null,null,null,null,null,null,null,null,null,null,null,null,null,null,null,null,null,null,null,"RCXNORTH CAMBRIDGESHIRE HOSPITAL","RCX66","NORTH CAMBRIDGESHIRE HOSPITAL","RCX66","NORTH CAMBRIDGESHIRE HOSPITAL","RCX",null,null,"LYNFIELD MOUNT HOSPITAL","Dementia Assessment Unit (DAU)"]
[null,null,null,{"$f":"IF(#REF!=\"\", IF(#REF!=\"\", 0,1),0)","v":{"$error":"#REF!"}},null,null,null,null,{"$f":"IF(#REF!<0, 1, 0)","v":{"$error":"#REF!"}},{"$f":"IF(#REF!<0, 1, 0)","v":{"$error":"#REF!"}},{"$f":"IF(#REF!<0, 1, 0)","v":{"$error":"#REF!"}},{"$f":"IF(#REF!<0, 1, 0)","v":{"$error":"#REF!"}},{"$f":"IF(#REF!<0, 1, 0)","v":{"$error":"#REF!"}},{"$f":"IF(#REF!<0, 1, 0)","v":{"$error":"#REF!"}},{"$f":"IF(#REF!<0, 1, 0)","v":{"$error":"#REF!"}},{"$f":"IF(#REF!<0, 1, 0)","v":{"$error":"#REF!"}},{"$f":"IF(#REF!<0, 1, 0)","v":{"$error":"#REF!"}},{"$f":"IF(#REF!<0, 1, 0)","v":{"$error":"#REF!"}},{"$f":"IF(#REF!<0, 1, 0)","v":{"$error":"#REF!"}},{"$f":"IF(#REF!<0, 1, 0)","v":{"$error":"#REF!"}},{"$f":"IF(#REF!<0, 1, 0)","v":{"$error":"#REF!"}},{"$f":"IF(#REF!<0, 1, 0)","v":{"$error":"#REF!"}},{"$f":"IF(#REF!<0, 1, 0)","v":{"$error":"#REF!"}},{"$f":"IF(#REF!<0, 1, 0)","v":{"$error":"#REF!"}},{"$f":"IF(#REF!<0, 1, 0)","v":{"$error":"#REF!"}},{"$f":"IF(#REF!<0, 1, 0)","v":{"$error":"#REF!"}},{"$f":"IF(#REF!<0, 1, 0)","v":{"$error":"#REF!"}},{"$f":"IF(#REF!<0, 1, 0)","v":{"$error":"#REF!"}},{"$f":"IF(#REF!<0, 1, 0)","v":{"$error":"#REF!"}},null,null,null,null,null,null,null,{"$f":"IF(#REF!<0, 1, 0)","v":{"$error":"#REF!"}},{"$f":"IF(#REF!<0, 1, 0)","v":{"$error":"#REF!"}},{"$f":"IF(#REF!<0, 1, 0)","v":{"$error":"#REF!"}},{"$f":"IF(#REF!<0, 1, 0)","v":{"$error":"#REF!"}},{"$f":"IF(#REF!<0, 1, 0)","v":{"$error":"#REF!"}},{"$f":"IF(#REF!<0, 1, 0)","v":{"$error":"#REF!"}},{"$f":"IF(#REF!<0, 1, 0)","v":{"$error":"#REF!"}},{"$f":"IF(#REF!<0, 1, 0)","v":{"$error":"#REF!"}},{"$f":"IF(#REF!<0, 1, 0)","v":{"$error":"#REF!"}},{"$f":"IF(#REF!<0, 1, 0)","v":{"$error":"#REF!"}},null,null,null,null,null,null,null,null,null,null,null,null,null,null,null,null,null,null,null,null,null,null,null,"RCXTHE QUEEN ELIZABETH HOSPITAL","RCX70","THE QUEEN ELIZABETH HOSPITAL","RCX70","THE QUEEN ELIZABETH HOSPITAL","RCX",null,null,"LYNFIELD MOUNT HOSPITAL","Ilkley"]
[null,null,null,{"$f":"IF(#REF!=\"\", IF(#REF!=\"\", 0,1),0)","v":{"$error":"#REF!"}},null,null,null,null,{"$f":"IF(#REF!<0, 1, 0)","v":{"$error":"#REF!"}},{"$f":"IF(#REF!<0, 1, 0)","v":{"$error":"#REF!"}},{"$f":"IF(#REF!<0, 1, 0)","v":{"$error":"#REF!"}},{"$f":"IF(#REF!<0, 1, 0)","v":{"$error":"#REF!"}},{"$f":"IF(#REF!<0, 1, 0)","v":{"$error":"#REF!"}},{"$f":"IF(#REF!<0, 1, 0)","v":{"$error":"#REF!"}},{"$f":"IF(#REF!<0, 1, 0)","v":{"$error":"#REF!"}},{"$f":"IF(#REF!<0, 1, 0)","v":{"$error":"#REF!"}},{"$f":"IF(#REF!<0, 1, 0)","v":{"$error":"#REF!"}},{"$f":"IF(#REF!<0, 1, 0)","v":{"$error":"#REF!"}},{"$f":"IF(#REF!<0, 1, 0)","v":{"$error":"#REF!"}},{"$f":"IF(#REF!<0, 1, 0)","v":{"$error":"#REF!"}},{"$f":"IF(#REF!<0, 1, 0)","v":{"$error":"#REF!"}},{"$f":"IF(#REF!<0, 1, 0)","v":{"$error":"#REF!"}},{"$f":"IF(#REF!<0, 1, 0)","v":{"$error":"#REF!"}},{"$f":"IF(#REF!<0, 1, 0)","v":{"$error":"#REF!"}},{"$f":"IF(#REF!<0, 1, 0)","v":{"$error":"#REF!"}},{"$f":"IF(#REF!<0, 1, 0)","v":{"$error":"#REF!"}},{"$f":"IF(#REF!<0, 1, 0)","v":{"$error":"#REF!"}},{"$f":"IF(#REF!<0, 1, 0)","v":{"$error":"#REF!"}},{"$f":"IF(#REF!<0, 1, 0)","v":{"$error":"#REF!"}},null,null,null,null,null,null,null,{"$f":"IF(#REF!<0, 1, 0)","v":{"$error":"#REF!"}},{"$f":"IF(#REF!<0, 1, 0)","v":{"$error":"#REF!"}},{"$f":"IF(#REF!<0, 1, 0)","v":{"$error":"#REF!"}},{"$f":"IF(#REF!<0, 1, 0)","v":{"$error":"#REF!"}},{"$f":"IF(#REF!<0, 1, 0)","v":{"$error":"#REF!"}},{"$f":"IF(#REF!<0, 1, 0)","v":{"$error":"#REF!"}},{"$f":"IF(#REF!<0, 1, 0)","v":{"$error":"#REF!"}},{"$f":"IF(#REF!<0, 1, 0)","v":{"$error":"#REF!"}},{"$f":"IF(#REF!<0, 1, 0)","v":{"$error":"#REF!"}},{"$f":"IF(#REF!<0, 1, 0)","v":{"$error":"#REF!"}},null,null,null,null,null,null,null,null,null,null,null,null,null,null,null,null,null,null,null,null,null,null,null,"RD1BRADFORD ON AVON COMMUNITY HOSPITAL","RD101","BRADFORD ON AVON COMMUNITY HOSPITAL","RD101","BRADFORD ON AVON COMMUNITY HOSPITAL","RD1",null,null,"LYNFIELD MOUNT HOSPITAL","Maplebeck"]
[null,null,null,{"$f":"IF(#REF!=\"\", IF(#REF!=\"\", 0,1),0)","v":{"$error":"#REF!"}},null,null,null,null,{"$f":"IF(#REF!<0, 1, 0)","v":{"$error":"#REF!"}},{"$f":"IF(#REF!<0, 1, 0)","v":{"$error":"#REF!"}},{"$f":"IF(#REF!<0, 1, 0)","v":{"$error":"#REF!"}},{"$f":"IF(#REF!<0, 1, 0)","v":{"$error":"#REF!"}},{"$f":"IF(#REF!<0, 1, 0)","v":{"$error":"#REF!"}},{"$f":"IF(#REF!<0, 1, 0)","v":{"$error":"#REF!"}},{"$f":"IF(#REF!<0, 1, 0)","v":{"$error":"#REF!"}},{"$f":"IF(#REF!<0, 1, 0)","v":{"$error":"#REF!"}},{"$f":"IF(#REF!<0, 1, 0)","v":{"$error":"#REF!"}},{"$f":"IF(#REF!<0, 1, 0)","v":{"$error":"#REF!"}},{"$f":"IF(#REF!<0, 1, 0)","v":{"$error":"#REF!"}},{"$f":"IF(#REF!<0, 1, 0)","v":{"$error":"#REF!"}},{"$f":"IF(#REF!<0, 1, 0)","v":{"$error":"#REF!"}},{"$f":"IF(#REF!<0, 1, 0)","v":{"$error":"#REF!"}},{"$f":"IF(#REF!<0, 1, 0)","v":{"$error":"#REF!"}},{"$f":"IF(#REF!<0, 1, 0)","v":{"$error":"#REF!"}},{"$f":"IF(#REF!<0, 1, 0)","v":{"$error":"#REF!"}},{"$f":"IF(#REF!<0, 1, 0)","v":{"$error":"#REF!"}},{"$f":"IF(#REF!<0, 1, 0)","v":{"$error":"#REF!"}},{"$f":"IF(#REF!<0, 1, 0)","v":{"$error":"#REF!"}},{"$f":"IF(#REF!<0, 1, 0)","v":{"$error":"#REF!"}},null,null,null,null,null,null,null,{"$f":"IF(#REF!<0, 1, 0)","v":{"$error":"#REF!"}},{"$f":"IF(#REF!<0, 1, 0)","v":{"$error":"#REF!"}},{"$f":"IF(#REF!<0, 1, 0)","v":{"$error":"#REF!"}},{"$f":"IF(#REF!<0, 1, 0)","v":{"$error":"#REF!"}},{"$f":"IF(#REF!<0, 1, 0)","v":{"$error":"#REF!"}},{"$f":"IF(#REF!<0, 1, 0)","v":{"$error":"#REF!"}},{"$f":"IF(#REF!<0, 1, 0)","v":{"$error":"#REF!"}},{"$f":"IF(#REF!<0, 1, 0)","v":{"$error":"#REF!"}},{"$f":"IF(#REF!<0, 1, 0)","v":{"$error":"#REF!"}},{"$f":"IF(#REF!<0, 1, 0)","v":{"$error":"#REF!"}},null,null,null,null,null,null,null,null,null,null,null,null,null,null,null,null,null,null,null,null,null,null,null,"RD1CHIPPENHAM HOSPITAL","RD102","CHIPPENHAM HOSPITAL","RD102","CHIPPENHAM HOSPITAL","RD1",null,null,"LYNFIELD MOUNT HOSPITAL","Oakburn"]
[null,null,null,{"$f":"IF(#REF!=\"\", IF(#REF!=\"\", 0,1),0)","v":{"$error":"#REF!"}},null,null,null,null,{"$f":"IF(#REF!<0, 1, 0)","v":{"$error":"#REF!"}},{"$f":"IF(#REF!<0, 1, 0)","v":{"$error":"#REF!"}},{"$f":"IF(#REF!<0, 1, 0)","v":{"$error":"#REF!"}},{"$f":"IF(#REF!<0, 1, 0)","v":{"$error":"#REF!"}},{"$f":"IF(#REF!<0, 1, 0)","v":{"$error":"#REF!"}},{"$f":"IF(#REF!<0, 1, 0)","v":{"$error":"#REF!"}},{"$f":"IF(#REF!<0, 1, 0)","v":{"$error":"#REF!"}},{"$f":"IF(#REF!<0, 1, 0)","v":{"$error":"#REF!"}},{"$f":"IF(#REF!<0, 1, 0)","v":{"$error":"#REF!"}},{"$f":"IF(#REF!<0, 1, 0)","v":{"$error":"#REF!"}},{"$f":"IF(#REF!<0, 1, 0)","v":{"$error":"#REF!"}},{"$f":"IF(#REF!<0, 1, 0)","v":{"$error":"#REF!"}},{"$f":"IF(#REF!<0, 1, 0)","v":{"$error":"#REF!"}},{"$f":"IF(#REF!<0, 1, 0)","v":{"$error":"#REF!"}},{"$f":"IF(#REF!<0, 1, 0)","v":{"$error":"#REF!"}},{"$f":"IF(#REF!<0, 1, 0)","v":{"$error":"#REF!"}},{"$f":"IF(#REF!<0, 1, 0)","v":{"$error":"#REF!"}},{"$f":"IF(#REF!<0, 1, 0)","v":{"$error":"#REF!"}},{"$f":"IF(#REF!<0, 1, 0)","v":{"$error":"#REF!"}},{"$f":"IF(#REF!<0, 1, 0)","v":{"$error":"#REF!"}},{"$f":"IF(#REF!<0, 1, 0)","v":{"$error":"#REF!"}},null,null,null,null,null,null,null,{"$f":"IF(#REF!<0, 1, 0)","v":{"$error":"#REF!"}},{"$f":"IF(#REF!<0, 1, 0)","v":{"$error":"#REF!"}},{"$f":"IF(#REF!<0, 1, 0)","v":{"$error":"#REF!"}},{"$f":"IF(#REF!<0, 1, 0)","v":{"$error":"#REF!"}},{"$f":"IF(#REF!<0, 1, 0)","v":{"$error":"#REF!"}},{"$f":"IF(#REF!<0, 1, 0)","v":{"$error":"#REF!"}},{"$f":"IF(#REF!<0, 1, 0)","v":{"$error":"#REF!"}},{"$f":"IF(#REF!<0, 1, 0)","v":{"$error":"#REF!"}},{"$f":"IF(#REF!<0, 1, 0)","v":{"$error":"#REF!"}},{"$f":"IF(#REF!<0, 1, 0)","v":{"$error":"#REF!"}},null,null,null,null,null,null,null,null,null,null,null,null,null,null,null,null,null,null,null,null,null,null,null,"RD1DEVIZES HOSPITAL","RD107","DEVIZES HOSPITAL","RD107","DEVIZES HOSPITAL","RD1",null,null,"LYNFIELD MOUNT HOSPITAL","Step Forward (Rehab)"]
[null,null,null,{"$f":"IF(#REF!=\"\", IF(#REF!=\"\", 0,1),0)","v":{"$error":"#REF!"}},null,null,null,null,{"$f":"IF(#REF!<0, 1, 0)","v":{"$error":"#REF!"}},{"$f":"IF(#REF!<0, 1, 0)","v":{"$error":"#REF!"}},{"$f":"IF(#REF!<0, 1, 0)","v":{"$error":"#REF!"}},{"$f":"IF(#REF!<0, 1, 0)","v":{"$error":"#REF!"}},{"$f":"IF(#REF!<0, 1, 0)","v":{"$error":"#REF!"}},{"$f":"IF(#REF!<0, 1, 0)","v":{"$error":"#REF!"}},{"$f":"IF(#REF!<0, 1, 0)","v":{"$error":"#REF!"}},{"$f":"IF(#REF!<0, 1, 0)","v":{"$error":"#REF!"}},{"$f":"IF(#REF!<0, 1, 0)","v":{"$error":"#REF!"}},{"$f":"IF(#REF!<0, 1, 0)","v":{"$error":"#REF!"}},{"$f":"IF(#REF!<0, 1, 0)","v":{"$error":"#REF!"}},{"$f":"IF(#REF!<0, 1, 0)","v":{"$error":"#REF!"}},{"$f":"IF(#REF!<0, 1, 0)","v":{"$error":"#REF!"}},{"$f":"IF(#REF!<0, 1, 0)","v":{"$error":"#REF!"}},{"$f":"IF(#REF!<0, 1, 0)","v":{"$error":"#REF!"}},{"$f":"IF(#REF!<0, 1, 0)","v":{"$error":"#REF!"}},{"$f":"IF(#REF!<0, 1, 0)","v":{"$error":"#REF!"}},{"$f":"IF(#REF!<0, 1, 0)","v":{"$error":"#REF!"}},{"$f":"IF(#REF!<0, 1, 0)","v":{"$error":"#REF!"}},{"$f":"IF(#REF!<0, 1, 0)","v":{"$error":"#REF!"}},{"$f":"IF(#REF!<0, 1, 0)","v":{"$error":"#REF!"}},null,null,null,null,null,null,null,{"$f":"IF(#REF!<0, 1, 0)","v":{"$error":"#REF!"}},{"$f":"IF(#REF!<0, 1, 0)","v":{"$error":"#REF!"}},{"$f":"IF(#REF!<0, 1, 0)","v":{"$error":"#REF!"}},{"$f":"IF(#REF!<0, 1, 0)","v":{"$error":"#REF!"}},{"$f":"IF(#REF!<0, 1, 0)","v":{"$error":"#REF!"}},{"$f":"IF(#REF!<0, 1, 0)","v":{"$error":"#REF!"}},{"$f":"IF(#REF!<0, 1, 0)","v":{"$error":"#REF!"}},{"$f":"IF(#REF!<0, 1, 0)","v":{"$error":"#REF!"}},{"$f":"IF(#REF!<0, 1, 0)","v":{"$error":"#REF!"}},{"$f":"IF(#REF!<0, 1, 0)","v":{"$error":"#REF!"}},null,null,null,null,null,null,null,null,null,null,null,null,null,null,null,null,null,null,null,null,null,null,null,"RD1FROME VICTORIA HOSPITAL","RD121","FROME VICTORIA HOSPITAL","RD121","FROME VICTORIA HOSPITAL","RD1",null,null,"LYNFIELD MOUNT HOSPITAL","Thornton"]
[null,null,null,{"$f":"IF(#REF!=\"\", IF(#REF!=\"\", 0,1),0)","v":{"$error":"#REF!"}},null,null,null,null,{"$f":"IF(#REF!<0, 1, 0)","v":{"$error":"#REF!"}},{"$f":"IF(#REF!<0, 1, 0)","v":{"$error":"#REF!"}},{"$f":"IF(#REF!<0, 1, 0)","v":{"$error":"#REF!"}},{"$f":"IF(#REF!<0, 1, 0)","v":{"$error":"#REF!"}},{"$f":"IF(#REF!<0, 1, 0)","v":{"$error":"#REF!"}},{"$f":"IF(#REF!<0, 1, 0)","v":{"$error":"#REF!"}},{"$f":"IF(#REF!<0, 1, 0)","v":{"$error":"#REF!"}},{"$f":"IF(#REF!<0, 1, 0)","v":{"$error":"#REF!"}},{"$f":"IF(#REF!<0, 1, 0)","v":{"$error":"#REF!"}},{"$f":"IF(#REF!<0, 1, 0)","v":{"$error":"#REF!"}},{"$f":"IF(#REF!<0, 1, 0)","v":{"$error":"#REF!"}},{"$f":"IF(#REF!<0, 1, 0)","v":{"$error":"#REF!"}},{"$f":"IF(#REF!<0, 1, 0)","v":{"$error":"#REF!"}},{"$f":"IF(#REF!<0, 1, 0)","v":{"$error":"#REF!"}},{"$f":"IF(#REF!<0, 1, 0)","v":{"$error":"#REF!"}},{"$f":"IF(#REF!<0, 1, 0)","v":{"$error":"#REF!"}},{"$f":"IF(#REF!<0, 1, 0)","v":{"$error":"#REF!"}},{"$f":"IF(#REF!<0, 1, 0)","v":{"$error":"#REF!"}},{"$f":"IF(#REF!<0, 1, 0)","v":{"$error":"#REF!"}},{"$f":"IF(#REF!<0, 1, 0)","v":{"$error":"#REF!"}},{"$f":"IF(#REF!<0, 1, 0)","v":{"$error":"#REF!"}},null,null,null,null,null,null,null,{"$f":"IF(#REF!<0, 1, 0)","v":{"$error":"#REF!"}},{"$f":"IF(#REF!<0, 1, 0)","v":{"$error":"#REF!"}},{"$f":"IF(#REF!<0, 1, 0)","v":{"$error":"#REF!"}},{"$f":"IF(#REF!<0, 1, 0)","v":{"$error":"#REF!"}},{"$f":"IF(#REF!<0, 1, 0)","v":{"$error":"#REF!"}},{"$f":"IF(#REF!<0, 1, 0)","v":{"$error":"#REF!"}},{"$f":"IF(#REF!<0, 1, 0)","v":{"$error":"#REF!"}},{"$f":"IF(#REF!<0, 1, 0)","v":{"$error":"#REF!"}},{"$f":"IF(#REF!<0, 1, 0)","v":{"$error":"#REF!"}},{"$f":"IF(#REF!<0, 1, 0)","v":{"$error":"#REF!"}},null,null,null,null,null,null,null,null,null,null,null,null,null,null,null,null,null,null,null,null,null,null,null,"RD1MALMESBURY HOSPITAL","RD103","MALMESBURY HOSPITAL","RD103","MALMESBURY HOSPITAL","RD1",null,null,"BRADFORD ROYAL INFIRMARY","Birth Centre"]
[null,null,null,{"$f":"IF(#REF!=\"\", IF(#REF!=\"\", 0,1),0)","v":{"$error":"#REF!"}},null,null,null,null,{"$f":"IF(#REF!<0, 1, 0)","v":{"$error":"#REF!"}},{"$f":"IF(#REF!<0, 1, 0)","v":{"$error":"#REF!"}},{"$f":"IF(#REF!<0, 1, 0)","v":{"$error":"#REF!"}},{"$f":"IF(#REF!<0, 1, 0)","v":{"$error":"#REF!"}},{"$f":"IF(#REF!<0, 1, 0)","v":{"$error":"#REF!"}},{"$f":"IF(#REF!<0, 1, 0)","v":{"$error":"#REF!"}},{"$f":"IF(#REF!<0, 1, 0)","v":{"$error":"#REF!"}},{"$f":"IF(#REF!<0, 1, 0)","v":{"$error":"#REF!"}},{"$f":"IF(#REF!<0, 1, 0)","v":{"$error":"#REF!"}},{"$f":"IF(#REF!<0, 1, 0)","v":{"$error":"#REF!"}},{"$f":"IF(#REF!<0, 1, 0)","v":{"$error":"#REF!"}},{"$f":"IF(#REF!<0, 1, 0)","v":{"$error":"#REF!"}},{"$f":"IF(#REF!<0, 1, 0)","v":{"$error":"#REF!"}},{"$f":"IF(#REF!<0, 1, 0)","v":{"$error":"#REF!"}},{"$f":"IF(#REF!<0, 1, 0)","v":{"$error":"#REF!"}},{"$f":"IF(#REF!<0, 1, 0)","v":{"$error":"#REF!"}},{"$f":"IF(#REF!<0, 1, 0)","v":{"$error":"#REF!"}},{"$f":"IF(#REF!<0, 1, 0)","v":{"$error":"#REF!"}},{"$f":"IF(#REF!<0, 1, 0)","v":{"$error":"#REF!"}},{"$f":"IF(#REF!<0, 1, 0)","v":{"$error":"#REF!"}},{"$f":"IF(#REF!<0, 1, 0)","v":{"$error":"#REF!"}},null,null,null,null,null,null,null,{"$f":"IF(#REF!<0, 1, 0)","v":{"$error":"#REF!"}},{"$f":"IF(#REF!<0, 1, 0)","v":{"$error":"#REF!"}},{"$f":"IF(#REF!<0, 1, 0)","v":{"$error":"#REF!"}},{"$f":"IF(#REF!<0, 1, 0)","v":{"$error":"#REF!"}},{"$f":"IF(#REF!<0, 1, 0)","v":{"$error":"#REF!"}},{"$f":"IF(#REF!<0, 1, 0)","v":{"$error":"#REF!"}},{"$f":"IF(#REF!<0, 1, 0)","v":{"$error":"#REF!"}},{"$f":"IF(#REF!<0, 1, 0)","v":{"$error":"#REF!"}},{"$f":"IF(#REF!<0, 1, 0)","v":{"$error":"#REF!"}},{"$f":"IF(#REF!<0, 1, 0)","v":{"$error":"#REF!"}},null,null,null,null,null,null,null,null,null,null,null,null,null,null,null,null,null,null,null,null,null,null,null,"RD1MELKSHAM HOSPITAL","RD104","MELKSHAM HOSPITAL","RD104","MELKSHAM HOSPITAL","RD1",null,null,"BRADFORD ROYAL INFIRMARY","ICU"]
[null,null,null,{"$f":"IF(#REF!=\"\", IF(#REF!=\"\", 0,1),0)","v":{"$error":"#REF!"}},null,null,null,null,{"$f":"IF(#REF!<0, 1, 0)","v":{"$error":"#REF!"}},{"$f":"IF(#REF!<0, 1, 0)","v":{"$error":"#REF!"}},{"$f":"IF(#REF!<0, 1, 0)","v":{"$error":"#REF!"}},{"$f":"IF(#REF!<0, 1, 0)","v":{"$error":"#REF!"}},{"$f":"IF(#REF!<0, 1, 0)","v":{"$error":"#REF!"}},{"$f":"IF(#REF!<0, 1, 0)","v":{"$error":"#REF!"}},{"$f":"IF(#REF!<0, 1, 0)","v":{"$error":"#REF!"}},{"$f":"IF(#REF!<0, 1, 0)","v":{"$error":"#REF!"}},{"$f":"IF(#REF!<0, 1, 0)","v":{"$error":"#REF!"}},{"$f":"IF(#REF!<0, 1, 0)","v":{"$error":"#REF!"}},{"$f":"IF(#REF!<0, 1, 0)","v":{"$error":"#REF!"}},{"$f":"IF(#REF!<0, 1, 0)","v":{"$error":"#REF!"}},{"$f":"IF(#REF!<0, 1, 0)","v":{"$error":"#REF!"}},{"$f":"IF(#REF!<0, 1, 0)","v":{"$error":"#REF!"}},{"$f":"IF(#REF!<0, 1, 0)","v":{"$error":"#REF!"}},{"$f":"IF(#REF!<0, 1, 0)","v":{"$error":"#REF!"}},{"$f":"IF(#REF!<0, 1, 0)","v":{"$error":"#REF!"}},{"$f":"IF(#REF!<0, 1, 0)","v":{"$error":"#REF!"}},{"$f":"IF(#REF!<0, 1, 0)","v":{"$error":"#REF!"}},{"$f":"IF(#REF!<0, 1, 0)","v":{"$error":"#REF!"}},{"$f":"IF(#REF!<0, 1, 0)","v":{"$error":"#REF!"}},null,null,null,null,null,null,null,{"$f":"IF(#REF!<0, 1, 0)","v":{"$error":"#REF!"}},{"$f":"IF(#REF!<0, 1, 0)","v":{"$error":"#REF!"}},{"$f":"IF(#REF!<0, 1, 0)","v":{"$error":"#REF!"}},{"$f":"IF(#REF!<0, 1, 0)","v":{"$error":"#REF!"}},{"$f":"IF(#REF!<0, 1, 0)","v":{"$error":"#REF!"}},{"$f":"IF(#REF!<0, 1, 0)","v":{"$error":"#REF!"}},{"$f":"IF(#REF!<0, 1, 0)","v":{"$error":"#REF!"}},{"$f":"IF(#REF!<0, 1, 0)","v":{"$error":"#REF!"}},{"$f":"IF(#REF!<0, 1, 0)","v":{"$error":"#REF!"}},{"$f":"IF(#REF!<0, 1, 0)","v":{"$error":"#REF!"}},null,null,null,null,null,null,null,null,null,null,null,null,null,null,null,null,null,null,null,null,null,null,null,"RD1PAULTON HOSPITAL","RD129","PAULTON HOSPITAL","RD129","PAULTON HOSPITAL","RD1",null,null,"BRADFORD ROYAL INFIRMARY","Labour Ward"]
[null,null,null,{"$f":"IF(#REF!=\"\", IF(#REF!=\"\", 0,1),0)","v":{"$error":"#REF!"}},null,null,null,null,{"$f":"IF(#REF!<0, 1, 0)","v":{"$error":"#REF!"}},{"$f":"IF(#REF!<0, 1, 0)","v":{"$error":"#REF!"}},{"$f":"IF(#REF!<0, 1, 0)","v":{"$error":"#REF!"}},{"$f":"IF(#REF!<0, 1, 0)","v":{"$error":"#REF!"}},{"$f":"IF(#REF!<0, 1, 0)","v":{"$error":"#REF!"}},{"$f":"IF(#REF!<0, 1, 0)","v":{"$error":"#REF!"}},{"$f":"IF(#REF!<0, 1, 0)","v":{"$error":"#REF!"}},{"$f":"IF(#REF!<0, 1, 0)","v":{"$error":"#REF!"}},{"$f":"IF(#REF!<0, 1, 0)","v":{"$error":"#REF!"}},{"$f":"IF(#REF!<0, 1, 0)","v":{"$error":"#REF!"}},{"$f":"IF(#REF!<0, 1, 0)","v":{"$error":"#REF!"}},{"$f":"IF(#REF!<0, 1, 0)","v":{"$error":"#REF!"}},{"$f":"IF(#REF!<0, 1, 0)","v":{"$error":"#REF!"}},{"$f":"IF(#REF!<0, 1, 0)","v":{"$error":"#REF!"}},{"$f":"IF(#REF!<0, 1, 0)","v":{"$error":"#REF!"}},{"$f":"IF(#REF!<0, 1, 0)","v":{"$error":"#REF!"}},{"$f":"IF(#REF!<0, 1, 0)","v":{"$error":"#REF!"}},{"$f":"IF(#REF!<0, 1, 0)","v":{"$error":"#REF!"}},{"$f":"IF(#REF!<0, 1, 0)","v":{"$error":"#REF!"}},{"$f":"IF(#REF!<0, 1, 0)","v":{"$error":"#REF!"}},{"$f":"IF(#REF!<0, 1, 0)","v":{"$error":"#REF!"}},null,null,null,null,null,null,null,{"$f":"IF(#REF!<0, 1, 0)","v":{"$error":"#REF!"}},{"$f":"IF(#REF!<0, 1, 0)","v":{"$error":"#REF!"}},{"$f":"IF(#REF!<0, 1, 0)","v":{"$error":"#REF!"}},{"$f":"IF(#REF!<0, 1, 0)","v":{"$error":"#REF!"}},{"$f":"IF(#REF!<0, 1, 0)","v":{"$error":"#REF!"}},{"$f":"IF(#REF!<0, 1, 0)","v":{"$error":"#REF!"}},{"$f":"IF(#REF!<0, 1, 0)","v":{"$error":"#REF!"}},{"$f":"IF(#REF!<0, 1, 0)","v":{"$error":"#REF!"}},{"$f":"IF(#REF!<0, 1, 0)","v":{"$error":"#REF!"}},{"$f":"IF(#REF!<0, 1, 0)","v":{"$error":"#REF!"}},null,null,null,null,null,null,null,null,null,null,null,null,null,null,null,null,null,null,null,null,null,null,null,"RD1ROUNDWAY HOSPITAL","RD119","ROUNDWAY HOSPITAL","RD119","ROUNDWAY HOSPITAL","RD1",null,null,"BRADFORD ROYAL INFIRMARY","M3"]
[null,null,null,{"$f":"IF(#REF!=\"\", IF(#REF!=\"\", 0,1),0)","v":{"$error":"#REF!"}},null,null,null,null,{"$f":"IF(#REF!<0, 1, 0)","v":{"$error":"#REF!"}},{"$f":"IF(#REF!<0, 1, 0)","v":{"$error":"#REF!"}},{"$f":"IF(#REF!<0, 1, 0)","v":{"$error":"#REF!"}},{"$f":"IF(#REF!<0, 1, 0)","v":{"$error":"#REF!"}},{"$f":"IF(#REF!<0, 1, 0)","v":{"$error":"#REF!"}},{"$f":"IF(#REF!<0, 1, 0)","v":{"$error":"#REF!"}},{"$f":"IF(#REF!<0, 1, 0)","v":{"$error":"#REF!"}},{"$f":"IF(#REF!<0, 1, 0)","v":{"$error":"#REF!"}},{"$f":"IF(#REF!<0, 1, 0)","v":{"$error":"#REF!"}},{"$f":"IF(#REF!<0, 1, 0)","v":{"$error":"#REF!"}},{"$f":"IF(#REF!<0, 1, 0)","v":{"$error":"#REF!"}},{"$f":"IF(#REF!<0, 1, 0)","v":{"$error":"#REF!"}},{"$f":"IF(#REF!<0, 1, 0)","v":{"$error":"#REF!"}},{"$f":"IF(#REF!<0, 1, 0)","v":{"$error":"#REF!"}},{"$f":"IF(#REF!<0, 1, 0)","v":{"$error":"#REF!"}},{"$f":"IF(#REF!<0, 1, 0)","v":{"$error":"#REF!"}},{"$f":"IF(#REF!<0, 1, 0)","v":{"$error":"#REF!"}},{"$f":"IF(#REF!<0, 1, 0)","v":{"$error":"#REF!"}},{"$f":"IF(#REF!<0, 1, 0)","v":{"$error":"#REF!"}},{"$f":"IF(#REF!<0, 1, 0)","v":{"$error":"#REF!"}},{"$f":"IF(#REF!<0, 1, 0)","v":{"$error":"#REF!"}},null,null,null,null,null,null,null,{"$f":"IF(#REF!<0, 1, 0)","v":{"$error":"#REF!"}},{"$f":"IF(#REF!<0, 1, 0)","v":{"$error":"#REF!"}},{"$f":"IF(#REF!<0, 1, 0)","v":{"$error":"#REF!"}},{"$f":"IF(#REF!<0, 1, 0)","v":{"$error":"#REF!"}},{"$f":"IF(#REF!<0, 1, 0)","v":{"$error":"#REF!"}},{"$f":"IF(#REF!<0, 1, 0)","v":{"$error":"#REF!"}},{"$f":"IF(#REF!<0, 1, 0)","v":{"$error":"#REF!"}},{"$f":"IF(#REF!<0, 1, 0)","v":{"$error":"#REF!"}},{"$f":"IF(#REF!<0, 1, 0)","v":{"$error":"#REF!"}},{"$f":"IF(#REF!<0, 1, 0)","v":{"$error":"#REF!"}},null,null,null,null,null,null,null,null,null,null,null,null,null,null,null,null,null,null,null,null,null,null,null,"RD1ROYAL NATIONAL HOSPITAL FOR RHEUMATIC DISEASES","RD115","ROYAL NATIONAL HOSPITAL FOR RHEUMATIC DISEASES","RD115","ROYAL NATIONAL HOSPITAL FOR RHEUMATIC DISEASES","RD1",null,null,"BRADFORD ROYAL INFIRMARY","M4"]
[null,null,null,{"$f":"IF(#REF!=\"\", IF(#REF!=\"\", 0,1),0)","v":{"$error":"#REF!"}},null,null,null,null,{"$f":"IF(#REF!<0, 1, 0)","v":{"$error":"#REF!"}},{"$f":"IF(#REF!<0, 1, 0)","v":{"$error":"#REF!"}},{"$f":"IF(#REF!<0, 1, 0)","v":{"$error":"#REF!"}},{"$f":"IF(#REF!<0, 1, 0)","v":{"$error":"#REF!"}},{"$f":"IF(#REF!<0, 1, 0)","v":{"$error":"#REF!"}},{"$f":"IF(#REF!<0, 1, 0)","v":{"$error":"#REF!"}},{"$f":"IF(#REF!<0, 1, 0)","v":{"$error":"#REF!"}},{"$f":"IF(#REF!<0, 1, 0)","v":{"$error":"#REF!"}},{"$f":"IF(#REF!<0, 1, 0)","v":{"$error":"#REF!"}},{"$f":"IF(#REF!<0, 1, 0)","v":{"$error":"#REF!"}},{"$f":"IF(#REF!<0, 1, 0)","v":{"$error":"#REF!"}},{"$f":"IF(#REF!<0, 1, 0)","v":{"$error":"#REF!"}},{"$f":"IF(#REF!<0, 1, 0)","v":{"$error":"#REF!"}},{"$f":"IF(#REF!<0, 1, 0)","v":{"$error":"#REF!"}},{"$f":"IF(#REF!<0, 1, 0)","v":{"$error":"#REF!"}},{"$f":"IF(#REF!<0, 1, 0)","v":{"$error":"#REF!"}},{"$f":"IF(#REF!<0, 1, 0)","v":{"$error":"#REF!"}},{"$f":"IF(#REF!<0, 1, 0)","v":{"$error":"#REF!"}},{"$f":"IF(#REF!<0, 1, 0)","v":{"$error":"#REF!"}},{"$f":"IF(#REF!<0, 1, 0)","v":{"$error":"#REF!"}},{"$f":"IF(#REF!<0, 1, 0)","v":{"$error":"#REF!"}},null,null,null,null,null,null,null,{"$f":"IF(#REF!<0, 1, 0)","v":{"$error":"#REF!"}},{"$f":"IF(#REF!<0, 1, 0)","v":{"$error":"#REF!"}},{"$f":"IF(#REF!<0, 1, 0)","v":{"$error":"#REF!"}},{"$f":"IF(#REF!<0, 1, 0)","v":{"$error":"#REF!"}},{"$f":"IF(#REF!<0, 1, 0)","v":{"$error":"#REF!"}},{"$f":"IF(#REF!<0, 1, 0)","v":{"$error":"#REF!"}},{"$f":"IF(#REF!<0, 1, 0)","v":{"$error":"#REF!"}},{"$f":"IF(#REF!<0, 1, 0)","v":{"$error":"#REF!"}},{"$f":"IF(#REF!<0, 1, 0)","v":{"$error":"#REF!"}},{"$f":"IF(#REF!<0, 1, 0)","v":{"$error":"#REF!"}},null,null,null,null,null,null,null,null,null,null,null,null,null,null,null,null,null,null,null,null,null,null,null,"RD1ROYAL UNITED HOSPITAL","RD130","ROYAL UNITED HOSPITAL","RD130","ROYAL UNITED HOSPITAL","RD1",null,null,"BRADFORD ROYAL INFIRMARY","Neonatal"]
[null,null,null,{"$f":"IF(#REF!=\"\", IF(#REF!=\"\", 0,1),0)","v":{"$error":"#REF!"}},null,null,null,null,{"$f":"IF(#REF!<0, 1, 0)","v":{"$error":"#REF!"}},{"$f":"IF(#REF!<0, 1, 0)","v":{"$error":"#REF!"}},{"$f":"IF(#REF!<0, 1, 0)","v":{"$error":"#REF!"}},{"$f":"IF(#REF!<0, 1, 0)","v":{"$error":"#REF!"}},{"$f":"IF(#REF!<0, 1, 0)","v":{"$error":"#REF!"}},{"$f":"IF(#REF!<0, 1, 0)","v":{"$error":"#REF!"}},{"$f":"IF(#REF!<0, 1, 0)","v":{"$error":"#REF!"}},{"$f":"IF(#REF!<0, 1, 0)","v":{"$error":"#REF!"}},{"$f":"IF(#REF!<0, 1, 0)","v":{"$error":"#REF!"}},{"$f":"IF(#REF!<0, 1, 0)","v":{"$error":"#REF!"}},{"$f":"IF(#REF!<0, 1, 0)","v":{"$error":"#REF!"}},{"$f":"IF(#REF!<0, 1, 0)","v":{"$error":"#REF!"}},{"$f":"IF(#REF!<0, 1, 0)","v":{"$error":"#REF!"}},{"$f":"IF(#REF!<0, 1, 0)","v":{"$error":"#REF!"}},{"$f":"IF(#REF!<0, 1, 0)","v":{"$error":"#REF!"}},{"$f":"IF(#REF!<0, 1, 0)","v":{"$error":"#REF!"}},{"$f":"IF(#REF!<0, 1, 0)","v":{"$error":"#REF!"}},{"$f":"IF(#REF!<0, 1, 0)","v":{"$error":"#REF!"}},{"$f":"IF(#REF!<0, 1, 0)","v":{"$error":"#REF!"}},{"$f":"IF(#REF!<0, 1, 0)","v":{"$error":"#REF!"}},{"$f":"IF(#REF!<0, 1, 0)","v":{"$error":"#REF!"}},null,null,null,null,null,null,null,{"$f":"IF(#REF!<0, 1, 0)","v":{"$error":"#REF!"}},{"$f":"IF(#REF!<0, 1, 0)","v":{"$error":"#REF!"}},{"$f":"IF(#REF!<0, 1, 0)","v":{"$error":"#REF!"}},{"$f":"IF(#REF!<0, 1, 0)","v":{"$error":"#REF!"}},{"$f":"IF(#REF!<0, 1, 0)","v":{"$error":"#REF!"}},{"$f":"IF(#REF!<0, 1, 0)","v":{"$error":"#REF!"}},{"$f":"IF(#REF!<0, 1, 0)","v":{"$error":"#REF!"}},{"$f":"IF(#REF!<0, 1, 0)","v":{"$error":"#REF!"}},{"$f":"IF(#REF!<0, 1, 0)","v":{"$error":"#REF!"}},{"$f":"IF(#REF!<0, 1, 0)","v":{"$error":"#REF!"}},null,null,null,null,null,null,null,null,null,null,null,null,null,null,null,null,null,null,null,null,null,null,null,{"$f":"CONCATENATE(LEFT(BS407, 3),BT407)","v":"RD1SHEPTON MALLET COMMUNITY HOSPITAL"},"RD167","SHEPTON MALLET COMMUNITY HOSPITAL","RD167","SHEPTON MALLET COMMUNITY HOSPITAL","RD1",null,null,"BRADFORD ROYAL INFIRMARY","Paediatrics"]
[null,null,null,{"$f":"IF(#REF!=\"\", IF(#REF!=\"\", 0,1),0)","v":{"$error":"#REF!"}},null,null,null,null,{"$f":"IF(#REF!<0, 1, 0)","v":{"$error":"#REF!"}},{"$f":"IF(#REF!<0, 1, 0)","v":{"$error":"#REF!"}},{"$f":"IF(#REF!<0, 1, 0)","v":{"$error":"#REF!"}},{"$f":"IF(#REF!<0, 1, 0)","v":{"$error":"#REF!"}},{"$f":"IF(#REF!<0, 1, 0)","v":{"$error":"#REF!"}},{"$f":"IF(#REF!<0, 1, 0)","v":{"$error":"#REF!"}},{"$f":"IF(#REF!<0, 1, 0)","v":{"$error":"#REF!"}},{"$f":"IF(#REF!<0, 1, 0)","v":{"$error":"#REF!"}},{"$f":"IF(#REF!<0, 1, 0)","v":{"$error":"#REF!"}},{"$f":"IF(#REF!<0, 1, 0)","v":{"$error":"#REF!"}},{"$f":"IF(#REF!<0, 1, 0)","v":{"$error":"#REF!"}},{"$f":"IF(#REF!<0, 1, 0)","v":{"$error":"#REF!"}},{"$f":"IF(#REF!<0, 1, 0)","v":{"$error":"#REF!"}},{"$f":"IF(#REF!<0, 1, 0)","v":{"$error":"#REF!"}},{"$f":"IF(#REF!<0, 1, 0)","v":{"$error":"#REF!"}},{"$f":"IF(#REF!<0, 1, 0)","v":{"$error":"#REF!"}},{"$f":"IF(#REF!<0, 1, 0)","v":{"$error":"#REF!"}},{"$f":"IF(#REF!<0, 1, 0)","v":{"$error":"#REF!"}},{"$f":"IF(#REF!<0, 1, 0)","v":{"$error":"#REF!"}},{"$f":"IF(#REF!<0, 1, 0)","v":{"$error":"#REF!"}},{"$f":"IF(#REF!<0, 1, 0)","v":{"$error":"#REF!"}},null,null,null,null,null,null,null,{"$f":"IF(#REF!<0, 1, 0)","v":{"$error":"#REF!"}},{"$f":"IF(#REF!<0, 1, 0)","v":{"$error":"#REF!"}},{"$f":"IF(#REF!<0, 1, 0)","v":{"$error":"#REF!"}},{"$f":"IF(#REF!<0, 1, 0)","v":{"$error":"#REF!"}},{"$f":"IF(#REF!<0, 1, 0)","v":{"$error":"#REF!"}},{"$f":"IF(#REF!<0, 1, 0)","v":{"$error":"#REF!"}},{"$f":"IF(#REF!<0, 1, 0)","v":{"$error":"#REF!"}},{"$f":"IF(#REF!<0, 1, 0)","v":{"$error":"#REF!"}},{"$f":"IF(#REF!<0, 1, 0)","v":{"$error":"#REF!"}},{"$f":"IF(#REF!<0, 1, 0)","v":{"$error":"#REF!"}},null,null,null,null,null,null,null,null,null,null,null,null,null,null,null,null,null,null,null,null,null,null,null,"RD1ST MARTINS HOSPITAL (BATH)","RD132","ST MARTINS HOSPITAL (BATH)","RD132","ST MARTINS HOSPITAL (BATH)","RD1",null,null,"BRADFORD ROYAL INFIRMARY","Ward 01 - AMU"]
[null,null,null,{"$f":"IF(#REF!=\"\", IF(#REF!=\"\", 0,1),0)","v":{"$error":"#REF!"}},null,null,null,null,{"$f":"IF(#REF!<0, 1, 0)","v":{"$error":"#REF!"}},{"$f":"IF(#REF!<0, 1, 0)","v":{"$error":"#REF!"}},{"$f":"IF(#REF!<0, 1, 0)","v":{"$error":"#REF!"}},{"$f":"IF(#REF!<0, 1, 0)","v":{"$error":"#REF!"}},{"$f":"IF(#REF!<0, 1, 0)","v":{"$error":"#REF!"}},{"$f":"IF(#REF!<0, 1, 0)","v":{"$error":"#REF!"}},{"$f":"IF(#REF!<0, 1, 0)","v":{"$error":"#REF!"}},{"$f":"IF(#REF!<0, 1, 0)","v":{"$error":"#REF!"}},{"$f":"IF(#REF!<0, 1, 0)","v":{"$error":"#REF!"}},{"$f":"IF(#REF!<0, 1, 0)","v":{"$error":"#REF!"}},{"$f":"IF(#REF!<0, 1, 0)","v":{"$error":"#REF!"}},{"$f":"IF(#REF!<0, 1, 0)","v":{"$error":"#REF!"}},{"$f":"IF(#REF!<0, 1, 0)","v":{"$error":"#REF!"}},{"$f":"IF(#REF!<0, 1, 0)","v":{"$error":"#REF!"}},{"$f":"IF(#REF!<0, 1, 0)","v":{"$error":"#REF!"}},{"$f":"IF(#REF!<0, 1, 0)","v":{"$error":"#REF!"}},{"$f":"IF(#REF!<0, 1, 0)","v":{"$error":"#REF!"}},{"$f":"IF(#REF!<0, 1, 0)","v":{"$error":"#REF!"}},{"$f":"IF(#REF!<0, 1, 0)","v":{"$error":"#REF!"}},{"$f":"IF(#REF!<0, 1, 0)","v":{"$error":"#REF!"}},{"$f":"IF(#REF!<0, 1, 0)","v":{"$error":"#REF!"}},null,null,null,null,null,null,null,{"$f":"IF(#REF!<0, 1, 0)","v":{"$error":"#REF!"}},{"$f":"IF(#REF!<0, 1, 0)","v":{"$error":"#REF!"}},{"$f":"IF(#REF!<0, 1, 0)","v":{"$error":"#REF!"}},{"$f":"IF(#REF!<0, 1, 0)","v":{"$error":"#REF!"}},{"$f":"IF(#REF!<0, 1, 0)","v":{"$error":"#REF!"}},{"$f":"IF(#REF!<0, 1, 0)","v":{"$error":"#REF!"}},{"$f":"IF(#REF!<0, 1, 0)","v":{"$error":"#REF!"}},{"$f":"IF(#REF!<0, 1, 0)","v":{"$error":"#REF!"}},{"$f":"IF(#REF!<0, 1, 0)","v":{"$error":"#REF!"}},{"$f":"IF(#REF!<0, 1, 0)","v":{"$error":"#REF!"}},null,null,null,null,null,null,null,null,null,null,null,null,null,null,null,null,null,null,null,null,null,null,null,"RD1TROWBRIDGE HOSPITAL","RD108","TROWBRIDGE HOSPITAL","RD108","TROWBRIDGE HOSPITAL","RD1",null,null,"BRADFORD ROYAL INFIRMARY","Ward 04 - AMU"]
[null,null,null,{"$f":"IF(#REF!=\"\", IF(#REF!=\"\", 0,1),0)","v":{"$error":"#REF!"}},null,null,null,null,{"$f":"IF(#REF!<0, 1, 0)","v":{"$error":"#REF!"}},{"$f":"IF(#REF!<0, 1, 0)","v":{"$error":"#REF!"}},{"$f":"IF(#REF!<0, 1, 0)","v":{"$error":"#REF!"}},{"$f":"IF(#REF!<0, 1, 0)","v":{"$error":"#REF!"}},{"$f":"IF(#REF!<0, 1, 0)","v":{"$error":"#REF!"}},{"$f":"IF(#REF!<0, 1, 0)","v":{"$error":"#REF!"}},{"$f":"IF(#REF!<0, 1, 0)","v":{"$error":"#REF!"}},{"$f":"IF(#REF!<0, 1, 0)","v":{"$error":"#REF!"}},{"$f":"IF(#REF!<0, 1, 0)","v":{"$error":"#REF!"}},{"$f":"IF(#REF!<0, 1, 0)","v":{"$error":"#REF!"}},{"$f":"IF(#REF!<0, 1, 0)","v":{"$error":"#REF!"}},{"$f":"IF(#REF!<0, 1, 0)","v":{"$error":"#REF!"}},{"$f":"IF(#REF!<0, 1, 0)","v":{"$error":"#REF!"}},{"$f":"IF(#REF!<0, 1, 0)","v":{"$error":"#REF!"}},{"$f":"IF(#REF!<0, 1, 0)","v":{"$error":"#REF!"}},{"$f":"IF(#REF!<0, 1, 0)","v":{"$error":"#REF!"}},{"$f":"IF(#REF!<0, 1, 0)","v":{"$error":"#REF!"}},{"$f":"IF(#REF!<0, 1, 0)","v":{"$error":"#REF!"}},{"$f":"IF(#REF!<0, 1, 0)","v":{"$error":"#REF!"}},{"$f":"IF(#REF!<0, 1, 0)","v":{"$error":"#REF!"}},{"$f":"IF(#REF!<0, 1, 0)","v":{"$error":"#REF!"}},null,null,null,null,null,null,null,{"$f":"IF(#REF!<0, 1, 0)","v":{"$error":"#REF!"}},{"$f":"IF(#REF!<0, 1, 0)","v":{"$error":"#REF!"}},{"$f":"IF(#REF!<0, 1, 0)","v":{"$error":"#REF!"}},{"$f":"IF(#REF!<0, 1, 0)","v":{"$error":"#REF!"}},{"$f":"IF(#REF!<0, 1, 0)","v":{"$error":"#REF!"}},{"$f":"IF(#REF!<0, 1, 0)","v":{"$error":"#REF!"}},{"$f":"IF(#REF!<0, 1, 0)","v":{"$error":"#REF!"}},{"$f":"IF(#REF!<0, 1, 0)","v":{"$error":"#REF!"}},{"$f":"IF(#REF!<0, 1, 0)","v":{"$error":"#REF!"}},{"$f":"IF(#REF!<0, 1, 0)","v":{"$error":"#REF!"}},null,null,null,null,null,null,null,null,null,null,null,null,null,null,null,null,null,null,null,null,null,null,null,"RD1WARMINSTER HOSPITAL","RD105","WARMINSTER HOSPITAL","RD105","WARMINSTER HOSPITAL","RD1",null,null,"BRADFORD ROYAL INFIRMARY","Ward 11"]
[null,null,null,{"$f":"IF(#REF!=\"\", IF(#REF!=\"\", 0,1),0)","v":{"$error":"#REF!"}},null,null,null,null,{"$f":"IF(#REF!<0, 1, 0)","v":{"$error":"#REF!"}},{"$f":"IF(#REF!<0, 1, 0)","v":{"$error":"#REF!"}},{"$f":"IF(#REF!<0, 1, 0)","v":{"$error":"#REF!"}},{"$f":"IF(#REF!<0, 1, 0)","v":{"$error":"#REF!"}},{"$f":"IF(#REF!<0, 1, 0)","v":{"$error":"#REF!"}},{"$f":"IF(#REF!<0, 1, 0)","v":{"$error":"#REF!"}},{"$f":"IF(#REF!<0, 1, 0)","v":{"$error":"#REF!"}},{"$f":"IF(#REF!<0, 1, 0)","v":{"$error":"#REF!"}},{"$f":"IF(#REF!<0, 1, 0)","v":{"$error":"#REF!"}},{"$f":"IF(#REF!<0, 1, 0)","v":{"$error":"#REF!"}},{"$f":"IF(#REF!<0, 1, 0)","v":{"$error":"#REF!"}},{"$f":"IF(#REF!<0, 1, 0)","v":{"$error":"#REF!"}},{"$f":"IF(#REF!<0, 1, 0)","v":{"$error":"#REF!"}},{"$f":"IF(#REF!<0, 1, 0)","v":{"$error":"#REF!"}},{"$f":"IF(#REF!<0, 1, 0)","v":{"$error":"#REF!"}},{"$f":"IF(#REF!<0, 1, 0)","v":{"$error":"#REF!"}},{"$f":"IF(#REF!<0, 1, 0)","v":{"$error":"#REF!"}},{"$f":"IF(#REF!<0, 1, 0)","v":{"$error":"#REF!"}},{"$f":"IF(#REF!<0, 1, 0)","v":{"$error":"#REF!"}},{"$f":"IF(#REF!<0, 1, 0)","v":{"$error":"#REF!"}},{"$f":"IF(#REF!<0, 1, 0)","v":{"$error":"#REF!"}},null,null,null,null,null,null,null,{"$f":"IF(#REF!<0, 1, 0)","v":{"$error":"#REF!"}},{"$f":"IF(#REF!<0, 1, 0)","v":{"$error":"#REF!"}},{"$f":"IF(#REF!<0, 1, 0)","v":{"$error":"#REF!"}},{"$f":"IF(#REF!<0, 1, 0)","v":{"$error":"#REF!"}},{"$f":"IF(#REF!<0, 1, 0)","v":{"$error":"#REF!"}},{"$f":"IF(#REF!<0, 1, 0)","v":{"$error":"#REF!"}},{"$f":"IF(#REF!<0, 1, 0)","v":{"$error":"#REF!"}},{"$f":"IF(#REF!<0, 1, 0)","v":{"$error":"#REF!"}},{"$f":"IF(#REF!<0, 1, 0)","v":{"$error":"#REF!"}},{"$f":"IF(#REF!<0, 1, 0)","v":{"$error":"#REF!"}},null,null,null,null,null,null,null,null,null,null,null,null,null,null,null,null,null,null,null,null,null,null,null,"RD1WESTBURY HOSPITAL","RD106","WESTBURY HOSPITAL","RD106","WESTBURY HOSPITAL","RD1",null,null,"BRADFORD ROYAL INFIRMARY","Ward 12"]
[null,null,null,{"$f":"IF(#REF!=\"\", IF(#REF!=\"\", 0,1),0)","v":{"$error":"#REF!"}},null,null,null,null,{"$f":"IF(#REF!<0, 1, 0)","v":{"$error":"#REF!"}},{"$f":"IF(#REF!<0, 1, 0)","v":{"$error":"#REF!"}},{"$f":"IF(#REF!<0, 1, 0)","v":{"$error":"#REF!"}},{"$f":"IF(#REF!<0, 1, 0)","v":{"$error":"#REF!"}},{"$f":"IF(#REF!<0, 1, 0)","v":{"$error":"#REF!"}},{"$f":"IF(#REF!<0, 1, 0)","v":{"$error":"#REF!"}},{"$f":"IF(#REF!<0, 1, 0)","v":{"$error":"#REF!"}},{"$f":"IF(#REF!<0, 1, 0)","v":{"$error":"#REF!"}},{"$f":"IF(#REF!<0, 1, 0)","v":{"$error":"#REF!"}},{"$f":"IF(#REF!<0, 1, 0)","v":{"$error":"#REF!"}},{"$f":"IF(#REF!<0, 1, 0)","v":{"$error":"#REF!"}},{"$f":"IF(#REF!<0, 1, 0)","v":{"$error":"#REF!"}},{"$f":"IF(#REF!<0, 1, 0)","v":{"$error":"#REF!"}},{"$f":"IF(#REF!<0, 1, 0)","v":{"$error":"#REF!"}},{"$f":"IF(#REF!<0, 1, 0)","v":{"$error":"#REF!"}},{"$f":"IF(#REF!<0, 1, 0)","v":{"$error":"#REF!"}},{"$f":"IF(#REF!<0, 1, 0)","v":{"$error":"#REF!"}},{"$f":"IF(#REF!<0, 1, 0)","v":{"$error":"#REF!"}},{"$f":"IF(#REF!<0, 1, 0)","v":{"$error":"#REF!"}},{"$f":"IF(#REF!<0, 1, 0)","v":{"$error":"#REF!"}},{"$f":"IF(#REF!<0, 1, 0)","v":{"$error":"#REF!"}},null,null,null,null,null,null,null,{"$f":"IF(#REF!<0, 1, 0)","v":{"$error":"#REF!"}},{"$f":"IF(#REF!<0, 1, 0)","v":{"$error":"#REF!"}},{"$f":"IF(#REF!<0, 1, 0)","v":{"$error":"#REF!"}},{"$f":"IF(#REF!<0, 1, 0)","v":{"$error":"#REF!"}},{"$f":"IF(#REF!<0, 1, 0)","v":{"$error":"#REF!"}},{"$f":"IF(#REF!<0, 1, 0)","v":{"$error":"#REF!"}},{"$f":"IF(#REF!<0, 1, 0)","v":{"$error":"#REF!"}},{"$f":"IF(#REF!<0, 1, 0)","v":{"$error":"#REF!"}},{"$f":"IF(#REF!<0, 1, 0)","v":{"$error":"#REF!"}},{"$f":"IF(#REF!<0, 1, 0)","v":{"$error":"#REF!"}},null,null,null,null,null,null,null,null,null,null,null,null,null,null,null,null,null,null,null,null,null,null,null,"RD3POOLE GENERAL HOSPITAL NHS TRUST HQ","RD304","POOLE GENERAL HOSPITAL NHS TRUST HQ","RD304","POOLE GENERAL HOSPITAL NHS TRUST HQ","RD3",null,null,"BRADFORD ROYAL INFIRMARY","Ward 14"]
[null,null,null,{"$f":"IF(#REF!=\"\", IF(#REF!=\"\", 0,1),0)","v":{"$error":"#REF!"}},null,null,null,null,{"$f":"IF(#REF!<0, 1, 0)","v":{"$error":"#REF!"}},{"$f":"IF(#REF!<0, 1, 0)","v":{"$error":"#REF!"}},{"$f":"IF(#REF!<0, 1, 0)","v":{"$error":"#REF!"}},{"$f":"IF(#REF!<0, 1, 0)","v":{"$error":"#REF!"}},{"$f":"IF(#REF!<0, 1, 0)","v":{"$error":"#REF!"}},{"$f":"IF(#REF!<0, 1, 0)","v":{"$error":"#REF!"}},{"$f":"IF(#REF!<0, 1, 0)","v":{"$error":"#REF!"}},{"$f":"IF(#REF!<0, 1, 0)","v":{"$error":"#REF!"}},{"$f":"IF(#REF!<0, 1, 0)","v":{"$error":"#REF!"}},{"$f":"IF(#REF!<0, 1, 0)","v":{"$error":"#REF!"}},{"$f":"IF(#REF!<0, 1, 0)","v":{"$error":"#REF!"}},{"$f":"IF(#REF!<0, 1, 0)","v":{"$error":"#REF!"}},{"$f":"IF(#REF!<0, 1, 0)","v":{"$error":"#REF!"}},{"$f":"IF(#REF!<0, 1, 0)","v":{"$error":"#REF!"}},{"$f":"IF(#REF!<0, 1, 0)","v":{"$error":"#REF!"}},{"$f":"IF(#REF!<0, 1, 0)","v":{"$error":"#REF!"}},{"$f":"IF(#REF!<0, 1, 0)","v":{"$error":"#REF!"}},{"$f":"IF(#REF!<0, 1, 0)","v":{"$error":"#REF!"}},{"$f":"IF(#REF!<0, 1, 0)","v":{"$error":"#REF!"}},{"$f":"IF(#REF!<0, 1, 0)","v":{"$error":"#REF!"}},{"$f":"IF(#REF!<0, 1, 0)","v":{"$error":"#REF!"}},null,null,null,null,null,null,null,{"$f":"IF(#REF!<0, 1, 0)","v":{"$error":"#REF!"}},{"$f":"IF(#REF!<0, 1, 0)","v":{"$error":"#REF!"}},{"$f":"IF(#REF!<0, 1, 0)","v":{"$error":"#REF!"}},{"$f":"IF(#REF!<0, 1, 0)","v":{"$error":"#REF!"}},{"$f":"IF(#REF!<0, 1, 0)","v":{"$error":"#REF!"}},{"$f":"IF(#REF!<0, 1, 0)","v":{"$error":"#REF!"}},{"$f":"IF(#REF!<0, 1, 0)","v":{"$error":"#REF!"}},{"$f":"IF(#REF!<0, 1, 0)","v":{"$error":"#REF!"}},{"$f":"IF(#REF!<0, 1, 0)","v":{"$error":"#REF!"}},{"$f":"IF(#REF!<0, 1, 0)","v":{"$error":"#REF!"}},null,null,null,null,null,null,null,null,null,null,null,null,null,null,null,null,null,null,null,null,null,null,null,"RD7CHALFONT'S AND GERRARDS CROSS HOSPITAL","RD766","CHALFONT'S AND GERRARDS CROSS HOSPITAL","RD766","CHALFONT'S AND GERRARDS CROSS HOSPITAL","RD7",null,null,"BRADFORD ROYAL INFIRMARY","Ward 15 Renal"]
[null,null,null,{"$f":"IF(#REF!=\"\", IF(#REF!=\"\", 0,1),0)","v":{"$error":"#REF!"}},null,null,null,null,{"$f":"IF(#REF!<0, 1, 0)","v":{"$error":"#REF!"}},{"$f":"IF(#REF!<0, 1, 0)","v":{"$error":"#REF!"}},{"$f":"IF(#REF!<0, 1, 0)","v":{"$error":"#REF!"}},{"$f":"IF(#REF!<0, 1, 0)","v":{"$error":"#REF!"}},{"$f":"IF(#REF!<0, 1, 0)","v":{"$error":"#REF!"}},{"$f":"IF(#REF!<0, 1, 0)","v":{"$error":"#REF!"}},{"$f":"IF(#REF!<0, 1, 0)","v":{"$error":"#REF!"}},{"$f":"IF(#REF!<0, 1, 0)","v":{"$error":"#REF!"}},{"$f":"IF(#REF!<0, 1, 0)","v":{"$error":"#REF!"}},{"$f":"IF(#REF!<0, 1, 0)","v":{"$error":"#REF!"}},{"$f":"IF(#REF!<0, 1, 0)","v":{"$error":"#REF!"}},{"$f":"IF(#REF!<0, 1, 0)","v":{"$error":"#REF!"}},{"$f":"IF(#REF!<0, 1, 0)","v":{"$error":"#REF!"}},{"$f":"IF(#REF!<0, 1, 0)","v":{"$error":"#REF!"}},{"$f":"IF(#REF!<0, 1, 0)","v":{"$error":"#REF!"}},{"$f":"IF(#REF!<0, 1, 0)","v":{"$error":"#REF!"}},{"$f":"IF(#REF!<0, 1, 0)","v":{"$error":"#REF!"}},{"$f":"IF(#REF!<0, 1, 0)","v":{"$error":"#REF!"}},{"$f":"IF(#REF!<0, 1, 0)","v":{"$error":"#REF!"}},{"$f":"IF(#REF!<0, 1, 0)","v":{"$error":"#REF!"}},{"$f":"IF(#REF!<0, 1, 0)","v":{"$error":"#REF!"}},null,null,null,null,null,null,null,{"$f":"IF(#REF!<0, 1, 0)","v":{"$error":"#REF!"}},{"$f":"IF(#REF!<0, 1, 0)","v":{"$error":"#REF!"}},{"$f":"IF(#REF!<0, 1, 0)","v":{"$error":"#REF!"}},{"$f":"IF(#REF!<0, 1, 0)","v":{"$error":"#REF!"}},{"$f":"IF(#REF!<0, 1, 0)","v":{"$error":"#REF!"}},{"$f":"IF(#REF!<0, 1, 0)","v":{"$error":"#REF!"}},{"$f":"IF(#REF!<0, 1, 0)","v":{"$error":"#REF!"}},{"$f":"IF(#REF!<0, 1, 0)","v":{"$error":"#REF!"}},{"$f":"IF(#REF!<0, 1, 0)","v":{"$error":"#REF!"}},{"$f":"IF(#REF!<0, 1, 0)","v":{"$error":"#REF!"}},null,null,null,null,null,null,null,null,null,null,null,null,null,null,null,null,null,null,null,null,null,null,null,"RD7FARNHAM ROAD","RD762","FARNHAM ROAD","RD762","FARNHAM ROAD","RD7",null,null,"BRADFORD ROYAL INFIRMARY","Ward 18"]
[null,null,null,{"$f":"IF(#REF!=\"\", IF(#REF!=\"\", 0,1),0)","v":{"$error":"#REF!"}},null,null,null,null,{"$f":"IF(#REF!<0, 1, 0)","v":{"$error":"#REF!"}},{"$f":"IF(#REF!<0, 1, 0)","v":{"$error":"#REF!"}},{"$f":"IF(#REF!<0, 1, 0)","v":{"$error":"#REF!"}},{"$f":"IF(#REF!<0, 1, 0)","v":{"$error":"#REF!"}},{"$f":"IF(#REF!<0, 1, 0)","v":{"$error":"#REF!"}},{"$f":"IF(#REF!<0, 1, 0)","v":{"$error":"#REF!"}},{"$f":"IF(#REF!<0, 1, 0)","v":{"$error":"#REF!"}},{"$f":"IF(#REF!<0, 1, 0)","v":{"$error":"#REF!"}},{"$f":"IF(#REF!<0, 1, 0)","v":{"$error":"#REF!"}},{"$f":"IF(#REF!<0, 1, 0)","v":{"$error":"#REF!"}},{"$f":"IF(#REF!<0, 1, 0)","v":{"$error":"#REF!"}},{"$f":"IF(#REF!<0, 1, 0)","v":{"$error":"#REF!"}},{"$f":"IF(#REF!<0, 1, 0)","v":{"$error":"#REF!"}},{"$f":"IF(#REF!<0, 1, 0)","v":{"$error":"#REF!"}},{"$f":"IF(#REF!<0, 1, 0)","v":{"$error":"#REF!"}},{"$f":"IF(#REF!<0, 1, 0)","v":{"$error":"#REF!"}},{"$f":"IF(#REF!<0, 1, 0)","v":{"$error":"#REF!"}},{"$f":"IF(#REF!<0, 1, 0)","v":{"$error":"#REF!"}},{"$f":"IF(#REF!<0, 1, 0)","v":{"$error":"#REF!"}},{"$f":"IF(#REF!<0, 1, 0)","v":{"$error":"#REF!"}},{"$f":"IF(#REF!<0, 1, 0)","v":{"$error":"#REF!"}},null,null,null,null,null,null,null,{"$f":"IF(#REF!<0, 1, 0)","v":{"$error":"#REF!"}},{"$f":"IF(#REF!<0, 1, 0)","v":{"$error":"#REF!"}},{"$f":"IF(#REF!<0, 1, 0)","v":{"$error":"#REF!"}},{"$f":"IF(#REF!<0, 1, 0)","v":{"$error":"#REF!"}},{"$f":"IF(#REF!<0, 1, 0)","v":{"$error":"#REF!"}},{"$f":"IF(#REF!<0, 1, 0)","v":{"$error":"#REF!"}},{"$f":"IF(#REF!<0, 1, 0)","v":{"$error":"#REF!"}},{"$f":"IF(#REF!<0, 1, 0)","v":{"$error":"#REF!"}},{"$f":"IF(#REF!<0, 1, 0)","v":{"$error":"#REF!"}},{"$f":"IF(#REF!<0, 1, 0)","v":{"$error":"#REF!"}},null,null,null,null,null,null,null,null,null,null,null,null,null,null,null,null,null,null,null,null,null,null,null,"RD7GREAT HOLLANDS","RD764","GREAT HOLLANDS","RD764","GREAT HOLLANDS","RD7",null,null,"BRADFORD ROYAL INFIRMARY","Ward 20"]
[null,null,null,{"$f":"IF(#REF!=\"\", IF(#REF!=\"\", 0,1),0)","v":{"$error":"#REF!"}},null,null,null,null,{"$f":"IF(#REF!<0, 1, 0)","v":{"$error":"#REF!"}},{"$f":"IF(#REF!<0, 1, 0)","v":{"$error":"#REF!"}},{"$f":"IF(#REF!<0, 1, 0)","v":{"$error":"#REF!"}},{"$f":"IF(#REF!<0, 1, 0)","v":{"$error":"#REF!"}},{"$f":"IF(#REF!<0, 1, 0)","v":{"$error":"#REF!"}},{"$f":"IF(#REF!<0, 1, 0)","v":{"$error":"#REF!"}},{"$f":"IF(#REF!<0, 1, 0)","v":{"$error":"#REF!"}},{"$f":"IF(#REF!<0, 1, 0)","v":{"$error":"#REF!"}},{"$f":"IF(#REF!<0, 1, 0)","v":{"$error":"#REF!"}},{"$f":"IF(#REF!<0, 1, 0)","v":{"$error":"#REF!"}},{"$f":"IF(#REF!<0, 1, 0)","v":{"$error":"#REF!"}},{"$f":"IF(#REF!<0, 1, 0)","v":{"$error":"#REF!"}},{"$f":"IF(#REF!<0, 1, 0)","v":{"$error":"#REF!"}},{"$f":"IF(#REF!<0, 1, 0)","v":{"$error":"#REF!"}},{"$f":"IF(#REF!<0, 1, 0)","v":{"$error":"#REF!"}},{"$f":"IF(#REF!<0, 1, 0)","v":{"$error":"#REF!"}},{"$f":"IF(#REF!<0, 1, 0)","v":{"$error":"#REF!"}},{"$f":"IF(#REF!<0, 1, 0)","v":{"$error":"#REF!"}},{"$f":"IF(#REF!<0, 1, 0)","v":{"$error":"#REF!"}},{"$f":"IF(#REF!<0, 1, 0)","v":{"$error":"#REF!"}},{"$f":"IF(#REF!<0, 1, 0)","v":{"$error":"#REF!"}},null,null,null,null,null,null,null,{"$f":"IF(#REF!<0, 1, 0)","v":{"$error":"#REF!"}},{"$f":"IF(#REF!<0, 1, 0)","v":{"$error":"#REF!"}},{"$f":"IF(#REF!<0, 1, 0)","v":{"$error":"#REF!"}},{"$f":"IF(#REF!<0, 1, 0)","v":{"$error":"#REF!"}},{"$f":"IF(#REF!<0, 1, 0)","v":{"$error":"#REF!"}},{"$f":"IF(#REF!<0, 1, 0)","v":{"$error":"#REF!"}},{"$f":"IF(#REF!<0, 1, 0)","v":{"$error":"#REF!"}},{"$f":"IF(#REF!<0, 1, 0)","v":{"$error":"#REF!"}},{"$f":"IF(#REF!<0, 1, 0)","v":{"$error":"#REF!"}},{"$f":"IF(#REF!<0, 1, 0)","v":{"$error":"#REF!"}},null,null,null,null,null,null,null,null,null,null,null,null,null,null,null,null,null,null,null,null,null,null,null,"RD7HEATHERWOOD AND WEXHAM PARK HOSPITALS NHS TRUST","RD700","HEATHERWOOD AND WEXHAM PARK HOSPITALS NHS TRUST","RD700","HEATHERWOOD AND WEXHAM PARK HOSPITALS NHS TRUST","RD7",null,null,"BRADFORD ROYAL INFIRMARY","Ward 21"]
[null,null,null,{"$f":"IF(#REF!=\"\", IF(#REF!=\"\", 0,1),0)","v":{"$error":"#REF!"}},null,null,null,null,{"$f":"IF(#REF!<0, 1, 0)","v":{"$error":"#REF!"}},{"$f":"IF(#REF!<0, 1, 0)","v":{"$error":"#REF!"}},{"$f":"IF(#REF!<0, 1, 0)","v":{"$error":"#REF!"}},{"$f":"IF(#REF!<0, 1, 0)","v":{"$error":"#REF!"}},{"$f":"IF(#REF!<0, 1, 0)","v":{"$error":"#REF!"}},{"$f":"IF(#REF!<0, 1, 0)","v":{"$error":"#REF!"}},{"$f":"IF(#REF!<0, 1, 0)","v":{"$error":"#REF!"}},{"$f":"IF(#REF!<0, 1, 0)","v":{"$error":"#REF!"}},{"$f":"IF(#REF!<0, 1, 0)","v":{"$error":"#REF!"}},{"$f":"IF(#REF!<0, 1, 0)","v":{"$error":"#REF!"}},{"$f":"IF(#REF!<0, 1, 0)","v":{"$error":"#REF!"}},{"$f":"IF(#REF!<0, 1, 0)","v":{"$error":"#REF!"}},{"$f":"IF(#REF!<0, 1, 0)","v":{"$error":"#REF!"}},{"$f":"IF(#REF!<0, 1, 0)","v":{"$error":"#REF!"}},{"$f":"IF(#REF!<0, 1, 0)","v":{"$error":"#REF!"}},{"$f":"IF(#REF!<0, 1, 0)","v":{"$error":"#REF!"}},{"$f":"IF(#REF!<0, 1, 0)","v":{"$error":"#REF!"}},{"$f":"IF(#REF!<0, 1, 0)","v":{"$error":"#REF!"}},{"$f":"IF(#REF!<0, 1, 0)","v":{"$error":"#REF!"}},{"$f":"IF(#REF!<0, 1, 0)","v":{"$error":"#REF!"}},{"$f":"IF(#REF!<0, 1, 0)","v":{"$error":"#REF!"}},null,null,null,null,null,null,null,{"$f":"IF(#REF!<0, 1, 0)","v":{"$error":"#REF!"}},{"$f":"IF(#REF!<0, 1, 0)","v":{"$error":"#REF!"}},{"$f":"IF(#REF!<0, 1, 0)","v":{"$error":"#REF!"}},{"$f":"IF(#REF!<0, 1, 0)","v":{"$error":"#REF!"}},{"$f":"IF(#REF!<0, 1, 0)","v":{"$error":"#REF!"}},{"$f":"IF(#REF!<0, 1, 0)","v":{"$error":"#REF!"}},{"$f":"IF(#REF!<0, 1, 0)","v":{"$error":"#REF!"}},{"$f":"IF(#REF!<0, 1, 0)","v":{"$error":"#REF!"}},{"$f":"IF(#REF!<0, 1, 0)","v":{"$error":"#REF!"}},{"$f":"IF(#REF!<0, 1, 0)","v":{"$error":"#REF!"}},null,null,null,null,null,null,null,null,null,null,null,null,null,null,null,null,null,null,null,null,null,null,null,"RD7HEATHERWOOD HOSPITAL","RD752","HEATHERWOOD HOSPITAL","RD752","HEATHERWOOD HOSPITAL","RD7",null,null,"BRADFORD ROYAL INFIRMARY","Ward 22 & CCU"]
[null,null,null,{"$f":"IF(#REF!=\"\", IF(#REF!=\"\", 0,1),0)","v":{"$error":"#REF!"}},null,null,null,null,{"$f":"IF(#REF!<0, 1, 0)","v":{"$error":"#REF!"}},{"$f":"IF(#REF!<0, 1, 0)","v":{"$error":"#REF!"}},{"$f":"IF(#REF!<0, 1, 0)","v":{"$error":"#REF!"}},{"$f":"IF(#REF!<0, 1, 0)","v":{"$error":"#REF!"}},{"$f":"IF(#REF!<0, 1, 0)","v":{"$error":"#REF!"}},{"$f":"IF(#REF!<0, 1, 0)","v":{"$error":"#REF!"}},{"$f":"IF(#REF!<0, 1, 0)","v":{"$error":"#REF!"}},{"$f":"IF(#REF!<0, 1, 0)","v":{"$error":"#REF!"}},{"$f":"IF(#REF!<0, 1, 0)","v":{"$error":"#REF!"}},{"$f":"IF(#REF!<0, 1, 0)","v":{"$error":"#REF!"}},{"$f":"IF(#REF!<0, 1, 0)","v":{"$error":"#REF!"}},{"$f":"IF(#REF!<0, 1, 0)","v":{"$error":"#REF!"}},{"$f":"IF(#REF!<0, 1, 0)","v":{"$error":"#REF!"}},{"$f":"IF(#REF!<0, 1, 0)","v":{"$error":"#REF!"}},{"$f":"IF(#REF!<0, 1, 0)","v":{"$error":"#REF!"}},{"$f":"IF(#REF!<0, 1, 0)","v":{"$error":"#REF!"}},{"$f":"IF(#REF!<0, 1, 0)","v":{"$error":"#REF!"}},{"$f":"IF(#REF!<0, 1, 0)","v":{"$error":"#REF!"}},{"$f":"IF(#REF!<0, 1, 0)","v":{"$error":"#REF!"}},{"$f":"IF(#REF!<0, 1, 0)","v":{"$error":"#REF!"}},{"$f":"IF(#REF!<0, 1, 0)","v":{"$error":"#REF!"}},null,null,null,null,null,null,null,{"$f":"IF(#REF!<0, 1, 0)","v":{"$error":"#REF!"}},{"$f":"IF(#REF!<0, 1, 0)","v":{"$error":"#REF!"}},{"$f":"IF(#REF!<0, 1, 0)","v":{"$error":"#REF!"}},{"$f":"IF(#REF!<0, 1, 0)","v":{"$error":"#REF!"}},{"$f":"IF(#REF!<0, 1, 0)","v":{"$error":"#REF!"}},{"$f":"IF(#REF!<0, 1, 0)","v":{"$error":"#REF!"}},{"$f":"IF(#REF!<0, 1, 0)","v":{"$error":"#REF!"}},{"$f":"IF(#REF!<0, 1, 0)","v":{"$error":"#REF!"}},{"$f":"IF(#REF!<0, 1, 0)","v":{"$error":"#REF!"}},{"$f":"IF(#REF!<0, 1, 0)","v":{"$error":"#REF!"}},null,null,null,null,null,null,null,null,null,null,null,null,null,null,null,null,null,null,null,null,null,null,null,"RD7HSH BROADMOOR HOSPITAL","RD765","HSH BROADMOOR HOSPITAL","RD765","HSH BROADMOOR HOSPITAL","RD7",null,null,"BRADFORD ROYAL INFIRMARY","Ward 23"]
[null,null,null,{"$f":"IF(#REF!=\"\", IF(#REF!=\"\", 0,1),0)","v":{"$error":"#REF!"}},null,null,null,null,{"$f":"IF(#REF!<0, 1, 0)","v":{"$error":"#REF!"}},{"$f":"IF(#REF!<0, 1, 0)","v":{"$error":"#REF!"}},{"$f":"IF(#REF!<0, 1, 0)","v":{"$error":"#REF!"}},{"$f":"IF(#REF!<0, 1, 0)","v":{"$error":"#REF!"}},{"$f":"IF(#REF!<0, 1, 0)","v":{"$error":"#REF!"}},{"$f":"IF(#REF!<0, 1, 0)","v":{"$error":"#REF!"}},{"$f":"IF(#REF!<0, 1, 0)","v":{"$error":"#REF!"}},{"$f":"IF(#REF!<0, 1, 0)","v":{"$error":"#REF!"}},{"$f":"IF(#REF!<0, 1, 0)","v":{"$error":"#REF!"}},{"$f":"IF(#REF!<0, 1, 0)","v":{"$error":"#REF!"}},{"$f":"IF(#REF!<0, 1, 0)","v":{"$error":"#REF!"}},{"$f":"IF(#REF!<0, 1, 0)","v":{"$error":"#REF!"}},{"$f":"IF(#REF!<0, 1, 0)","v":{"$error":"#REF!"}},{"$f":"IF(#REF!<0, 1, 0)","v":{"$error":"#REF!"}},{"$f":"IF(#REF!<0, 1, 0)","v":{"$error":"#REF!"}},{"$f":"IF(#REF!<0, 1, 0)","v":{"$error":"#REF!"}},{"$f":"IF(#REF!<0, 1, 0)","v":{"$error":"#REF!"}},{"$f":"IF(#REF!<0, 1, 0)","v":{"$error":"#REF!"}},{"$f":"IF(#REF!<0, 1, 0)","v":{"$error":"#REF!"}},{"$f":"IF(#REF!<0, 1, 0)","v":{"$error":"#REF!"}},{"$f":"IF(#REF!<0, 1, 0)","v":{"$error":"#REF!"}},null,null,null,null,null,null,null,{"$f":"IF(#REF!<0, 1, 0)","v":{"$error":"#REF!"}},{"$f":"IF(#REF!<0, 1, 0)","v":{"$error":"#REF!"}},{"$f":"IF(#REF!<0, 1, 0)","v":{"$error":"#REF!"}},{"$f":"IF(#REF!<0, 1, 0)","v":{"$error":"#REF!"}},{"$f":"IF(#REF!<0, 1, 0)","v":{"$error":"#REF!"}},{"$f":"IF(#REF!<0, 1, 0)","v":{"$error":"#REF!"}},{"$f":"IF(#REF!<0, 1, 0)","v":{"$error":"#REF!"}},{"$f":"IF(#REF!<0, 1, 0)","v":{"$error":"#REF!"}},{"$f":"IF(#REF!<0, 1, 0)","v":{"$error":"#REF!"}},{"$f":"IF(#REF!<0, 1, 0)","v":{"$error":"#REF!"}},null,null,null,null,null,null,null,null,null,null,null,null,null,null,null,null,null,null,null,null,null,null,null,"RD7KING EDWARD VII HOSPITAL","RD753","KING EDWARD VII HOSPITAL","RD753","KING EDWARD VII HOSPITAL","RD7",null,null,"BRADFORD ROYAL INFIRMARY","Ward 24 Oncology"]
[null,null,null,{"$f":"IF(#REF!=\"\", IF(#REF!=\"\", 0,1),0)","v":{"$error":"#REF!"}},null,null,null,null,{"$f":"IF(#REF!<0, 1, 0)","v":{"$error":"#REF!"}},{"$f":"IF(#REF!<0, 1, 0)","v":{"$error":"#REF!"}},{"$f":"IF(#REF!<0, 1, 0)","v":{"$error":"#REF!"}},{"$f":"IF(#REF!<0, 1, 0)","v":{"$error":"#REF!"}},{"$f":"IF(#REF!<0, 1, 0)","v":{"$error":"#REF!"}},{"$f":"IF(#REF!<0, 1, 0)","v":{"$error":"#REF!"}},{"$f":"IF(#REF!<0, 1, 0)","v":{"$error":"#REF!"}},{"$f":"IF(#REF!<0, 1, 0)","v":{"$error":"#REF!"}},{"$f":"IF(#REF!<0, 1, 0)","v":{"$error":"#REF!"}},{"$f":"IF(#REF!<0, 1, 0)","v":{"$error":"#REF!"}},{"$f":"IF(#REF!<0, 1, 0)","v":{"$error":"#REF!"}},{"$f":"IF(#REF!<0, 1, 0)","v":{"$error":"#REF!"}},{"$f":"IF(#REF!<0, 1, 0)","v":{"$error":"#REF!"}},{"$f":"IF(#REF!<0, 1, 0)","v":{"$error":"#REF!"}},{"$f":"IF(#REF!<0, 1, 0)","v":{"$error":"#REF!"}},{"$f":"IF(#REF!<0, 1, 0)","v":{"$error":"#REF!"}},{"$f":"IF(#REF!<0, 1, 0)","v":{"$error":"#REF!"}},{"$f":"IF(#REF!<0, 1, 0)","v":{"$error":"#REF!"}},{"$f":"IF(#REF!<0, 1, 0)","v":{"$error":"#REF!"}},{"$f":"IF(#REF!<0, 1, 0)","v":{"$error":"#REF!"}},{"$f":"IF(#REF!<0, 1, 0)","v":{"$error":"#REF!"}},null,null,null,null,null,null,null,{"$f":"IF(#REF!<0, 1, 0)","v":{"$error":"#REF!"}},{"$f":"IF(#REF!<0, 1, 0)","v":{"$error":"#REF!"}},{"$f":"IF(#REF!<0, 1, 0)","v":{"$error":"#REF!"}},{"$f":"IF(#REF!<0, 1, 0)","v":{"$error":"#REF!"}},{"$f":"IF(#REF!<0, 1, 0)","v":{"$error":"#REF!"}},{"$f":"IF(#REF!<0, 1, 0)","v":{"$error":"#REF!"}},{"$f":"IF(#REF!<0, 1, 0)","v":{"$error":"#REF!"}},{"$f":"IF(#REF!<0, 1, 0)","v":{"$error":"#REF!"}},{"$f":"IF(#REF!<0, 1, 0)","v":{"$error":"#REF!"}},{"$f":"IF(#REF!<0, 1, 0)","v":{"$error":"#REF!"}},null,null,null,null,null,null,null,null,null,null,null,null,null,null,null,null,null,null,null,null,null,null,null,"RD7LANGLEY HEALTH CENTRE","RD763","LANGLEY HEALTH CENTRE","RD763","LANGLEY HEALTH CENTRE","RD7",null,null,"BRADFORD ROYAL INFIRMARY","Ward 25"]
[null,null,null,{"$f":"IF(#REF!=\"\", IF(#REF!=\"\", 0,1),0)","v":{"$error":"#REF!"}},null,null,null,null,{"$f":"IF(#REF!<0, 1, 0)","v":{"$error":"#REF!"}},{"$f":"IF(#REF!<0, 1, 0)","v":{"$error":"#REF!"}},{"$f":"IF(#REF!<0, 1, 0)","v":{"$error":"#REF!"}},{"$f":"IF(#REF!<0, 1, 0)","v":{"$error":"#REF!"}},{"$f":"IF(#REF!<0, 1, 0)","v":{"$error":"#REF!"}},{"$f":"IF(#REF!<0, 1, 0)","v":{"$error":"#REF!"}},{"$f":"IF(#REF!<0, 1, 0)","v":{"$error":"#REF!"}},{"$f":"IF(#REF!<0, 1, 0)","v":{"$error":"#REF!"}},{"$f":"IF(#REF!<0, 1, 0)","v":{"$error":"#REF!"}},{"$f":"IF(#REF!<0, 1, 0)","v":{"$error":"#REF!"}},{"$f":"IF(#REF!<0, 1, 0)","v":{"$error":"#REF!"}},{"$f":"IF(#REF!<0, 1, 0)","v":{"$error":"#REF!"}},{"$f":"IF(#REF!<0, 1, 0)","v":{"$error":"#REF!"}},{"$f":"IF(#REF!<0, 1, 0)","v":{"$error":"#REF!"}},{"$f":"IF(#REF!<0, 1, 0)","v":{"$error":"#REF!"}},{"$f":"IF(#REF!<0, 1, 0)","v":{"$error":"#REF!"}},{"$f":"IF(#REF!<0, 1, 0)","v":{"$error":"#REF!"}},{"$f":"IF(#REF!<0, 1, 0)","v":{"$error":"#REF!"}},{"$f":"IF(#REF!<0, 1, 0)","v":{"$error":"#REF!"}},{"$f":"IF(#REF!<0, 1, 0)","v":{"$error":"#REF!"}},{"$f":"IF(#REF!<0, 1, 0)","v":{"$error":"#REF!"}},null,null,null,null,null,null,null,{"$f":"IF(#REF!<0, 1, 0)","v":{"$error":"#REF!"}},{"$f":"IF(#REF!<0, 1, 0)","v":{"$error":"#REF!"}},{"$f":"IF(#REF!<0, 1, 0)","v":{"$error":"#REF!"}},{"$f":"IF(#REF!<0, 1, 0)","v":{"$error":"#REF!"}},{"$f":"IF(#REF!<0, 1, 0)","v":{"$error":"#REF!"}},{"$f":"IF(#REF!<0, 1, 0)","v":{"$error":"#REF!"}},{"$f":"IF(#REF!<0, 1, 0)","v":{"$error":"#REF!"}},{"$f":"IF(#REF!<0, 1, 0)","v":{"$error":"#REF!"}},{"$f":"IF(#REF!<0, 1, 0)","v":{"$error":"#REF!"}},{"$f":"IF(#REF!<0, 1, 0)","v":{"$error":"#REF!"}},null,null,null,null,null,null,null,null,null,null,null,null,null,null,null,null,null,null,null,null,null,null,null,"RD7PAUL BEVAN HOUSE (THAMES HOSPICE CARE)","RD761","PAUL BEVAN HOUSE (THAMES HOSPICE CARE)","RD761","PAUL BEVAN HOUSE (THAMES HOSPICE CARE)","RD7",null,null,"BRADFORD ROYAL INFIRMARY","Ward 26"]
[null,null,null,{"$f":"IF(#REF!=\"\", IF(#REF!=\"\", 0,1),0)","v":{"$error":"#REF!"}},null,null,null,null,{"$f":"IF(#REF!<0, 1, 0)","v":{"$error":"#REF!"}},{"$f":"IF(#REF!<0, 1, 0)","v":{"$error":"#REF!"}},{"$f":"IF(#REF!<0, 1, 0)","v":{"$error":"#REF!"}},{"$f":"IF(#REF!<0, 1, 0)","v":{"$error":"#REF!"}},{"$f":"IF(#REF!<0, 1, 0)","v":{"$error":"#REF!"}},{"$f":"IF(#REF!<0, 1, 0)","v":{"$error":"#REF!"}},{"$f":"IF(#REF!<0, 1, 0)","v":{"$error":"#REF!"}},{"$f":"IF(#REF!<0, 1, 0)","v":{"$error":"#REF!"}},{"$f":"IF(#REF!<0, 1, 0)","v":{"$error":"#REF!"}},{"$f":"IF(#REF!<0, 1, 0)","v":{"$error":"#REF!"}},{"$f":"IF(#REF!<0, 1, 0)","v":{"$error":"#REF!"}},{"$f":"IF(#REF!<0, 1, 0)","v":{"$error":"#REF!"}},{"$f":"IF(#REF!<0, 1, 0)","v":{"$error":"#REF!"}},{"$f":"IF(#REF!<0, 1, 0)","v":{"$error":"#REF!"}},{"$f":"IF(#REF!<0, 1, 0)","v":{"$error":"#REF!"}},{"$f":"IF(#REF!<0, 1, 0)","v":{"$error":"#REF!"}},{"$f":"IF(#REF!<0, 1, 0)","v":{"$error":"#REF!"}},{"$f":"IF(#REF!<0, 1, 0)","v":{"$error":"#REF!"}},{"$f":"IF(#REF!<0, 1, 0)","v":{"$error":"#REF!"}},{"$f":"IF(#REF!<0, 1, 0)","v":{"$error":"#REF!"}},{"$f":"IF(#REF!<0, 1, 0)","v":{"$error":"#REF!"}},null,null,null,null,null,null,null,{"$f":"IF(#REF!<0, 1, 0)","v":{"$error":"#REF!"}},{"$f":"IF(#REF!<0, 1, 0)","v":{"$error":"#REF!"}},{"$f":"IF(#REF!<0, 1, 0)","v":{"$error":"#REF!"}},{"$f":"IF(#REF!<0, 1, 0)","v":{"$error":"#REF!"}},{"$f":"IF(#REF!<0, 1, 0)","v":{"$error":"#REF!"}},{"$f":"IF(#REF!<0, 1, 0)","v":{"$error":"#REF!"}},{"$f":"IF(#REF!<0, 1, 0)","v":{"$error":"#REF!"}},{"$f":"IF(#REF!<0, 1, 0)","v":{"$error":"#REF!"}},{"$f":"IF(#REF!<0, 1, 0)","v":{"$error":"#REF!"}},{"$f":"IF(#REF!<0, 1, 0)","v":{"$error":"#REF!"}},null,null,null,null,null,null,null,null,null,null,null,null,null,null,null,null,null,null,null,null,null,null,null,"RD7PINE LODGE (THAMES HOSPICE CARE)","RD760","PINE LODGE (THAMES HOSPICE CARE)","RD760","PINE LODGE (THAMES HOSPICE CARE)","RD7",null,null,"BRADFORD ROYAL INFIRMARY","Ward 27"]
[null,null,null,{"$f":"IF(#REF!=\"\", IF(#REF!=\"\", 0,1),0)","v":{"$error":"#REF!"}},null,null,null,null,{"$f":"IF(#REF!<0, 1, 0)","v":{"$error":"#REF!"}},{"$f":"IF(#REF!<0, 1, 0)","v":{"$error":"#REF!"}},{"$f":"IF(#REF!<0, 1, 0)","v":{"$error":"#REF!"}},{"$f":"IF(#REF!<0, 1, 0)","v":{"$error":"#REF!"}},{"$f":"IF(#REF!<0, 1, 0)","v":{"$error":"#REF!"}},{"$f":"IF(#REF!<0, 1, 0)","v":{"$error":"#REF!"}},{"$f":"IF(#REF!<0, 1, 0)","v":{"$error":"#REF!"}},{"$f":"IF(#REF!<0, 1, 0)","v":{"$error":"#REF!"}},{"$f":"IF(#REF!<0, 1, 0)","v":{"$error":"#REF!"}},{"$f":"IF(#REF!<0, 1, 0)","v":{"$error":"#REF!"}},{"$f":"IF(#REF!<0, 1, 0)","v":{"$error":"#REF!"}},{"$f":"IF(#REF!<0, 1, 0)","v":{"$error":"#REF!"}},{"$f":"IF(#REF!<0, 1, 0)","v":{"$error":"#REF!"}},{"$f":"IF(#REF!<0, 1, 0)","v":{"$error":"#REF!"}},{"$f":"IF(#REF!<0, 1, 0)","v":{"$error":"#REF!"}},{"$f":"IF(#REF!<0, 1, 0)","v":{"$error":"#REF!"}},{"$f":"IF(#REF!<0, 1, 0)","v":{"$error":"#REF!"}},{"$f":"IF(#REF!<0, 1, 0)","v":{"$error":"#REF!"}},{"$f":"IF(#REF!<0, 1, 0)","v":{"$error":"#REF!"}},{"$f":"IF(#REF!<0, 1, 0)","v":{"$error":"#REF!"}},{"$f":"IF(#REF!<0, 1, 0)","v":{"$error":"#REF!"}},null,null,null,null,null,null,null,{"$f":"IF(#REF!<0, 1, 0)","v":{"$error":"#REF!"}},{"$f":"IF(#REF!<0, 1, 0)","v":{"$error":"#REF!"}},{"$f":"IF(#REF!<0, 1, 0)","v":{"$error":"#REF!"}},{"$f":"IF(#REF!<0, 1, 0)","v":{"$error":"#REF!"}},{"$f":"IF(#REF!<0, 1, 0)","v":{"$error":"#REF!"}},{"$f":"IF(#REF!<0, 1, 0)","v":{"$error":"#REF!"}},{"$f":"IF(#REF!<0, 1, 0)","v":{"$error":"#REF!"}},{"$f":"IF(#REF!<0, 1, 0)","v":{"$error":"#REF!"}},{"$f":"IF(#REF!<0, 1, 0)","v":{"$error":"#REF!"}},{"$f":"IF(#REF!<0, 1, 0)","v":{"$error":"#REF!"}},null,null,null,null,null,null,null,null,null,null,null,null,null,null,null,null,null,null,null,null,null,null,null,"RD7ST MARK'S HOSPITAL","RD754","ST MARK'S HOSPITAL","RD754","ST MARK'S HOSPITAL","RD7",null,null,"BRADFORD ROYAL INFIRMARY","Ward 28"]
[null,null,null,{"$f":"IF(#REF!=\"\", IF(#REF!=\"\", 0,1),0)","v":{"$error":"#REF!"}},null,null,null,null,{"$f":"IF(#REF!<0, 1, 0)","v":{"$error":"#REF!"}},{"$f":"IF(#REF!<0, 1, 0)","v":{"$error":"#REF!"}},{"$f":"IF(#REF!<0, 1, 0)","v":{"$error":"#REF!"}},{"$f":"IF(#REF!<0, 1, 0)","v":{"$error":"#REF!"}},{"$f":"IF(#REF!<0, 1, 0)","v":{"$error":"#REF!"}},{"$f":"IF(#REF!<0, 1, 0)","v":{"$error":"#REF!"}},{"$f":"IF(#REF!<0, 1, 0)","v":{"$error":"#REF!"}},{"$f":"IF(#REF!<0, 1, 0)","v":{"$error":"#REF!"}},{"$f":"IF(#REF!<0, 1, 0)","v":{"$error":"#REF!"}},{"$f":"IF(#REF!<0, 1, 0)","v":{"$error":"#REF!"}},{"$f":"IF(#REF!<0, 1, 0)","v":{"$error":"#REF!"}},{"$f":"IF(#REF!<0, 1, 0)","v":{"$error":"#REF!"}},{"$f":"IF(#REF!<0, 1, 0)","v":{"$error":"#REF!"}},{"$f":"IF(#REF!<0, 1, 0)","v":{"$error":"#REF!"}},{"$f":"IF(#REF!<0, 1, 0)","v":{"$error":"#REF!"}},{"$f":"IF(#REF!<0, 1, 0)","v":{"$error":"#REF!"}},{"$f":"IF(#REF!<0, 1, 0)","v":{"$error":"#REF!"}},{"$f":"IF(#REF!<0, 1, 0)","v":{"$error":"#REF!"}},{"$f":"IF(#REF!<0, 1, 0)","v":{"$error":"#REF!"}},{"$f":"IF(#REF!<0, 1, 0)","v":{"$error":"#REF!"}},{"$f":"IF(#REF!<0, 1, 0)","v":{"$error":"#REF!"}},null,null,null,null,null,null,null,{"$f":"IF(#REF!<0, 1, 0)","v":{"$error":"#REF!"}},{"$f":"IF(#REF!<0, 1, 0)","v":{"$error":"#REF!"}},{"$f":"IF(#REF!<0, 1, 0)","v":{"$error":"#REF!"}},{"$f":"IF(#REF!<0, 1, 0)","v":{"$error":"#REF!"}},{"$f":"IF(#REF!<0, 1, 0)","v":{"$error":"#REF!"}},{"$f":"IF(#REF!<0, 1, 0)","v":{"$error":"#REF!"}},{"$f":"IF(#REF!<0, 1, 0)","v":{"$error":"#REF!"}},{"$f":"IF(#REF!<0, 1, 0)","v":{"$error":"#REF!"}},{"$f":"IF(#REF!<0, 1, 0)","v":{"$error":"#REF!"}},{"$f":"IF(#REF!<0, 1, 0)","v":{"$error":"#REF!"}},null,null,null,null,null,null,null,null,null,null,null,null,null,null,null,null,null,null,null,null,null,null,null,"RD7UPTON HOSPITAL","RD755","UPTON HOSPITAL","RD755","UPTON HOSPITAL","RD7",null,null,"BRADFORD ROYAL INFIRMARY","Ward 29"]
[null,null,null,{"$f":"IF(#REF!=\"\", IF(#REF!=\"\", 0,1),0)","v":{"$error":"#REF!"}},null,null,null,null,{"$f":"IF(#REF!<0, 1, 0)","v":{"$error":"#REF!"}},{"$f":"IF(#REF!<0, 1, 0)","v":{"$error":"#REF!"}},{"$f":"IF(#REF!<0, 1, 0)","v":{"$error":"#REF!"}},{"$f":"IF(#REF!<0, 1, 0)","v":{"$error":"#REF!"}},{"$f":"IF(#REF!<0, 1, 0)","v":{"$error":"#REF!"}},{"$f":"IF(#REF!<0, 1, 0)","v":{"$error":"#REF!"}},{"$f":"IF(#REF!<0, 1, 0)","v":{"$error":"#REF!"}},{"$f":"IF(#REF!<0, 1, 0)","v":{"$error":"#REF!"}},{"$f":"IF(#REF!<0, 1, 0)","v":{"$error":"#REF!"}},{"$f":"IF(#REF!<0, 1, 0)","v":{"$error":"#REF!"}},{"$f":"IF(#REF!<0, 1, 0)","v":{"$error":"#REF!"}},{"$f":"IF(#REF!<0, 1, 0)","v":{"$error":"#REF!"}},{"$f":"IF(#REF!<0, 1, 0)","v":{"$error":"#REF!"}},{"$f":"IF(#REF!<0, 1, 0)","v":{"$error":"#REF!"}},{"$f":"IF(#REF!<0, 1, 0)","v":{"$error":"#REF!"}},{"$f":"IF(#REF!<0, 1, 0)","v":{"$error":"#REF!"}},{"$f":"IF(#REF!<0, 1, 0)","v":{"$error":"#REF!"}},{"$f":"IF(#REF!<0, 1, 0)","v":{"$error":"#REF!"}},{"$f":"IF(#REF!<0, 1, 0)","v":{"$error":"#REF!"}},{"$f":"IF(#REF!<0, 1, 0)","v":{"$error":"#REF!"}},{"$f":"IF(#REF!<0, 1, 0)","v":{"$error":"#REF!"}},null,null,null,null,null,null,null,{"$f":"IF(#REF!<0, 1, 0)","v":{"$error":"#REF!"}},{"$f":"IF(#REF!<0, 1, 0)","v":{"$error":"#REF!"}},{"$f":"IF(#REF!<0, 1, 0)","v":{"$error":"#REF!"}},{"$f":"IF(#REF!<0, 1, 0)","v":{"$error":"#REF!"}},{"$f":"IF(#REF!<0, 1, 0)","v":{"$error":"#REF!"}},{"$f":"IF(#REF!<0, 1, 0)","v":{"$error":"#REF!"}},{"$f":"IF(#REF!<0, 1, 0)","v":{"$error":"#REF!"}},{"$f":"IF(#REF!<0, 1, 0)","v":{"$error":"#REF!"}},{"$f":"IF(#REF!<0, 1, 0)","v":{"$error":"#REF!"}},{"$f":"IF(#REF!<0, 1, 0)","v":{"$error":"#REF!"}},null,null,null,null,null,null,null,null,null,null,null,null,null,null,null,null,null,null,null,null,null,null,null,"RD7WEXHAM PARK HOSPITAL","RD750","WEXHAM PARK HOSPITAL","RD750","WEXHAM PARK HOSPITAL","RD7",null,null,"BRADFORD ROYAL INFIRMARY","Ward 3"]
[null,null,null,{"$f":"IF(#REF!=\"\", IF(#REF!=\"\", 0,1),0)","v":{"$error":"#REF!"}},null,null,null,null,{"$f":"IF(#REF!<0, 1, 0)","v":{"$error":"#REF!"}},{"$f":"IF(#REF!<0, 1, 0)","v":{"$error":"#REF!"}},{"$f":"IF(#REF!<0, 1, 0)","v":{"$error":"#REF!"}},{"$f":"IF(#REF!<0, 1, 0)","v":{"$error":"#REF!"}},{"$f":"IF(#REF!<0, 1, 0)","v":{"$error":"#REF!"}},{"$f":"IF(#REF!<0, 1, 0)","v":{"$error":"#REF!"}},{"$f":"IF(#REF!<0, 1, 0)","v":{"$error":"#REF!"}},{"$f":"IF(#REF!<0, 1, 0)","v":{"$error":"#REF!"}},{"$f":"IF(#REF!<0, 1, 0)","v":{"$error":"#REF!"}},{"$f":"IF(#REF!<0, 1, 0)","v":{"$error":"#REF!"}},{"$f":"IF(#REF!<0, 1, 0)","v":{"$error":"#REF!"}},{"$f":"IF(#REF!<0, 1, 0)","v":{"$error":"#REF!"}},{"$f":"IF(#REF!<0, 1, 0)","v":{"$error":"#REF!"}},{"$f":"IF(#REF!<0, 1, 0)","v":{"$error":"#REF!"}},{"$f":"IF(#REF!<0, 1, 0)","v":{"$error":"#REF!"}},{"$f":"IF(#REF!<0, 1, 0)","v":{"$error":"#REF!"}},{"$f":"IF(#REF!<0, 1, 0)","v":{"$error":"#REF!"}},{"$f":"IF(#REF!<0, 1, 0)","v":{"$error":"#REF!"}},{"$f":"IF(#REF!<0, 1, 0)","v":{"$error":"#REF!"}},{"$f":"IF(#REF!<0, 1, 0)","v":{"$error":"#REF!"}},{"$f":"IF(#REF!<0, 1, 0)","v":{"$error":"#REF!"}},null,null,null,null,null,null,null,{"$f":"IF(#REF!<0, 1, 0)","v":{"$error":"#REF!"}},{"$f":"IF(#REF!<0, 1, 0)","v":{"$error":"#REF!"}},{"$f":"IF(#REF!<0, 1, 0)","v":{"$error":"#REF!"}},{"$f":"IF(#REF!<0, 1, 0)","v":{"$error":"#REF!"}},{"$f":"IF(#REF!<0, 1, 0)","v":{"$error":"#REF!"}},{"$f":"IF(#REF!<0, 1, 0)","v":{"$error":"#REF!"}},{"$f":"IF(#REF!<0, 1, 0)","v":{"$error":"#REF!"}},{"$f":"IF(#REF!<0, 1, 0)","v":{"$error":"#REF!"}},{"$f":"IF(#REF!<0, 1, 0)","v":{"$error":"#REF!"}},{"$f":"IF(#REF!<0, 1, 0)","v":{"$error":"#REF!"}},null,null,null,null,null,null,null,null,null,null,null,null,null,null,null,null,null,null,null,null,null,null,null,"RD8MILTON KEYNES HOSPITAL","RD816","MILTON KEYNES HOSPITAL","RD816","MILTON KEYNES HOSPITAL","RD8",null,null,"BRADFORD ROYAL INFIRMARY","Ward 31"]
[null,null,null,{"$f":"IF(#REF!=\"\", IF(#REF!=\"\", 0,1),0)","v":{"$error":"#REF!"}},null,null,null,null,{"$f":"IF(#REF!<0, 1, 0)","v":{"$error":"#REF!"}},{"$f":"IF(#REF!<0, 1, 0)","v":{"$error":"#REF!"}},{"$f":"IF(#REF!<0, 1, 0)","v":{"$error":"#REF!"}},{"$f":"IF(#REF!<0, 1, 0)","v":{"$error":"#REF!"}},{"$f":"IF(#REF!<0, 1, 0)","v":{"$error":"#REF!"}},{"$f":"IF(#REF!<0, 1, 0)","v":{"$error":"#REF!"}},{"$f":"IF(#REF!<0, 1, 0)","v":{"$error":"#REF!"}},{"$f":"IF(#REF!<0, 1, 0)","v":{"$error":"#REF!"}},{"$f":"IF(#REF!<0, 1, 0)","v":{"$error":"#REF!"}},{"$f":"IF(#REF!<0, 1, 0)","v":{"$error":"#REF!"}},{"$f":"IF(#REF!<0, 1, 0)","v":{"$error":"#REF!"}},{"$f":"IF(#REF!<0, 1, 0)","v":{"$error":"#REF!"}},{"$f":"IF(#REF!<0, 1, 0)","v":{"$error":"#REF!"}},{"$f":"IF(#REF!<0, 1, 0)","v":{"$error":"#REF!"}},{"$f":"IF(#REF!<0, 1, 0)","v":{"$error":"#REF!"}},{"$f":"IF(#REF!<0, 1, 0)","v":{"$error":"#REF!"}},{"$f":"IF(#REF!<0, 1, 0)","v":{"$error":"#REF!"}},{"$f":"IF(#REF!<0, 1, 0)","v":{"$error":"#REF!"}},{"$f":"IF(#REF!<0, 1, 0)","v":{"$error":"#REF!"}},{"$f":"IF(#REF!<0, 1, 0)","v":{"$error":"#REF!"}},{"$f":"IF(#REF!<0, 1, 0)","v":{"$error":"#REF!"}},null,null,null,null,null,null,null,{"$f":"IF(#REF!<0, 1, 0)","v":{"$error":"#REF!"}},{"$f":"IF(#REF!<0, 1, 0)","v":{"$error":"#REF!"}},{"$f":"IF(#REF!<0, 1, 0)","v":{"$error":"#REF!"}},{"$f":"IF(#REF!<0, 1, 0)","v":{"$error":"#REF!"}},{"$f":"IF(#REF!<0, 1, 0)","v":{"$error":"#REF!"}},{"$f":"IF(#REF!<0, 1, 0)","v":{"$error":"#REF!"}},{"$f":"IF(#REF!<0, 1, 0)","v":{"$error":"#REF!"}},{"$f":"IF(#REF!<0, 1, 0)","v":{"$error":"#REF!"}},{"$f":"IF(#REF!<0, 1, 0)","v":{"$error":"#REF!"}},{"$f":"IF(#REF!<0, 1, 0)","v":{"$error":"#REF!"}},null,null,null,null,null,null,null,null,null,null,null,null,null,null,null,null,null,null,null,null,null,null,null,"RDDBASILDON UNIVERSITY HOSPITAL","RDDH0","BASILDON UNIVERSITY HOSPITAL","RDDH0","BASILDON UNIVERSITY HOSPITAL","RDD",null,null,"BRADFORD ROYAL INFIRMARY","Ward 33"]
[null,null,null,{"$f":"IF(#REF!=\"\", IF(#REF!=\"\", 0,1),0)","v":{"$error":"#REF!"}},null,null,null,null,{"$f":"IF(#REF!<0, 1, 0)","v":{"$error":"#REF!"}},{"$f":"IF(#REF!<0, 1, 0)","v":{"$error":"#REF!"}},{"$f":"IF(#REF!<0, 1, 0)","v":{"$error":"#REF!"}},{"$f":"IF(#REF!<0, 1, 0)","v":{"$error":"#REF!"}},{"$f":"IF(#REF!<0, 1, 0)","v":{"$error":"#REF!"}},{"$f":"IF(#REF!<0, 1, 0)","v":{"$error":"#REF!"}},{"$f":"IF(#REF!<0, 1, 0)","v":{"$error":"#REF!"}},{"$f":"IF(#REF!<0, 1, 0)","v":{"$error":"#REF!"}},{"$f":"IF(#REF!<0, 1, 0)","v":{"$error":"#REF!"}},{"$f":"IF(#REF!<0, 1, 0)","v":{"$error":"#REF!"}},{"$f":"IF(#REF!<0, 1, 0)","v":{"$error":"#REF!"}},{"$f":"IF(#REF!<0, 1, 0)","v":{"$error":"#REF!"}},{"$f":"IF(#REF!<0, 1, 0)","v":{"$error":"#REF!"}},{"$f":"IF(#REF!<0, 1, 0)","v":{"$error":"#REF!"}},{"$f":"IF(#REF!<0, 1, 0)","v":{"$error":"#REF!"}},{"$f":"IF(#REF!<0, 1, 0)","v":{"$error":"#REF!"}},{"$f":"IF(#REF!<0, 1, 0)","v":{"$error":"#REF!"}},{"$f":"IF(#REF!<0, 1, 0)","v":{"$error":"#REF!"}},{"$f":"IF(#REF!<0, 1, 0)","v":{"$error":"#REF!"}},{"$f":"IF(#REF!<0, 1, 0)","v":{"$error":"#REF!"}},{"$f":"IF(#REF!<0, 1, 0)","v":{"$error":"#REF!"}},null,null,null,null,null,null,null,{"$f":"IF(#REF!<0, 1, 0)","v":{"$error":"#REF!"}},{"$f":"IF(#REF!<0, 1, 0)","v":{"$error":"#REF!"}},{"$f":"IF(#REF!<0, 1, 0)","v":{"$error":"#REF!"}},{"$f":"IF(#REF!<0, 1, 0)","v":{"$error":"#REF!"}},{"$f":"IF(#REF!<0, 1, 0)","v":{"$error":"#REF!"}},{"$f":"IF(#REF!<0, 1, 0)","v":{"$error":"#REF!"}},{"$f":"IF(#REF!<0, 1, 0)","v":{"$error":"#REF!"}},{"$f":"IF(#REF!<0, 1, 0)","v":{"$error":"#REF!"}},{"$f":"IF(#REF!<0, 1, 0)","v":{"$error":"#REF!"}},{"$f":"IF(#REF!<0, 1, 0)","v":{"$error":"#REF!"}},null,null,null,null,null,null,null,null,null,null,null,null,null,null,null,null,null,null,null,null,null,null,null,"RDDBRENTWOOD COMMUNITY HOSPITAL","RDDH6","BRENTWOOD COMMUNITY HOSPITAL","RDDH6","BRENTWOOD COMMUNITY HOSPITAL","RDD",null,null,"BRADFORD ROYAL INFIRMARY","Ward 6"]
[null,null,null,{"$f":"IF(#REF!=\"\", IF(#REF!=\"\", 0,1),0)","v":{"$error":"#REF!"}},null,null,null,null,{"$f":"IF(#REF!<0, 1, 0)","v":{"$error":"#REF!"}},{"$f":"IF(#REF!<0, 1, 0)","v":{"$error":"#REF!"}},{"$f":"IF(#REF!<0, 1, 0)","v":{"$error":"#REF!"}},{"$f":"IF(#REF!<0, 1, 0)","v":{"$error":"#REF!"}},{"$f":"IF(#REF!<0, 1, 0)","v":{"$error":"#REF!"}},{"$f":"IF(#REF!<0, 1, 0)","v":{"$error":"#REF!"}},{"$f":"IF(#REF!<0, 1, 0)","v":{"$error":"#REF!"}},{"$f":"IF(#REF!<0, 1, 0)","v":{"$error":"#REF!"}},{"$f":"IF(#REF!<0, 1, 0)","v":{"$error":"#REF!"}},{"$f":"IF(#REF!<0, 1, 0)","v":{"$error":"#REF!"}},{"$f":"IF(#REF!<0, 1, 0)","v":{"$error":"#REF!"}},{"$f":"IF(#REF!<0, 1, 0)","v":{"$error":"#REF!"}},{"$f":"IF(#REF!<0, 1, 0)","v":{"$error":"#REF!"}},{"$f":"IF(#REF!<0, 1, 0)","v":{"$error":"#REF!"}},{"$f":"IF(#REF!<0, 1, 0)","v":{"$error":"#REF!"}},{"$f":"IF(#REF!<0, 1, 0)","v":{"$error":"#REF!"}},{"$f":"IF(#REF!<0, 1, 0)","v":{"$error":"#REF!"}},{"$f":"IF(#REF!<0, 1, 0)","v":{"$error":"#REF!"}},{"$f":"IF(#REF!<0, 1, 0)","v":{"$error":"#REF!"}},{"$f":"IF(#REF!<0, 1, 0)","v":{"$error":"#REF!"}},{"$f":"IF(#REF!<0, 1, 0)","v":{"$error":"#REF!"}},null,null,null,null,null,null,null,{"$f":"IF(#REF!<0, 1, 0)","v":{"$error":"#REF!"}},{"$f":"IF(#REF!<0, 1, 0)","v":{"$error":"#REF!"}},{"$f":"IF(#REF!<0, 1, 0)","v":{"$error":"#REF!"}},{"$f":"IF(#REF!<0, 1, 0)","v":{"$error":"#REF!"}},{"$f":"IF(#REF!<0, 1, 0)","v":{"$error":"#REF!"}},{"$f":"IF(#REF!<0, 1, 0)","v":{"$error":"#REF!"}},{"$f":"IF(#REF!<0, 1, 0)","v":{"$error":"#REF!"}},{"$f":"IF(#REF!<0, 1, 0)","v":{"$error":"#REF!"}},{"$f":"IF(#REF!<0, 1, 0)","v":{"$error":"#REF!"}},{"$f":"IF(#REF!<0, 1, 0)","v":{"$error":"#REF!"}},null,null,null,null,null,null,null,null,null,null,null,null,null,null,null,null,null,null,null,null,null,null,null,"RDDORSETT HOSPITAL","RDDH1","ORSETT HOSPITAL","RDDH1","ORSETT HOSPITAL","RDD",null,null,"BRADFORD ROYAL INFIRMARY","Ward 7 Infectious Diseases"]
[null,null,null,{"$f":"IF(#REF!=\"\", IF(#REF!=\"\", 0,1),0)","v":{"$error":"#REF!"}},null,null,null,null,{"$f":"IF(#REF!<0, 1, 0)","v":{"$error":"#REF!"}},{"$f":"IF(#REF!<0, 1, 0)","v":{"$error":"#REF!"}},{"$f":"IF(#REF!<0, 1, 0)","v":{"$error":"#REF!"}},{"$f":"IF(#REF!<0, 1, 0)","v":{"$error":"#REF!"}},{"$f":"IF(#REF!<0, 1, 0)","v":{"$error":"#REF!"}},{"$f":"IF(#REF!<0, 1, 0)","v":{"$error":"#REF!"}},{"$f":"IF(#REF!<0, 1, 0)","v":{"$error":"#REF!"}},{"$f":"IF(#REF!<0, 1, 0)","v":{"$error":"#REF!"}},{"$f":"IF(#REF!<0, 1, 0)","v":{"$error":"#REF!"}},{"$f":"IF(#REF!<0, 1, 0)","v":{"$error":"#REF!"}},{"$f":"IF(#REF!<0, 1, 0)","v":{"$error":"#REF!"}},{"$f":"IF(#REF!<0, 1, 0)","v":{"$error":"#REF!"}},{"$f":"IF(#REF!<0, 1, 0)","v":{"$error":"#REF!"}},{"$f":"IF(#REF!<0, 1, 0)","v":{"$error":"#REF!"}},{"$f":"IF(#REF!<0, 1, 0)","v":{"$error":"#REF!"}},{"$f":"IF(#REF!<0, 1, 0)","v":{"$error":"#REF!"}},{"$f":"IF(#REF!<0, 1, 0)","v":{"$error":"#REF!"}},{"$f":"IF(#REF!<0, 1, 0)","v":{"$error":"#REF!"}},{"$f":"IF(#REF!<0, 1, 0)","v":{"$error":"#REF!"}},{"$f":"IF(#REF!<0, 1, 0)","v":{"$error":"#REF!"}},{"$f":"IF(#REF!<0, 1, 0)","v":{"$error":"#REF!"}},null,null,null,null,null,null,null,{"$f":"IF(#REF!<0, 1, 0)","v":{"$error":"#REF!"}},{"$f":"IF(#REF!<0, 1, 0)","v":{"$error":"#REF!"}},{"$f":"IF(#REF!<0, 1, 0)","v":{"$error":"#REF!"}},{"$f":"IF(#REF!<0, 1, 0)","v":{"$error":"#REF!"}},{"$f":"IF(#REF!<0, 1, 0)","v":{"$error":"#REF!"}},{"$f":"IF(#REF!<0, 1, 0)","v":{"$error":"#REF!"}},{"$f":"IF(#REF!<0, 1, 0)","v":{"$error":"#REF!"}},{"$f":"IF(#REF!<0, 1, 0)","v":{"$error":"#REF!"}},{"$f":"IF(#REF!<0, 1, 0)","v":{"$error":"#REF!"}},{"$f":"IF(#REF!<0, 1, 0)","v":{"$error":"#REF!"}},null,null,null,null,null,null,null,null,null,null,null,null,null,null,null,null,null,null,null,null,null,null,null,"RDDTHE ESSEX CARDIOTHORACIC CENTRE","RDDH8","THE ESSEX CARDIOTHORACIC CENTRE","RDDH8","THE ESSEX CARDIOTHORACIC CENTRE","RDD",null,null,"BRADFORD ROYAL INFIRMARY","Ward 8"]
[null,null,null,{"$f":"IF(#REF!=\"\", IF(#REF!=\"\", 0,1),0)","v":{"$error":"#REF!"}},null,null,null,null,{"$f":"IF(#REF!<0, 1, 0)","v":{"$error":"#REF!"}},{"$f":"IF(#REF!<0, 1, 0)","v":{"$error":"#REF!"}},{"$f":"IF(#REF!<0, 1, 0)","v":{"$error":"#REF!"}},{"$f":"IF(#REF!<0, 1, 0)","v":{"$error":"#REF!"}},{"$f":"IF(#REF!<0, 1, 0)","v":{"$error":"#REF!"}},{"$f":"IF(#REF!<0, 1, 0)","v":{"$error":"#REF!"}},{"$f":"IF(#REF!<0, 1, 0)","v":{"$error":"#REF!"}},{"$f":"IF(#REF!<0, 1, 0)","v":{"$error":"#REF!"}},{"$f":"IF(#REF!<0, 1, 0)","v":{"$error":"#REF!"}},{"$f":"IF(#REF!<0, 1, 0)","v":{"$error":"#REF!"}},{"$f":"IF(#REF!<0, 1, 0)","v":{"$error":"#REF!"}},{"$f":"IF(#REF!<0, 1, 0)","v":{"$error":"#REF!"}},{"$f":"IF(#REF!<0, 1, 0)","v":{"$error":"#REF!"}},{"$f":"IF(#REF!<0, 1, 0)","v":{"$error":"#REF!"}},{"$f":"IF(#REF!<0, 1, 0)","v":{"$error":"#REF!"}},{"$f":"IF(#REF!<0, 1, 0)","v":{"$error":"#REF!"}},{"$f":"IF(#REF!<0, 1, 0)","v":{"$error":"#REF!"}},{"$f":"IF(#REF!<0, 1, 0)","v":{"$error":"#REF!"}},{"$f":"IF(#REF!<0, 1, 0)","v":{"$error":"#REF!"}},{"$f":"IF(#REF!<0, 1, 0)","v":{"$error":"#REF!"}},{"$f":"IF(#REF!<0, 1, 0)","v":{"$error":"#REF!"}},null,null,null,null,null,null,null,{"$f":"IF(#REF!<0, 1, 0)","v":{"$error":"#REF!"}},{"$f":"IF(#REF!<0, 1, 0)","v":{"$error":"#REF!"}},{"$f":"IF(#REF!<0, 1, 0)","v":{"$error":"#REF!"}},{"$f":"IF(#REF!<0, 1, 0)","v":{"$error":"#REF!"}},{"$f":"IF(#REF!<0, 1, 0)","v":{"$error":"#REF!"}},{"$f":"IF(#REF!<0, 1, 0)","v":{"$error":"#REF!"}},{"$f":"IF(#REF!<0, 1, 0)","v":{"$error":"#REF!"}},{"$f":"IF(#REF!<0, 1, 0)","v":{"$error":"#REF!"}},{"$f":"IF(#REF!<0, 1, 0)","v":{"$error":"#REF!"}},{"$f":"IF(#REF!<0, 1, 0)","v":{"$error":"#REF!"}},null,null,null,null,null,null,null,null,null,null,null,null,null,null,null,null,null,null,null,null,null,null,null,"RDEALDEBURGH HOSPITAL","RDE83","ALDEBURGH HOSPITAL","RDE83","ALDEBURGH HOSPITAL","RDE",null,null,"BRADFORD ROYAL INFIRMARY","Ward 9 Short Stay"]
[null,null,null,{"$f":"IF(#REF!=\"\", IF(#REF!=\"\", 0,1),0)","v":{"$error":"#REF!"}},null,null,null,null,{"$f":"IF(#REF!<0, 1, 0)","v":{"$error":"#REF!"}},{"$f":"IF(#REF!<0, 1, 0)","v":{"$error":"#REF!"}},{"$f":"IF(#REF!<0, 1, 0)","v":{"$error":"#REF!"}},{"$f":"IF(#REF!<0, 1, 0)","v":{"$error":"#REF!"}},{"$f":"IF(#REF!<0, 1, 0)","v":{"$error":"#REF!"}},{"$f":"IF(#REF!<0, 1, 0)","v":{"$error":"#REF!"}},{"$f":"IF(#REF!<0, 1, 0)","v":{"$error":"#REF!"}},{"$f":"IF(#REF!<0, 1, 0)","v":{"$error":"#REF!"}},{"$f":"IF(#REF!<0, 1, 0)","v":{"$error":"#REF!"}},{"$f":"IF(#REF!<0, 1, 0)","v":{"$error":"#REF!"}},{"$f":"IF(#REF!<0, 1, 0)","v":{"$error":"#REF!"}},{"$f":"IF(#REF!<0, 1, 0)","v":{"$error":"#REF!"}},{"$f":"IF(#REF!<0, 1, 0)","v":{"$error":"#REF!"}},{"$f":"IF(#REF!<0, 1, 0)","v":{"$error":"#REF!"}},{"$f":"IF(#REF!<0, 1, 0)","v":{"$error":"#REF!"}},{"$f":"IF(#REF!<0, 1, 0)","v":{"$error":"#REF!"}},{"$f":"IF(#REF!<0, 1, 0)","v":{"$error":"#REF!"}},{"$f":"IF(#REF!<0, 1, 0)","v":{"$error":"#REF!"}},{"$f":"IF(#REF!<0, 1, 0)","v":{"$error":"#REF!"}},{"$f":"IF(#REF!<0, 1, 0)","v":{"$error":"#REF!"}},{"$f":"IF(#REF!<0, 1, 0)","v":{"$error":"#REF!"}},null,null,null,null,null,null,null,{"$f":"IF(#REF!<0, 1, 0)","v":{"$error":"#REF!"}},{"$f":"IF(#REF!<0, 1, 0)","v":{"$error":"#REF!"}},{"$f":"IF(#REF!<0, 1, 0)","v":{"$error":"#REF!"}},{"$f":"IF(#REF!<0, 1, 0)","v":{"$error":"#REF!"}},{"$f":"IF(#REF!<0, 1, 0)","v":{"$error":"#REF!"}},{"$f":"IF(#REF!<0, 1, 0)","v":{"$error":"#REF!"}},{"$f":"IF(#REF!<0, 1, 0)","v":{"$error":"#REF!"}},{"$f":"IF(#REF!<0, 1, 0)","v":{"$error":"#REF!"}},{"$f":"IF(#REF!<0, 1, 0)","v":{"$error":"#REF!"}},{"$f":"IF(#REF!<0, 1, 0)","v":{"$error":"#REF!"}},null,null,null,null,null,null,null,null,null,null,null,null,null,null,null,null,null,null,null,null,null,null,null,"RDEBLUEBIRD LODGE","RDE78","BLUEBIRD LODGE","RDE78","BLUEBIRD LODGE","RDE",null,null,"ST LUKES HOSPITAL","F5"]
[null,null,null,{"$f":"IF(#REF!=\"\", IF(#REF!=\"\", 0,1),0)","v":{"$error":"#REF!"}},null,null,null,null,{"$f":"IF(#REF!<0, 1, 0)","v":{"$error":"#REF!"}},{"$f":"IF(#REF!<0, 1, 0)","v":{"$error":"#REF!"}},{"$f":"IF(#REF!<0, 1, 0)","v":{"$error":"#REF!"}},{"$f":"IF(#REF!<0, 1, 0)","v":{"$error":"#REF!"}},{"$f":"IF(#REF!<0, 1, 0)","v":{"$error":"#REF!"}},{"$f":"IF(#REF!<0, 1, 0)","v":{"$error":"#REF!"}},{"$f":"IF(#REF!<0, 1, 0)","v":{"$error":"#REF!"}},{"$f":"IF(#REF!<0, 1, 0)","v":{"$error":"#REF!"}},{"$f":"IF(#REF!<0, 1, 0)","v":{"$error":"#REF!"}},{"$f":"IF(#REF!<0, 1, 0)","v":{"$error":"#REF!"}},{"$f":"IF(#REF!<0, 1, 0)","v":{"$error":"#REF!"}},{"$f":"IF(#REF!<0, 1, 0)","v":{"$error":"#REF!"}},{"$f":"IF(#REF!<0, 1, 0)","v":{"$error":"#REF!"}},{"$f":"IF(#REF!<0, 1, 0)","v":{"$error":"#REF!"}},{"$f":"IF(#REF!<0, 1, 0)","v":{"$error":"#REF!"}},{"$f":"IF(#REF!<0, 1, 0)","v":{"$error":"#REF!"}},{"$f":"IF(#REF!<0, 1, 0)","v":{"$error":"#REF!"}},{"$f":"IF(#REF!<0, 1, 0)","v":{"$error":"#REF!"}},{"$f":"IF(#REF!<0, 1, 0)","v":{"$error":"#REF!"}},{"$f":"IF(#REF!<0, 1, 0)","v":{"$error":"#REF!"}},{"$f":"IF(#REF!<0, 1, 0)","v":{"$error":"#REF!"}},null,null,null,null,null,null,null,{"$f":"IF(#REF!<0, 1, 0)","v":{"$error":"#REF!"}},{"$f":"IF(#REF!<0, 1, 0)","v":{"$error":"#REF!"}},{"$f":"IF(#REF!<0, 1, 0)","v":{"$error":"#REF!"}},{"$f":"IF(#REF!<0, 1, 0)","v":{"$error":"#REF!"}},{"$f":"IF(#REF!<0, 1, 0)","v":{"$error":"#REF!"}},{"$f":"IF(#REF!<0, 1, 0)","v":{"$error":"#REF!"}},{"$f":"IF(#REF!<0, 1, 0)","v":{"$error":"#REF!"}},{"$f":"IF(#REF!<0, 1, 0)","v":{"$error":"#REF!"}},{"$f":"IF(#REF!<0, 1, 0)","v":{"$error":"#REF!"}},{"$f":"IF(#REF!<0, 1, 0)","v":{"$error":"#REF!"}},null,null,null,null,null,null,null,null,null,null,null,null,null,null,null,null,null,null,null,null,null,null,null,"RDECAPIO OAKS HOSPITAL","RDEP1","CAPIO OAKS HOSPITAL","RDEP1","CAPIO OAKS HOSPITAL","RDE",null,null,"ST LUKES HOSPITAL","F6"]
[null,null,null,{"$f":"IF(#REF!=\"\", IF(#REF!=\"\", 0,1),0)","v":{"$error":"#REF!"}},null,null,null,null,{"$f":"IF(#REF!<0, 1, 0)","v":{"$error":"#REF!"}},{"$f":"IF(#REF!<0, 1, 0)","v":{"$error":"#REF!"}},{"$f":"IF(#REF!<0, 1, 0)","v":{"$error":"#REF!"}},{"$f":"IF(#REF!<0, 1, 0)","v":{"$error":"#REF!"}},{"$f":"IF(#REF!<0, 1, 0)","v":{"$error":"#REF!"}},{"$f":"IF(#REF!<0, 1, 0)","v":{"$error":"#REF!"}},{"$f":"IF(#REF!<0, 1, 0)","v":{"$error":"#REF!"}},{"$f":"IF(#REF!<0, 1, 0)","v":{"$error":"#REF!"}},{"$f":"IF(#REF!<0, 1, 0)","v":{"$error":"#REF!"}},{"$f":"IF(#REF!<0, 1, 0)","v":{"$error":"#REF!"}},{"$f":"IF(#REF!<0, 1, 0)","v":{"$error":"#REF!"}},{"$f":"IF(#REF!<0, 1, 0)","v":{"$error":"#REF!"}},{"$f":"IF(#REF!<0, 1, 0)","v":{"$error":"#REF!"}},{"$f":"IF(#REF!<0, 1, 0)","v":{"$error":"#REF!"}},{"$f":"IF(#REF!<0, 1, 0)","v":{"$error":"#REF!"}},{"$f":"IF(#REF!<0, 1, 0)","v":{"$error":"#REF!"}},{"$f":"IF(#REF!<0, 1, 0)","v":{"$error":"#REF!"}},{"$f":"IF(#REF!<0, 1, 0)","v":{"$error":"#REF!"}},{"$f":"IF(#REF!<0, 1, 0)","v":{"$error":"#REF!"}},{"$f":"IF(#REF!<0, 1, 0)","v":{"$error":"#REF!"}},{"$f":"IF(#REF!<0, 1, 0)","v":{"$error":"#REF!"}},null,null,null,null,null,null,null,{"$f":"IF(#REF!<0, 1, 0)","v":{"$error":"#REF!"}},{"$f":"IF(#REF!<0, 1, 0)","v":{"$error":"#REF!"}},{"$f":"IF(#REF!<0, 1, 0)","v":{"$error":"#REF!"}},{"$f":"IF(#REF!<0, 1, 0)","v":{"$error":"#REF!"}},{"$f":"IF(#REF!<0, 1, 0)","v":{"$error":"#REF!"}},{"$f":"IF(#REF!<0, 1, 0)","v":{"$error":"#REF!"}},{"$f":"IF(#REF!<0, 1, 0)","v":{"$error":"#REF!"}},{"$f":"IF(#REF!<0, 1, 0)","v":{"$error":"#REF!"}},{"$f":"IF(#REF!<0, 1, 0)","v":{"$error":"#REF!"}},{"$f":"IF(#REF!<0, 1, 0)","v":{"$error":"#REF!"}},null,null,null,null,null,null,null,null,null,null,null,null,null,null,null,null,null,null,null,null,null,null,null,"RDECAPIO SPRINGFIELD HOSPITAL","RDEP4","CAPIO SPRINGFIELD HOSPITAL","RDEP4","CAPIO SPRINGFIELD HOSPITAL","RDE",null,null,"ST LUKES HOSPITAL","WBG"]
[null,null,null,{"$f":"IF(#REF!=\"\", IF(#REF!=\"\", 0,1),0)","v":{"$error":"#REF!"}},null,null,null,null,{"$f":"IF(#REF!<0, 1, 0)","v":{"$error":"#REF!"}},{"$f":"IF(#REF!<0, 1, 0)","v":{"$error":"#REF!"}},{"$f":"IF(#REF!<0, 1, 0)","v":{"$error":"#REF!"}},{"$f":"IF(#REF!<0, 1, 0)","v":{"$error":"#REF!"}},{"$f":"IF(#REF!<0, 1, 0)","v":{"$error":"#REF!"}},{"$f":"IF(#REF!<0, 1, 0)","v":{"$error":"#REF!"}},{"$f":"IF(#REF!<0, 1, 0)","v":{"$error":"#REF!"}},{"$f":"IF(#REF!<0, 1, 0)","v":{"$error":"#REF!"}},{"$f":"IF(#REF!<0, 1, 0)","v":{"$error":"#REF!"}},{"$f":"IF(#REF!<0, 1, 0)","v":{"$error":"#REF!"}},{"$f":"IF(#REF!<0, 1, 0)","v":{"$error":"#REF!"}},{"$f":"IF(#REF!<0, 1, 0)","v":{"$error":"#REF!"}},{"$f":"IF(#REF!<0, 1, 0)","v":{"$error":"#REF!"}},{"$f":"IF(#REF!<0, 1, 0)","v":{"$error":"#REF!"}},{"$f":"IF(#REF!<0, 1, 0)","v":{"$error":"#REF!"}},{"$f":"IF(#REF!<0, 1, 0)","v":{"$error":"#REF!"}},{"$f":"IF(#REF!<0, 1, 0)","v":{"$error":"#REF!"}},{"$f":"IF(#REF!<0, 1, 0)","v":{"$error":"#REF!"}},{"$f":"IF(#REF!<0, 1, 0)","v":{"$error":"#REF!"}},{"$f":"IF(#REF!<0, 1, 0)","v":{"$error":"#REF!"}},{"$f":"IF(#REF!<0, 1, 0)","v":{"$error":"#REF!"}},null,null,null,null,null,null,null,{"$f":"IF(#REF!<0, 1, 0)","v":{"$error":"#REF!"}},{"$f":"IF(#REF!<0, 1, 0)","v":{"$error":"#REF!"}},{"$f":"IF(#REF!<0, 1, 0)","v":{"$error":"#REF!"}},{"$f":"IF(#REF!<0, 1, 0)","v":{"$error":"#REF!"}},{"$f":"IF(#REF!<0, 1, 0)","v":{"$error":"#REF!"}},{"$f":"IF(#REF!<0, 1, 0)","v":{"$error":"#REF!"}},{"$f":"IF(#REF!<0, 1, 0)","v":{"$error":"#REF!"}},{"$f":"IF(#REF!<0, 1, 0)","v":{"$error":"#REF!"}},{"$f":"IF(#REF!<0, 1, 0)","v":{"$error":"#REF!"}},{"$f":"IF(#REF!<0, 1, 0)","v":{"$error":"#REF!"}},null,null,null,null,null,null,null,null,null,null,null,null,null,null,null,null,null,null,null,null,null,null,null,"RDECLACTON AND DISTRICT HOSPITAL","RDEE2","CLACTON AND DISTRICT HOSPITAL","RDEE2","CLACTON AND DISTRICT HOSPITAL","RDE",null,null,"ST LUKES HOSPITAL","WWP"]
[null,null,null,{"$f":"IF(#REF!=\"\", IF(#REF!=\"\", 0,1),0)","v":{"$error":"#REF!"}},null,null,null,null,{"$f":"IF(#REF!<0, 1, 0)","v":{"$error":"#REF!"}},{"$f":"IF(#REF!<0, 1, 0)","v":{"$error":"#REF!"}},{"$f":"IF(#REF!<0, 1, 0)","v":{"$error":"#REF!"}},{"$f":"IF(#REF!<0, 1, 0)","v":{"$error":"#REF!"}},{"$f":"IF(#REF!<0, 1, 0)","v":{"$error":"#REF!"}},{"$f":"IF(#REF!<0, 1, 0)","v":{"$error":"#REF!"}},{"$f":"IF(#REF!<0, 1, 0)","v":{"$error":"#REF!"}},{"$f":"IF(#REF!<0, 1, 0)","v":{"$error":"#REF!"}},{"$f":"IF(#REF!<0, 1, 0)","v":{"$error":"#REF!"}},{"$f":"IF(#REF!<0, 1, 0)","v":{"$error":"#REF!"}},{"$f":"IF(#REF!<0, 1, 0)","v":{"$error":"#REF!"}},{"$f":"IF(#REF!<0, 1, 0)","v":{"$error":"#REF!"}},{"$f":"IF(#REF!<0, 1, 0)","v":{"$error":"#REF!"}},{"$f":"IF(#REF!<0, 1, 0)","v":{"$error":"#REF!"}},{"$f":"IF(#REF!<0, 1, 0)","v":{"$error":"#REF!"}},{"$f":"IF(#REF!<0, 1, 0)","v":{"$error":"#REF!"}},{"$f":"IF(#REF!<0, 1, 0)","v":{"$error":"#REF!"}},{"$f":"IF(#REF!<0, 1, 0)","v":{"$error":"#REF!"}},{"$f":"IF(#REF!<0, 1, 0)","v":{"$error":"#REF!"}},{"$f":"IF(#REF!<0, 1, 0)","v":{"$error":"#REF!"}},{"$f":"IF(#REF!<0, 1, 0)","v":{"$error":"#REF!"}},null,null,null,null,null,null,null,{"$f":"IF(#REF!<0, 1, 0)","v":{"$error":"#REF!"}},{"$f":"IF(#REF!<0, 1, 0)","v":{"$error":"#REF!"}},{"$f":"IF(#REF!<0, 1, 0)","v":{"$error":"#REF!"}},{"$f":"IF(#REF!<0, 1, 0)","v":{"$error":"#REF!"}},{"$f":"IF(#REF!<0, 1, 0)","v":{"$error":"#REF!"}},{"$f":"IF(#REF!<0, 1, 0)","v":{"$error":"#REF!"}},{"$f":"IF(#REF!<0, 1, 0)","v":{"$error":"#REF!"}},{"$f":"IF(#REF!<0, 1, 0)","v":{"$error":"#REF!"}},{"$f":"IF(#REF!<0, 1, 0)","v":{"$error":"#REF!"}},{"$f":"IF(#REF!<0, 1, 0)","v":{"$error":"#REF!"}},null,null,null,null,null,null,null,null,null,null,null,null,null,null,null,null,null,null,null,null,null,null,null,"RDECOLCHESTER GENERAL HOSPITAL","RDEE4","COLCHESTER GENERAL HOSPITAL","RDEE4","COLCHESTER GENERAL HOSPITAL","RDE",null,null,"PADGATE HOUSE RESIDENTIAL CARE","Padgate House"]
[null,null,null,{"$f":"IF(#REF!=\"\", IF(#REF!=\"\", 0,1),0)","v":{"$error":"#REF!"}},null,null,null,null,{"$f":"IF(#REF!<0, 1, 0)","v":{"$error":"#REF!"}},{"$f":"IF(#REF!<0, 1, 0)","v":{"$error":"#REF!"}},{"$f":"IF(#REF!<0, 1, 0)","v":{"$error":"#REF!"}},{"$f":"IF(#REF!<0, 1, 0)","v":{"$error":"#REF!"}},{"$f":"IF(#REF!<0, 1, 0)","v":{"$error":"#REF!"}},{"$f":"IF(#REF!<0, 1, 0)","v":{"$error":"#REF!"}},{"$f":"IF(#REF!<0, 1, 0)","v":{"$error":"#REF!"}},{"$f":"IF(#REF!<0, 1, 0)","v":{"$error":"#REF!"}},{"$f":"IF(#REF!<0, 1, 0)","v":{"$error":"#REF!"}},{"$f":"IF(#REF!<0, 1, 0)","v":{"$error":"#REF!"}},{"$f":"IF(#REF!<0, 1, 0)","v":{"$error":"#REF!"}},{"$f":"IF(#REF!<0, 1, 0)","v":{"$error":"#REF!"}},{"$f":"IF(#REF!<0, 1, 0)","v":{"$error":"#REF!"}},{"$f":"IF(#REF!<0, 1, 0)","v":{"$error":"#REF!"}},{"$f":"IF(#REF!<0, 1, 0)","v":{"$error":"#REF!"}},{"$f":"IF(#REF!<0, 1, 0)","v":{"$error":"#REF!"}},{"$f":"IF(#REF!<0, 1, 0)","v":{"$error":"#REF!"}},{"$f":"IF(#REF!<0, 1, 0)","v":{"$error":"#REF!"}},{"$f":"IF(#REF!<0, 1, 0)","v":{"$error":"#REF!"}},{"$f":"IF(#REF!<0, 1, 0)","v":{"$error":"#REF!"}},{"$f":"IF(#REF!<0, 1, 0)","v":{"$error":"#REF!"}},null,null,null,null,null,null,null,{"$f":"IF(#REF!<0, 1, 0)","v":{"$error":"#REF!"}},{"$f":"IF(#REF!<0, 1, 0)","v":{"$error":"#REF!"}},{"$f":"IF(#REF!<0, 1, 0)","v":{"$error":"#REF!"}},{"$f":"IF(#REF!<0, 1, 0)","v":{"$error":"#REF!"}},{"$f":"IF(#REF!<0, 1, 0)","v":{"$error":"#REF!"}},{"$f":"IF(#REF!<0, 1, 0)","v":{"$error":"#REF!"}},{"$f":"IF(#REF!<0, 1, 0)","v":{"$error":"#REF!"}},{"$f":"IF(#REF!<0, 1, 0)","v":{"$error":"#REF!"}},{"$f":"IF(#REF!<0, 1, 0)","v":{"$error":"#REF!"}},{"$f":"IF(#REF!<0, 1, 0)","v":{"$error":"#REF!"}},null,null,null,null,null,null,null,null,null,null,null,null,null,null,null,null,null,null,null,null,null,null,null,"RDECOLCHESTER PRIMARY CARE TREATMENT CENTRE","RDEEV","COLCHESTER PRIMARY CARE TREATMENT CENTRE","RDEEV","COLCHESTER PRIMARY CARE TREATMENT CENTRE","RDE",null,null,"PRINCESS ROYAL HOSPITAL","Albourne Ward (1st Floor)"]
[null,null,null,{"$f":"IF(#REF!=\"\", IF(#REF!=\"\", 0,1),0)","v":{"$error":"#REF!"}},null,null,null,null,{"$f":"IF(#REF!<0, 1, 0)","v":{"$error":"#REF!"}},{"$f":"IF(#REF!<0, 1, 0)","v":{"$error":"#REF!"}},{"$f":"IF(#REF!<0, 1, 0)","v":{"$error":"#REF!"}},{"$f":"IF(#REF!<0, 1, 0)","v":{"$error":"#REF!"}},{"$f":"IF(#REF!<0, 1, 0)","v":{"$error":"#REF!"}},{"$f":"IF(#REF!<0, 1, 0)","v":{"$error":"#REF!"}},{"$f":"IF(#REF!<0, 1, 0)","v":{"$error":"#REF!"}},{"$f":"IF(#REF!<0, 1, 0)","v":{"$error":"#REF!"}},{"$f":"IF(#REF!<0, 1, 0)","v":{"$error":"#REF!"}},{"$f":"IF(#REF!<0, 1, 0)","v":{"$error":"#REF!"}},{"$f":"IF(#REF!<0, 1, 0)","v":{"$error":"#REF!"}},{"$f":"IF(#REF!<0, 1, 0)","v":{"$error":"#REF!"}},{"$f":"IF(#REF!<0, 1, 0)","v":{"$error":"#REF!"}},{"$f":"IF(#REF!<0, 1, 0)","v":{"$error":"#REF!"}},{"$f":"IF(#REF!<0, 1, 0)","v":{"$error":"#REF!"}},{"$f":"IF(#REF!<0, 1, 0)","v":{"$error":"#REF!"}},{"$f":"IF(#REF!<0, 1, 0)","v":{"$error":"#REF!"}},{"$f":"IF(#REF!<0, 1, 0)","v":{"$error":"#REF!"}},{"$f":"IF(#REF!<0, 1, 0)","v":{"$error":"#REF!"}},{"$f":"IF(#REF!<0, 1, 0)","v":{"$error":"#REF!"}},{"$f":"IF(#REF!<0, 1, 0)","v":{"$error":"#REF!"}},null,null,null,null,null,null,null,{"$f":"IF(#REF!<0, 1, 0)","v":{"$error":"#REF!"}},{"$f":"IF(#REF!<0, 1, 0)","v":{"$error":"#REF!"}},{"$f":"IF(#REF!<0, 1, 0)","v":{"$error":"#REF!"}},{"$f":"IF(#REF!<0, 1, 0)","v":{"$error":"#REF!"}},{"$f":"IF(#REF!<0, 1, 0)","v":{"$error":"#REF!"}},{"$f":"IF(#REF!<0, 1, 0)","v":{"$error":"#REF!"}},{"$f":"IF(#REF!<0, 1, 0)","v":{"$error":"#REF!"}},{"$f":"IF(#REF!<0, 1, 0)","v":{"$error":"#REF!"}},{"$f":"IF(#REF!<0, 1, 0)","v":{"$error":"#REF!"}},{"$f":"IF(#REF!<0, 1, 0)","v":{"$error":"#REF!"}},null,null,null,null,null,null,null,null,null,null,null,null,null,null,null,null,null,null,null,null,null,null,null,"RDEESSEX COUNTY HOSPITAL","RDEEB","ESSEX COUNTY HOSPITAL","RDEEB","ESSEX COUNTY HOSPITAL","RDE",null,null,"PRINCESS ROYAL HOSPITAL","Ansty Ward (1st Floor)"]
[null,null,null,{"$f":"IF(#REF!=\"\", IF(#REF!=\"\", 0,1),0)","v":{"$error":"#REF!"}},null,null,null,null,{"$f":"IF(#REF!<0, 1, 0)","v":{"$error":"#REF!"}},{"$f":"IF(#REF!<0, 1, 0)","v":{"$error":"#REF!"}},{"$f":"IF(#REF!<0, 1, 0)","v":{"$error":"#REF!"}},{"$f":"IF(#REF!<0, 1, 0)","v":{"$error":"#REF!"}},{"$f":"IF(#REF!<0, 1, 0)","v":{"$error":"#REF!"}},{"$f":"IF(#REF!<0, 1, 0)","v":{"$error":"#REF!"}},{"$f":"IF(#REF!<0, 1, 0)","v":{"$error":"#REF!"}},{"$f":"IF(#REF!<0, 1, 0)","v":{"$error":"#REF!"}},{"$f":"IF(#REF!<0, 1, 0)","v":{"$error":"#REF!"}},{"$f":"IF(#REF!<0, 1, 0)","v":{"$error":"#REF!"}},{"$f":"IF(#REF!<0, 1, 0)","v":{"$error":"#REF!"}},{"$f":"IF(#REF!<0, 1, 0)","v":{"$error":"#REF!"}},{"$f":"IF(#REF!<0, 1, 0)","v":{"$error":"#REF!"}},{"$f":"IF(#REF!<0, 1, 0)","v":{"$error":"#REF!"}},{"$f":"IF(#REF!<0, 1, 0)","v":{"$error":"#REF!"}},{"$f":"IF(#REF!<0, 1, 0)","v":{"$error":"#REF!"}},{"$f":"IF(#REF!<0, 1, 0)","v":{"$error":"#REF!"}},{"$f":"IF(#REF!<0, 1, 0)","v":{"$error":"#REF!"}},{"$f":"IF(#REF!<0, 1, 0)","v":{"$error":"#REF!"}},{"$f":"IF(#REF!<0, 1, 0)","v":{"$error":"#REF!"}},{"$f":"IF(#REF!<0, 1, 0)","v":{"$error":"#REF!"}},null,null,null,null,null,null,null,{"$f":"IF(#REF!<0, 1, 0)","v":{"$error":"#REF!"}},{"$f":"IF(#REF!<0, 1, 0)","v":{"$error":"#REF!"}},{"$f":"IF(#REF!<0, 1, 0)","v":{"$error":"#REF!"}},{"$f":"IF(#REF!<0, 1, 0)","v":{"$error":"#REF!"}},{"$f":"IF(#REF!<0, 1, 0)","v":{"$error":"#REF!"}},{"$f":"IF(#REF!<0, 1, 0)","v":{"$error":"#REF!"}},{"$f":"IF(#REF!<0, 1, 0)","v":{"$error":"#REF!"}},{"$f":"IF(#REF!<0, 1, 0)","v":{"$error":"#REF!"}},{"$f":"IF(#REF!<0, 1, 0)","v":{"$error":"#REF!"}},{"$f":"IF(#REF!<0, 1, 0)","v":{"$error":"#REF!"}},null,null,null,null,null,null,null,null,null,null,null,null,null,null,null,null,null,null,null,null,null,null,null,"RDEFELIXSTOWE HOSPITAL","RDE05","FELIXSTOWE HOSPITAL","RDE05","FELIXSTOWE HOSPITAL","RDE",null,null,"PRINCESS ROYAL HOSPITAL","Ardingly Ward (2nd Floor)"]
[null,null,null,{"$f":"IF(#REF!=\"\", IF(#REF!=\"\", 0,1),0)","v":{"$error":"#REF!"}},null,null,null,null,{"$f":"IF(#REF!<0, 1, 0)","v":{"$error":"#REF!"}},{"$f":"IF(#REF!<0, 1, 0)","v":{"$error":"#REF!"}},{"$f":"IF(#REF!<0, 1, 0)","v":{"$error":"#REF!"}},{"$f":"IF(#REF!<0, 1, 0)","v":{"$error":"#REF!"}},{"$f":"IF(#REF!<0, 1, 0)","v":{"$error":"#REF!"}},{"$f":"IF(#REF!<0, 1, 0)","v":{"$error":"#REF!"}},{"$f":"IF(#REF!<0, 1, 0)","v":{"$error":"#REF!"}},{"$f":"IF(#REF!<0, 1, 0)","v":{"$error":"#REF!"}},{"$f":"IF(#REF!<0, 1, 0)","v":{"$error":"#REF!"}},{"$f":"IF(#REF!<0, 1, 0)","v":{"$error":"#REF!"}},{"$f":"IF(#REF!<0, 1, 0)","v":{"$error":"#REF!"}},{"$f":"IF(#REF!<0, 1, 0)","v":{"$error":"#REF!"}},{"$f":"IF(#REF!<0, 1, 0)","v":{"$error":"#REF!"}},{"$f":"IF(#REF!<0, 1, 0)","v":{"$error":"#REF!"}},{"$f":"IF(#REF!<0, 1, 0)","v":{"$error":"#REF!"}},{"$f":"IF(#REF!<0, 1, 0)","v":{"$error":"#REF!"}},{"$f":"IF(#REF!<0, 1, 0)","v":{"$error":"#REF!"}},{"$f":"IF(#REF!<0, 1, 0)","v":{"$error":"#REF!"}},{"$f":"IF(#REF!<0, 1, 0)","v":{"$error":"#REF!"}},{"$f":"IF(#REF!<0, 1, 0)","v":{"$error":"#REF!"}},{"$f":"IF(#REF!<0, 1, 0)","v":{"$error":"#REF!"}},null,null,null,null,null,null,null,{"$f":"IF(#REF!<0, 1, 0)","v":{"$error":"#REF!"}},{"$f":"IF(#REF!<0, 1, 0)","v":{"$error":"#REF!"}},{"$f":"IF(#REF!<0, 1, 0)","v":{"$error":"#REF!"}},{"$f":"IF(#REF!<0, 1, 0)","v":{"$error":"#REF!"}},{"$f":"IF(#REF!<0, 1, 0)","v":{"$error":"#REF!"}},{"$f":"IF(#REF!<0, 1, 0)","v":{"$error":"#REF!"}},{"$f":"IF(#REF!<0, 1, 0)","v":{"$error":"#REF!"}},{"$f":"IF(#REF!<0, 1, 0)","v":{"$error":"#REF!"}},{"$f":"IF(#REF!<0, 1, 0)","v":{"$error":"#REF!"}},{"$f":"IF(#REF!<0, 1, 0)","v":{"$error":"#REF!"}},null,null,null,null,null,null,null,null,null,null,null,null,null,null,null,null,null,null,null,null,null,null,null,"RDEHALSTEAD HOSPITAL","RDEEK","HALSTEAD HOSPITAL","RDEEK","HALSTEAD HOSPITAL","RDE",null,null,"PRINCESS ROYAL HOSPITAL","Balcombe Ward (Ground Floor)"]
[null,null,null,{"$f":"IF(#REF!=\"\", IF(#REF!=\"\", 0,1),0)","v":{"$error":"#REF!"}},null,null,null,null,{"$f":"IF(#REF!<0, 1, 0)","v":{"$error":"#REF!"}},{"$f":"IF(#REF!<0, 1, 0)","v":{"$error":"#REF!"}},{"$f":"IF(#REF!<0, 1, 0)","v":{"$error":"#REF!"}},{"$f":"IF(#REF!<0, 1, 0)","v":{"$error":"#REF!"}},{"$f":"IF(#REF!<0, 1, 0)","v":{"$error":"#REF!"}},{"$f":"IF(#REF!<0, 1, 0)","v":{"$error":"#REF!"}},{"$f":"IF(#REF!<0, 1, 0)","v":{"$error":"#REF!"}},{"$f":"IF(#REF!<0, 1, 0)","v":{"$error":"#REF!"}},{"$f":"IF(#REF!<0, 1, 0)","v":{"$error":"#REF!"}},{"$f":"IF(#REF!<0, 1, 0)","v":{"$error":"#REF!"}},{"$f":"IF(#REF!<0, 1, 0)","v":{"$error":"#REF!"}},{"$f":"IF(#REF!<0, 1, 0)","v":{"$error":"#REF!"}},{"$f":"IF(#REF!<0, 1, 0)","v":{"$error":"#REF!"}},{"$f":"IF(#REF!<0, 1, 0)","v":{"$error":"#REF!"}},{"$f":"IF(#REF!<0, 1, 0)","v":{"$error":"#REF!"}},{"$f":"IF(#REF!<0, 1, 0)","v":{"$error":"#REF!"}},{"$f":"IF(#REF!<0, 1, 0)","v":{"$error":"#REF!"}},{"$f":"IF(#REF!<0, 1, 0)","v":{"$error":"#REF!"}},{"$f":"IF(#REF!<0, 1, 0)","v":{"$error":"#REF!"}},{"$f":"IF(#REF!<0, 1, 0)","v":{"$error":"#REF!"}},{"$f":"IF(#REF!<0, 1, 0)","v":{"$error":"#REF!"}},null,null,null,null,null,null,null,{"$f":"IF(#REF!<0, 1, 0)","v":{"$error":"#REF!"}},{"$f":"IF(#REF!<0, 1, 0)","v":{"$error":"#REF!"}},{"$f":"IF(#REF!<0, 1, 0)","v":{"$error":"#REF!"}},{"$f":"IF(#REF!<0, 1, 0)","v":{"$error":"#REF!"}},{"$f":"IF(#REF!<0, 1, 0)","v":{"$error":"#REF!"}},{"$f":"IF(#REF!<0, 1, 0)","v":{"$error":"#REF!"}},{"$f":"IF(#REF!<0, 1, 0)","v":{"$error":"#REF!"}},{"$f":"IF(#REF!<0, 1, 0)","v":{"$error":"#REF!"}},{"$f":"IF(#REF!<0, 1, 0)","v":{"$error":"#REF!"}},{"$f":"IF(#REF!<0, 1, 0)","v":{"$error":"#REF!"}},null,null,null,null,null,null,null,null,null,null,null,null,null,null,null,null,null,null,null,null,null,null,null,"RDEIPSWICH HOSPITAL NHS TRUST","RDE03","IPSWICH HOSPITAL NHS TRUST","RDE03","IPSWICH HOSPITAL NHS TRUST","RDE",null,null,"PRINCESS ROYAL HOSPITAL","Clayton Ward"]
[null,null,null,{"$f":"IF(#REF!=\"\", IF(#REF!=\"\", 0,1),0)","v":{"$error":"#REF!"}},null,null,null,null,{"$f":"IF(#REF!<0, 1, 0)","v":{"$error":"#REF!"}},{"$f":"IF(#REF!<0, 1, 0)","v":{"$error":"#REF!"}},{"$f":"IF(#REF!<0, 1, 0)","v":{"$error":"#REF!"}},{"$f":"IF(#REF!<0, 1, 0)","v":{"$error":"#REF!"}},{"$f":"IF(#REF!<0, 1, 0)","v":{"$error":"#REF!"}},{"$f":"IF(#REF!<0, 1, 0)","v":{"$error":"#REF!"}},{"$f":"IF(#REF!<0, 1, 0)","v":{"$error":"#REF!"}},{"$f":"IF(#REF!<0, 1, 0)","v":{"$error":"#REF!"}},{"$f":"IF(#REF!<0, 1, 0)","v":{"$error":"#REF!"}},{"$f":"IF(#REF!<0, 1, 0)","v":{"$error":"#REF!"}},{"$f":"IF(#REF!<0, 1, 0)","v":{"$error":"#REF!"}},{"$f":"IF(#REF!<0, 1, 0)","v":{"$error":"#REF!"}},{"$f":"IF(#REF!<0, 1, 0)","v":{"$error":"#REF!"}},{"$f":"IF(#REF!<0, 1, 0)","v":{"$error":"#REF!"}},{"$f":"IF(#REF!<0, 1, 0)","v":{"$error":"#REF!"}},{"$f":"IF(#REF!<0, 1, 0)","v":{"$error":"#REF!"}},{"$f":"IF(#REF!<0, 1, 0)","v":{"$error":"#REF!"}},{"$f":"IF(#REF!<0, 1, 0)","v":{"$error":"#REF!"}},{"$f":"IF(#REF!<0, 1, 0)","v":{"$error":"#REF!"}},{"$f":"IF(#REF!<0, 1, 0)","v":{"$error":"#REF!"}},{"$f":"IF(#REF!<0, 1, 0)","v":{"$error":"#REF!"}},null,null,null,null,null,null,null,{"$f":"IF(#REF!<0, 1, 0)","v":{"$error":"#REF!"}},{"$f":"IF(#REF!<0, 1, 0)","v":{"$error":"#REF!"}},{"$f":"IF(#REF!<0, 1, 0)","v":{"$error":"#REF!"}},{"$f":"IF(#REF!<0, 1, 0)","v":{"$error":"#REF!"}},{"$f":"IF(#REF!<0, 1, 0)","v":{"$error":"#REF!"}},{"$f":"IF(#REF!<0, 1, 0)","v":{"$error":"#REF!"}},{"$f":"IF(#REF!<0, 1, 0)","v":{"$error":"#REF!"}},{"$f":"IF(#REF!<0, 1, 0)","v":{"$error":"#REF!"}},{"$f":"IF(#REF!<0, 1, 0)","v":{"$error":"#REF!"}},{"$f":"IF(#REF!<0, 1, 0)","v":{"$error":"#REF!"}},null,null,null,null,null,null,null,null,null,null,null,null,null,null,null,null,null,null,null,null,null,null,null,"RDETHE FRYATT HOSPITAL AND MAYFLOWER MEDICAL CENTRE","RDEEE","THE FRYATT HOSPITAL AND MAYFLOWER MEDICAL CENTRE","RDEEE","THE FRYATT HOSPITAL AND MAYFLOWER MEDICAL CENTRE","RDE",null,null,"PRINCESS ROYAL HOSPITAL","Horsted Keynes Ward (2nd Floor)"]
[null,null,null,{"$f":"IF(#REF!=\"\", IF(#REF!=\"\", 0,1),0)","v":{"$error":"#REF!"}},null,null,null,null,{"$f":"IF(#REF!<0, 1, 0)","v":{"$error":"#REF!"}},{"$f":"IF(#REF!<0, 1, 0)","v":{"$error":"#REF!"}},{"$f":"IF(#REF!<0, 1, 0)","v":{"$error":"#REF!"}},{"$f":"IF(#REF!<0, 1, 0)","v":{"$error":"#REF!"}},{"$f":"IF(#REF!<0, 1, 0)","v":{"$error":"#REF!"}},{"$f":"IF(#REF!<0, 1, 0)","v":{"$error":"#REF!"}},{"$f":"IF(#REF!<0, 1, 0)","v":{"$error":"#REF!"}},{"$f":"IF(#REF!<0, 1, 0)","v":{"$error":"#REF!"}},{"$f":"IF(#REF!<0, 1, 0)","v":{"$error":"#REF!"}},{"$f":"IF(#REF!<0, 1, 0)","v":{"$error":"#REF!"}},{"$f":"IF(#REF!<0, 1, 0)","v":{"$error":"#REF!"}},{"$f":"IF(#REF!<0, 1, 0)","v":{"$error":"#REF!"}},{"$f":"IF(#REF!<0, 1, 0)","v":{"$error":"#REF!"}},{"$f":"IF(#REF!<0, 1, 0)","v":{"$error":"#REF!"}},{"$f":"IF(#REF!<0, 1, 0)","v":{"$error":"#REF!"}},{"$f":"IF(#REF!<0, 1, 0)","v":{"$error":"#REF!"}},{"$f":"IF(#REF!<0, 1, 0)","v":{"$error":"#REF!"}},{"$f":"IF(#REF!<0, 1, 0)","v":{"$error":"#REF!"}},{"$f":"IF(#REF!<0, 1, 0)","v":{"$error":"#REF!"}},{"$f":"IF(#REF!<0, 1, 0)","v":{"$error":"#REF!"}},{"$f":"IF(#REF!<0, 1, 0)","v":{"$error":"#REF!"}},null,null,null,null,null,null,null,{"$f":"IF(#REF!<0, 1, 0)","v":{"$error":"#REF!"}},{"$f":"IF(#REF!<0, 1, 0)","v":{"$error":"#REF!"}},{"$f":"IF(#REF!<0, 1, 0)","v":{"$error":"#REF!"}},{"$f":"IF(#REF!<0, 1, 0)","v":{"$error":"#REF!"}},{"$f":"IF(#REF!<0, 1, 0)","v":{"$error":"#REF!"}},{"$f":"IF(#REF!<0, 1, 0)","v":{"$error":"#REF!"}},{"$f":"IF(#REF!<0, 1, 0)","v":{"$error":"#REF!"}},{"$f":"IF(#REF!<0, 1, 0)","v":{"$error":"#REF!"}},{"$f":"IF(#REF!<0, 1, 0)","v":{"$error":"#REF!"}},{"$f":"IF(#REF!<0, 1, 0)","v":{"$error":"#REF!"}},null,null,null,null,null,null,null,null,null,null,null,null,null,null,null,null,null,null,null,null,null,null,null,"RDRARUNDEL AND DISTRICT HOSPITAL","RDR1R","ARUNDEL AND DISTRICT HOSPITAL","RDR1R","ARUNDEL AND DISTRICT HOSPITAL","RDR",null,null,"PRINCESS ROYAL HOSPITAL","Hurstepier Point"]
[null,null,null,{"$f":"IF(#REF!=\"\", IF(#REF!=\"\", 0,1),0)","v":{"$error":"#REF!"}},null,null,null,null,{"$f":"IF(#REF!<0, 1, 0)","v":{"$error":"#REF!"}},{"$f":"IF(#REF!<0, 1, 0)","v":{"$error":"#REF!"}},{"$f":"IF(#REF!<0, 1, 0)","v":{"$error":"#REF!"}},{"$f":"IF(#REF!<0, 1, 0)","v":{"$error":"#REF!"}},{"$f":"IF(#REF!<0, 1, 0)","v":{"$error":"#REF!"}},{"$f":"IF(#REF!<0, 1, 0)","v":{"$error":"#REF!"}},{"$f":"IF(#REF!<0, 1, 0)","v":{"$error":"#REF!"}},{"$f":"IF(#REF!<0, 1, 0)","v":{"$error":"#REF!"}},{"$f":"IF(#REF!<0, 1, 0)","v":{"$error":"#REF!"}},{"$f":"IF(#REF!<0, 1, 0)","v":{"$error":"#REF!"}},{"$f":"IF(#REF!<0, 1, 0)","v":{"$error":"#REF!"}},{"$f":"IF(#REF!<0, 1, 0)","v":{"$error":"#REF!"}},{"$f":"IF(#REF!<0, 1, 0)","v":{"$error":"#REF!"}},{"$f":"IF(#REF!<0, 1, 0)","v":{"$error":"#REF!"}},{"$f":"IF(#REF!<0, 1, 0)","v":{"$error":"#REF!"}},{"$f":"IF(#REF!<0, 1, 0)","v":{"$error":"#REF!"}},{"$f":"IF(#REF!<0, 1, 0)","v":{"$error":"#REF!"}},{"$f":"IF(#REF!<0, 1, 0)","v":{"$error":"#REF!"}},{"$f":"IF(#REF!<0, 1, 0)","v":{"$error":"#REF!"}},{"$f":"IF(#REF!<0, 1, 0)","v":{"$error":"#REF!"}},{"$f":"IF(#REF!<0, 1, 0)","v":{"$error":"#REF!"}},null,null,null,null,null,null,null,{"$f":"IF(#REF!<0, 1, 0)","v":{"$error":"#REF!"}},{"$f":"IF(#REF!<0, 1, 0)","v":{"$error":"#REF!"}},{"$f":"IF(#REF!<0, 1, 0)","v":{"$error":"#REF!"}},{"$f":"IF(#REF!<0, 1, 0)","v":{"$error":"#REF!"}},{"$f":"IF(#REF!<0, 1, 0)","v":{"$error":"#REF!"}},{"$f":"IF(#REF!<0, 1, 0)","v":{"$error":"#REF!"}},{"$f":"IF(#REF!<0, 1, 0)","v":{"$error":"#REF!"}},{"$f":"IF(#REF!<0, 1, 0)","v":{"$error":"#REF!"}},{"$f":"IF(#REF!<0, 1, 0)","v":{"$error":"#REF!"}},{"$f":"IF(#REF!<0, 1, 0)","v":{"$error":"#REF!"}},null,null,null,null,null,null,null,null,null,null,null,null,null,null,null,null,null,null,null,null,null,null,null,"RDRBATTLE SCA","RDR01","BATTLE SCA","RDR01","BATTLE SCA","RDR",null,null,"PRINCESS ROYAL HOSPITAL","Lindfield Ward (Rehab)"]
[null,null,null,{"$f":"IF(#REF!=\"\", IF(#REF!=\"\", 0,1),0)","v":{"$error":"#REF!"}},null,null,null,null,{"$f":"IF(#REF!<0, 1, 0)","v":{"$error":"#REF!"}},{"$f":"IF(#REF!<0, 1, 0)","v":{"$error":"#REF!"}},{"$f":"IF(#REF!<0, 1, 0)","v":{"$error":"#REF!"}},{"$f":"IF(#REF!<0, 1, 0)","v":{"$error":"#REF!"}},{"$f":"IF(#REF!<0, 1, 0)","v":{"$error":"#REF!"}},{"$f":"IF(#REF!<0, 1, 0)","v":{"$error":"#REF!"}},{"$f":"IF(#REF!<0, 1, 0)","v":{"$error":"#REF!"}},{"$f":"IF(#REF!<0, 1, 0)","v":{"$error":"#REF!"}},{"$f":"IF(#REF!<0, 1, 0)","v":{"$error":"#REF!"}},{"$f":"IF(#REF!<0, 1, 0)","v":{"$error":"#REF!"}},{"$f":"IF(#REF!<0, 1, 0)","v":{"$error":"#REF!"}},{"$f":"IF(#REF!<0, 1, 0)","v":{"$error":"#REF!"}},{"$f":"IF(#REF!<0, 1, 0)","v":{"$error":"#REF!"}},{"$f":"IF(#REF!<0, 1, 0)","v":{"$error":"#REF!"}},{"$f":"IF(#REF!<0, 1, 0)","v":{"$error":"#REF!"}},{"$f":"IF(#REF!<0, 1, 0)","v":{"$error":"#REF!"}},{"$f":"IF(#REF!<0, 1, 0)","v":{"$error":"#REF!"}},{"$f":"IF(#REF!<0, 1, 0)","v":{"$error":"#REF!"}},{"$f":"IF(#REF!<0, 1, 0)","v":{"$error":"#REF!"}},{"$f":"IF(#REF!<0, 1, 0)","v":{"$error":"#REF!"}},{"$f":"IF(#REF!<0, 1, 0)","v":{"$error":"#REF!"}},null,null,null,null,null,null,null,{"$f":"IF(#REF!<0, 1, 0)","v":{"$error":"#REF!"}},{"$f":"IF(#REF!<0, 1, 0)","v":{"$error":"#REF!"}},{"$f":"IF(#REF!<0, 1, 0)","v":{"$error":"#REF!"}},{"$f":"IF(#REF!<0, 1, 0)","v":{"$error":"#REF!"}},{"$f":"IF(#REF!<0, 1, 0)","v":{"$error":"#REF!"}},{"$f":"IF(#REF!<0, 1, 0)","v":{"$error":"#REF!"}},{"$f":"IF(#REF!<0, 1, 0)","v":{"$error":"#REF!"}},{"$f":"IF(#REF!<0, 1, 0)","v":{"$error":"#REF!"}},{"$f":"IF(#REF!<0, 1, 0)","v":{"$error":"#REF!"}},{"$f":"IF(#REF!<0, 1, 0)","v":{"$error":"#REF!"}},null,null,null,null,null,null,null,null,null,null,null,null,null,null,null,null,null,null,null,null,null,null,null,"RDRBATTLE SCA","RDR53","BATTLE SCA","RDR53","BATTLE SCA","RDR",null,null,"PRINCESS ROYAL HOSPITAL","Maternity PRH"]
[null,null,null,{"$f":"IF(#REF!=\"\", IF(#REF!=\"\", 0,1),0)","v":{"$error":"#REF!"}},null,null,null,null,{"$f":"IF(#REF!<0, 1, 0)","v":{"$error":"#REF!"}},{"$f":"IF(#REF!<0, 1, 0)","v":{"$error":"#REF!"}},{"$f":"IF(#REF!<0, 1, 0)","v":{"$error":"#REF!"}},{"$f":"IF(#REF!<0, 1, 0)","v":{"$error":"#REF!"}},{"$f":"IF(#REF!<0, 1, 0)","v":{"$error":"#REF!"}},{"$f":"IF(#REF!<0, 1, 0)","v":{"$error":"#REF!"}},{"$f":"IF(#REF!<0, 1, 0)","v":{"$error":"#REF!"}},{"$f":"IF(#REF!<0, 1, 0)","v":{"$error":"#REF!"}},{"$f":"IF(#REF!<0, 1, 0)","v":{"$error":"#REF!"}},{"$f":"IF(#REF!<0, 1, 0)","v":{"$error":"#REF!"}},{"$f":"IF(#REF!<0, 1, 0)","v":{"$error":"#REF!"}},{"$f":"IF(#REF!<0, 1, 0)","v":{"$error":"#REF!"}},{"$f":"IF(#REF!<0, 1, 0)","v":{"$error":"#REF!"}},{"$f":"IF(#REF!<0, 1, 0)","v":{"$error":"#REF!"}},{"$f":"IF(#REF!<0, 1, 0)","v":{"$error":"#REF!"}},{"$f":"IF(#REF!<0, 1, 0)","v":{"$error":"#REF!"}},{"$f":"IF(#REF!<0, 1, 0)","v":{"$error":"#REF!"}},{"$f":"IF(#REF!<0, 1, 0)","v":{"$error":"#REF!"}},{"$f":"IF(#REF!<0, 1, 0)","v":{"$error":"#REF!"}},{"$f":"IF(#REF!<0, 1, 0)","v":{"$error":"#REF!"}},{"$f":"IF(#REF!<0, 1, 0)","v":{"$error":"#REF!"}},null,null,null,null,null,null,null,{"$f":"IF(#REF!<0, 1, 0)","v":{"$error":"#REF!"}},{"$f":"IF(#REF!<0, 1, 0)","v":{"$error":"#REF!"}},{"$f":"IF(#REF!<0, 1, 0)","v":{"$error":"#REF!"}},{"$f":"IF(#REF!<0, 1, 0)","v":{"$error":"#REF!"}},{"$f":"IF(#REF!<0, 1, 0)","v":{"$error":"#REF!"}},{"$f":"IF(#REF!<0, 1, 0)","v":{"$error":"#REF!"}},{"$f":"IF(#REF!<0, 1, 0)","v":{"$error":"#REF!"}},{"$f":"IF(#REF!<0, 1, 0)","v":{"$error":"#REF!"}},{"$f":"IF(#REF!<0, 1, 0)","v":{"$error":"#REF!"}},{"$f":"IF(#REF!<0, 1, 0)","v":{"$error":"#REF!"}},null,null,null,null,null,null,null,null,null,null,null,null,null,null,null,null,null,null,null,null,null,null,null,"RDRBOGNOR REGIS WAR MEMORIAL HOSPITAL","RDR2V","BOGNOR REGIS WAR MEMORIAL HOSPITAL","RDR2V","BOGNOR REGIS WAR MEMORIAL HOSPITAL","RDR",null,null,"PRINCESS ROYAL HOSPITAL","Newick Ward Sussex Orthopaedic Treatment Centre"]
[null,null,null,{"$f":"IF(#REF!=\"\", IF(#REF!=\"\", 0,1),0)","v":{"$error":"#REF!"}},null,null,null,null,{"$f":"IF(#REF!<0, 1, 0)","v":{"$error":"#REF!"}},{"$f":"IF(#REF!<0, 1, 0)","v":{"$error":"#REF!"}},{"$f":"IF(#REF!<0, 1, 0)","v":{"$error":"#REF!"}},{"$f":"IF(#REF!<0, 1, 0)","v":{"$error":"#REF!"}},{"$f":"IF(#REF!<0, 1, 0)","v":{"$error":"#REF!"}},{"$f":"IF(#REF!<0, 1, 0)","v":{"$error":"#REF!"}},{"$f":"IF(#REF!<0, 1, 0)","v":{"$error":"#REF!"}},{"$f":"IF(#REF!<0, 1, 0)","v":{"$error":"#REF!"}},{"$f":"IF(#REF!<0, 1, 0)","v":{"$error":"#REF!"}},{"$f":"IF(#REF!<0, 1, 0)","v":{"$error":"#REF!"}},{"$f":"IF(#REF!<0, 1, 0)","v":{"$error":"#REF!"}},{"$f":"IF(#REF!<0, 1, 0)","v":{"$error":"#REF!"}},{"$f":"IF(#REF!<0, 1, 0)","v":{"$error":"#REF!"}},{"$f":"IF(#REF!<0, 1, 0)","v":{"$error":"#REF!"}},{"$f":"IF(#REF!<0, 1, 0)","v":{"$error":"#REF!"}},{"$f":"IF(#REF!<0, 1, 0)","v":{"$error":"#REF!"}},{"$f":"IF(#REF!<0, 1, 0)","v":{"$error":"#REF!"}},{"$f":"IF(#REF!<0, 1, 0)","v":{"$error":"#REF!"}},{"$f":"IF(#REF!<0, 1, 0)","v":{"$error":"#REF!"}},{"$f":"IF(#REF!<0, 1, 0)","v":{"$error":"#REF!"}},{"$f":"IF(#REF!<0, 1, 0)","v":{"$error":"#REF!"}},null,null,null,null,null,null,null,{"$f":"IF(#REF!<0, 1, 0)","v":{"$error":"#REF!"}},{"$f":"IF(#REF!<0, 1, 0)","v":{"$error":"#REF!"}},{"$f":"IF(#REF!<0, 1, 0)","v":{"$error":"#REF!"}},{"$f":"IF(#REF!<0, 1, 0)","v":{"$error":"#REF!"}},{"$f":"IF(#REF!<0, 1, 0)","v":{"$error":"#REF!"}},{"$f":"IF(#REF!<0, 1, 0)","v":{"$error":"#REF!"}},{"$f":"IF(#REF!<0, 1, 0)","v":{"$error":"#REF!"}},{"$f":"IF(#REF!<0, 1, 0)","v":{"$error":"#REF!"}},{"$f":"IF(#REF!<0, 1, 0)","v":{"$error":"#REF!"}},{"$f":"IF(#REF!<0, 1, 0)","v":{"$error":"#REF!"}},null,null,null,null,null,null,null,null,null,null,null,null,null,null,null,null,null,null,null,null,null,null,null,"RDRBRADBURY UNIT","RDRDY","BRADBURY UNIT","RDRDY","BRADBURY UNIT","RDR",null,null,"PRINCESS ROYAL HOSPITAL","Newtimber Ward (Sussex Rehab)"]
[null,null,null,{"$f":"IF(#REF!=\"\", IF(#REF!=\"\", 0,1),0)","v":{"$error":"#REF!"}},null,null,null,null,{"$f":"IF(#REF!<0, 1, 0)","v":{"$error":"#REF!"}},{"$f":"IF(#REF!<0, 1, 0)","v":{"$error":"#REF!"}},{"$f":"IF(#REF!<0, 1, 0)","v":{"$error":"#REF!"}},{"$f":"IF(#REF!<0, 1, 0)","v":{"$error":"#REF!"}},{"$f":"IF(#REF!<0, 1, 0)","v":{"$error":"#REF!"}},{"$f":"IF(#REF!<0, 1, 0)","v":{"$error":"#REF!"}},{"$f":"IF(#REF!<0, 1, 0)","v":{"$error":"#REF!"}},{"$f":"IF(#REF!<0, 1, 0)","v":{"$error":"#REF!"}},{"$f":"IF(#REF!<0, 1, 0)","v":{"$error":"#REF!"}},{"$f":"IF(#REF!<0, 1, 0)","v":{"$error":"#REF!"}},{"$f":"IF(#REF!<0, 1, 0)","v":{"$error":"#REF!"}},{"$f":"IF(#REF!<0, 1, 0)","v":{"$error":"#REF!"}},{"$f":"IF(#REF!<0, 1, 0)","v":{"$error":"#REF!"}},{"$f":"IF(#REF!<0, 1, 0)","v":{"$error":"#REF!"}},{"$f":"IF(#REF!<0, 1, 0)","v":{"$error":"#REF!"}},{"$f":"IF(#REF!<0, 1, 0)","v":{"$error":"#REF!"}},{"$f":"IF(#REF!<0, 1, 0)","v":{"$error":"#REF!"}},{"$f":"IF(#REF!<0, 1, 0)","v":{"$error":"#REF!"}},{"$f":"IF(#REF!<0, 1, 0)","v":{"$error":"#REF!"}},{"$f":"IF(#REF!<0, 1, 0)","v":{"$error":"#REF!"}},{"$f":"IF(#REF!<0, 1, 0)","v":{"$error":"#REF!"}},null,null,null,null,null,null,null,{"$f":"IF(#REF!<0, 1, 0)","v":{"$error":"#REF!"}},{"$f":"IF(#REF!<0, 1, 0)","v":{"$error":"#REF!"}},{"$f":"IF(#REF!<0, 1, 0)","v":{"$error":"#REF!"}},{"$f":"IF(#REF!<0, 1, 0)","v":{"$error":"#REF!"}},{"$f":"IF(#REF!<0, 1, 0)","v":{"$error":"#REF!"}},{"$f":"IF(#REF!<0, 1, 0)","v":{"$error":"#REF!"}},{"$f":"IF(#REF!<0, 1, 0)","v":{"$error":"#REF!"}},{"$f":"IF(#REF!<0, 1, 0)","v":{"$error":"#REF!"}},{"$f":"IF(#REF!<0, 1, 0)","v":{"$error":"#REF!"}},{"$f":"IF(#REF!<0, 1, 0)","v":{"$error":"#REF!"}},null,null,null,null,null,null,null,null,null,null,null,null,null,null,null,null,null,null,null,null,null,null,null,"RDRBRIGHTON GENERAL HOSPITAL","RDR05","BRIGHTON GENERAL HOSPITAL","RDR05","BRIGHTON GENERAL HOSPITAL","RDR",null,null,"PRINCESS ROYAL HOSPITAL","Plumpton ward"]
[null,null,null,{"$f":"IF(#REF!=\"\", IF(#REF!=\"\", 0,1),0)","v":{"$error":"#REF!"}},null,null,null,null,{"$f":"IF(#REF!<0, 1, 0)","v":{"$error":"#REF!"}},{"$f":"IF(#REF!<0, 1, 0)","v":{"$error":"#REF!"}},{"$f":"IF(#REF!<0, 1, 0)","v":{"$error":"#REF!"}},{"$f":"IF(#REF!<0, 1, 0)","v":{"$error":"#REF!"}},{"$f":"IF(#REF!<0, 1, 0)","v":{"$error":"#REF!"}},{"$f":"IF(#REF!<0, 1, 0)","v":{"$error":"#REF!"}},{"$f":"IF(#REF!<0, 1, 0)","v":{"$error":"#REF!"}},{"$f":"IF(#REF!<0, 1, 0)","v":{"$error":"#REF!"}},{"$f":"IF(#REF!<0, 1, 0)","v":{"$error":"#REF!"}},{"$f":"IF(#REF!<0, 1, 0)","v":{"$error":"#REF!"}},{"$f":"IF(#REF!<0, 1, 0)","v":{"$error":"#REF!"}},{"$f":"IF(#REF!<0, 1, 0)","v":{"$error":"#REF!"}},{"$f":"IF(#REF!<0, 1, 0)","v":{"$error":"#REF!"}},{"$f":"IF(#REF!<0, 1, 0)","v":{"$error":"#REF!"}},{"$f":"IF(#REF!<0, 1, 0)","v":{"$error":"#REF!"}},{"$f":"IF(#REF!<0, 1, 0)","v":{"$error":"#REF!"}},{"$f":"IF(#REF!<0, 1, 0)","v":{"$error":"#REF!"}},{"$f":"IF(#REF!<0, 1, 0)","v":{"$error":"#REF!"}},{"$f":"IF(#REF!<0, 1, 0)","v":{"$error":"#REF!"}},{"$f":"IF(#REF!<0, 1, 0)","v":{"$error":"#REF!"}},{"$f":"IF(#REF!<0, 1, 0)","v":{"$error":"#REF!"}},null,null,null,null,null,null,null,{"$f":"IF(#REF!<0, 1, 0)","v":{"$error":"#REF!"}},{"$f":"IF(#REF!<0, 1, 0)","v":{"$error":"#REF!"}},{"$f":"IF(#REF!<0, 1, 0)","v":{"$error":"#REF!"}},{"$f":"IF(#REF!<0, 1, 0)","v":{"$error":"#REF!"}},{"$f":"IF(#REF!<0, 1, 0)","v":{"$error":"#REF!"}},{"$f":"IF(#REF!<0, 1, 0)","v":{"$error":"#REF!"}},{"$f":"IF(#REF!<0, 1, 0)","v":{"$error":"#REF!"}},{"$f":"IF(#REF!<0, 1, 0)","v":{"$error":"#REF!"}},{"$f":"IF(#REF!<0, 1, 0)","v":{"$error":"#REF!"}},{"$f":"IF(#REF!<0, 1, 0)","v":{"$error":"#REF!"}},null,null,null,null,null,null,null,null,null,null,null,null,null,null,null,null,null,null,null,null,null,null,null,"RDRCHAILEY NEW HERITAGE","RDRCN","CHAILEY NEW HERITAGE","RDRCN","CHAILEY NEW HERITAGE","RDR",null,null,"PRINCESS ROYAL HOSPITAL","PRH Intensive Care Unit ITU (1st Floor)"]
[null,null,null,{"$f":"IF(#REF!=\"\", IF(#REF!=\"\", 0,1),0)","v":{"$error":"#REF!"}},null,null,null,null,{"$f":"SUM(I250:I449)","v":{"$error":"#REF!"}},{"$f":"SUM(J250:J449)","v":{"$error":"#REF!"}},{"$f":"SUM(K250:K449)","v":{"$error":"#REF!"}},{"$error":"#REF!"},{"$error":"#REF!"},{"$error":"#REF!"},{"$error":"#REF!"},{"$error":"#REF!"},{"$error":"#REF!"},{"$error":"#REF!"},{"$error":"#REF!"},{"$error":"#REF!"},{"$error":"#REF!"},{"$error":"#REF!"},{"$error":"#REF!"},{"$error":"#REF!"},{"$error":"#REF!"},{"$error":"#REF!"},{"$error":"#REF!"},{"$error":"#REF!"},{"$error":"#REF!"},null,null,null,null,null,null,null,{"$f":"SUM(AK250:AK449)","v":{"$error":"#REF!"}},{"$f":"SUM(AL250:AL449)","v":{"$error":"#REF!"}},{"$error":"#REF!"},{"$error":"#REF!"},{"$error":"#REF!"},{"$error":"#REF!"},{"$error":"#REF!"},{"$error":"#REF!"},{"$error":"#REF!"},{"$error":"#REF!"},null,null,null,null,null,null,null,null,null,null,null,null,null,null,null,null,null,null,null,null,null,null,null,"RDRCLERMONT CHILD PROTECTION UNIT","RDRCC","CLERMONT CHILD PROTECTION UNIT","RDRCC","CLERMONT CHILD PROTECTION UNIT","RDR",null,null,"PRINCESS ROYAL HOSPITAL","Pyecombe Ward (Ground Floor)"]
[null,null,null,{"$f":"IF(#REF!=\"\", IF(#REF!=\"\", 0,1),0)","v":{"$error":"#REF!"}},null,null,null,null,null,null,null,null,null,null,null,null,null,null,null,null,null,null,null,null,null,null,null,null,null,null,null,null,null,null,null,null,null,null,null,null,null,null,null,null,null,null,null,null,null,null,null,null,null,null,null,null,null,null,null,null,null,null,null,null,null,null,null,null,null,"RDRCOUNTY BUILDINGS","RDRCT","COUNTY BUILDINGS","RDRCT","COUNTY BUILDINGS","RDR",null,null,"PRINCESS ROYAL HOSPITAL","Twineham Ward (1st Floor)"]
[null,null,null,{"$f":"IF(#REF!=\"\", IF(#REF!=\"\", 0,1),0)","v":{"$error":"#REF!"}},null,null,null,null,null,{"$f":"SUM(I450:AT450)","v":{"$error":"#REF!"}},null,null,null,null,null,null,null,null,null,null,null,null,null,null,null,null,null,null,null,null,null,null,null,null,null,null,null,null,null,null,null,null,null,null,null,null,null,null,null,null,null,null,null,null,null,null,null,null,null,null,null,null,null,null,null,null,null,null,null,"RDRCRAWLEY HOSPITAL","RDR3E","CRAWLEY HOSPITAL","RDR3E","CRAWLEY HOSPITAL","RDR",null,null,"ROYAL SUSSEX COUNTY HOSPITAL","Albion and Lewes Ward - Level 10 Thomas Kemp Tower"]
[null,null,null,{"$f":"IF(#REF!=\"\", IF(#REF!=\"\", 0,1),0)","v":{"$error":"#REF!"}},null,null,null,null,null,null,null,null,null,null,null,null,null,null,null,null,null,null,null,null,null,null,null,null,null,null,null,null,null,null,null,null,null,null,null,null,null,null,null,null,null,null,null,null,null,null,null,null,null,null,null,null,null,null,null,null,null,null,null,null,null,null,null,null,null,"RDRCROWBOROUGH WAR MEMORIAL HOSPITAL","RDRCR","CROWBOROUGH WAR MEMORIAL HOSPITAL","RDRCR","CROWBOROUGH WAR MEMORIAL HOSPITAL","RDR",null,null,"ROYAL SUSSEX COUNTY HOSPITAL","Bailey Ward - Barry Building (3rd Floor)"]
[null,null,null,{"$f":"IF(#REF!=\"\", IF(#REF!=\"\", 0,1),0)","v":{"$error":"#REF!"}},null,null,null,null,"Conditional format if AHP not expected",{"$f":"IF($C$1=\"N\",1,0)","v":0},null,null,null,null,null,null,null,null,null,null,null,null,null,null,null,null,null,null,null,null,null,null,null,null,null,null,null,null,null,null,null,null,null,null,null,null,null,null,null,null,null,null,null,null,null,null,null,null,null,null,null,null,null,null,null,null,null,null,null,"RDRDOWNS VIEW","RDRDV","DOWNS VIEW","RDRDV","DOWNS VIEW","RDR",null,null,"ROYAL SUSSEX COUNTY HOSPITAL","Bristol Ward - Barry Building (2nd Floor)"]
[null,null,null,{"$f":"IF(#REF!=\"\", IF(#REF!=\"\", 0,1),0)","v":{"$error":"#REF!"}},null,null,null,null,"AHP not expected but data entered",{"$f":"IF(AND($C$1=\"N\",SUM($Y$44:$AB$44)>0),1,0)","v":0},null,null,null,null,null,null,null,null,null,null,null,null,null,null,null,null,null,null,null,null,null,null,null,null,null,null,null,null,null,null,null,null,null,null,null,null,null,null,null,null,null,null,null,null,null,null,null,null,null,null,null,null,null,null,null,null,null,null,null,"RDREASTBOURNE DISTRICT GENERAL HOSPITAL","RDR1V","EASTBOURNE DISTRICT GENERAL HOSPITAL","RDR1V","EASTBOURNE DISTRICT GENERAL HOSPITAL","RDR",null,null,"ROYAL SUSSEX COUNTY HOSPITAL","Chichester Ward - Barry Building (3rd Floor)"]
[null,null,null,{"$f":"IF(SUM(D256:D455)>0, \"Site Code Error. Do not use Drag and Drop or Cut and Paste\",\"\")","v":{"$error":"#REF!"}},null,null,null,null,null,null,null,null,null,null,null,null,null,null,null,null,null,null,null,null,null,null,null,null,null,null,null,null,null,null,null,null,null,null,null,null,null,null,null,null,null,null,null,null,null,null,null,null,null,null,null,null,null,null,null,null,null,null,null,null,null,null,null,null,null,"RDRFINCHES","RDRRM","FINCHES","RDRRM","FINCHES","RDR",null,null,"ROYAL SUSSEX COUNTY HOSPITAL","Egremont and Catherine James Ward - Barry Building (2nd Floor)"]
[null,null,null,null,null,null,null,null,null,null,null,null,null,null,null,null,null,null,null,null,null,null,null,null,null,null,null,null,null,null,null,null,null,null,null,null,null,null,null,null,null,null,null,null,null,null,null,null,null,null,null,null,null,null,null,null,null,null,null,null,null,null,null,null,null,null,null,null,null,"RDRGATWICK HEALTH CONTROL","RDR4R","GATWICK HEALTH CONTROL","RDR4R","GATWICK HEALTH CONTROL","RDR",null,null,"ROYAL SUSSEX COUNTY HOSPITAL","Emerald Unit - Barry Building (1st Floor)"]
[null,null,null,null,null,null,null,null,null,null,null,null,null,null,null,null,null,null,null,null,null,null,null,null,null,null,null,null,null,null,null,null,null,null,null,null,null,null,null,null,null,null,null,null,null,null,null,null,null,null,null,null,null,null,null,null,null,null,null,null,null,null,null,null,null,null,null,null,null,"RDRHAZEL COTTAGE","RDRHZ","HAZEL COTTAGE","RDRHZ","HAZEL COTTAGE","RDR",null,null,"ROYAL SUSSEX COUNTY HOSPITAL","Haematology-Oncology Ward - Level 9 Sussex Kidney Centre"]
[null,null,null,null,null,null,null,null,null,null,null,null,null,null,null,null,null,null,null,null,null,null,null,null,null,null,null,null,null,null,null,null,null,null,null,null,null,null,null,null,null,null,null,null,null,null,null,null,null,null,null,null,null,null,null,null,null,null,null,null,null,null,null,null,null,null,null,null,null,"RDRHORIZON UNIT","RDRHR","HORIZON UNIT","RDRHR","HORIZON UNIT","RDR",null,null,"ROYAL SUSSEX COUNTY HOSPITAL","Howard 1 Ward - Jubilee Building (Ground Floor)"]
[null,null,null,"Speciality code vlookup",null,null,null,null,null,null,null,null,null,null,null,null,null,null,null,null,null,null,null,null,null,null,null,null,null,null,null,null,null,null,null,null,null,null,null,null,null,null,null,null,null,null,null,null,null,null,null,null,null,null,null,null,null,null,null,null,null,null,null,null,null,null,null,null,null,"RDRHORSHAM HOSPITAL","RDR3L","HORSHAM HOSPITAL","RDR3L","HORSHAM HOSPITAL","RDR",null,null,"ROYAL SUSSEX COUNTY HOSPITAL","Howard 2 & Grant Ward - Jubilee Building"]
[null,null,null,null,null,null,null,null,null,null,null,null,null,null,null,null,null,null,null,null,null,null,null,null,null,null,null,null,null,null,null,null,null,null,null,null,null,null,null,null,null,null,null,null,null,null,null,null,null,null,null,null,null,null,null,null,null,null,null,null,null,null,null,null,null,null,null,null,null,"RDRHORSHAM MIU","RDRHM","HORSHAM MIU","RDRHM","HORSHAM MIU","RDR",null,null,"ROYAL SUSSEX COUNTY HOSPITAL","Jowers Ward - Barry Building (1st Floor)"]
[null,null,null,{"$f":"IF(#REF!=\"\",\"\",IF(ISERROR(VLOOKUP(#REF!,$AV$14:$AW$43,2,FALSE)),1,VLOOKUP(#REF!,$AV$14:$AW$43,2,FALSE)))","v":{"$error":"#REF!"}},{"$f":"IF(#REF!=\"\",\"\",IF(ISERROR(VLOOKUP(#REF!,$AV$14:$AW$43,2,FALSE)),1,VLOOKUP(#REF!,$AV$14:$AW$43,2,FALSE)))","v":{"$error":"#REF!"}},null,null,null,null,null,null,null,null,null,null,null,null,null,null,null,null,null,null,null,null,null,null,null,null,null,null,null,null,null,null,null,null,null,null,null,null,null,null,null,null,null,null,null,null,null,null,null,null,null,null,null,null,null,null,null,null,null,null,null,null,null,null,null,null,"RDRICATS CRAWLEY","RDRC8","ICATS CRAWLEY","RDRC8","ICATS CRAWLEY","RDR",null,null,"ROYAL SUSSEX COUNTY HOSPITAL","L6A Cardiac Ward - Level 6 Millennium Wing"]
[null,null,null,{"$f":"IF(#REF!=\"\",\"\",IF(ISERROR(VLOOKUP(#REF!,$AV$14:$AW$43,2,FALSE)),1,VLOOKUP(#REF!,$AV$14:$AW$43,2,FALSE)))","v":{"$error":"#REF!"}},{"$f":"IF(#REF!=\"\",\"\",IF(ISERROR(VLOOKUP(#REF!,$AV$14:$AW$43,2,FALSE)),1,VLOOKUP(#REF!,$AV$14:$AW$43,2,FALSE)))","v":{"$error":"#REF!"}},null,null,null,null,null,null,null,null,null,null,null,null,null,null,null,null,null,null,null,null,null,null,null,null,null,null,null,null,null,null,null,null,null,null,null,null,null,null,null,null,null,null,null,null,null,null,null,null,null,null,null,null,null,null,null,null,null,null,null,null,null,null,null,null,"RDRICS CRAVEN VALE","RDRCV","ICS CRAVEN VALE","RDRCV","ICS CRAVEN VALE","RDR",null,null,"ROYAL SUSSEX COUNTY HOSPITAL","L7A Cardiac Surgery - Level 7 Millennium Wing"]
[null,null,null,{"$f":"IF(#REF!=\"\",\"\",IF(ISERROR(VLOOKUP(#REF!,$AV$14:$AW$43,2,FALSE)),1,VLOOKUP(#REF!,$AV$14:$AW$43,2,FALSE)))","v":{"$error":"#REF!"}},{"$f":"IF(#REF!=\"\",\"\",IF(ISERROR(VLOOKUP(#REF!,$AV$14:$AW$43,2,FALSE)),1,VLOOKUP(#REF!,$AV$14:$AW$43,2,FALSE)))","v":{"$error":"#REF!"}},null,null,null,null,null,null,null,null,null,null,null,null,null,null,null,null,null,null,null,null,null,null,null,null,null,null,null,null,null,null,null,null,null,null,null,null,null,null,null,null,null,null,null,null,null,null,null,null,null,null,null,null,null,null,null,null,null,null,null,null,null,null,null,null,"RDRICS QUEENS PARK VILLAS","RDRQP","ICS QUEENS PARK VILLAS","RDRQP","ICS QUEENS PARK VILLAS","RDR",null,null,"ROYAL SUSSEX COUNTY HOSPITAL","L8 Surgical Ward - Level 8 Thomas Kemp Tower"]
[null,null,null,{"$f":"IF(#REF!=\"\",\"\",IF(ISERROR(VLOOKUP(#REF!,$AV$14:$AW$43,2,FALSE)),1,VLOOKUP(#REF!,$AV$14:$AW$43,2,FALSE)))","v":{"$error":"#REF!"}},{"$f":"IF(#REF!=\"\",\"\",IF(ISERROR(VLOOKUP(#REF!,$AV$14:$AW$43,2,FALSE)),1,VLOOKUP(#REF!,$AV$14:$AW$43,2,FALSE)))","v":{"$error":"#REF!"}},null,null,null,null,null,null,null,null,null,null,null,null,null,null,null,null,null,null,null,null,null,null,null,null,null,null,null,null,null,null,null,null,null,null,null,null,null,null,null,null,null,null,null,null,null,null,null,null,null,null,null,null,null,null,null,null,null,null,null,null,null,null,null,null,"RDRLENS EMPLOYMENT REHABILITATION","RDRLN","LENS EMPLOYMENT REHABILITATION","RDRLN","LENS EMPLOYMENT REHABILITATION","RDR",null,null,"ROYAL SUSSEX COUNTY HOSPITAL","L8A East Ward - Level 8 Millennium Wing"]
[null,null,null,{"$f":"IF(G14=\"\",\"\",IF(ISERROR(VLOOKUP(G14,$AV$14:$AW$43,2,FALSE)),1,VLOOKUP(G14,$AV$14:$AW$43,2,FALSE)))","v":1},{"$f":"IF(H14=\"\",\"\",IF(ISERROR(VLOOKUP(H14,$AV$14:$AW$43,2,FALSE)),1,VLOOKUP(H14,$AV$14:$AW$43,2,FALSE)))","v":""},null,null,null,null,null,null,null,null,null,null,null,null,null,null,null,null,null,null,null,null,null,null,null,null,null,null,null,null,null,null,null,null,null,null,null,null,null,null,null,null,null,null,null,null,null,null,null,null,null,null,null,null,null,null,null,null,null,null,null,null,null,null,null,null,"RDRLEWES INTERMEDIATE CARE","RDRLC","LEWES INTERMEDIATE CARE","RDRLC","LEWES INTERMEDIATE CARE","RDR",null,null,"ROYAL SUSSEX COUNTY HOSPITAL","L8A West Ward - Level 8 Millennium Wing"]
[null,null,null,{"$f":"IF(G16=\"\",\"\",IF(ISERROR(VLOOKUP(G16,$AV$14:$AW$43,2,FALSE)),1,VLOOKUP(G16,$AV$14:$AW$43,2,FALSE)))","v":1},"",null,null,null,null,null,null,null,null,null,null,null,null,null,null,null,null,null,null,null,null,null,null,null,null,null,null,null,null,null,null,null,null,null,null,null,null,null,null,null,null,null,null,null,null,null,null,null,null,null,null,null,null,null,null,null,null,null,null,null,null,null,null,null,null,"RDRLITTLEHAMPTON HOSPITAL","RDR1N","LITTLEHAMPTON HOSPITAL","RDR1N","LITTLEHAMPTON HOSPITAL","RDR",null,null,"ROYAL SUSSEX COUNTY HOSPITAL","L9A Level 9 Millennium Wing"]
[null,null,null,1,"",null,null,null,null,null,null,null,null,null,null,null,null,null,null,null,null,null,null,null,null,null,null,null,null,null,null,null,null,null,null,null,null,null,null,null,null,null,null,null,null,null,null,null,null,null,null,null,null,null,null,null,null,null,null,null,null,null,null,null,null,null,null,null,null,"RDRMIDHURST COMMUNITY HOSPITAL","RDR2F","MIDHURST COMMUNITY HOSPITAL","RDR2F","MIDHURST COMMUNITY HOSPITAL","RDR",null,null,"ROYAL SUSSEX COUNTY HOSPITAL","Level 11"]
[null,null,null,1,"",null,null,null,null,null,null,null,null,null,null,null,null,null,null,null,null,null,null,null,null,null,null,null,null,null,null,null,null,null,null,null,null,null,null,null,null,null,null,null,null,null,null,null,null,null,null,null,null,null,null,null,null,null,null,null,null,null,null,null,null,null,null,null,null,"RDRMILL VIEW HOSPITAL","RDRMH","MILL VIEW HOSPITAL","RDRMH","MILL VIEW HOSPITAL","RDR",null,null,"ROYAL SUSSEX COUNTY HOSPITAL","Level 11 West"]
[null,null,null,1,"",null,null,null,null,null,null,null,null,null,null,null,null,null,null,null,null,null,null,null,null,null,null,null,null,null,null,null,null,null,null,null,null,null,null,null,null,null,null,null,null,null,null,null,null,null,null,null,null,null,null,null,null,null,null,null,null,null,null,null,null,null,null,null,null,"RDRMINOR INJURIES UNIT","RDRBM","MINOR INJURIES UNIT","RDRBM","MINOR INJURIES UNIT","RDR",null,null,"ROYAL SUSSEX COUNTY HOSPITAL","Maternity RSCH"]
[null,null,null,0,"",null,null,null,null,null,null,null,null,null,null,null,null,null,null,null,null,null,null,null,null,null,null,null,null,null,null,null,null,null,null,null,null,null,null,null,null,null,null,null,null,null,null,null,null,null,null,null,null,null,null,null,null,null,null,null,null,null,null,null,null,null,null,null,null,{"$f":"CONCATENATE(LEFT(BS471, 3),BT471)","v":"RDRNEVILL HOSPITAL"},"RDRNH","NEVILL HOSPITAL","RDRNH","NEVILL HOSPITAL","RDR",null,null,"ROYAL SUSSEX COUNTY HOSPITAL","Medical Assessment Unit (AMU) - Level 5"]
[null,null,null,0,"",null,null,null,null,null,null,null,null,null,null,null,null,null,null,null,null,null,null,null,null,null,null,null,null,null,null,null,null,null,null,null,null,null,null,null,null,null,null,null,null,null,null,null,null,null,null,null,null,null,null,null,null,null,null,null,null,null,null,null,null,null,null,null,null,"RDRNEWHAVEN DOWNS","RDRXR","NEWHAVEN DOWNS","RDRXR","NEWHAVEN DOWNS","RDR",null,null,"ROYAL SUSSEX COUNTY HOSPITAL","Newhaven Downs"]
[null,null,null,1,"",null,null,null,null,null,null,null,null,null,null,null,null,null,null,null,null,null,null,null,null,null,null,null,null,null,null,null,null,null,null,null,null,null,null,null,null,null,null,null,null,null,null,null,null,null,null,null,null,null,null,null,null,null,null,null,null,null,null,null,null,null,null,null,null,"RDRNEWHAVEN REHAB CENTRE","RDRNW","NEWHAVEN REHAB CENTRE","RDRNW","NEWHAVEN REHAB CENTRE","RDR",null,null,"ROYAL SUSSEX COUNTY HOSPITAL","Overton"]
[null,null,null,0,"",null,null,null,null,null,null,null,null,null,null,null,null,null,null,null,null,null,null,null,null,null,null,null,null,null,null,null,null,null,null,null,null,null,null,null,null,null,null,null,null,null,null,null,null,null,null,null,null,null,null,null,null,null,null,null,null,null,null,null,null,null,null,null,null,"RDRPRINCESS ROYAL HOSPITAL","RDR4E","PRINCESS ROYAL HOSPITAL","RDR4E","PRINCESS ROYAL HOSPITAL","RDR",null,null,"ROYAL SUSSEX COUNTY HOSPITAL","Pickford"]
[null,null,null,{"$f":"IF(G25=\"\",\"\",IF(ISERROR(VLOOKUP(G25,$AV$14:$AW$43,2,FALSE)),1,VLOOKUP(G25,$AV$14:$AW$43,2,FALSE)))","v":1},{"$f":"IF(H25=\"\",\"\",IF(ISERROR(VLOOKUP(H25,$AV$14:$AW$43,2,FALSE)),1,VLOOKUP(H25,$AV$14:$AW$43,2,FALSE)))","v":""},null,null,null,null,null,null,null,null,null,null,null,null,null,null,null,null,null,null,null,null,null,null,null,null,null,null,null,null,null,null,null,null,null,null,null,null,null,null,null,null,null,null,null,null,null,null,null,null,null,null,null,null,null,null,null,null,null,null,null,null,null,null,null,null,"RDRPRINCESS ROYAL HOSPITAL","RDRHH","PRINCESS ROYAL HOSPITAL","RDRHH","PRINCESS ROYAL HOSPITAL","RDR",null,null,"ROYAL SUSSEX COUNTY HOSPITAL","RSCH Cardiac Day Case Unit - Lewes Ward Level 10 Thomas Kemp Tower"]
[null,null,null,{"$f":"IF(G26=\"\",\"\",IF(ISERROR(VLOOKUP(G26,$AV$14:$AW$43,2,FALSE)),1,VLOOKUP(G26,$AV$14:$AW$43,2,FALSE)))","v":1},{"$f":"IF(H26=\"\",\"\",IF(ISERROR(VLOOKUP(H26,$AV$14:$AW$43,2,FALSE)),1,VLOOKUP(H26,$AV$14:$AW$43,2,FALSE)))","v":""},null,null,null,null,null,null,null,null,null,null,null,null,null,null,null,null,null,null,null,null,null,null,null,null,null,null,null,null,null,null,null,null,null,null,null,null,null,null,null,null,null,null,null,null,null,null,null,null,null,null,null,null,null,null,null,null,null,null,null,null,null,null,null,null,"RDRQUADRANT","RDRQD","QUADRANT","RDRQD","QUADRANT","RDR",null,null,"ROYAL SUSSEX COUNTY HOSPITAL","RSCH ITU Ward - Level 7 Thomas Kemp Tower"]
[null,null,null,{"$f":"IF(#REF!=\"\",\"\",IF(ISERROR(VLOOKUP(#REF!,$AV$14:$AW$43,2,FALSE)),1,VLOOKUP(#REF!,$AV$14:$AW$43,2,FALSE)))","v":{"$error":"#REF!"}},{"$f":"IF(#REF!=\"\",\"\",IF(ISERROR(VLOOKUP(#REF!,$AV$14:$AW$43,2,FALSE)),1,VLOOKUP(#REF!,$AV$14:$AW$43,2,FALSE)))","v":{"$error":"#REF!"}},null,null,null,null,null,null,null,null,null,null,null,null,null,null,null,null,null,null,null,null,null,null,null,null,null,null,null,null,null,null,null,null,null,null,null,null,null,null,null,null,null,null,null,null,null,null,null,null,null,null,null,null,null,null,null,null,null,null,null,null,null,null,null,null,"RDRQUEEN VICTORIA HOSPITAL","RDR4L","QUEEN VICTORIA HOSPITAL","RDR4L","QUEEN VICTORIA HOSPITAL","RDR",null,null,"ROYAL SUSSEX COUNTY HOSPITAL","Solomon Ward - Barry Building (3rd Floor)"]
[null,null,null,{"$f":"IF(G27=\"\",\"\",IF(ISERROR(VLOOKUP(G27,$AV$14:$AW$43,2,FALSE)),1,VLOOKUP(G27,$AV$14:$AW$43,2,FALSE)))","v":1},{"$f":"IF(H27=\"\",\"\",IF(ISERROR(VLOOKUP(H27,$AV$14:$AW$43,2,FALSE)),1,VLOOKUP(H27,$AV$14:$AW$43,2,FALSE)))","v":""},null,null,null,null,null,null,null,null,null,null,null,null,null,null,null,null,null,null,null,null,null,null,null,null,null,null,null,null,null,null,null,null,null,null,null,null,null,null,null,null,null,null,null,null,null,null,null,null,null,null,null,null,null,null,null,null,null,null,null,null,null,null,null,null,"RDRRHEUMATOLOGY","RDRWR","RHEUMATOLOGY","RDRWR","RHEUMATOLOGY","RDR",null,null,"ROYAL SUSSEX COUNTY HOSPITAL","Trafford Ward - Level 9 Sussex Kidney Centre"]
[null,null,null,1,"",null,null,null,null,null,null,null,null,null,null,null,null,null,null,null,null,null,null,null,null,null,null,null,null,null,null,null,null,null,null,null,null,null,null,null,null,null,null,null,null,null,null,null,null,null,null,null,null,null,null,null,null,null,null,null,null,null,null,null,null,null,null,null,null,"RDRRHEUMATOLOGY VALE","RDRRV","RHEUMATOLOGY VALE","RDRRV","RHEUMATOLOGY VALE","RDR",null,null,"ROYAL SUSSEX COUNTY HOSPITAL","Vallance Ward - Barry Building (1st Floor)"]
[null,null,null,0,"",null,null,null,null,null,null,null,null,null,null,null,null,null,null,null,null,null,null,null,null,null,null,null,null,null,null,null,null,null,null,null,null,null,null,null,null,null,null,null,null,null,null,null,null,null,null,null,null,null,null,null,null,null,null,null,null,null,null,null,null,null,null,null,null,"RDRROYAL ALEXANDRA","RDRRA","ROYAL ALEXANDRA","RDRRA","ROYAL ALEXANDRA","RDR",null,null,"THE ROYAL ALEXANDRA CHILDREN'S HOSPITAL","RACH High Dependancy Unit HDU- Level 8"]
[null,null,null,1,"",null,null,null,null,null,null,null,null,null,null,null,null,null,null,null,null,null,null,null,null,null,null,null,null,null,null,null,null,null,null,null,null,null,null,null,null,null,null,null,null,null,null,null,null,null,null,null,null,null,null,null,null,null,null,null,null,null,null,null,null,null,null,null,null,"RDRSALVINGTON LODGE","RDR1H","SALVINGTON LODGE","RDR1H","SALVINGTON LODGE","RDR",null,null,"THE ROYAL ALEXANDRA CHILDREN'S HOSPITAL","RACH Medical Ward - Level 9"]
[null,null,null,1,"",null,null,null,null,null,null,null,null,null,null,null,null,null,null,null,null,null,null,null,null,null,null,null,null,null,null,null,null,null,null,null,null,null,null,null,null,null,null,null,null,null,null,null,null,null,null,null,null,null,null,null,null,null,null,null,null,null,null,null,null,null,null,null,null,"RDRSOUTHLANDS HOSPITAL","RDR1X","SOUTHLANDS HOSPITAL","RDR1X","SOUTHLANDS HOSPITAL","RDR",null,null,"THE ROYAL ALEXANDRA CHILDREN'S HOSPITAL","RACH Surgical Ward - Level 8"]
[null,null,null,1,"",null,null,null,null,null,null,null,null,null,null,null,null,null,null,null,null,null,null,null,null,null,null,null,null,null,null,null,null,null,null,null,null,null,null,null,null,null,null,null,null,null,null,null,null,null,null,null,null,null,null,null,null,null,null,null,null,null,null,null,null,null,null,null,null,"RDRSOUTHPOINT","RDRSP","SOUTHPOINT","RDRSP","SOUTHPOINT","RDR",null,null,"THE ROYAL ALEXANDRA CHILDREN'S HOSPITAL","RSCH Trevor Mann Baby Unit L14 Thomas Kemp Tower"]
[null,null,null,1,"",null,null,null,null,null,null,null,null,null,null,null,null,null,null,null,null,null,null,null,null,null,null,null,null,null,null,null,null,null,null,null,null,null,null,null,null,null,null,null,null,null,null,null,null,null,null,null,null,null,null,null,null,null,null,null,null,null,null,null,null,null,null,null,null,"RDRST RICHARDS HOSPITAL","RDR2M","ST RICHARDS HOSPITAL","RDR2M","ST RICHARDS HOSPITAL","RDR",null,null,"THE ROYAL ALEXANDRA CHILDREN'S HOSPITAL","Special Care Baby Unit PRH"]
[null,null,null,1,"",null,null,null,null,null,null,null,null,null,null,null,null,null,null,null,null,null,null,null,null,null,null,null,null,null,null,null,null,null,null,null,null,null,null,null,null,null,null,null,null,null,null,null,null,null,null,null,null,null,null,null,null,null,null,null,null,null,null,null,null,null,null,null,null,"RDRTHE ASHINGTON VILLAGE SPORTS PAVILION","RDR4P","THE ASHINGTON VILLAGE SPORTS PAVILION","RDR4P","THE ASHINGTON VILLAGE SPORTS PAVILION","RDR",null,null,"Amersham Hospital","Bucks Neuro Rehab"]
[null,null,null,1,"",null,null,null,null,null,null,null,null,null,null,null,null,null,null,null,null,null,null,null,null,null,null,null,null,null,null,null,null,null,null,null,null,null,null,null,null,null,null,null,null,null,null,null,null,null,null,null,null,null,null,null,null,null,null,null,null,null,null,null,null,null,null,null,null,"RDRTHE CHERRIES","RDR2K","THE CHERRIES","RDR2K","THE CHERRIES","RDR",null,null,"Amersham Hospital","Chartridge"]
[null,null,null,1,"",null,null,null,null,null,null,null,null,null,null,null,null,null,null,null,null,null,null,null,null,null,null,null,null,null,null,null,null,null,null,null,null,null,null,null,null,null,null,null,null,null,null,null,null,null,null,null,null,null,null,null,null,null,null,null,null,null,null,null,null,null,null,null,null,"RDRTHE KLEINWORT CENTRE","RDR4C","THE KLEINWORT CENTRE","RDR4C","THE KLEINWORT CENTRE","RDR",null,null,"Amersham Hospital","Waterside"]
[null,null,null,1,"",null,null,null,null,null,null,null,null,null,null,null,null,null,null,null,null,null,null,null,null,null,null,null,null,null,null,null,null,null,null,null,null,null,null,null,null,null,null,null,null,null,null,null,null,null,null,null,null,null,null,null,null,null,null,null,null,null,null,null,null,null,null,null,null,"RDRTHE MARTLETS","RDRMT","THE MARTLETS","RDRMT","THE MARTLETS","RDR",null,null,"Buckingham Hospital","Buckingham"]
[null,null,null,1,"",null,null,null,null,null,null,null,null,null,null,null,null,null,null,null,null,null,null,null,null,null,null,null,null,null,null,null,null,null,null,null,null,null,null,null,null,null,null,null,null,null,null,null,null,null,null,null,null,null,null,null,null,null,null,null,null,null,null,null,null,null,null,null,null,"RDRTHE OLD MARKET","RDR25","THE OLD MARKET","RDR25","THE OLD MARKET","RDR",null,null,"Florence Nightingale Hospice","Florence Nightingale"]
[null,null,null,1,"",null,null,null,null,null,null,null,null,null,null,null,null,null,null,null,null,null,null,null,null,null,null,null,null,null,null,null,null,null,null,null,null,null,null,null,null,null,null,null,null,null,null,null,null,null,null,null,null,null,null,null,null,null,null,null,null,null,null,null,null,null,null,null,null,"RDRTHE PEARSON UNIT","RDRPE","THE PEARSON UNIT","RDRPE","THE PEARSON UNIT","RDR",null,null,"Stoke Mandeville Hospital","SM Birth Centre"]
[null,null,null,1,"",null,null,null,null,null,null,null,null,null,null,null,null,null,null,null,null,null,null,null,null,null,null,null,null,null,null,null,null,null,null,null,null,null,null,null,null,null,null,null,null,null,null,null,null,null,null,null,null,null,null,null,null,null,null,null,null,null,null,null,null,null,null,null,null,"RDRTHE ROWANS","RDRRW","THE ROWANS","RDRRW","THE ROWANS","RDR",null,null,"Stoke Mandeville Hospital","SM Burns Unit"]
[null,null,null,1,"",null,null,null,null,null,null,null,null,null,null,null,null,null,null,null,null,null,null,null,null,null,null,null,null,null,null,null,null,null,null,null,null,null,null,null,null,null,null,null,null,null,null,null,null,null,null,null,null,null,null,null,null,null,null,null,null,null,null,null,null,null,null,null,null,"RDRUCKFIELDS HOSPITAL","RDRHA","UCKFIELDS HOSPITAL","RDRHA","UCKFIELDS HOSPITAL","RDR",null,null,"Stoke Mandeville Hospital","SM ITU"]
[null,null,null,1,"",null,null,null,null,null,null,null,null,null,null,null,null,null,null,null,null,null,null,null,null,null,null,null,null,null,null,null,null,null,null,null,null,null,null,null,null,null,null,null,null,null,null,null,null,null,null,null,null,null,null,null,null,null,null,null,null,null,null,null,null,null,null,null,null,"RDRWORTHING HOSPITAL","RDR1D","WORTHING HOSPITAL","RDR1D","WORTHING HOSPITAL","RDR",null,null,"Stoke Mandeville Hospital","SM Labour Ward"]
[null,null,null,{"$f":"IF(#REF!=\"\",\"\",IF(ISERROR(VLOOKUP(#REF!,$AV$14:$AW$43,2,FALSE)),1,VLOOKUP(#REF!,$AV$14:$AW$43,2,FALSE)))","v":{"$error":"#REF!"}},{"$f":"IF(#REF!=\"\",\"\",IF(ISERROR(VLOOKUP(#REF!,$AV$14:$AW$43,2,FALSE)),1,VLOOKUP(#REF!,$AV$14:$AW$43,2,FALSE)))","v":{"$error":"#REF!"}},null,null,null,null,null,null,null,null,null,null,null,null,null,null,null,null,null,null,null,null,null,null,null,null,null,null,null,null,null,null,null,null,null,null,null,null,null,null,null,null,null,null,null,null,null,null,null,null,null,null,null,null,null,null,null,null,null,null,null,null,null,null,null,null,"RDRZACHARY MERTON HOSPITAL","RDR1L","ZACHARY MERTON HOSPITAL","RDR1L","ZACHARY MERTON HOSPITAL","RDR",null,null,"Stoke Mandeville Hospital","SM NNU"]
[null,null,null,{"$f":"IF(G46=\"\",\"\",IF(ISERROR(VLOOKUP(G46,$AV$14:$AW$43,2,FALSE)),1,VLOOKUP(G46,$AV$14:$AW$43,2,FALSE)))","v":""},{"$f":"IF(H46=\"\",\"\",IF(ISERROR(VLOOKUP(H46,$AV$14:$AW$43,2,FALSE)),1,VLOOKUP(H46,$AV$14:$AW$43,2,FALSE)))","v":""},null,null,null,null,null,null,null,null,null,null,null,null,null,null,null,null,null,null,null,null,null,null,null,null,null,null,null,null,null,null,null,null,null,null,null,null,null,null,null,null,null,null,null,null,null,null,null,null,null,null,null,null,null,null,null,null,null,null,null,null,null,null,null,null,"RDU GREAT HOLLANDS","RDU61"," GREAT HOLLANDS","RDU61"," GREAT HOLLANDS","RDU",null,null,"Stoke Mandeville Hospital","SM Rothschild"]
[null,null,null,{"$f":"IF(#REF!=\"\",\"\",IF(ISERROR(VLOOKUP(#REF!,$AV$14:$AW$43,2,FALSE)),1,VLOOKUP(#REF!,$AV$14:$AW$43,2,FALSE)))","v":{"$error":"#REF!"}},{"$f":"IF(#REF!=\"\",\"\",IF(ISERROR(VLOOKUP(#REF!,$AV$14:$AW$43,2,FALSE)),1,VLOOKUP(#REF!,$AV$14:$AW$43,2,FALSE)))","v":{"$error":"#REF!"}},null,null,null,null,null,null,null,null,null,null,null,null,null,null,null,null,null,null,null,null,null,null,null,null,null,null,null,null,null,null,null,null,null,null,null,null,null,null,null,null,null,null,null,null,null,null,null,null,null,null,null,null,null,null,null,null,null,null,null,null,null,null,null,null,"RDU PAUL BEVAN HOUSE (THAMES HOSPICE CARE)","RDU58"," PAUL BEVAN HOUSE (THAMES HOSPICE CARE)","RDU58"," PAUL BEVAN HOUSE (THAMES HOSPICE CARE)","RDU",null,null,"Stoke Mandeville Hospital","SM St Andrew & St Patrick"]
[null,null,null,{"$f":"IF(#REF!=\"\",\"\",IF(ISERROR(VLOOKUP(#REF!,$AV$14:$AW$43,2,FALSE)),1,VLOOKUP(#REF!,$AV$14:$AW$43,2,FALSE)))","v":{"$error":"#REF!"}},{"$f":"IF(#REF!=\"\",\"\",IF(ISERROR(VLOOKUP(#REF!,$AV$14:$AW$43,2,FALSE)),1,VLOOKUP(#REF!,$AV$14:$AW$43,2,FALSE)))","v":{"$error":"#REF!"}},null,null,null,null,null,null,null,null,null,null,null,null,null,null,null,null,null,null,null,null,null,null,null,null,null,null,null,null,null,null,null,null,null,null,null,null,null,null,null,null,null,null,null,null,null,null,null,null,null,null,null,null,null,null,null,null,null,null,null,null,null,null,null,null,"RDUALDERSHOT NHS OUTPATIENTS","RDU04","ALDERSHOT NHS OUTPATIENTS","RDU04","ALDERSHOT NHS OUTPATIENTS","RDU",null,null,"Stoke Mandeville Hospital","SM St David"]
[null,null,null,{"$f":"IF(#REF!=\"\",\"\",IF(ISERROR(VLOOKUP(#REF!,$AV$14:$AW$43,2,FALSE)),1,VLOOKUP(#REF!,$AV$14:$AW$43,2,FALSE)))","v":{"$error":"#REF!"}},{"$f":"IF(#REF!=\"\",\"\",IF(ISERROR(VLOOKUP(#REF!,$AV$14:$AW$43,2,FALSE)),1,VLOOKUP(#REF!,$AV$14:$AW$43,2,FALSE)))","v":{"$error":"#REF!"}},null,null,null,null,null,null,null,null,null,null,null,null,null,null,null,null,null,null,null,null,null,null,null,null,null,null,null,null,null,null,null,null,null,null,null,null,null,null,null,null,null,null,null,null,null,null,null,null,null,null,null,null,null,null,null,null,null,null,null,null,null,null,null,null,"RDUBERKSHIRE INDEPENDENT HOSPITAL","RDU17","BERKSHIRE INDEPENDENT HOSPITAL","RDU17","BERKSHIRE INDEPENDENT HOSPITAL","RDU",null,null,"Stoke Mandeville Hospital","SM St Francis"]
[null,null,null,{"$f":"IF(#REF!=\"\",\"\",IF(ISERROR(VLOOKUP(#REF!,$AV$14:$AW$43,2,FALSE)),1,VLOOKUP(#REF!,$AV$14:$AW$43,2,FALSE)))","v":{"$error":"#REF!"}},{"$f":"IF(#REF!=\"\",\"\",IF(ISERROR(VLOOKUP(#REF!,$AV$14:$AW$43,2,FALSE)),1,VLOOKUP(#REF!,$AV$14:$AW$43,2,FALSE)))","v":{"$error":"#REF!"}},null,null,null,null,null,null,null,null,null,null,null,null,null,null,null,null,null,null,null,null,null,null,null,null,null,null,null,null,null,null,null,null,null,null,null,null,null,null,null,null,null,null,null,null,null,null,null,null,null,null,null,null,null,null,null,null,null,null,null,null,null,null,null,null,"RDUCHALFONT'S & GERRARDS CROSS HOSPITAL","RDU63","CHALFONT'S & GERRARDS CROSS HOSPITAL","RDU63","CHALFONT'S & GERRARDS CROSS HOSPITAL","RDU",null,null,"Stoke Mandeville Hospital","SM St George"]
[null,null,null,{"$f":"IF(#REF!=\"\",\"\",IF(ISERROR(VLOOKUP(#REF!,$AV$14:$AW$43,2,FALSE)),1,VLOOKUP(#REF!,$AV$14:$AW$43,2,FALSE)))","v":{"$error":"#REF!"}},{"$f":"IF(#REF!=\"\",\"\",IF(ISERROR(VLOOKUP(#REF!,$AV$14:$AW$43,2,FALSE)),1,VLOOKUP(#REF!,$AV$14:$AW$43,2,FALSE)))","v":{"$error":"#REF!"}},null,null,null,null,null,null,null,null,null,null,null,null,null,null,null,null,null,null,null,null,null,null,null,null,null,null,null,null,null,null,null,null,null,null,null,null,null,null,null,null,null,null,null,null,null,null,null,null,null,null,null,null,null,null,null,null,null,null,null,null,null,null,null,null,"RDUDUNEDIN HOSPITAL","RDU18","DUNEDIN HOSPITAL","RDU18","DUNEDIN HOSPITAL","RDU",null,null,"Stoke Mandeville Hospital","SM Ward 1 & 2"]
[null,null,null,{"$f":"IF(#REF!=\"\",\"\",IF(ISERROR(VLOOKUP(#REF!,$AV$14:$AW$43,2,FALSE)),1,VLOOKUP(#REF!,$AV$14:$AW$43,2,FALSE)))","v":{"$error":"#REF!"}},{"$f":"IF(#REF!=\"\",\"\",IF(ISERROR(VLOOKUP(#REF!,$AV$14:$AW$43,2,FALSE)),1,VLOOKUP(#REF!,$AV$14:$AW$43,2,FALSE)))","v":{"$error":"#REF!"}},null,null,null,null,null,null,null,null,null,null,null,null,null,null,null,null,null,null,null,null,null,null,null,null,null,null,null,null,null,null,null,null,null,null,null,null,null,null,null,null,null,null,null,null,null,null,null,null,null,null,null,null,null,null,null,null,null,null,null,null,null,null,null,null,"RDUFLEET HOSPITAL OUTPATIENTS DEPARTMENT","RDU03","FLEET HOSPITAL OUTPATIENTS DEPARTMENT","RDU03","FLEET HOSPITAL OUTPATIENTS DEPARTMENT","RDU",null,null,"Stoke Mandeville Hospital","SM Ward 16b"]
[null,null,null,{"$f":"IF(#REF!=\"\",\"\",IF(ISERROR(VLOOKUP(#REF!,$AV$14:$AW$43,2,FALSE)),1,VLOOKUP(#REF!,$AV$14:$AW$43,2,FALSE)))","v":{"$error":"#REF!"}},{"$f":"IF(#REF!=\"\",\"\",IF(ISERROR(VLOOKUP(#REF!,$AV$14:$AW$43,2,FALSE)),1,VLOOKUP(#REF!,$AV$14:$AW$43,2,FALSE)))","v":{"$error":"#REF!"}},null,null,null,null,null,null,null,null,null,null,null,null,null,null,null,null,null,null,null,null,null,null,null,null,null,null,null,null,null,null,null,null,null,null,null,null,null,null,null,null,null,null,null,null,null,null,null,null,null,null,null,null,null,null,null,null,null,null,null,null,null,null,null,null,"RDYBLANDFORD ENT","RDYJA","BLANDFORD ENT","RDYJA","BLANDFORD ENT","RDY",null,null,"CALDERDALE ROYAL HOSPITAL","WARD 4ABD"]
[null,null,null,{"$f":"IF(#REF!=\"\",\"\",IF(ISERROR(VLOOKUP(#REF!,$AV$14:$AW$43,2,FALSE)),1,VLOOKUP(#REF!,$AV$14:$AW$43,2,FALSE)))","v":{"$error":"#REF!"}},{"$f":"IF(#REF!=\"\",\"\",IF(ISERROR(VLOOKUP(#REF!,$AV$14:$AW$43,2,FALSE)),1,VLOOKUP(#REF!,$AV$14:$AW$43,2,FALSE)))","v":{"$error":"#REF!"}},null,null,null,null,null,null,null,null,null,null,null,null,null,null,null,null,null,null,null,null,null,null,null,null,null,null,null,null,null,null,null,null,null,null,null,null,null,null,null,null,null,null,null,null,null,null,null,null,null,null,null,null,null,null,null,null,null,null,null,null,null,null,null,null,"RDYBRIDPORT HOSPITAL THEATRE","RDYKQ","BRIDPORT HOSPITAL THEATRE","RDYKQ","BRIDPORT HOSPITAL THEATRE","RDY",null,null,"CALDERDALE ROYAL HOSPITAL","WARD LDRP"]
[null,null,null,{"$f":"IF(#REF!=\"\",\"\",IF(ISERROR(VLOOKUP(#REF!,$AV$14:$AW$43,2,FALSE)),1,VLOOKUP(#REF!,$AV$14:$AW$43,2,FALSE)))","v":{"$error":"#REF!"}},{"$f":"IF(#REF!=\"\",\"\",IF(ISERROR(VLOOKUP(#REF!,$AV$14:$AW$43,2,FALSE)),1,VLOOKUP(#REF!,$AV$14:$AW$43,2,FALSE)))","v":{"$error":"#REF!"}},null,null,null,null,null,null,null,null,null,null,null,null,null,null,null,null,null,null,null,null,null,null,null,null,null,null,null,null,null,null,null,null,null,null,null,null,null,null,null,null,null,null,null,null,null,null,null,null,null,null,null,null,null,null,null,null,null,null,null,null,null,null,null,null,"RDYDORCHESTER MINTERNE WARD","RDYHE","DORCHESTER MINTERNE WARD","RDYHE","DORCHESTER MINTERNE WARD","RDY",null,null,"HUDDERSFIELD ROYAL INFIRMARY","WARD 20"]
[null,null,null,{"$f":"IF(#REF!=\"\",\"\",IF(ISERROR(VLOOKUP(#REF!,$AV$14:$AW$43,2,FALSE)),1,VLOOKUP(#REF!,$AV$14:$AW$43,2,FALSE)))","v":{"$error":"#REF!"}},{"$f":"IF(#REF!=\"\",\"\",IF(ISERROR(VLOOKUP(#REF!,$AV$14:$AW$43,2,FALSE)),1,VLOOKUP(#REF!,$AV$14:$AW$43,2,FALSE)))","v":{"$error":"#REF!"}},null,null,null,null,null,null,null,null,null,null,null,null,null,null,null,null,null,null,null,null,null,null,null,null,null,null,null,null,null,null,null,null,null,null,null,null,null,null,null,null,null,null,null,null,null,null,null,null,null,null,null,null,null,null,null,null,null,null,null,null,null,null,null,null,"RDYINPATIENT EMERGENCY - ALDERNEY","RDYAL","INPATIENT EMERGENCY - ALDERNEY","RDYAL","INPATIENT EMERGENCY - ALDERNEY","RDY",null,null,"ADDENBROOKE'S HOSPITAL","A5"]
[null,null,null,{"$f":"IF(#REF!=\"\",\"\",IF(ISERROR(VLOOKUP(#REF!,$AV$14:$AW$43,2,FALSE)),1,VLOOKUP(#REF!,$AV$14:$AW$43,2,FALSE)))","v":{"$error":"#REF!"}},{"$f":"IF(#REF!=\"\",\"\",IF(ISERROR(VLOOKUP(#REF!,$AV$14:$AW$43,2,FALSE)),1,VLOOKUP(#REF!,$AV$14:$AW$43,2,FALSE)))","v":{"$error":"#REF!"}},null,null,null,null,null,null,null,null,null,null,null,null,null,null,null,null,null,null,null,null,null,null,null,null,null,null,null,null,null,null,null,null,null,null,null,null,null,null,null,null,null,null,null,null,null,null,null,null,null,null,null,null,null,null,null,null,null,null,null,null,null,null,null,null,"RDYLADDERS YAC","RDYGD","LADDERS YAC","RDYGD","LADDERS YAC","RDY",null,null,"ADDENBROOKE'S HOSPITAL","C9"]
[null,null,null,{"$f":"IF(#REF!=\"\",\"\",IF(ISERROR(VLOOKUP(#REF!,$AV$14:$AW$43,2,FALSE)),1,VLOOKUP(#REF!,$AV$14:$AW$43,2,FALSE)))","v":{"$error":"#REF!"}},{"$f":"IF(#REF!=\"\",\"\",IF(ISERROR(VLOOKUP(#REF!,$AV$14:$AW$43,2,FALSE)),1,VLOOKUP(#REF!,$AV$14:$AW$43,2,FALSE)))","v":{"$error":"#REF!"}},null,null,null,null,null,null,null,null,null,null,null,null,null,null,null,null,null,null,null,null,null,null,null,null,null,null,null,null,null,null,null,null,null,null,null,null,null,null,null,null,null,null,null,null,null,null,null,null,null,null,null,null,null,null,null,null,null,null,null,null,null,null,null,null,"RDYPSYCHOLOGICAL THERAPIES HAMBLE","RDYKD","PSYCHOLOGICAL THERAPIES HAMBLE","RDYKD","PSYCHOLOGICAL THERAPIES HAMBLE","RDY",null,null,"ADDENBROOKE'S HOSPITAL","F4"]
[null,null,null,{"$f":"IF(#REF!=\"\",\"\",IF(ISERROR(VLOOKUP(#REF!,$AV$14:$AW$43,2,FALSE)),1,VLOOKUP(#REF!,$AV$14:$AW$43,2,FALSE)))","v":{"$error":"#REF!"}},{"$f":"IF(#REF!=\"\",\"\",IF(ISERROR(VLOOKUP(#REF!,$AV$14:$AW$43,2,FALSE)),1,VLOOKUP(#REF!,$AV$14:$AW$43,2,FALSE)))","v":{"$error":"#REF!"}},null,null,null,null,null,null,null,null,null,null,null,null,null,null,null,null,null,null,null,null,null,null,null,null,null,null,null,null,null,null,null,null,null,null,null,null,null,null,null,null,null,null,null,null,null,null,null,null,null,null,null,null,null,null,null,null,null,null,null,null,null,null,null,null,"RDYST GABRIELS","RDY30","ST GABRIELS","RDY30","ST GABRIELS","RDY",null,null,"ADDENBROOKE'S HOSPITAL","K3 CCU"]
[null,null,null,{"$f":"IF(#REF!=\"\",\"\",IF(ISERROR(VLOOKUP(#REF!,$AV$14:$AW$43,2,FALSE)),1,VLOOKUP(#REF!,$AV$14:$AW$43,2,FALSE)))","v":{"$error":"#REF!"}},{"$f":"IF(#REF!=\"\",\"\",IF(ISERROR(VLOOKUP(#REF!,$AV$14:$AW$43,2,FALSE)),1,VLOOKUP(#REF!,$AV$14:$AW$43,2,FALSE)))","v":{"$error":"#REF!"}},null,null,null,null,null,null,null,null,null,null,null,null,null,null,null,null,null,null,null,null,null,null,null,null,null,null,null,null,null,null,null,null,null,null,null,null,null,null,null,null,null,null,null,null,null,null,null,null,null,null,null,null,null,null,null,null,null,null,null,null,null,null,null,null,"RDYTHE GLENDENNING UNIT","RDYPC","THE GLENDENNING UNIT","RDYPC","THE GLENDENNING UNIT","RDY",null,null,"ADDENBROOKE'S HOSPITAL","NCCU"]
[null,null,null,{"$f":"IF(#REF!=\"\",\"\",IF(ISERROR(VLOOKUP(#REF!,$AV$14:$AW$43,2,FALSE)),1,VLOOKUP(#REF!,$AV$14:$AW$43,2,FALSE)))","v":{"$error":"#REF!"}},{"$f":"IF(#REF!=\"\",\"\",IF(ISERROR(VLOOKUP(#REF!,$AV$14:$AW$43,2,FALSE)),1,VLOOKUP(#REF!,$AV$14:$AW$43,2,FALSE)))","v":{"$error":"#REF!"}},null,null,null,null,null,null,null,null,null,null,null,null,null,null,null,null,null,null,null,null,null,null,null,null,null,null,null,null,null,null,null,null,null,null,null,null,null,null,null,null,null,null,null,null,null,null,null,null,null,null,null,null,null,null,null,null,null,null,null,null,null,null,null,null,"RDZCHRISTCHURCH HOSPITAL","RDZ05","CHRISTCHURCH HOSPITAL","RDZ05","CHRISTCHURCH HOSPITAL","RDZ",null,null,"INTERMEDIATE CARE UNIT","Intermediate Care Unit"]
[null,null,null,{"$f":"IF(#REF!=\"\",\"\",IF(ISERROR(VLOOKUP(#REF!,$AV$14:$AW$43,2,FALSE)),1,VLOOKUP(#REF!,$AV$14:$AW$43,2,FALSE)))","v":{"$error":"#REF!"}},{"$f":"IF(#REF!=\"\",\"\",IF(ISERROR(VLOOKUP(#REF!,$AV$14:$AW$43,2,FALSE)),1,VLOOKUP(#REF!,$AV$14:$AW$43,2,FALSE)))","v":{"$error":"#REF!"}},null,null,null,null,null,null,null,null,null,null,null,null,null,null,null,null,null,null,null,null,null,null,null,null,null,null,null,null,null,null,null,null,null,null,null,null,null,null,null,null,null,null,null,null,null,null,null,null,null,null,null,null,null,null,null,null,null,null,null,null,null,null,null,null,"RE9MONKTON HALL HOSPITAL","RE906","MONKTON HALL HOSPITAL","RE906","MONKTON HALL HOSPITAL","RE9",null,null,"PETERBOROUGH DISTRICT HOSPITAL","PICU"]
[null,null,null,{"$f":"IF(#REF!=\"\",\"\",IF(ISERROR(VLOOKUP(#REF!,$AV$14:$AW$43,2,FALSE)),1,VLOOKUP(#REF!,$AV$14:$AW$43,2,FALSE)))","v":{"$error":"#REF!"}},{"$f":"IF(#REF!=\"\",\"\",IF(ISERROR(VLOOKUP(#REF!,$AV$14:$AW$43,2,FALSE)),1,VLOOKUP(#REF!,$AV$14:$AW$43,2,FALSE)))","v":{"$error":"#REF!"}},null,null,null,null,null,null,null,null,null,null,null,null,null,null,null,null,null,null,null,null,null,null,null,null,null,null,null,null,null,null,null,null,null,null,null,null,null,null,null,null,null,null,null,null,null,null,null,null,null,null,null,null,null,null,null,null,null,null,null,null,null,null,null,null,"RE9ST BENEDICT'S HOSPICE","RE922","ST BENEDICT'S HOSPICE","RE922","ST BENEDICT'S HOSPICE","RE9",null,null,"HIGHGATE ACUTE MENTAL HEALTH CENTRE","Jade Ward"]
[null,null,null,{"$f":"IF(#REF!=\"\",\"\",IF(ISERROR(VLOOKUP(#REF!,$AV$14:$AW$43,2,FALSE)),1,VLOOKUP(#REF!,$AV$14:$AW$43,2,FALSE)))","v":{"$error":"#REF!"}},{"$f":"IF(#REF!=\"\",\"\",IF(ISERROR(VLOOKUP(#REF!,$AV$14:$AW$43,2,FALSE)),1,VLOOKUP(#REF!,$AV$14:$AW$43,2,FALSE)))","v":{"$error":"#REF!"}},null,null,null,null,null,null,null,null,null,null,null,null,null,null,null,null,null,null,null,null,null,null,null,null,null,null,null,null,null,null,null,null,null,null,null,null,null,null,null,null,null,null,null,null,null,null,null,null,null,null,null,null,null,null,null,null,null,null,null,null,null,null,null,null,"RENCLATTERBRIDGE CANCER CENTRE LIVERPOOL","REN21","CLATTERBRIDGE CANCER CENTRE LIVERPOOL","REN21","CLATTERBRIDGE CANCER CENTRE LIVERPOOL","REN",null,null,"  KINGSBURY CHILD & FAMILY CENTRE","Preston House"]
[null,null,null,{"$f":"IF(#REF!=\"\",\"\",IF(ISERROR(VLOOKUP(#REF!,$AV$14:$AW$43,2,FALSE)),1,VLOOKUP(#REF!,$AV$14:$AW$43,2,FALSE)))","v":{"$error":"#REF!"}},{"$f":"IF(#REF!=\"\",\"\",IF(ISERROR(VLOOKUP(#REF!,$AV$14:$AW$43,2,FALSE)),1,VLOOKUP(#REF!,$AV$14:$AW$43,2,FALSE)))","v":{"$error":"#REF!"}},null,null,null,null,null,null,null,null,null,null,null,null,null,null,null,null,null,null,null,null,null,null,null,null,null,null,null,null,null,null,null,null,null,null,null,null,null,null,null,null,null,null,null,null,null,null,null,null,null,null,null,null,null,null,null,null,null,null,null,null,null,null,null,null,"RF4QUEEN'S HOSPITAL","RF4QH","QUEEN'S HOSPITAL","RF4QH","QUEEN'S HOSPITAL","RF4",null,null,"  ROSEDALE COURT","Rosedale Court"]
[null,null,null,null,null,null,null,null,null,null,null,null,null,null,null,null,null,null,null,null,null,null,null,null,null,null,null,null,null,null,null,null,null,null,null,null,null,null,null,null,null,null,null,null,null,null,null,null,null,null,null,null,null,null,null,null,null,null,null,null,null,null,null,null,null,null,null,null,null,"RGDASKET CROFT","RGD10","ASKET CROFT","RGD10","ASKET CROFT","RGD",null,null,"HORTON HAVEN","Birch Villa"]
[null,null,null,null,null,null,null,null,null,null,null,null,null,null,null,null,null,null,null,null,null,null,null,null,null,null,null,null,null,null,null,null,null,null,null,null,null,null,null,null,null,null,null,null,null,null,null,null,null,null,null,null,null,null,null,null,null,null,null,null,null,null,null,null,null,null,null,null,null,"RGDLEEDS GENERAL INFIRMARY","RGD03","LEEDS GENERAL INFIRMARY","RGD03","LEEDS GENERAL INFIRMARY","RGD",null,null,"ST PANCRAS HOSPITAL","Rochester East"]
[null,null,null,null,null,null,null,null,null,null,null,null,null,null,null,null,null,null,null,null,null,null,null,null,null,null,null,null,null,null,null,null,null,null,null,null,null,null,null,null,null,null,null,null,null,null,null,null,null,null,null,null,null,null,null,null,null,null,null,null,null,null,null,null,null,null,null,null,null,"RGDMH IN-REACH (ASKHAM)","RGDV1","MH IN-REACH (ASKHAM)","RGDV1","MH IN-REACH (ASKHAM)","RGD",null,null,"TOPAS","Topas"]
[null,null,null,null,null,null,null,null,null,null,null,null,null,null,null,null,null,null,null,null,null,null,null,null,null,null,null,null,null,null,null,null,null,null,null,null,null,null,null,null,null,null,null,null,null,null,null,null,null,null,null,null,null,null,null,null,null,null,null,null,null,null,null,null,null,null,null,null,null,"RGDST JAMES'S UNIVERSITY HOSPITAL","RGD12","ST JAMES'S UNIVERSITY HOSPITAL","RGD12","ST JAMES'S UNIVERSITY HOSPITAL","RGD",null,null,"CHELSEA AND WESTMINSTER HOSPITAL - RQM01","Nell Gwynne"]
[null,null,null,null,null,null,null,null,null,null,null,null,null,null,null,null,null,null,null,null,null,null,null,null,null,null,null,null,null,null,null,null,null,null,null,null,null,null,null,null,null,null,null,null,null,null,null,null,null,null,null,null,null,null,null,null,null,null,null,null,null,null,null,null,null,null,null,null,null,"RGDWHITBY HOSPITAL","RGDVW","WHITBY HOSPITAL","RGDVW","WHITBY HOSPITAL","RGD",null,null,"WEST MIDDLESEX UNIVERSITY HOSPITAL","ITU"]
[null,null,null,null,null,null,null,null,null,null,null,null,null,null,null,null,null,null,null,null,null,null,null,null,null,null,null,null,null,null,null,null,null,null,null,null,null,null,null,null,null,null,null,null,null,null,null,null,null,null,null,null,null,null,null,null,null,null,null,null,null,null,null,null,null,null,null,null,null,"RGPLOWESTOFT HOSPITAL","RGP72","LOWESTOFT HOSPITAL","RGP72","LOWESTOFT HOSPITAL","RGP",null,null,"WEST MIDDLESEX UNIVERSITY HOSPITAL","Syon 1"]
[null,null,null,null,null,null,null,null,null,null,null,null,null,null,null,null,null,null,null,null,null,null,null,null,null,null,null,null,null,null,null,null,null,null,null,null,null,null,null,null,null,null,null,null,null,null,null,null,null,null,null,null,null,null,null,null,null,null,null,null,null,null,null,null,null,null,null,null,null,"RGRTHINGOE HOUSE","RGR99","THINGOE HOUSE","RGR99","THINGOE HOUSE","RGR",null,null,"BOWMERE HOSPITAL","Willow PICU"]
[null,null,null,null,null,null,null,null,null,null,null,null,null,null,null,null,null,null,null,null,null,null,null,null,null,null,null,null,null,null,null,null,null,null,null,null,null,null,null,null,null,null,null,null,null,null,null,null,null,null,null,null,null,null,null,null,null,null,null,null,null,null,null,null,null,null,null,null,null,"RH5BURNHAM ON SEA WAR MEMORIAL HOSPITAL","RH5F4","BURNHAM ON SEA WAR MEMORIAL HOSPITAL","RH5F4","BURNHAM ON SEA WAR MEMORIAL HOSPITAL","RH5",null,null,"CHESTERFIELD ROYAL HOSPITAL","ASHOVER"]
[null,null,null,null,null,null,null,null,null,null,null,null,null,null,null,null,null,null,null,null,null,null,null,null,null,null,null,null,null,null,null,null,null,null,null,null,null,null,null,null,null,null,null,null,null,null,null,null,null,null,null,null,null,null,null,null,null,null,null,null,null,null,null,null,null,null,null,null,null,"RH5MINEHEAD COMMUNITY HOSPITAL","RH5F5","MINEHEAD COMMUNITY HOSPITAL","RH5F5","MINEHEAD COMMUNITY HOSPITAL","RH5",null,null,"CHESTERFIELD ROYAL HOSPITAL","MARKHAM"]
[null,null,null,null,null,null,null,null,null,null,null,null,null,null,null,null,null,null,null,null,null,null,null,null,null,null,null,null,null,null,null,null,null,null,null,null,null,null,null,null,null,null,null,null,null,null,null,null,null,null,null,null,null,null,null,null,null,null,null,null,null,null,null,null,null,null,null,null,null,"RH5RYDON","RH536","RYDON","RH536","RYDON","RH5",null,null,"CHESTERFIELD ROYAL HOSPITAL","RIDGEWAY"]
[null,null,null,null,null,null,null,null,null,null,null,null,null,null,null,null,null,null,null,null,null,null,null,null,null,null,null,null,null,null,null,null,null,null,null,null,null,null,null,null,null,null,null,null,null,null,null,null,null,null,null,null,null,null,null,null,null,null,null,null,null,null,null,null,null,null,null,null,null,"RH5WILLOWBANK DAY HOSPITAL","RH5C4","WILLOWBANK DAY HOSPITAL","RH5C4","WILLOWBANK DAY HOSPITAL","RH5",null,null,"INPATIENTS BODMIN","Harvest"]
[null,null,null,null,null,null,null,null,null,null,null,null,null,null,null,null,null,null,null,null,null,null,null,null,null,null,null,null,null,null,null,null,null,null,null,null,null,null,null,null,null,null,null,null,null,null,null,null,null,null,null,null,null,null,null,null,null,null,null,null,null,null,null,null,null,null,null,null,null,"RHABASSETLAW HOSPITAL","RHAAA","BASSETLAW HOSPITAL","RHAAA","BASSETLAW HOSPITAL","RHA",null,null,"COUNTESS OF CHESTER HOSPITAL","Ward 42 Cathedral Ward"]
[null,null,null,null,null,null,null,null,null,null,null,null,null,null,null,null,null,null,null,null,null,null,null,null,null,null,null,null,null,null,null,null,null,null,null,null,null,null,null,null,null,null,null,null,null,null,null,null,null,null,null,null,null,null,null,null,null,null,null,null,null,null,null,null,null,null,null,null,null,"RHABRIDEWELL CUSTODY SUITE","RHAC7","BRIDEWELL CUSTODY SUITE","RHAC7","BRIDEWELL CUSTODY SUITE","RHA",null,null,"COUNTESS OF CHESTER HOSPITAL","Ward 45 Palace Ward"]
[null,null,null,null,null,null,null,null,null,null,null,null,null,null,null,null,null,null,null,null,null,null,null,null,null,null,null,null,null,null,null,null,null,null,null,null,null,null,null,null,null,null,null,null,null,null,null,null,null,null,null,null,null,null,null,null,null,null,null,null,null,null,null,null,null,null,null,null,null,"RHAHEATHCOAT BUILDINGS","RHAFQ","HEATHCOAT BUILDINGS","RHAFQ","HEATHCOAT BUILDINGS","RHA",null,null,"DARLINGTON MEMORIAL HOSPITAL","Critical Care DMH (1619)"]
[null,null,null,null,null,null,null,null,null,null,null,null,null,null,null,null,null,null,null,null,null,null,null,null,null,null,null,null,null,null,null,null,null,null,null,null,null,null,null,null,null,null,null,null,null,null,null,null,null,null,null,null,null,null,null,null,null,null,null,null,null,null,null,null,null,null,null,null,null,"RHAMEDENBANKS","RHAEJ","MEDENBANKS","RHAEJ","MEDENBANKS","RHA",null,null,"DARLINGTON MEMORIAL HOSPITAL","Ward 44 DMH [0208]"]
[null,null,null,null,null,null,null,null,null,null,null,null,null,null,null,null,null,null,null,null,null,null,null,null,null,null,null,null,null,null,null,null,null,null,null,null,null,null,null,null,null,null,null,null,null,null,null,null,null,null,null,null,null,null,null,null,null,null,null,null,null,null,null,null,null,null,null,null,null,"RHANORTH NOTTS LD YP - RX","RHAYP","NORTH NOTTS LD YP - RX","RHAYP","NORTH NOTTS LD YP - RX","RHA",null,null,"UNIVERSITY HOSPITAL OF NORTH DURHAM","Ward 1 UHND (0001)"]
[null,null,null,null,null,null,null,null,null,null,null,null,null,null,null,null,null,null,null,null,null,null,null,null,null,null,null,null,null,null,null,null,null,null,null,null,null,null,null,null,null,null,null,null,null,null,null,null,null,null,null,null,null,null,null,null,null,null,null,null,null,null,null,null,null,null,null,null,null,"RHANORTH NOTTS MHSOP XN-RX","RHAXN","NORTH NOTTS MHSOP XN-RX","RHAXN","NORTH NOTTS MHSOP XN-RX","RHA",null,null,"UNIVERSITY HOSPITAL OF NORTH DURHAM","Ward 2 UHND [0002]"]
[null,null,null,null,null,null,null,null,null,null,null,null,null,null,null,null,null,null,null,null,null,null,null,null,null,null,null,null,null,null,null,null,null,null,null,null,null,null,null,null,null,null,null,null,null,null,null,null,null,null,null,null,null,null,null,null,null,null,null,null,null,null,null,null,null,null,null,null,null,"RHANORTH NOTTS MILLBROOK YT - RX","RHAYT","NORTH NOTTS MILLBROOK YT - RX","RHAYT","NORTH NOTTS MILLBROOK YT - RX","RHA",null,null,"BROOKLANDS HOSPITAL","Malvern Unit"]
[null,null,null,null,null,null,null,null,null,null,null,null,null,null,null,null,null,null,null,null,null,null,null,null,null,null,null,null,null,null,null,null,null,null,null,null,null,null,null,null,null,null,null,null,null,null,null,null,null,null,null,null,null,null,null,null,null,null,null,null,null,null,null,null,null,null,null,null,null,"RHAREES ROW","RHAJ9","REES ROW","RHAJ9","REES ROW","RHA",null,null,"THE CALUDON CENTRE, COVENTRY","Sherbourne"]
[null,null,null,null,null,null,null,null,null,null,null,null,null,null,null,null,null,null,null,null,null,null,null,null,null,null,null,null,null,null,null,null,null,null,null,null,null,null,null,null,null,null,null,null,null,null,null,null,null,null,null,null,null,null,null,null,null,null,null,null,null,null,null,null,null,null,null,null,null,"RHAUNIVERSITY HOSPITAL","RHARA","UNIVERSITY HOSPITAL","RHARA","UNIVERSITY HOSPITAL","RHA",null,null,"CROYDON UNIVERSITY HOSPITAL","Rupert Bear"]
[null,null,null,null,null,null,null,null,null,null,null,null,null,null,null,null,null,null,null,null,null,null,null,null,null,null,null,null,null,null,null,null,null,null,null,null,null,null,null,null,null,null,null,null,null,null,null,null,null,null,null,null,null,null,null,null,null,null,null,null,null,null,null,null,null,null,null,null,null,"RHQBARNSLEY DISTRICT GENERAL HOSPITAL","RHQBN","BARNSLEY DISTRICT GENERAL HOSPITAL","RHQBN","BARNSLEY DISTRICT GENERAL HOSPITAL","RHQ",null,null,"CARLETON CLINIC","Hadrian Unit"]
[null,null,null,null,null,null,null,null,null,null,null,null,null,null,null,null,null,null,null,null,null,null,null,null,null,null,null,null,null,null,null,null,null,null,null,null,null,null,null,null,null,null,null,null,null,null,null,null,null,null,null,null,null,null,null,null,null,null,null,null,null,null,null,null,null,null,null,null,null,"RHUROYAL HOSPITAL HASLAR","RHU59","ROYAL HOSPITAL HASLAR","RHU59","ROYAL HOSPITAL HASLAR","RHU",null,null,"WORKINGTON COMMUNITY HOSPITAL","Workington"]
[null,null,null,null,null,null,null,null,null,null,null,null,null,null,null,null,null,null,null,null,null,null,null,null,null,null,null,null,null,null,null,null,null,null,null,null,null,null,null,null,null,null,null,null,null,null,null,null,null,null,null,null,null,null,null,null,null,null,null,null,null,null,null,null,null,null,null,null,null,"RHWDUCHESS OF KENT HOUSE","RHW27","DUCHESS OF KENT HOUSE","RHW27","DUCHESS OF KENT HOUSE","RHW",null,null,"DARENT VALLEY HOSPITAL","Linden"]
[null,null,null,null,null,null,null,null,null,null,null,null,null,null,null,null,null,null,null,null,null,null,null,null,null,null,null,null,null,null,null,null,null,null,null,null,null,null,null,null,null,null,null,null,null,null,null,null,null,null,null,null,null,null,null,null,null,null,null,null,null,null,null,null,null,null,null,null,null,"RHWWEST BERKSHIRE COMMUNITY HOSPITAL","RHW05","WEST BERKSHIRE COMMUNITY HOSPITAL","RHW05","WEST BERKSHIRE COMMUNITY HOSPITAL","RHW",null,null,"ILKESTON COMMUNITY HOSPITAL","HEANOR MANNERS"]
[null,null,null,null,null,null,null,null,null,null,null,null,null,null,null,null,null,null,null,null,null,null,null,null,null,null,null,null,null,null,null,null,null,null,null,null,null,null,null,null,null,null,null,null,null,null,null,null,null,null,null,null,null,null,null,null,null,null,null,null,null,null,null,null,null,null,null,null,null,"RHWWOKINGHAM HOSPITAL","RHW10","WOKINGHAM HOSPITAL","RHW10","WOKINGHAM HOSPITAL","RHW",null,null,"WALTON HOSPITAL","Walton Unit"]
[null,null,null,null,null,null,null,null,null,null,null,null,null,null,null,null,null,null,null,null,null,null,null,null,null,null,null,null,null,null,null,null,null,null,null,null,null,null,null,null,null,null,null,null,null,null,null,null,null,null,null,null,null,null,null,null,null,null,null,null,null,null,null,null,null,null,null,null,null,"RJ6PURLEY WAR MEMORIAL HOSPITAL","RJ613","PURLEY WAR MEMORIAL HOSPITAL","RJ613","PURLEY WAR MEMORIAL HOSPITAL","RJ6",null,null,"PLEASLEY WARD, HARTINGTON UNIT","HARTINGTON UNIT - PLEASLEY WARD ADULT"]
[null,null,null,null,null,null,null,null,null,null,null,null,null,null,null,null,null,null,null,null,null,null,null,null,null,null,null,null,null,null,null,null,null,null,null,null,null,null,null,null,null,null,null,null,null,null,null,null,null,null,null,null,null,null,null,null,null,null,null,null,null,null,null,null,null,null,null,null,null,"RJ8BETHANY","RJ8CL","BETHANY","RJ8CL","BETHANY","RJ8",null,null,"LEANDER UNIT","Chichester House"]
[null,null,null,null,null,null,null,null,null,null,null,null,null,null,null,null,null,null,null,null,null,null,null,null,null,null,null,null,null,null,null,null,null,null,null,null,null,null,null,null,null,null,null,null,null,null,null,null,null,null,null,null,null,null,null,null,null,null,null,null,null,null,null,null,null,null,null,null,null,"RJ8INPATIENTS LONGREACH","RJ85B","INPATIENTS LONGREACH","RJ85B","INPATIENTS LONGREACH","RJ8",null,null,"BASSETLAW HOSPITAL","ATC"]
[null,null,null,null,null,null,null,null,null,null,null,null,null,null,null,null,null,null,null,null,null,null,null,null,null,null,null,null,null,null,null,null,null,null,null,null,null,null,null,null,null,null,null,null,null,null,null,null,null,null,null,null,null,null,null,null,null,null,null,null,null,null,null,null,null,null,null,null,null,"RJ8ST AUSTELL COMMUNITY HOSPITAL","RJ801","ST AUSTELL COMMUNITY HOSPITAL","RJ801","ST AUSTELL COMMUNITY HOSPITAL","RJ8",null,null,"DONCASTER ROYAL INFIRMARY","Mallard Ward"]
[null,null,null,null,null,null,null,null,null,null,null,null,null,null,null,null,null,null,null,null,null,null,null,null,null,null,null,null,null,null,null,null,null,null,null,null,null,null,null,null,null,null,null,null,null,null,null,null,null,null,null,null,null,null,null,null,null,null,null,null,null,null,null,null,null,null,null,null,null,"RJ8TRENGWEATH","RJ827","TRENGWEATH","RJ827","TRENGWEATH","RJ8",null,null,"DONCASTER ROYAL INFIRMARY","Ward 20"]
[null,null,null,null,null,null,null,null,null,null,null,null,null,null,null,null,null,null,null,null,null,null,null,null,null,null,null,null,null,null,null,null,null,null,null,null,null,null,null,null,null,null,null,null,null,null,null,null,null,null,null,null,null,null,null,null,null,null,null,null,null,null,null,null,null,null,null,null,null,"RJCWARWICK HOSPITAL","RJC02","WARWICK HOSPITAL","RJC02","WARWICK HOSPITAL","RJC",null,null,"DONCASTER ROYAL INFIRMARY","Ward S10"]
[null,null,null,null,null,null,null,null,null,null,null,null,null,null,null,null,null,null,null,null,null,null,null,null,null,null,null,null,null,null,null,null,null,null,null,null,null,null,null,null,null,null,null,null,null,null,null,null,null,null,null,null,null,null,null,null,null,null,null,null,null,null,null,null,null,null,null,null,null,"RJFQUEEN'S HOSPITAL, BURTON UPON TRENT","RJF02","QUEEN'S HOSPITAL, BURTON UPON TRENT","RJF02","QUEEN'S HOSPITAL, BURTON UPON TRENT","RJF",null,null,"DORSET COUNTY HOSPITAL","Kingfisher"]
[null,null,null,null,null,null,null,null,null,null,null,null,null,null,null,null,null,null,null,null,null,null,null,null,null,null,null,null,null,null,null,null,null,null,null,null,null,null,null,null,null,null,null,null,null,null,null,null,null,null,null,null,null,null,null,null,null,null,null,null,null,null,null,null,null,null,null,null,null,"RJNPARKSIDE HOSPITAL","RJN67","PARKSIDE HOSPITAL","RJN67","PARKSIDE HOSPITAL","RJN",null,null,"ALDERNEY HOSPITAL","Guernsey Ward"]
[null,null,null,null,null,null,null,null,null,null,null,null,null,null,null,null,null,null,null,null,null,null,null,null,null,null,null,null,null,null,null,null,null,null,null,null,null,null,null,null,null,null,null,null,null,null,null,null,null,null,null,null,null,null,null,null,null,null,null,null,null,null,null,null,null,null,null,null,null,"RJXPENDLE VIEW","RJX07","PENDLE VIEW","RJX07","PENDLE VIEW","RJX",null,null,"KIMMERIDGE COURT","Kimmeridge Court"]
[null,null,null,null,null,null,null,null,null,null,null,null,null,null,null,null,null,null,null,null,null,null,null,null,null,null,null,null,null,null,null,null,null,null,null,null,null,null,null,null,null,null,null,null,null,null,null,null,null,null,null,null,null,null,null,null,null,null,null,null,null,null,null,null,null,null,null,null,null,"RK5KING'S MILL HOSPITAL","RK5BC","KING'S MILL HOSPITAL","RK5BC","KING'S MILL HOSPITAL","RK5",null,null,"VICTORIA HOSPITAL W'BORNE","Hanham Ward"]
[null,null,null,null,null,null,null,null,null,null,null,null,null,null,null,null,null,null,null,null,null,null,null,null,null,null,null,null,null,null,null,null,null,null,null,null,null,null,null,null,null,null,null,null,null,null,null,null,null,null,null,null,null,null,null,null,null,null,null,null,null,null,null,null,null,null,null,null,null,"RKLCASSEL HOSPITAL","RKL48","CASSEL HOSPITAL","RKL48","CASSEL HOSPITAL","RKL",null,null,"LISTER HOSPITAL","09A North; South"]
[null,null,null,null,null,null,null,null,null,null,null,null,null,null,null,null,null,null,null,null,null,null,null,null,null,null,null,null,null,null,null,null,null,null,null,null,null,null,null,null,null,null,null,null,null,null,null,null,null,null,null,null,null,null,null,null,null,null,null,null,null,null,null,null,null,null,null,null,null,"RKLHAMMERSMITH & FULHAM MENTAL HEALTH UNIT","RKL79","HAMMERSMITH & FULHAM MENTAL HEALTH UNIT","RKL79","HAMMERSMITH & FULHAM MENTAL HEALTH UNIT","RKL",null,null,"LISTER HOSPITAL","Maternity Unit - Mat MLU"]
[null,null,null,null,null,null,null,null,null,null,null,null,null,null,null,null,null,null,null,null,null,null,null,null,null,null,null,null,null,null,null,null,null,null,null,null,null,null,null,null,null,null,null,null,null,null,null,null,null,null,null,null,null,null,null,null,null,null,null,null,null,null,null,null,null,null,null,null,null,"RKLMANOR GATE","RKL1K","MANOR GATE","RKL1K","MANOR GATE","RKL",null,null,"CONGLETON WAR MEMORIAL HOSPITAL","Aston"]
[null,null,null,null,null,null,null,null,null,null,null,null,null,null,null,null,null,null,null,null,null,null,null,null,null,null,null,null,null,null,null,null,null,null,null,null,null,null,null,null,null,null,null,null,null,null,null,null,null,null,null,null,null,null,null,null,null,null,null,null,null,null,null,null,null,null,null,null,null,"RKLTHAMES LODGE","RKL19","THAMES LODGE","RKL19","THAMES LODGE","RKL",null,null,"MACCLESFIELD DISTRICT GENERAL HOSPITAL","Ward 2"]
[null,null,null,null,null,null,null,null,null,null,null,null,null,null,null,null,null,null,null,null,null,null,null,null,null,null,null,null,null,null,null,null,null,null,null,null,null,null,null,null,null,null,null,null,null,null,null,null,null,null,null,null,null,null,null,null,null,null,null,null,null,null,null,null,null,null,null,null,null,"RLNSUNDERLAND EYE INFIRMARY","RLNGM","SUNDERLAND EYE INFIRMARY","RLNGM","SUNDERLAND EYE INFIRMARY","RLN",null,null,"KENT AND CANTERBURY HOSPITAL","Mount/McMaster"]
[null,null,null,null,null,null,null,null,null,null,null,null,null,null,null,null,null,null,null,null,null,null,null,null,null,null,null,null,null,null,null,null,null,null,null,null,null,null,null,null,null,null,null,null,null,null,null,null,null,null,null,null,null,null,null,null,null,null,null,null,null,null,null,null,null,null,null,null,null,"RLTGEORGE ELIOT HOSPITAL - ACUTE SERVICES","RLT01","GEORGE ELIOT HOSPITAL - ACUTE SERVICES","RLT01","GEORGE ELIOT HOSPITAL - ACUTE SERVICES","RLT",null,null,"QUEEN ELIZABETH THE QUEEN MOTHER HOSPITAL","Cheerful Sparrows Male"]
[null,null,null,null,null,null,null,null,null,null,null,null,null,null,null,null,null,null,null,null,null,null,null,null,null,null,null,null,null,null,null,null,null,null,null,null,null,null,null,null,null,null,null,null,null,null,null,null,null,null,null,null,null,null,null,null,null,null,null,null,null,null,null,null,null,null,null,null,null,"RLYFLORENCE HOUSE","RLY39","FLORENCE HOUSE","RLY39","FLORENCE HOUSE","RLY",null,null,"QUEEN ELIZABETH THE QUEEN MOTHER HOSPITAL","St Augustine"]
[null,null,null,null,null,null,null,null,null,null,null,null,null,null,null,null,null,null,null,null,null,null,null,null,null,null,null,null,null,null,null,null,null,null,null,null,null,null,null,null,null,null,null,null,null,null,null,null,null,null,null,null,null,null,null,null,null,null,null,null,null,null,null,null,null,null,null,null,null,"RMPTAMESIDE GENERAL HOSPITAL","RMP01","TAMESIDE GENERAL HOSPITAL","RMP01","TAMESIDE GENERAL HOSPITAL","RMP",null,null,"WILLIAM HARVEY HOSPITAL (ASHFORD)","WH Kennington Ward"]
[null,null,null,null,null,null,null,null,null,null,null,null,null,null,null,null,null,null,null,null,null,null,null,null,null,null,null,null,null,null,null,null,null,null,null,null,null,null,null,null,null,null,null,null,null,null,null,null,null,null,null,null,null,null,null,null,null,null,null,null,null,null,null,null,null,null,null,null,null,"RMYHELLESDON HOSPITAL","RMY01","HELLESDON HOSPITAL","RMY01","HELLESDON HOSPITAL","RMY",null,null,"BURNLEY GENERAL HOSPITAL","Ward 19"]
[null,null,null,null,null,null,null,null,null,null,null,null,null,null,null,null,null,null,null,null,null,null,null,null,null,null,null,null,null,null,null,null,null,null,null,null,null,null,null,null,null,null,null,null,null,null,null,null,null,null,null,null,null,null,null,null,null,null,null,null,null,null,null,null,null,null,null,null,null,"RMYNORTH WALSHAM COTTAGE HOSPITAL","RMY61","NORTH WALSHAM COTTAGE HOSPITAL","RMY61","NORTH WALSHAM COTTAGE HOSPITAL","RMY",null,null,"ROYAL BLACKBURN HOSPITAL","C11"]
[null,null,null,null,null,null,null,null,null,null,null,null,null,null,null,null,null,null,null,null,null,null,null,null,null,null,null,null,null,null,null,null,null,null,null,null,null,null,null,null,null,null,null,null,null,null,null,null,null,null,null,null,null,null,null,null,null,null,null,null,null,null,null,null,null,null,null,null,null,"RMYST STEPHENS","RMY21","ST STEPHENS","RMY21","ST STEPHENS","RMY",null,null,"ROYAL BLACKBURN HOSPITAL","C5"]
[null,null,null,null,null,null,null,null,null,null,null,null,null,null,null,null,null,null,null,null,null,null,null,null,null,null,null,null,null,null,null,null,null,null,null,null,null,null,null,null,null,null,null,null,null,null,null,null,null,null,null,null,null,null,null,null,null,null,null,null,null,null,null,null,null,null,null,null,null,"RN3CHIPPENHAM COMMUNITY HOSPITAL","RN333","CHIPPENHAM COMMUNITY HOSPITAL","RN333","CHIPPENHAM COMMUNITY HOSPITAL","RN3",null,null,"ROYAL BLACKBURN HOSPITAL","D1"]
[null,null,null,null,null,null,null,null,null,null,null,null,null,null,null,null,null,null,null,null,null,null,null,null,null,null,null,null,null,null,null,null,null,null,null,null,null,null,null,null,null,null,null,null,null,null,null,null,null,null,null,null,null,null,null,null,null,null,null,null,null,null,null,null,null,null,null,null,null,"RN5ROYAL HAMPSHIRE COUNTY HOSPITAL","RN541","ROYAL HAMPSHIRE COUNTY HOSPITAL","RN541","ROYAL HAMPSHIRE COUNTY HOSPITAL","RN5",null,null,"EAST HAM CARE CENTRE","Fothergill Ward"]
[null,null,null,null,null,null,null,null,null,null,null,null,null,null,null,null,null,null,null,null,null,null,null,null,null,null,null,null,null,null,null,null,null,null,null,null,null,null,null,null,null,null,null,null,null,null,null,null,null,null,null,null,null,null,null,null,null,null,null,null,null,null,null,null,null,null,null,null,null,"RNNALSTON MINOR INJURY UNIT","RNNRL","ALSTON MINOR INJURY UNIT","RNNRL","ALSTON MINOR INJURY UNIT","RNN",null,null,"FORENSIC CENTRE FOR MENTAL HEALTH","Hoxton Ward"]
[null,null,null,null,null,null,null,null,null,null,null,null,null,null,null,null,null,null,null,null,null,null,null,null,null,null,null,null,null,null,null,null,null,null,null,null,null,null,null,null,null,null,null,null,null,null,null,null,null,null,null,null,null,null,null,null,null,null,null,null,null,null,null,null,null,null,null,null,null,"RNNCOPELAND UNIT","RNNCL","COPELAND UNIT","RNNCL","COPELAND UNIT","RNN",null,null,"LUTON & CENTRAL BEDS MHIP","BED Townsend Court"]
[null,null,null,null,null,null,null,null,null,null,null,null,null,null,null,null,null,null,null,null,null,null,null,null,null,null,null,null,null,null,null,null,null,null,null,null,null,null,null,null,null,null,null,null,null,null,null,null,null,null,null,null,null,null,null,null,null,null,null,null,null,null,null,null,null,null,null,null,null,"RNNKESWICK HOSPITAL","RNNBD","KESWICK HOSPITAL","RNNBD","KESWICK HOSPITAL","RNN",null,null,"NEWHAM CENTRE FOR MENTAL HEALTH","LONDON Crystal"]
[null,null,null,null,null,null,null,null,null,null,null,null,null,null,null,null,null,null,null,null,null,null,null,null,null,null,null,null,null,null,null,null,null,null,null,null,null,null,null,null,null,null,null,null,null,null,null,null,null,null,null,null,null,null,null,null,null,null,null,null,null,null,null,null,null,null,null,null,null,"RNNPENRITH HOSPITAL","RNNKV","PENRITH HOSPITAL","RNNKV","PENRITH HOSPITAL","RNN",null,null,"CAPIO OAKS HOSPITAL","Ward"]
[null,null,null,null,null,null,null,null,null,null,null,null,null,null,null,null,null,null,null,null,null,null,null,null,null,null,null,null,null,null,null,null,null,null,null,null,null,null,null,null,null,null,null,null,null,null,null,null,null,null,null,null,null,null,null,null,null,null,null,null,null,null,null,null,null,null,null,null,null,"RNNWIGTON HOSPITAL","RNNBH","WIGTON HOSPITAL","RNNBH","WIGTON HOSPITAL","RNN",null,null,"COLCHESTER GENERAL HOSPITAL","432 MSKSS Copford Ward COH"]
[null,null,null,null,null,null,null,null,null,null,null,null,null,null,null,null,null,null,null,null,null,null,null,null,null,null,null,null,null,null,null,null,null,null,null,null,null,null,null,null,null,null,null,null,null,null,null,null,null,null,null,null,null,null,null,null,null,null,null,null,null,null,null,null,null,null,null,null,null,"RNUABINGDON COMMUNITY HOSPITAL","RNUDQ","ABINGDON COMMUNITY HOSPITAL","RNUDQ","ABINGDON COMMUNITY HOSPITAL","RNU",null,null,"COLCHESTER GENERAL HOSPITAL","432 W&C Childrens Ward COH"]
[null,null,null,null,null,null,null,null,null,null,null,null,null,null,null,null,null,null,null,null,null,null,null,null,null,null,null,null,null,null,null,null,null,null,null,null,null,null,null,null,null,null,null,null,null,null,null,null,null,null,null,null,null,null,null,null,null,null,null,null,null,null,null,null,null,null,null,null,null,"RNZDORSET COUNTY HOSPITAL","RNZ67","DORSET COUNTY HOSPITAL","RNZ67","DORSET COUNTY HOSPITAL","RNZ",null,null,"IPSWICH HOSPITAL NHS TRUST","178 MED Kirton IHT"]
[null,null,null,null,null,null,null,null,null,null,null,null,null,null,null,null,null,null,null,null,null,null,null,null,null,null,null,null,null,null,null,null,null,null,null,null,null,null,null,null,null,null,null,null,null,null,null,null,null,null,null,null,null,null,null,null,null,null,null,null,null,null,null,null,null,null,null,null,null,"RP1ADAMS DAY HOSPITAL","RP1J2","ADAMS DAY HOSPITAL","RP1J2","ADAMS DAY HOSPITAL","RP1",null,null,"IPSWICH HOSPITAL NHS TRUST","178 SURG Lavenham IHT"]
[null,null,null,null,null,null,null,null,null,null,null,null,null,null,null,null,null,null,null,null,null,null,null,null,null,null,null,null,null,null,null,null,null,null,null,null,null,null,null,null,null,null,null,null,null,null,null,null,null,null,null,null,null,null,null,null,null,null,null,null,null,null,null,null,null,null,null,null,null,"RP1DANETRE HOSPITAL","RP1J6","DANETRE HOSPITAL","RP1J6","DANETRE HOSPITAL","RP1",null,null,"IPSWICH HOSPITAL NHS TRUST","178 W&C Orwell IHT"]
[null,null,null,null,null,null,null,null,null,null,null,null,null,null,null,null,null,null,null,null,null,null,null,null,null,null,null,null,null,null,null,null,null,null,null,null,null,null,null,null,null,null,null,null,null,null,null,null,null,null,null,null,null,null,null,null,null,null,null,null,null,null,null,null,null,null,null,null,null,"RP1KETTERING GENERAL HOSPITAL","RP1F1","KETTERING GENERAL HOSPITAL","RP1F1","KETTERING GENERAL HOSPITAL","RP1",null,null,"CONQUEST HOSPITAL","Kipling & Friston Wards"]
[null,null,null,null,null,null,null,null,null,null,null,null,null,null,null,null,null,null,null,null,null,null,null,null,null,null,null,null,null,null,null,null,null,null,null,null,null,null,null,null,null,null,null,null,null,null,null,null,null,null,null,null,null,null,null,null,null,null,null,null,null,null,null,null,null,null,null,null,null,"RP1MENTAL HEALTH ACCOMODATION & COMMISSIONING","RP1V3","MENTAL HEALTH ACCOMODATION & COMMISSIONING","RP1V3","MENTAL HEALTH ACCOMODATION & COMMISSIONING","RP1",null,null,"CONQUEST HOSPITAL","Wellington Ward CQ"]
[null,null,null,null,null,null,null,null,null,null,null,null,null,null,null,null,null,null,null,null,null,null,null,null,null,null,null,null,null,null,null,null,null,null,null,null,null,null,null,null,null,null,null,null,null,null,null,null,null,null,null,null,null,null,null,null,null,null,null,null,null,null,null,null,null,null,null,null,null,"RP5DONCASTER ROYAL INFIRMARY","RP5DR","DONCASTER ROYAL INFIRMARY","RP5DR","DONCASTER ROYAL INFIRMARY","RP5",null,null,"EPSOM HOSPITAL","CAMA (Croft Community Unit)"]
[null,null,null,null,null,null,null,null,null,null,null,null,null,null,null,null,null,null,null,null,null,null,null,null,null,null,null,null,null,null,null,null,null,null,null,null,null,null,null,null,null,null,null,null,null,null,null,null,null,null,null,null,null,null,null,null,null,null,null,null,null,null,null,null,null,null,null,null,null,"RP6MOORFIELDS AT POTTERS BAR HOSPITAL - RP605","RP605","MOORFIELDS AT POTTERS BAR HOSPITAL - RP605","RP605","MOORFIELDS AT POTTERS BAR HOSPITAL - RP605","RP6",null,null,"ST HELIER HOSPITAL","A5 (A5)"]
[null,null,null,null,null,null,null,null,null,null,null,null,null,null,null,null,null,null,null,null,null,null,null,null,null,null,null,null,null,null,null,null,null,null,null,null,null,null,null,null,null,null,null,null,null,null,null,null,null,null,null,null,null,null,null,null,null,null,null,null,null,null,null,null,null,null,null,null,null,"RP7274 SSLDL2 LLC ASSESSMENT & TREATMENT & REHAB","RP705","274 SSLDL2 LLC ASSESSMENT & TREATMENT & REHAB","RP705","274 SSLDL2 LLC ASSESSMENT & TREATMENT & REHAB","RP7",null,null,"ST HELIER HOSPITAL","C4 (C4)"]
[null,null,null,null,null,null,null,null,null,null,null,null,null,null,null,null,null,null,null,null,null,null,null,null,null,null,null,null,null,null,null,null,null,null,null,null,null,null,null,null,null,null,null,null,null,null,null,null,null,null,null,null,null,null,null,null,null,null,null,null,null,null,null,null,null,null,null,null,null,"RP7DIANA PRINCESS OF WALES HOSPITAL","RP777","DIANA PRINCESS OF WALES HOSPITAL","RP777","DIANA PRINCESS OF WALES HOSPITAL","RP7",null,null,"ST HELIER HOSPITAL","SCCU (Coronary Care Unit)"]
[null,null,null,null,null,null,null,null,null,null,null,null,null,null,null,null,null,null,null,null,null,null,null,null,null,null,null,null,null,null,null,null,null,null,null,null,null,null,null,null,null,null,null,null,null,null,null,null,null,null,null,null,null,null,null,null,null,null,null,null,null,null,null,null,null,null,null,null,null,"RP7MENTAL HEALTH LONG TERM REHABILITATION & DAY HOSPITAL","RP7FQ","MENTAL HEALTH LONG TERM REHABILITATION & DAY HOSPITAL","RP7FQ","MENTAL HEALTH LONG TERM REHABILITATION & DAY HOSPITAL","RP7",null,null,"CHELMSFORD - THE LINDEN CENTRE","Christopher   PICU"]
[null,null,null,null,null,null,null,null,null,null,null,null,null,null,null,null,null,null,null,null,null,null,null,null,null,null,null,null,null,null,null,null,null,null,null,null,null,null,null,null,null,null,null,null,null,null,null,null,null,null,null,null,null,null,null,null,null,null,null,null,null,null,null,null,null,null,null,null,null,"RP7NORTON LEA","RP713","NORTON LEA","RP713","NORTON LEA","RP7",null,null,"COLCHESTER - THE BRAMBLES","439 Ipswich Road"]
[null,null,null,null,null,null,null,null,null,null,null,null,null,null,null,null,null,null,null,null,null,null,null,null,null,null,null,null,null,null,null,null,null,null,null,null,null,null,null,null,null,null,null,null,null,null,null,null,null,null,null,null,null,null,null,null,null,null,null,null,null,null,null,null,null,null,null,null,null,"RPASPIRE ALEXANDRA HOSPITAL - RPA44","RPA44","SPIRE ALEXANDRA HOSPITAL - RPA44","RPA44","SPIRE ALEXANDRA HOSPITAL - RPA44","RPA",null,null,"ROCHFORD COMMUNITY HOSPITAL","Beech - Rochford"]
[null,null,null,null,null,null,null,null,null,null,null,null,null,null,null,null,null,null,null,null,null,null,null,null,null,null,null,null,null,null,null,null,null,null,null,null,null,null,null,null,null,null,null,null,null,null,null,null,null,null,null,null,null,null,null,null,null,null,null,null,null,null,null,null,null,null,null,null,null,"RPCKENT AND CANTERBURY HOSPITAL - RPC18","RPC18","KENT AND CANTERBURY HOSPITAL - RPC18","RPC18","KENT AND CANTERBURY HOSPITAL - RPC18","RPC",null,null,"ROCHFORD COMMUNITY HOSPITAL","Rawreth Court"]
[null,null,null,null,null,null,null,null,null,null,null,null,null,null,null,null,null,null,null,null,null,null,null,null,null,null,null,null,null,null,null,null,null,null,null,null,null,null,null,null,null,null,null,null,null,null,null,null,null,null,null,null,null,null,null,null,null,null,null,null,null,null,null,null,null,null,null,null,null,"RPGFAIRFIELD HC","RPGGH","FAIRFIELD HC","RPGGH","FAIRFIELD HC","RPG",null,null,"FRIMLEY PARK HOSPITAL","F4"]
[null,null,null,null,null,null,null,null,null,null,null,null,null,null,null,null,null,null,null,null,null,null,null,null,null,null,null,null,null,null,null,null,null,null,null,null,null,null,null,null,null,null,null,null,null,null,null,null,null,null,null,null,null,null,null,null,null,null,null,null,null,null,null,null,null,null,null,null,null,"RPGMANORBROOK HC","RPGGL","MANORBROOK HC","RPGGL","MANORBROOK HC","RPG",null,null,"FRIMLEY PARK HOSPITAL","G9"]
[null,null,null,null,null,null,null,null,null,null,null,null,null,null,null,null,null,null,null,null,null,null,null,null,null,null,null,null,null,null,null,null,null,null,null,null,null,null,null,null,null,null,null,null,null,null,null,null,null,null,null,null,null,null,null,null,null,null,null,null,null,null,null,null,null,null,null,null,null,"RPGOAKHURST","RPGCF","OAKHURST","RPGCF","OAKHURST","RPG",null,null,"FRIMLEY PARK HOSPITAL","Maternity"]
[null,null,null,null,null,null,null,null,null,null,null,null,null,null,null,null,null,null,null,null,null,null,null,null,null,null,null,null,null,null,null,null,null,null,null,null,null,null,null,null,null,null,null,null,null,null,null,null,null,null,null,null,null,null,null,null,null,null,null,null,null,null,null,null,null,null,null,null,null,"RPGWEST PARK","RPGEE","WEST PARK","RPGEE","WEST PARK","RPG",null,null,"Wexham Park Hospital","Ward 01 Orthopaedic (WP)"]
[null,null,null,null,null,null,null,null,null,null,null,null,null,null,null,null,null,null,null,null,null,null,null,null,null,null,null,null,null,null,null,null,null,null,null,null,null,null,null,null,null,null,null,null,null,null,null,null,null,null,null,null,null,null,null,null,null,null,null,null,null,null,null,null,null,null,null,null,null,"RQ3BIRMINGHAM CHILDREN'S HOSPITAL - DIABETICS","RQ342","BIRMINGHAM CHILDREN'S HOSPITAL - DIABETICS","RQ342","BIRMINGHAM CHILDREN'S HOSPITAL - DIABETICS","RQ3",null,null,"WEXHAM PARK HOSPITAL","Ward 11 Surgical (WP)"]
[null,null,null,null,null,null,null,null,null,null,null,null,null,null,null,null,null,null,null,null,null,null,null,null,null,null,null,null,null,null,null,null,null,null,null,null,null,null,null,null,null,null,null,null,null,null,null,null,null,null,null,null,null,null,null,null,null,null,null,null,null,null,null,null,null,null,null,null,null,"RQ8BROOMFIELD HOSPITAL - RQ8L0","RQ8L0","BROOMFIELD HOSPITAL - RQ8L0","RQ8L0","BROOMFIELD HOSPITAL - RQ8L0","RQ8",null,null,"qUEEN ELIZABETH HOSPITAL - RR7EN","Paediatrics"]
[null,null,null,null,null,null,null,null,null,null,null,null,null,null,null,null,null,null,null,null,null,null,null,null,null,null,null,null,null,null,null,null,null,null,null,null,null,null,null,null,null,null,null,null,null,null,null,null,null,null,null,null,null,null,null,null,null,null,null,null,null,null,null,null,null,null,null,null,null,"RQMWEST MIDDLESEX UNIVERSITY HOSPITAL","RQM91","WEST MIDDLESEX UNIVERSITY HOSPITAL","RQM91","WEST MIDDLESEX UNIVERSITY HOSPITAL","RQM",null,null,"QUEEN ELIZABETH HOSPITAL - RR7EN","Ward 23 Jubilee Wing"]
[null,null,null,null,null,null,null,null,null,null,null,null,null,null,null,null,null,null,null,null,null,null,null,null,null,null,null,null,null,null,null,null,null,null,null,null,null,null,null,null,null,null,null,null,null,null,null,null,null,null,null,null,null,null,null,null,null,null,null,null,null,null,null,null,null,null,null,null,null,"RQWST. MARGARET'S HOSPITAL - RQWG1","RQWG1","ST. MARGARET'S HOSPITAL - RQWG1","RQWG1","ST. MARGARET'S HOSPITAL - RQWG1","RQW",null,null,"GEORGE ELIOT HOSPITAL - ACUTE SERVICES","AMU"]
[null,null,null,null,null,null,null,null,null,null,null,null,null,null,null,null,null,null,null,null,null,null,null,null,null,null,null,null,null,null,null,null,null,null,null,null,null,null,null,null,null,null,null,null,null,null,null,null,null,null,null,null,null,null,null,null,null,null,null,null,null,null,null,null,null,null,null,null,null,"RQYOPS SUTTON","RQYEG","OPS SUTTON","RQYEG","OPS SUTTON","RQY",null,null,"VALE COMMUNITY HOSPITAL","Peakview"]
[null,null,null,null,null,null,null,null,null,null,null,null,null,null,null,null,null,null,null,null,null,null,null,null,null,null,null,null,null,null,null,null,null,null,null,null,null,null,null,null,null,null,null,null,null,null,null,null,null,null,null,null,null,null,null,null,null,null,null,null,null,null,null,null,null,null,null,null,null,"RQYQUEEN MARY'S HOSPITAL","RQY07","QUEEN MARY'S HOSPITAL","RQY07","QUEEN MARY'S HOSPITAL","RQY",null,null,"CHELTENHAM GENERAL HOSPITAL - RTE01","AVENING"]
[null,null,null,null,null,null,null,null,null,null,null,null,null,null,null,null,null,null,null,null,null,null,null,null,null,null,null,null,null,null,null,null,null,null,null,null,null,null,null,null,null,null,null,null,null,null,null,null,null,null,null,null,null,null,null,null,null,null,null,null,null,null,null,null,null,null,null,null,null,"RR7CITY HOSPITALS SUNDERLAND - RR7CH","RR7CH","CITY HOSPITALS SUNDERLAND - RR7CH","RR7CH","CITY HOSPITALS SUNDERLAND - RR7CH","RR7",null,null,"GLOUCESTERSHIRE ROYAL HOSPITAL - RTE03","4A"]
[null,null,null,null,null,null,null,null,null,null,null,null,null,null,null,null,null,null,null,null,null,null,null,null,null,null,null,null,null,null,null,null,null,null,null,null,null,null,null,null,null,null,null,null,null,null,null,null,null,null,null,null,null,null,null,null,null,null,null,null,null,null,null,null,null,null,null,null,null,"RR8SEACROFT HOSPITAL - RR814","RR814","SEACROFT HOSPITAL - RR814","RR814","SEACROFT HOSPITAL - RR814","RR8",null,null,"GLOUCESTERSHIRE ROYAL HOSPITAL - RTE03","CARDIOLOGY"]
[null,null,null,null,null,null,null,null,null,null,null,null,null,null,null,null,null,null,null,null,null,null,null,null,null,null,null,null,null,null,null,null,null,null,null,null,null,null,null,null,null,null,null,null,null,null,null,null,null,null,null,null,null,null,null,null,null,null,null,null,null,null,null,null,null,null,null,null,null,"RRDCHELMSFORD - UNITS 4 & 5A, CORNELL ESTATE","RRDAE","CHELMSFORD - UNITS 4 & 5A, CORNELL ESTATE","RRDAE","CHELMSFORD - UNITS 4 & 5A, CORNELL ESTATE","RRD",null,null,"GREAT ORMOND STREET HOSPITAL CENTRAL LONDON SITE","Chameleon Ward"]
[null,null,null,null,null,null,null,null,null,null,null,null,null,null,null,null,null,null,null,null,null,null,null,null,null,null,null,null,null,null,null,null,null,null,null,null,null,null,null,null,null,null,null,null,null,null,null,null,null,null,null,null,null,null,null,null,null,null,null,null,null,null,null,null,null,null,null,null,null,"RRDHARWICH & DISTRICT HOSPITAL","RRDEE","HARWICH & DISTRICT HOSPITAL","RRDEE","HARWICH & DISTRICT HOSPITAL","RRD",null,null,"GREAT ORMOND STREET HOSPITAL CENTRAL LONDON SITE","Panther Urology"]
[null,null,null,null,null,null,null,null,null,null,null,null,null,null,null,null,null,null,null,null,null,null,null,null,null,null,null,null,null,null,null,null,null,null,null,null,null,null,null,null,null,null,null,null,null,null,null,null,null,null,null,null,null,null,null,null,null,null,null,null,null,null,null,null,null,null,null,null,null,"RRECANNOCK CHASE HOSPITAL","RRE14","CANNOCK CHASE HOSPITAL","RRE14","CANNOCK CHASE HOSPITAL","RRE",null,null,"THE GREAT WESTERN HOSPITAL","ACU"]
[null,null,null,null,null,null,null,null,null,null,null,null,null,null,null,null,null,null,null,null,null,null,null,null,null,null,null,null,null,null,null,null,null,null,null,null,null,null,null,null,null,null,null,null,null,null,null,null,null,null,null,null,null,null,null,null,null,null,null,null,null,null,null,null,null,null,null,null,null,"RREGLENVIEW, LUDLOW","RREF2","GLENVIEW, LUDLOW","RREF2","GLENVIEW, LUDLOW","RRE",null,null,"THE GREAT WESTERN HOSPITAL","ITU"]
[null,null,null,null,null,null,null,null,null,null,null,null,null,null,null,null,null,null,null,null,null,null,null,null,null,null,null,null,null,null,null,null,null,null,null,null,null,null,null,null,null,null,null,null,null,null,null,null,null,null,null,null,null,null,null,null,null,null,null,null,null,null,null,null,null,null,null,null,null,"RREMENTAL HEALTH","RREP5","MENTAL HEALTH","RREP5","MENTAL HEALTH","RRE",null,null,"THE GREAT WESTERN HOSPITAL","WHBC"]
[null,null,null,null,null,null,null,null,null,null,null,null,null,null,null,null,null,null,null,null,null,null,null,null,null,null,null,null,null,null,null,null,null,null,null,null,null,null,null,null,null,null,null,null,null,null,null,null,null,null,null,null,null,null,null,null,null,null,null,null,null,null,null,null,null,null,null,null,null,"RREST AUSTINS","RREG5","ST AUSTINS","RREG5","ST AUSTINS","RRE",null,null,"MOORSIDE UNIT - TRAFFORD MH","Greenway Ward"]
[null,null,null,null,null,null,null,null,null,null,null,null,null,null,null,null,null,null,null,null,null,null,null,null,null,null,null,null,null,null,null,null,null,null,null,null,null,null,null,null,null,null,null,null,null,null,null,null,null,null,null,null,null,null,null,null,null,null,null,null,null,null,null,null,null,null,null,null,null,"RRETHE HAWTHORNS","RREGC","THE HAWTHORNS","RREGC","THE HAWTHORNS","RRE",null,null,"PRESTWICH HOSPITAL","Buttermere Ward"]
[null,null,null,null,null,null,null,null,null,null,null,null,null,null,null,null,null,null,null,null,null,null,null,null,null,null,null,null,null,null,null,null,null,null,null,null,null,null,null,null,null,null,null,null,null,null,null,null,null,null,null,null,null,null,null,null,null,null,null,null,null,null,null,null,null,null,null,null,null,"RRFASTLEY HOSPITAL - RRF05","RRF05","ASTLEY HOSPITAL - RRF05","RRF05","ASTLEY HOSPITAL - RRF05","RRF",null,null,"PRESTWICH HOSPITAL","John Denmark Unit"]
[null,null,null,null,null,null,null,null,null,null,null,null,null,null,null,null,null,null,null,null,null,null,null,null,null,null,null,null,null,null,null,null,null,null,null,null,null,null,null,null,null,null,null,null,null,null,null,null,null,null,null,null,null,null,null,null,null,null,null,null,null,null,null,null,null,null,null,null,null,"RRKASHFURLONG MEDICAL CENTRE","RRK04","ASHFURLONG MEDICAL CENTRE","RRK04","ASHFURLONG MEDICAL CENTRE","RRK",null,null,"RIVINGTON UNIT - BOLTON MH","Beech Ward"]
[null,null,null,null,null,null,null,null,null,null,null,null,null,null,null,null,null,null,null,null,null,null,null,null,null,null,null,null,null,null,null,null,null,null,null,null,null,null,null,null,null,null,null,null,null,null,null,null,null,null,null,null,null,null,null,null,null,null,null,null,null,null,null,null,null,null,null,null,null,"RRKSOLIHULL HOSPITAL","RRK99","SOLIHULL HOSPITAL","RRK99","SOLIHULL HOSPITAL","RRK",null,null,"GUY'S AND ST THOMAS' NHS TRUST","Minnie Kidd House"]
[null,null,null,null,null,null,null,null,null,null,null,null,null,null,null,null,null,null,null,null,null,null,null,null,null,null,null,null,null,null,null,null,null,null,null,null,null,null,null,null,null,null,null,null,null,null,null,null,null,null,null,null,null,null,null,null,null,null,null,null,null,null,null,null,null,null,null,null,null,"RRPHAWTHORN UNIT","RRP78","HAWTHORN UNIT","RRP78","HAWTHORN UNIT","RRP",null,null,"ST THOMAS' HOSPITAL","Acute Admissions"]
[null,null,null,null,null,null,null,null,null,null,null,null,null,null,null,null,null,null,null,null,null,null,null,null,null,null,null,null,null,null,null,null,null,null,null,null,null,null,null,null,null,null,null,null,null,null,null,null,null,null,null,null,null,null,null,null,null,null,null,null,null,null,null,null,null,null,null,null,null,"RRVNAT HOSP FOR NEURLGY & NEUROSC. CHALFONT","RRVNC","NAT HOSP FOR NEURLGY & NEUROSC. CHALFONT","RRVNC","NAT HOSP FOR NEURLGY & NEUROSC. CHALFONT","RRV",null,null,"ST THOMAS' HOSPITAL","Cardiac Care Unit"]
[null,null,null,null,null,null,null,null,null,null,null,null,null,null,null,null,null,null,null,null,null,null,null,null,null,null,null,null,null,null,null,null,null,null,null,null,null,null,null,null,null,null,null,null,null,null,null,null,null,null,null,null,null,null,null,null,null,null,null,null,null,null,null,null,null,null,null,null,null,"RT1ACER WARD, HINCHINGBROOKE HOSPITAL","RT183","ACER WARD, HINCHINGBROOKE HOSPITAL","RT183","ACER WARD, HINCHINGBROOKE HOSPITAL","RT1",null,null,"ST THOMAS' HOSPITAL","Neonatal Intensive Care Unit & SCBU"]
[null,null,null,null,null,null,null,null,null,null,null,null,null,null,null,null,null,null,null,null,null,null,null,null,null,null,null,null,null,null,null,null,null,null,null,null,null,null,null,null,null,null,null,null,null,null,null,null,null,null,null,null,null,null,null,null,null,null,null,null,null,null,null,null,null,null,null,null,null,"RT1CAMBRIDGE OPMH","RT1AJ","CAMBRIDGE OPMH","RT1AJ","CAMBRIDGE OPMH","RT1",null,null,"ST THOMAS' HOSPITAL","Victoria"]
[null,null,null,null,null,null,null,null,null,null,null,null,null,null,null,null,null,null,null,null,null,null,null,null,null,null,null,null,null,null,null,null,null,null,null,null,null,null,null,null,null,null,null,null,null,null,null,null,null,null,null,null,null,null,null,null,null,null,null,null,null,null,null,null,null,null,null,null,null,"RT1HUNTINGDON DASH","RT1CD","HUNTINGDON DASH","RT1CD","HUNTINGDON DASH","RT1",null,null,"BASINGSTOKE AND NORTH HAMPSHIRE HOSPITAL","F1"]
[null,null,null,null,null,null,null,null,null,null,null,null,null,null,null,null,null,null,null,null,null,null,null,null,null,null,null,null,null,null,null,null,null,null,null,null,null,null,null,null,null,null,null,null,null,null,null,null,null,null,null,null,null,null,null,null,null,null,null,null,null,null,null,null,null,null,null,null,null,"RT1PETERBOROUGH CDS","RT102","PETERBOROUGH CDS","RT102","PETERBOROUGH CDS","RT1",null,null,"ROYAL HAMPSHIRE COUNTY HOSPITAL","Clarke"]
[null,null,null,null,null,null,null,null,null,null,null,null,null,null,null,null,null,null,null,null,null,null,null,null,null,null,null,null,null,null,null,null,null,null,null,null,null,null,null,null,null,null,null,null,null,null,null,null,null,null,null,null,null,null,null,null,null,null,null,null,null,null,null,null,null,null,null,null,null,"RT1PETERBOROUGH LD","RT1DE","PETERBOROUGH LD","RT1DE","PETERBOROUGH LD","RT1",null,null,"ROYAL HAMPSHIRE COUNTY HOSPITAL","Freshfield"]
[null,null,null,null,null,null,null,null,null,null,null,null,null,null,null,null,null,null,null,null,null,null,null,null,null,null,null,null,null,null,null,null,null,null,null,null,null,null,null,null,null,null,null,null,null,null,null,null,null,null,null,null,null,null,null,null,null,null,null,null,null,null,null,null,null,null,null,null,null,"RT2BUTLER GREEN","RT2C1","BUTLER GREEN","RT2C1","BUTLER GREEN","RT2",null,null,"HARROGATE DISTRICT HOSPITAL","Jervaulx"]
[null,null,null,null,null,null,null,null,null,null,null,null,null,null,null,null,null,null,null,null,null,null,null,null,null,null,null,null,null,null,null,null,null,null,null,null,null,null,null,null,null,null,null,null,null,null,null,null,null,null,null,null,null,null,null,null,null,null,null,null,null,null,null,null,null,null,null,null,null,"RT2FAILSWORTH PCRC","RT2F9","FAILSWORTH PCRC","RT2F9","FAILSWORTH PCRC","RT2",null,null,"HARROGATE DISTRICT HOSPITAL","Woodlands"]
[null,null,null,null,null,null,null,null,null,null,null,null,null,null,null,null,null,null,null,null,null,null,null,null,null,null,null,null,null,null,null,null,null,null,null,null,null,null,null,null,null,null,null,null,null,null,null,null,null,null,null,null,null,null,null,null,null,null,null,null,null,null,null,null,null,null,null,null,null,"RT2PENNINE 3 - BIRCH HILL HOSPITAL","RT251","PENNINE 3 - BIRCH HILL HOSPITAL","RT251","PENNINE 3 - BIRCH HILL HOSPITAL","RT2",null,null,"POTTERS BAR COMMUNITY HOSPITAL","Oakmere"]
[null,null,null,null,null,null,null,null,null,null,null,null,null,null,null,null,null,null,null,null,null,null,null,null,null,null,null,null,null,null,null,null,null,null,null,null,null,null,null,null,null,null,null,null,null,null,null,null,null,null,null,null,null,null,null,null,null,null,null,null,null,null,null,null,null,null,null,null,null,"RT5BRACKEN BUILDING","RT522","BRACKEN BUILDING","RT522","BRACKEN BUILDING","RT5",null,null,"LOGANDENE EMI UNIT","Logandene"]
[null,null,null,null,null,null,null,null,null,null,null,null,null,null,null,null,null,null,null,null,null,null,null,null,null,null,null,null,null,null,null,null,null,null,null,null,null,null,null,null,null,null,null,null,null,null,null,null,null,null,null,null,null,null,null,null,null,null,null,null,null,null,null,null,null,null,null,null,null,"RT5CHARNWOOD MILL","RT5NJ","CHARNWOOD MILL","RT5NJ","CHARNWOOD MILL","RT5",null,null,"HOMERTON UNIVERSITY HOSPITAL - RQXM1","Lloyd"]
[null,null,null,null,null,null,null,null,null,null,null,null,null,null,null,null,null,null,null,null,null,null,null,null,null,null,null,null,null,null,null,null,null,null,null,null,null,null,null,null,null,null,null,null,null,null,null,null,null,null,null,null,null,null,null,null,null,null,null,null,null,null,null,null,null,null,null,null,null,"RT5CITY EAST 1","RT5E5","CITY EAST 1","RT5E5","CITY EAST 1","RT5",null,null,"TEDDINGTON MEMORIAL HOSPITAL","Pamela Bryant"]
[null,null,null,null,null,null,null,null,null,null,null,null,null,null,null,null,null,null,null,null,null,null,null,null,null,null,null,null,null,null,null,null,null,null,null,null,null,null,null,null,null,null,null,null,null,null,null,null,null,null,null,null,null,null,null,null,null,null,null,null,null,null,null,null,null,null,null,null,null,"RT5CITY WEST 3 (EPMA)","RT5F7","CITY WEST 3 (EPMA)","RT5F7","CITY WEST 3 (EPMA)","RT5",null,null,"CASTLE HILL HOSPITAL","C21"]
[null,null,null,null,null,null,null,null,null,null,null,null,null,null,null,null,null,null,null,null,null,null,null,null,null,null,null,null,null,null,null,null,null,null,null,null,null,null,null,null,null,null,null,null,null,null,null,null,null,null,null,null,null,null,null,null,null,null,null,null,null,null,null,null,null,null,null,null,null,"RT5EAST LEICESTERSHIRE 1 (EPMA)","RT5F9","EAST LEICESTERSHIRE 1 (EPMA)","RT5F9","EAST LEICESTERSHIRE 1 (EPMA)","RT5",null,null,"CASTLE HILL HOSPITAL","C32"]
[null,null,null,null,null,null,null,null,null,null,null,null,null,null,null,null,null,null,null,null,null,null,null,null,null,null,null,null,null,null,null,null,null,null,null,null,null,null,null,null,null,null,null,null,null,null,null,null,null,null,null,null,null,null,null,null,null,null,null,null,null,null,null,null,null,null,null,null,null,"RT5EVINGTON CENTRE","RT5KT","EVINGTON CENTRE","RT5KT","EVINGTON CENTRE","RT5",null,null,"CASTLE HILL HOSPITAL","CDSU"]
[null,null,null,null,null,null,null,null,null,null,null,null,null,null,null,null,null,null,null,null,null,null,null,null,null,null,null,null,null,null,null,null,null,null,null,null,null,null,null,null,null,null,null,null,null,null,null,null,null,null,null,null,null,null,null,null,null,null,null,null,null,null,null,null,null,null,null,null,null,"RT5FORENSIC 3 (EPMA)","RT5WE","FORENSIC 3 (EPMA)","RT5WE","FORENSIC 3 (EPMA)","RT5",null,null,"CASTLE HILL HOSPITAL","CIMM"]
[null,null,null,null,null,null,null,null,null,null,null,null,null,null,null,null,null,null,null,null,null,null,null,null,null,null,null,null,null,null,null,null,null,null,null,null,null,null,null,null,null,null,null,null,null,null,null,null,null,null,null,null,null,null,null,null,null,null,null,null,null,null,null,null,null,null,null,null,null,"RT5HINCKLEY AND BOSWORTH 2","RT5H2","HINCKLEY AND BOSWORTH 2","RT5H2","HINCKLEY AND BOSWORTH 2","RT5",null,null,"CASTLE HILL HOSPITAL","TYAD"]
[null,null,null,null,null,null,null,null,null,null,null,null,null,null,null,null,null,null,null,null,null,null,null,null,null,null,null,null,null,null,null,null,null,null,null,null,null,null,null,null,null,null,null,null,null,null,null,null,null,null,null,null,null,null,null,null,null,null,null,null,null,null,null,null,null,null,null,null,null,"RT5LD 6","RT54D","LD 6","RT54D","LD 6","RT5",null,null,"HULL ROYAL INFIRMARY","CYST"]
[null,null,null,null,null,null,null,null,null,null,null,null,null,null,null,null,null,null,null,null,null,null,null,null,null,null,null,null,null,null,null,null,null,null,null,null,null,null,null,null,null,null,null,null,null,null,null,null,null,null,null,null,null,null,null,null,null,null,null,null,null,null,null,null,null,null,null,null,null,"RT5LEICESTER FRITH HOSPITAL (EPMA)","RT5X1","LEICESTER FRITH HOSPITAL (EPMA)","RT5X1","LEICESTER FRITH HOSPITAL (EPMA)","RT5",null,null,"HULL ROYAL INFIRMARY","H21"]
[null,null,null,null,null,null,null,null,null,null,null,null,null,null,null,null,null,null,null,null,null,null,null,null,null,null,null,null,null,null,null,null,null,null,null,null,null,null,null,null,null,null,null,null,null,null,null,null,null,null,null,null,null,null,null,null,null,null,null,null,null,null,null,null,null,null,null,null,null,"RT5MHSOP 1","RT5Q8","MHSOP 1","RT5Q8","MHSOP 1","RT5",null,null,"HULL ROYAL INFIRMARY","H34D"]
[null,null,null,null,null,null,null,null,null,null,null,null,null,null,null,null,null,null,null,null,null,null,null,null,null,null,null,null,null,null,null,null,null,null,null,null,null,null,null,null,null,null,null,null,null,null,null,null,null,null,null,null,null,null,null,null,null,null,null,null,null,null,null,null,null,null,null,null,null,"RT5MHSOP 15 (EPMA)","RT5WL","MHSOP 15 (EPMA)","RT5WL","MHSOP 15 (EPMA)","RT5",null,null,"HULL ROYAL INFIRMARY","H70"]
[null,null,null,null,null,null,null,null,null,null,null,null,null,null,null,null,null,null,null,null,null,null,null,null,null,null,null,null,null,null,null,null,null,null,null,null,null,null,null,null,null,null,null,null,null,null,null,null,null,null,null,null,null,null,null,null,null,null,null,null,null,null,null,null,null,null,null,null,null,"RT5MHSOP 5","RT5A7","MHSOP 5","RT5A7","MHSOP 5","RT5",null,null,"HULL ROYAL INFIRMARY","HDL"]
[null,null,null,null,null,null,null,null,null,null,null,null,null,null,null,null,null,null,null,null,null,null,null,null,null,null,null,null,null,null,null,null,null,null,null,null,null,null,null,null,null,null,null,null,null,null,null,null,null,null,null,null,null,null,null,null,null,null,null,null,null,null,null,null,null,null,null,null,null,"RT5MHSOP 9","RT5T6","MHSOP 9","RT5T6","MHSOP 9","RT5",null,null,"HULL ROYAL INFIRMARY","HNHD"]
[null,null,null,null,null,null,null,null,null,null,null,null,null,null,null,null,null,null,null,null,null,null,null,null,null,null,null,null,null,null,null,null,null,null,null,null,null,null,null,null,null,null,null,null,null,null,null,null,null,null,null,null,null,null,null,null,null,null,null,null,null,null,null,null,null,null,null,null,null,"RT5NW LEICESTERSHIRE 2","RT5J3","NW LEICESTERSHIRE 2","RT5J3","NW LEICESTERSHIRE 2","RT5",null,null,"HULL ROYAL INFIRMARY","HTCB"]
[null,null,null,null,null,null,null,null,null,null,null,null,null,null,null,null,null,null,null,null,null,null,null,null,null,null,null,null,null,null,null,null,null,null,null,null,null,null,null,null,null,null,null,null,null,null,null,null,null,null,null,null,null,null,null,null,null,null,null,null,null,null,null,null,null,null,null,null,null,"RT5RUTLAND HOSPITAL","RT5PC","RUTLAND HOSPITAL","RT5PC","RUTLAND HOSPITAL","RT5",null,null,"HULL ROYAL INFIRMARY","WDSU"]
[null,null,null,null,null,null,null,null,null,null,null,null,null,null,null,null,null,null,null,null,null,null,null,null,null,null,null,null,null,null,null,null,null,null,null,null,null,null,null,null,null,null,null,null,null,null,null,null,null,null,null,null,null,null,null,null,null,null,null,null,null,null,null,null,null,null,null,null,null,"RT5SOUTH LEICESTERSHIRE 2","RT5K9","SOUTH LEICESTERSHIRE 2","RT5K9","SOUTH LEICESTERSHIRE 2","RT5",null,null,"HAWTHORNE CT IN-PATIENT 101720","Hawthorne Court"]
[null,null,null,null,null,null,null,null,null,null,null,null,null,null,null,null,null,null,null,null,null,null,null,null,null,null,null,null,null,null,null,null,null,null,null,null,null,null,null,null,null,null,null,null,null,null,null,null,null,null,null,null,null,null,null,null,null,null,null,null,null,null,null,null,null,null,null,null,null,"RT5TOWERS HOSPITAL (THE CABIN)","RT5MX","TOWERS HOSPITAL (THE CABIN)","RT5MX","TOWERS HOSPITAL (THE CABIN)","RT5",null,null,"CHARING CROSS HOSPITAL","7 North Ward"]
[null,null,null,null,null,null,null,null,null,null,null,null,null,null,null,null,null,null,null,null,null,null,null,null,null,null,null,null,null,null,null,null,null,null,null,null,null,null,null,null,null,null,null,null,null,null,null,null,null,null,null,null,null,null,null,null,null,null,null,null,null,null,null,null,null,null,null,null,null,"RT5TREATMENT AND RECOVERY","RT582","TREATMENT AND RECOVERY","RT582","TREATMENT AND RECOVERY","RT5",null,null,"CHARING CROSS HOSPITAL","7 South Ward"]
[null,null,null,null,null,null,null,null,null,null,null,null,null,null,null,null,null,null,null,null,null,null,null,null,null,null,null,null,null,null,null,null,null,null,null,null,null,null,null,null,null,null,null,null,null,null,null,null,null,null,null,null,null,null,null,null,null,null,null,null,null,null,null,null,null,null,null,null,null,"RTECIRENCESTER HOSPITAL - RTE23","RTE23","CIRENCESTER HOSPITAL - RTE23","RTE23","CIRENCESTER HOSPITAL - RTE23","RTE",null,null,"HAMMERSMITH HOSPITAL","Dewardener Ward"]
[null,null,null,null,null,null,null,null,null,null,null,null,null,null,null,null,null,null,null,null,null,null,null,null,null,null,null,null,null,null,null,null,null,null,null,null,null,null,null,null,null,null,null,null,null,null,null,null,null,null,null,null,null,null,null,null,null,null,null,null,null,null,null,null,null,null,null,null,null,"RTEFOREST VIEW EARLY YEARS CENTRE - RTE40","RTE40","FOREST VIEW EARLY YEARS CENTRE - RTE40","RTE40","FOREST VIEW EARLY YEARS CENTRE - RTE40","RTE",null,null,"QUEEN CHARLOTTE'S HOSPITAL","Birth Centre QCCH"]
[null,null,null,null,null,null,null,null,null,null,null,null,null,null,null,null,null,null,null,null,null,null,null,null,null,null,null,null,null,null,null,null,null,null,null,null,null,null,null,null,null,null,null,null,null,null,null,null,null,null,null,null,null,null,null,null,null,null,null,null,null,null,null,null,null,null,null,null,null,"RTENEWENT EARLY YEARS CENTRE - RTE41","RTE41","NEWENT EARLY YEARS CENTRE - RTE41","RTE41","NEWENT EARLY YEARS CENTRE - RTE41","RTE",null,null,"ST MARY'S HOSPITAL (HQ)","Emergency Medical Short Stay (EMSS)"]
[null,null,null,null,null,null,null,null,null,null,null,null,null,null,null,null,null,null,null,null,null,null,null,null,null,null,null,null,null,null,null,null,null,null,null,null,null,null,null,null,null,null,null,null,null,null,null,null,null,null,null,null,null,null,null,null,null,null,null,null,null,null,null,null,null,null,null,null,null,"RTESTROUD LEISURE CENTRE - RTE54","RTE54","STROUD LEISURE CENTRE - RTE54","RTE54","STROUD LEISURE CENTRE - RTE54","RTE",null,null,"ST MARY'S HOSPITAL (HQ)","NICU"]
[null,null,null,null,null,null,null,null,null,null,null,null,null,null,null,null,null,null,null,null,null,null,null,null,null,null,null,null,null,null,null,null,null,null,null,null,null,null,null,null,null,null,null,null,null,null,null,null,null,null,null,null,null,null,null,null,null,null,null,null,null,null,null,null,null,null,null,null,null,"RTFBERWICK INFIRMARY - RTFDH","RTFDH","BERWICK INFIRMARY - RTFDH","RTFDH","BERWICK INFIRMARY - RTFDH","RTF",null,null,"ST MARY'S HOSPITAL","Coronary Care"]
[null,null,null,null,null,null,null,null,null,null,null,null,null,null,null,null,null,null,null,null,null,null,null,null,null,null,null,null,null,null,null,null,null,null,null,null,null,null,null,null,null,null,null,null,null,null,null,null,null,null,null,null,null,null,null,null,null,null,null,null,null,null,null,null,null,null,null,null,null,"RTFMORPETH COTTAGE HOSPITAL - RTFDM","RTFDM","MORPETH COTTAGE HOSPITAL - RTFDM","RTFDM","MORPETH COTTAGE HOSPITAL - RTFDM","RTF",null,null,"ST MARY'S HOSPITAL","Shackleton Ward"]
[null,null,null,null,null,null,null,null,null,null,null,null,null,null,null,null,null,null,null,null,null,null,null,null,null,null,null,null,null,null,null,null,null,null,null,null,null,null,null,null,null,null,null,null,null,null,null,null,null,null,null,null,null,null,null,null,null,null,null,null,null,null,null,null,null,null,null,null,null,"RTHBARDWELL SCHOOL - RTHE1","RTHE1","BARDWELL SCHOOL - RTHE1","RTHE1","BARDWELL SCHOOL - RTHE1","RTH",null,null,"JAMES PAGET UNIVERSITY HOSPITAL","JPH Ward 22"]
[null,null,null,null,null,null,null,null,null,null,null,null,null,null,null,null,null,null,null,null,null,null,null,null,null,null,null,null,null,null,null,null,null,null,null,null,null,null,null,null,null,null,null,null,null,null,null,null,null,null,null,null,null,null,null,null,null,null,null,null,null,null,null,null,null,null,null,null,null,"RTHBISHOPSWOOD SCHOOL CLINIC, SONNING COMMON - RTHE9","RTHE9","BISHOPSWOOD SCHOOL CLINIC, SONNING COMMON - RTHE9","RTHE9","BISHOPSWOOD SCHOOL CLINIC, SONNING COMMON - RTHE9","RTH",null,null,"JAMES PAGET UNIVERSITY HOSPITAL","JPH Ward 3"]
[null,null,null,null,null,null,null,null,null,null,null,null,null,null,null,null,null,null,null,null,null,null,null,null,null,null,null,null,null,null,null,null,null,null,null,null,null,null,null,null,null,null,null,null,null,null,null,null,null,null,null,null,null,null,null,null,null,null,null,null,null,null,null,null,null,null,null,null,null,"RTHMABEL PRITCHARD SCHOOL","RTHE5","MABEL PRITCHARD SCHOOL","RTHE5","MABEL PRITCHARD SCHOOL","RTH",null,null,"GREENACRES","Cherrywood Ward"]
[null,null,null,null,null,null,null,null,null,null,null,null,null,null,null,null,null,null,null,null,null,null,null,null,null,null,null,null,null,null,null,null,null,null,null,null,null,null,null,null,null,null,null,null,null,null,null,null,null,null,null,null,null,null,null,null,null,null,null,null,null,null,null,null,null,null,null,null,null,"RTKBREWERY ROAD","RTK44","BREWERY ROAD","RTK44","BREWERY ROAD","RTK",null,null,"RIVENDELL","Rivendell"]
[null,null,null,null,null,null,null,null,null,null,null,null,null,null,null,null,null,null,null,null,null,null,null,null,null,null,null,null,null,null,null,null,null,null,null,null,null,null,null,null,null,null,null,null,null,null,null,null,null,null,null,null,null,null,null,null,null,null,null,null,null,null,null,null,null,null,null,null,null,"RTKPRINCESS MARGARET HOSPITAL","RTK50","PRINCESS MARGARET HOSPITAL","RTK50","PRINCESS MARGARET HOSPITAL","RTK",null,null,"QUEEN VICTORIA MEMORIAL HOSPITAL","Heron"]
[null,null,null,null,null,null,null,null,null,null,null,null,null,null,null,null,null,null,null,null,null,null,null,null,null,null,null,null,null,null,null,null,null,null,null,null,null,null,null,null,null,null,null,null,null,null,null,null,null,null,null,null,null,null,null,null,null,null,null,null,null,null,null,null,null,null,null,null,null,"RTKSTANWELL ROAD","RTK21","STANWELL ROAD","RTK21","STANWELL ROAD","RTK",null,null,"KETTERING GENERAL HOSPITAL","Clifford"]
[null,null,null,null,null,null,null,null,null,null,null,null,null,null,null,null,null,null,null,null,null,null,null,null,null,null,null,null,null,null,null,null,null,null,null,null,null,null,null,null,null,null,null,null,null,null,null,null,null,null,null,null,null,null,null,null,null,null,null,null,null,null,null,null,null,null,null,null,null,"RTKYORK HOUSE MEDICAL CENTRE","RTK46","YORK HOUSE MEDICAL CENTRE","RTK46","YORK HOUSE MEDICAL CENTRE","RTK",null,null,"KETTERING GENERAL HOSPITAL","Naseby Wards"]
[null,null,null,null,null,null,null,null,null,null,null,null,null,null,null,null,null,null,null,null,null,null,null,null,null,null,null,null,null,null,null,null,null,null,null,null,null,null,null,null,null,null,null,null,null,null,null,null,null,null,null,null,null,null,null,null,null,null,null,null,null,null,null,null,null,null,null,null,null,"RTQBERKELEY HOSPITAL","RTQ81","BERKELEY HOSPITAL","RTQ81","BERKELEY HOSPITAL","RTQ",null,null,"KING'S COLLEGE HOSPITAL (DENMARK HILL)","Annie Zunz Ward"]
[null,null,null,null,null,null,null,null,null,null,null,null,null,null,null,null,null,null,null,null,null,null,null,null,null,null,null,null,null,null,null,null,null,null,null,null,null,null,null,null,null,null,null,null,null,null,null,null,null,null,null,null,null,null,null,null,null,null,null,null,null,null,null,null,null,null,null,null,null,"RTQHONEYBOURNE","RTQ13","HONEYBOURNE","RTQ13","HONEYBOURNE","RTQ",null,null,"KING'S COLLEGE HOSPITAL (DENMARK HILL)","Katherine Monk Ward"]
[null,null,null,null,null,null,null,null,null,null,null,null,null,null,null,null,null,null,null,null,null,null,null,null,null,null,null,null,null,null,null,null,null,null,null,null,null,null,null,null,null,null,null,null,null,null,null,null,null,null,null,null,null,null,null,null,null,null,null,null,null,null,null,null,null,null,null,null,null,"RTQLYDNEY HOSPITAL","RTQ19","LYDNEY HOSPITAL","RTQ19","LYDNEY HOSPITAL","RTQ",null,null,"KING'S COLLEGE HOSPITAL (DENMARK HILL)","Lister Ward"]
[null,null,null,null,null,null,null,null,null,null,null,null,null,null,null,null,null,null,null,null,null,null,null,null,null,null,null,null,null,null,null,null,null,null,null,null,null,null,null,null,null,null,null,null,null,null,null,null,null,null,null,null,null,null,null,null,null,null,null,null,null,null,null,null,null,null,null,null,null,"RTQUNDERLEAF","RTQ23","UNDERLEAF","RTQ23","UNDERLEAF","RTQ",null,null,"KING'S COLLEGE HOSPITAL (DENMARK HILL)","Toni & Guy Ward"]
[null,null,null,null,null,null,null,null,null,null,null,null,null,null,null,null,null,null,null,null,null,null,null,null,null,null,null,null,null,null,null,null,null,null,null,null,null,null,null,null,null,null,null,null,null,null,null,null,null,null,null,null,null,null,null,null,null,null,null,null,null,null,null,null,null,null,null,null,null,"RTRDUCHESS OF KENT HOSPITAL","RTR09","DUCHESS OF KENT HOSPITAL","RTR09","DUCHESS OF KENT HOSPITAL","RTR",null,null,"ORPINGTON HOSPITAL","Frank Cooksey Ward (ORP)"]
[null,null,null,null,null,null,null,null,null,null,null,null,null,null,null,null,null,null,null,null,null,null,null,null,null,null,null,null,null,null,null,null,null,null,null,null,null,null,null,null,null,null,null,null,null,null,null,null,null,null,null,null,null,null,null,null,null,null,null,null,null,null,null,null,null,null,null,null,null,"RTRTHE JAMES COOK UNIVERSITY HOSPITAL","RTRAT","THE JAMES COOK UNIVERSITY HOSPITAL","RTRAT","THE JAMES COOK UNIVERSITY HOSPITAL","RTR",null,null,"PRINCESS ROYAL UNIVERSITY HOSPITAL","Medical Ward 3"]
[null,null,null,null,null,null,null,null,null,null,null,null,null,null,null,null,null,null,null,null,null,null,null,null,null,null,null,null,null,null,null,null,null,null,null,null,null,null,null,null,null,null,null,null,null,null,null,null,null,null,null,null,null,null,null,null,null,null,null,null,null,null,null,null,null,null,null,null,null,"RTVKIRKBY HEALTH SUITE","RTVJ2","KIRKBY HEALTH SUITE","RTVJ2","KIRKBY HEALTH SUITE","RTV",null,null,"PRINCESS ROYAL UNIVERSITY HOSPITAL","Surgical Ward 7"]
[null,null,null,null,null,null,null,null,null,null,null,null,null,null,null,null,null,null,null,null,null,null,null,null,null,null,null,null,null,null,null,null,null,null,null,null,null,null,null,null,null,null,null,null,null,null,null,null,null,null,null,null,null,null,null,null,null,null,null,null,null,null,null,null,null,null,null,null,null,"RTVNEWTON COMMUNITY HOSPITAL","RTV46","NEWTON COMMUNITY HOSPITAL","RTV46","NEWTON COMMUNITY HOSPITAL","RTV",null,null,"KINGSTON HOSPITAL","Canbury"]
[null,null,null,null,null,null,null,null,null,null,null,null,null,null,null,null,null,null,null,null,null,null,null,null,null,null,null,null,null,null,null,null,null,null,null,null,null,null,null,null,null,null,null,null,null,null,null,null,null,null,null,null,null,null,null,null,null,null,null,null,null,null,null,null,null,null,null,null,null,"RTVSTEPHENSON SUITE - WHISTON HOSPITAL","RTV55","STEPHENSON SUITE - WHISTON HOSPITAL","RTV55","STEPHENSON SUITE - WHISTON HOSPITAL","RTV",null,null,"KINGSTON HOSPITAL","Neonatal Unit"]
[null,null,null,null,null,null,null,null,null,null,null,null,null,null,null,null,null,null,null,null,null,null,null,null,null,null,null,null,null,null,null,null,null,null,null,null,null,null,null,null,null,null,null,null,null,null,null,null,null,null,null,null,null,null,null,null,null,null,null,null,null,null,null,null,null,null,null,null,null,"RV3CHELSEA & WESTMINSTER HOSPITAL","RV331","CHELSEA & WESTMINSTER HOSPITAL","RV331","CHELSEA & WESTMINSTER HOSPITAL","RV3",null,null,"LONGRIDGE COMMUNITY HOSPITAL","A3218 Longridge Ward (C)"]
[null,null,null,null,null,null,null,null,null,null,null,null,null,null,null,null,null,null,null,null,null,null,null,null,null,null,null,null,null,null,null,null,null,null,null,null,null,null,null,null,null,null,null,null,null,null,null,null,null,null,null,null,null,null,null,null,null,null,null,null,null,null,null,null,null,null,null,null,null,"RV3HILLINGDON HOSPITAL","RV3AN","HILLINGDON HOSPITAL","RV3AN","HILLINGDON HOSPITAL","RV3",null,null,"ROYAL BLACKBURN HOSPITAL","L3313 Darwen Ward Mental Health Inpatients (25-65)"]
[null,null,null,null,null,null,null,null,null,null,null,null,null,null,null,null,null,null,null,null,null,null,null,null,null,null,null,null,null,null,null,null,null,null,null,null,null,null,null,null,null,null,null,null,null,null,null,null,null,null,null,null,null,null,null,null,null,null,null,null,null,null,null,null,null,null,null,null,null,"RV3NORTHWOOD & PINNER COMMUNITY HOSPITAL","RV3FG","NORTHWOOD & PINNER COMMUNITY HOSPITAL","RV3FG","NORTHWOOD & PINNER COMMUNITY HOSPITAL","RV3",null,null,"THE HARBOUR","L5105 Harbour - Wordsworth Ward C (65+)"]
[null,null,null,null,null,null,null,null,null,null,null,null,null,null,null,null,null,null,null,null,null,null,null,null,null,null,null,null,null,null,null,null,null,null,null,null,null,null,null,null,null,null,null,null,null,null,null,null,null,null,null,null,null,null,null,null,null,null,null,null,null,null,null,null,null,null,null,null,null,"RV3SOUTHALL CMHRC","RV389","SOUTHALL CMHRC","RV389","SOUTHALL CMHRC","RV3",null,null,"CHORLEY AND SOUTH RIBBLE HOSPITAL","Surgical Unit CDH"]
[null,null,null,null,null,null,null,null,null,null,null,null,null,null,null,null,null,null,null,null,null,null,null,null,null,null,null,null,null,null,null,null,null,null,null,null,null,null,null,null,null,null,null,null,null,null,null,null,null,null,null,null,null,null,null,null,null,null,null,null,null,null,null,null,null,null,null,null,null,"RV5BETHLEM ROYAL HOSPITAL","RV505","BETHLEM ROYAL HOSPITAL","RV505","BETHLEM ROYAL HOSPITAL","RV5",null,null,"ROYAL PRESTON HOSPITAL","Ward 11"]
[null,null,null,null,null,null,null,null,null,null,null,null,null,null,null,null,null,null,null,null,null,null,null,null,null,null,null,null,null,null,null,null,null,null,null,null,null,null,null,null,null,null,null,null,null,null,null,null,null,null,null,null,null,null,null,null,null,null,null,null,null,null,null,null,null,null,null,null,null,"RV5CROYDON MAP WEST","RV5CF","CROYDON MAP WEST","RV5CF","CROYDON MAP WEST","RV5",null,null,"ROYAL PRESTON HOSPITAL","Ward 20"]
[null,null,null,null,null,null,null,null,null,null,null,null,null,null,null,null,null,null,null,null,null,null,null,null,null,null,null,null,null,null,null,null,null,null,null,null,null,null,null,null,null,null,null,null,null,null,null,null,null,null,null,null,null,null,null,null,null,null,null,null,null,null,null,null,null,null,null,null,null,"RV5MAPPIM","RV5DD","MAPPIM","RV5DD","MAPPIM","RV5",null,null,"BECKLIN CENTRE","BECKLIN WARD 2 CR"]
[null,null,null,null,null,null,null,null,null,null,null,null,null,null,null,null,null,null,null,null,null,null,null,null,null,null,null,null,null,null,null,null,null,null,null,null,null,null,null,null,null,null,null,null,null,null,null,null,null,null,null,null,null,null,null,null,null,null,null,null,null,null,null,null,null,null,null,null,null,"RV5N&S CAMHS OAK ADOLESCENT UNIT","RV5FR","N&S CAMHS OAK ADOLESCENT UNIT","RV5FR","N&S CAMHS OAK ADOLESCENT UNIT","RV5",null,null,"NEWSAM CENTRE","NEWSAM WARD 1 PICU"]
[null,null,null,null,null,null,null,null,null,null,null,null,null,null,null,null,null,null,null,null,null,null,null,null,null,null,null,null,null,null,null,null,null,null,null,null,null,null,null,null,null,null,null,null,null,null,null,null,null,null,null,null,null,null,null,null,null,null,null,null,null,null,null,null,null,null,null,null,null,"RV8CENTRAL MIDDLESEX HOSPITAL","RV831","CENTRAL MIDDLESEX HOSPITAL","RV831","CENTRAL MIDDLESEX HOSPITAL","RV8",null,null,"THE MOUNT","THE MOUNT WARD 2 NEW (FEMALE)"]
[null,null,null,null,null,null,null,null,null,null,null,null,null,null,null,null,null,null,null,null,null,null,null,null,null,null,null,null,null,null,null,null,null,null,null,null,null,null,null,null,null,null,null,null,null,null,null,null,null,null,null,null,null,null,null,null,null,null,null,null,null,null,null,null,null,null,null,null,null,"RV9BEECH WARD IN-PATIENT","RV9LA","BEECH WARD IN-PATIENT","RV9LA","BEECH WARD IN-PATIENT","RV9",null,null,"Leeds General Infirmary - RR801","J01 Neonatal unit"]
[null,null,null,null,null,null,null,null,null,null,null,null,null,null,null,null,null,null,null,null,null,null,null,null,null,null,null,null,null,null,null,null,null,null,null,null,null,null,null,null,null,null,null,null,null,null,null,null,null,null,null,null,null,null,null,null,null,null,null,null,null,null,null,null,null,null,null,null,null,"RV9GOOLE & DISTRICT HOSPITAL","RV943","GOOLE & DISTRICT HOSPITAL","RV943","GOOLE & DISTRICT HOSPITAL","RV9",null,null,"Leeds General Infirmary - RR801","J96 NSO In-patients"]
[null,null,null,null,null,null,null,null,null,null,null,null,null,null,null,null,null,null,null,null,null,null,null,null,null,null,null,null,null,null,null,null,null,null,null,null,null,null,null,null,null,null,null,null,null,null,null,null,null,null,null,null,null,null,null,null,null,null,null,null,null,null,null,null,null,null,null,null,null,"RV9LAIRGATE","RV91A","LAIRGATE","RV91A","LAIRGATE","RV9",null,null,"Leeds General Infirmary - RR801","L43 Neonatal"]
[null,null,null,null,null,null,null,null,null,null,null,null,null,null,null,null,null,null,null,null,null,null,null,null,null,null,null,null,null,null,null,null,null,null,null,null,null,null,null,null,null,null,null,null,null,null,null,null,null,null,null,null,null,null,null,null,null,null,null,null,null,null,null,null,null,null,null,null,null,"RV9MALTON HOSPITAL","RV91T","MALTON HOSPITAL","RV91T","MALTON HOSPITAL","RV9",null,null,"St James's University Hospital - RR813","C01 Neuro Rehabilitation"]
[null,null,null,null,null,null,null,null,null,null,null,null,null,null,null,null,null,null,null,null,null,null,null,null,null,null,null,null,null,null,null,null,null,null,null,null,null,null,null,null,null,null,null,null,null,null,null,null,null,null,null,null,null,null,null,null,null,null,null,null,null,null,null,null,null,null,null,null,null,"RV9RHEUMATOLOGY (HEY)","RV9JL","RHEUMATOLOGY (HEY)","RV9JL","RHEUMATOLOGY (HEY)","RV9",null,null,"St James's University Hospital - RR813","J50 Renal In-patient/Transplant"]
[null,null,null,null,null,null,null,null,null,null,null,null,null,null,null,null,null,null,null,null,null,null,null,null,null,null,null,null,null,null,null,null,null,null,null,null,null,null,null,null,null,null,null,null,null,null,null,null,null,null,null,null,null,null,null,null,null,null,null,null,null,null,null,null,null,null,null,null,null,"RV9ST ANDREWS PLACE","RV980","ST ANDREWS PLACE","RV980","ST ANDREWS PLACE","RV9",null,null,"St James's University Hospital - RR813","L14 Cardiology Day Case Ward"]
[null,null,null,null,null,null,null,null,null,null,null,null,null,null,null,null,null,null,null,null,null,null,null,null,null,null,null,null,null,null,null,null,null,null,null,null,null,null,null,null,null,null,null,null,null,null,null,null,null,null,null,null,null,null,null,null,null,null,null,null,null,null,null,null,null,null,null,null,null,"RV9WEST END COMMUNITY MENTAL HEALTH ADOLESCENT UNIT","RV912","WEST END COMMUNITY MENTAL HEALTH ADOLESCENT UNIT","RV912","WEST END COMMUNITY MENTAL HEALTH ADOLESCENT UNIT","RV9",null,null,"St James's University Hospital - RR813","L36 Obstetrics"]
[null,null,null,null,null,null,null,null,null,null,null,null,null,null,null,null,null,null,null,null,null,null,null,null,null,null,null,null,null,null,null,null,null,null,null,null,null,null,null,null,null,null,null,null,null,null,null,null,null,null,null,null,null,null,null,null,null,null,null,null,null,null,null,null,null,null,null,null,null,"RVJCOSSHAM HOSPITAL","RVJ21","COSSHAM HOSPITAL","RVJ21","COSSHAM HOSPITAL","RVJ",null,null,"COALVILLE HOSPITAL","CV Snibston 1"]
[null,null,null,null,null,null,null,null,null,null,null,null,null,null,null,null,null,null,null,null,null,null,null,null,null,null,null,null,null,null,null,null,null,null,null,null,null,null,null,null,null,null,null,null,null,null,null,null,null,null,null,null,null,null,null,null,null,null,null,null,null,null,null,null,null,null,null,null,null,"RVJLYDNEY HOSPITAL SITE","RVJ09","LYDNEY HOSPITAL SITE","RVJ09","LYDNEY HOSPITAL SITE","RVJ",null,null,"Evington Centre","EC Coleman"]
[null,null,null,null,null,null,null,null,null,null,null,null,null,null,null,null,null,null,null,null,null,null,null,null,null,null,null,null,null,null,null,null,null,null,null,null,null,null,null,null,null,null,null,null,null,null,null,null,null,null,null,null,null,null,null,null,null,null,null,null,null,null,null,null,null,null,null,null,null,"RVNCOLSTON FORT","RVN3L","COLSTON FORT","RVN3L","COLSTON FORT","RVN",null,null,"THE BRADGATE MENTAL HEALTH UNIT","Thornton"]
[null,null,null,null,null,null,null,null,null,null,null,null,null,null,null,null,null,null,null,null,null,null,null,null,null,null,null,null,null,null,null,null,null,null,null,null,null,null,null,null,null,null,null,null,null,null,null,null,null,null,null,null,null,null,null,null,null,null,null,null,null,null,null,null,null,null,null,null,null,"RVNNORTH SOMERSET ADULT","RVNT1","NORTH SOMERSET ADULT","RVNT1","NORTH SOMERSET ADULT","RVN",null,null,"QUEEN ELIZABETH HOSPITAL","Ward 15"]
[null,null,null,null,null,null,null,null,null,null,null,null,null,null,null,null,null,null,null,null,null,null,null,null,null,null,null,null,null,null,null,null,null,null,null,null,null,null,null,null,null,null,null,null,null,null,null,null,null,null,null,null,null,null,null,null,null,null,null,null,null,null,null,null,null,null,null,null,null,"RVNOP SWINDON MEMORY","RVNRK","OP SWINDON MEMORY","RVNRK","OP SWINDON MEMORY","RVN",null,null,"QUEEN ELIZABETH HOSPITAL","Ward 7 and Delivery Suite"]
[null,null,null,null,null,null,null,null,null,null,null,null,null,null,null,null,null,null,null,null,null,null,null,null,null,null,null,null,null,null,null,null,null,null,null,null,null,null,null,null,null,null,null,null,null,null,null,null,null,null,null,null,null,null,null,null,null,null,null,null,null,null,null,null,null,null,null,null,null,"RVNSOUTH WILTS ADAS","RVNW8","SOUTH WILTS ADAS","RVNW8","SOUTH WILTS ADAS","RVN",null,null,"UNIVERSITY HOSPITAL LEWISHAM","Chestnut Ward"]
[null,null,null,null,null,null,null,null,null,null,null,null,null,null,null,null,null,null,null,null,null,null,null,null,null,null,null,null,null,null,null,null,null,null,null,null,null,null,null,null,null,null,null,null,null,null,null,null,null,null,null,null,null,null,null,null,null,null,null,null,null,null,null,null,null,null,null,null,null,"RVNWESTBURY HOSPITAL","RVN6W","WESTBURY HOSPITAL","RVN6W","WESTBURY HOSPITAL","RVN",null,null,"UNIVERSITY HOSPITAL LEWISHAM","Oak Ward"]
[null,null,null,null,null,null,null,null,null,null,null,null,null,null,null,null,null,null,null,null,null,null,null,null,null,null,null,null,null,null,null,null,null,null,null,null,null,null,null,null,null,null,null,null,null,null,null,null,null,null,null,null,null,null,null,null,null,null,null,null,null,null,null,null,null,null,null,null,null,"RVRNELSON HOSPITAL","RVR04","NELSON HOSPITAL","RVR04","NELSON HOSPITAL","RVR",null,null,"274 SSRH1 MAPLE LODGE REHAB L21525","Maple Lodge"]
[null,null,null,null,null,null,null,null,null,null,null,null,null,null,null,null,null,null,null,null,null,null,null,null,null,null,null,null,null,null,null,null,null,null,null,null,null,null,null,null,null,null,null,null,null,null,null,null,null,null,null,null,null,null,null,null,null,null,null,null,null,null,null,null,null,null,null,null,null,"RVVMAIDSTONE DISTRICT GENERAL HOSPITAL","RVVMA","MAIDSTONE DISTRICT GENERAL HOSPITAL","RVVMA","MAIDSTONE DISTRICT GENERAL HOSPITAL","RVV",null,null,"MENTAL HEALTH UNIT FOR OLDER PEOPLE - ROCHFORD UNIT","Rochford"]
[null,null,null,null,null,null,null,null,null,null,null,null,null,null,null,null,null,null,null,null,null,null,null,null,null,null,null,null,null,null,null,null,null,null,null,null,null,null,null,null,null,null,null,null,null,null,null,null,null,null,null,null,null,null,null,null,null,null,null,null,null,null,null,null,null,null,null,null,null,"RVVWHITSTABLE AND TANKERTON HOSPITAL","RVVWT","WHITSTABLE AND TANKERTON HOSPITAL","RVVWT","WHITSTABLE AND TANKERTON HOSPITAL","RVV",null,null,"LIVERPOOL WOMENS HOSPITAL","Gynae Ward"]
[null,null,null,null,null,null,null,null,null,null,null,null,null,null,null,null,null,null,null,null,null,null,null,null,null,null,null,null,null,null,null,null,null,null,null,null,null,null,null,null,null,null,null,null,null,null,null,null,null,null,null,null,null,null,null,null,null,null,null,null,null,null,null,null,null,null,null,null,null,"RW1BEECH HURST","RW1TC","BEECH HURST","RW1TC","BEECH HURST","RW1",null,null,"EALING HOSPITAL","Ward 5 South"]
[null,null,null,null,null,null,null,null,null,null,null,null,null,null,null,null,null,null,null,null,null,null,null,null,null,null,null,null,null,null,null,null,null,null,null,null,null,null,null,null,null,null,null,null,null,null,null,null,null,null,null,null,null,null,null,null,null,null,null,null,null,null,null,null,null,null,null,null,null,"RW1CASS SOUTHAMPTON","RW1FC","CASS SOUTHAMPTON","RW1FC","CASS SOUTHAMPTON","RW1",null,null,"NORTHWICK PARK HOSPITAL","Clarke"]
[null,null,null,null,null,null,null,null,null,null,null,null,null,null,null,null,null,null,null,null,null,null,null,null,null,null,null,null,null,null,null,null,null,null,null,null,null,null,null,null,null,null,null,null,null,null,null,null,null,null,null,null,null,null,null,null,null,null,null,null,null,null,null,null,null,null,null,null,null,"RW1E&TVS CLDT","RW1FL","E&TVS CLDT","RW1FL","E&TVS CLDT","RW1",null,null,"NORTHWICK PARK HOSPITAL","Fletcher (Gastro)"]
[null,null,null,null,null,null,null,null,null,null,null,null,null,null,null,null,null,null,null,null,null,null,null,null,null,null,null,null,null,null,null,null,null,null,null,null,null,null,null,null,null,null,null,null,null,null,null,null,null,null,null,null,null,null,null,null,null,null,null,null,null,null,null,null,null,null,null,null,null,"RW1FAREHAM & GOSPORT CLDT","RW1VQ","FAREHAM & GOSPORT CLDT","RW1VQ","FAREHAM & GOSPORT CLDT","RW1",null,null,"NORTHWICK PARK HOSPITAL","James"]
[null,null,null,null,null,null,null,null,null,null,null,null,null,null,null,null,null,null,null,null,null,null,null,null,null,null,null,null,null,null,null,null,null,null,null,null,null,null,null,null,null,null,null,null,null,null,null,null,null,null,null,null,null,null,null,null,null,null,null,null,null,null,null,null,null,null,null,null,null,"RW1GOSPORT WAR MEMORIAL HOSPITAL","RW158","GOSPORT WAR MEMORIAL HOSPITAL","RW158","GOSPORT WAR MEMORIAL HOSPITAL","RW1",null,null,"LUTON AND DUNSTABLE HOSPITAL","Cobham Clinic"]
[null,null,null,null,null,null,null,null,null,null,null,null,null,null,null,null,null,null,null,null,null,null,null,null,null,null,null,null,null,null,null,null,null,null,null,null,null,null,null,null,null,null,null,null,null,null,null,null,null,null,null,null,null,null,null,null,null,null,null,null,null,null,null,null,null,null,null,null,null,"RW1HAVANT & PETERSFIELD EMH","RW1XY","HAVANT & PETERSFIELD EMH","RW1XY","HAVANT & PETERSFIELD EMH","RW1",null,null,"LUTON AND DUNSTABLE HOSPITAL","Respiratory Ward (Ward 10)"]
[null,null,null,null,null,null,null,null,null,null,null,null,null,null,null,null,null,null,null,null,null,null,null,null,null,null,null,null,null,null,null,null,null,null,null,null,null,null,null,null,null,null,null,null,null,null,null,null,null,null,null,null,null,null,null,null,null,null,null,null,null,null,null,null,null,null,null,null,null,"RW1KENNETT","RW1HX","KENNETT","RW1HX","KENNETT","RW1",null,null,"LUTON AND DUNSTABLE HOSPITAL","Ward 23"]
[null,null,null,null,null,null,null,null,null,null,null,null,null,null,null,null,null,null,null,null,null,null,null,null,null,null,null,null,null,null,null,null,null,null,null,null,null,null,null,null,null,null,null,null,null,null,null,null,null,null,null,null,null,null,null,null,null,null,null,null,null,null,null,null,null,null,null,null,null,"RW1MALCOLM FAULK RAVENSWOOD","RW1C4","MALCOLM FAULK RAVENSWOOD","RW1C4","MALCOLM FAULK RAVENSWOOD","RW1",null,null,"MAIDSTONE DISTRICT GENERAL HOSPITAL","Culpepper (incl CCU)"]
[null,null,null,null,null,null,null,null,null,null,null,null,null,null,null,null,null,null,null,null,null,null,null,null,null,null,null,null,null,null,null,null,null,null,null,null,null,null,null,null,null,null,null,null,null,null,null,null,null,null,null,null,null,null,null,null,null,null,null,null,null,null,null,null,null,null,null,null,null,"RW1OLD VICARAGE","RW182","OLD VICARAGE","RW182","OLD VICARAGE","RW1",null,null,"THE TUNBRIDGE WELLS HOSPITAL","SSSU"]
[null,null,null,null,null,null,null,null,null,null,null,null,null,null,null,null,null,null,null,null,null,null,null,null,null,null,null,null,null,null,null,null,null,null,null,null,null,null,null,null,null,null,null,null,null,null,null,null,null,null,null,null,null,null,null,null,null,null,null,null,null,null,null,null,null,null,null,null,null,"RW1PSYCHOTHERAPY","RW1VY","PSYCHOTHERAPY","RW1VY","PSYCHOTHERAPY","RW1",null,null,"MANCHESTER ROYAL INFIRMARY","30M - 30M"]
[null,null,null,null,null,null,null,null,null,null,null,null,null,null,null,null,null,null,null,null,null,null,null,null,null,null,null,null,null,null,null,null,null,null,null,null,null,null,null,null,null,null,null,null,null,null,null,null,null,null,null,null,null,null,null,null,null,null,null,null,null,null,null,null,null,null,null,null,null,"RW1REHAB SOUTHAMPTON","RW1CD","REHAB SOUTHAMPTON","RW1CD","REHAB SOUTHAMPTON","RW1",null,null,"MANCHESTER ROYAL INFIRMARY","4M - Ward 4"]
[null,null,null,null,null,null,null,null,null,null,null,null,null,null,null,null,null,null,null,null,null,null,null,null,null,null,null,null,null,null,null,null,null,null,null,null,null,null,null,null,null,null,null,null,null,null,null,null,null,null,null,null,null,null,null,null,null,null,null,null,null,null,null,null,null,null,null,null,null,"RW1SOLENT MIND","RW1FF","SOLENT MIND","RW1FF","SOLENT MIND","RW1",null,null,"MANCHESTER ROYAL INFIRMARY","CSITU"]
[null,null,null,null,null,null,null,null,null,null,null,null,null,null,null,null,null,null,null,null,null,null,null,null,null,null,null,null,null,null,null,null,null,null,null,null,null,null,null,null,null,null,null,null,null,null,null,null,null,null,null,null,null,null,null,null,null,null,null,null,null,null,null,null,null,null,null,null,null,"RW1TAMARINE","RW1R3","TAMARINE","RW1R3","TAMARINE","RW1",null,null,"ROYAL MANCHESTER CHILDREN'S HOSPITAL","84 - Ward 84"]
[null,null,null,null,null,null,null,null,null,null,null,null,null,null,null,null,null,null,null,null,null,null,null,null,null,null,null,null,null,null,null,null,null,null,null,null,null,null,null,null,null,null,null,null,null,null,null,null,null,null,null,null,null,null,null,null,null,null,null,null,null,null,null,null,null,null,null,null,null,"RW1TROWBRIDGE COMMUNITY HOSPITAL","RW1HP","TROWBRIDGE COMMUNITY HOSPITAL","RW1HP","TROWBRIDGE COMMUNITY HOSPITAL","RW1",null,null,"TRAFFORD GENERAL HOSPITAL","AMU - Trafford"]
[null,null,null,null,null,null,null,null,null,null,null,null,null,null,null,null,null,null,null,null,null,null,null,null,null,null,null,null,null,null,null,null,null,null,null,null,null,null,null,null,null,null,null,null,null,null,null,null,null,null,null,null,null,null,null,null,null,null,null,null,null,null,null,null,null,null,null,null,null,"RW1WESTERN COMMUNITY HOSPITAL","RW155","WESTERN COMMUNITY HOSPITAL","RW155","WESTERN COMMUNITY HOSPITAL","RW1",null,null,"WYTHENSHAWE HOSPITAL","A2"]
[null,null,null,null,null,null,null,null,null,null,null,null,null,null,null,null,null,null,null,null,null,null,null,null,null,null,null,null,null,null,null,null,null,null,null,null,null,null,null,null,null,null,null,null,null,null,null,null,null,null,null,null,null,null,null,null,null,null,null,null,null,null,null,null,null,null,null,null,null,"RW4BOOTHROYD WARD","RW449","BOOTHROYD WARD","RW449","BOOTHROYD WARD","RW4",null,null,"WYTHENSHAWE HOSPITAL","AMU"]
[null,null,null,null,null,null,null,null,null,null,null,null,null,null,null,null,null,null,null,null,null,null,null,null,null,null,null,null,null,null,null,null,null,null,null,null,null,null,null,null,null,null,null,null,null,null,null,null,null,null,null,null,null,null,null,null,null,null,null,null,null,null,null,null,null,null,null,null,null,"RW4LIVERPOOL EIT","RW468","LIVERPOOL EIT","RW468","LIVERPOOL EIT","RW4",null,null,"WYTHENSHAWE HOSPITAL","F6"]
[null,null,null,null,null,null,null,null,null,null,null,null,null,null,null,null,null,null,null,null,null,null,null,null,null,null,null,null,null,null,null,null,null,null,null,null,null,null,null,null,null,null,null,null,null,null,null,null,null,null,null,null,null,null,null,null,null,null,null,null,null,null,null,null,null,null,null,null,null,"RW4REHAB RES1","RW478","REHAB RES1","RW478","REHAB RES1","RW4",null,null,"MEDWAY MARITIME HOSPITAL - RPA02","Dickens"]
[null,null,null,null,null,null,null,null,null,null,null,null,null,null,null,null,null,null,null,null,null,null,null,null,null,null,null,null,null,null,null,null,null,null,null,null,null,null,null,null,null,null,null,null,null,null,null,null,null,null,null,null,null,null,null,null,null,null,null,null,null,null,null,null,null,null,null,null,null,"RW4VAUHALL & ANFIELD CHMT","RW464","VAUHALL & ANFIELD CHMT","RW464","VAUHALL & ANFIELD CHMT","RW4",null,null,"MEDWAY MARITIME HOSPITAL - RPA02","McCulloch"]
[null,null,null,null,null,null,null,null,null,null,null,null,null,null,null,null,null,null,null,null,null,null,null,null,null,null,null,null,null,null,null,null,null,null,null,null,null,null,null,null,null,null,null,null,null,null,null,null,null,null,null,null,null,null,null,null,null,null,null,null,null,null,null,null,null,null,null,null,null,"RW5BURNLEY GENERAL HOSPITAL","RW5CA","BURNLEY GENERAL HOSPITAL","RW5CA","BURNLEY GENERAL HOSPITAL","RW5",null,null,"MEDWAY MARITIME HOSPITAL - RPA02","The Birth Place"]
[null,null,null,null,null,null,null,null,null,null,null,null,null,null,null,null,null,null,null,null,null,null,null,null,null,null,null,null,null,null,null,null,null,null,null,null,null,null,null,null,null,null,null,null,null,null,null,null,null,null,null,null,null,null,null,null,null,null,null,null,null,null,null,null,null,null,null,null,null,"RW5CHORLEY & SOUTH RIBBLE CCTT","RW5VE","CHORLEY & SOUTH RIBBLE CCTT","RW5VE","CHORLEY & SOUTH RIBBLE CCTT","RW5",null,null,"Ashworth Hospital","Dickens"]
[null,null,null,null,null,null,null,null,null,null,null,null,null,null,null,null,null,null,null,null,null,null,null,null,null,null,null,null,null,null,null,null,null,null,null,null,null,null,null,null,null,null,null,null,null,null,null,null,null,null,null,null,null,null,null,null,null,null,null,null,null,null,null,null,null,null,null,null,null,"RW5GREY GABLES COTTAGE","RW5GQ","GREY GABLES COTTAGE","RW5GQ","GREY GABLES COTTAGE","RW5",null,null,"Ashworth Hospital","Tennyson"]
[null,null,null,null,null,null,null,null,null,null,null,null,null,null,null,null,null,null,null,null,null,null,null,null,null,null,null,null,null,null,null,null,null,null,null,null,null,null,null,null,null,null,null,null,null,null,null,null,null,null,null,null,null,null,null,null,null,null,null,null,null,null,null,null,null,null,null,null,null,"RW5ORMSKIRK AND DISTRICT GENERAL HOSPITAL","RW5FA","ORMSKIRK AND DISTRICT GENERAL HOSPITAL","RW5FA","ORMSKIRK AND DISTRICT GENERAL HOSPITAL","RW5",null,null,"CLOCK VIEW HOSPITAL","Newton PICU"]
[null,null,null,null,null,null,null,null,null,null,null,null,null,null,null,null,null,null,null,null,null,null,null,null,null,null,null,null,null,null,null,null,null,null,null,null,null,null,null,null,null,null,null,null,null,null,null,null,null,null,null,null,null,null,null,null,null,null,null,null,null,null,null,null,null,null,null,null,null,"RW5RIBBLETON HOSPITAL","RW5EF","RIBBLETON HOSPITAL","RW5EF","RIBBLETON HOSPITAL","RW5",null,null,"RATHBONE HOSPITAL","Rathbone Rehabilitation Centre"]
[null,null,null,null,null,null,null,null,null,null,null,null,null,null,null,null,null,null,null,null,null,null,null,null,null,null,null,null,null,null,null,null,null,null,null,null,null,null,null,null,null,null,null,null,null,null,null,null,null,null,null,null,null,null,null,null,null,null,null,null,null,null,null,null,null,null,null,null,null,{"$f":"CONCATENATE(LEFT(BS2905, 3),BT2905)","v":"RW6BIRCH HILL HOSPITAL"},"RW605","BIRCH HILL HOSPITAL","RW605","BIRCH HILL HOSPITAL","RW6",null,null,"LEIGHTON HOSPITAL","Ward 19 Winter Ward"]
[null,null,null,null,null,null,null,null,null,null,null,null,null,null,null,null,null,null,null,null,null,null,null,null,null,null,null,null,null,null,null,null,null,null,null,null,null,null,null,null,null,null,null,null,null,null,null,null,null,null,null,null,null,null,null,null,null,null,null,null,null,null,null,null,null,null,null,null,null,"RWATHE ARTIFICIAL LIMB UNIT","RWA32","THE ARTIFICIAL LIMB UNIT","RWA32","THE ARTIFICIAL LIMB UNIT","RWA",null,null,"BROOMFIELD HOSPITAL - RQ8L0","A4.3 Postnatal Ward"]
[null,null,null,null,null,null,null,null,null,null,null,null,null,null,null,null,null,null,null,null,null,null,null,null,null,null,null,null,null,null,null,null,null,null,null,null,null,null,null,null,null,null,null,null,null,null,null,null,null,null,null,null,null,null,null,null,null,null,null,null,null,null,null,null,null,null,null,null,null,"RWDST GEORGES HOSPITAL","RWDBM","ST GEORGES HOSPITAL","RWDBM","ST GEORGES HOSPITAL","RWD",null,null,"BROOMFIELD HOSPITAL - RQ8L0","Burns Children Ward"]
[null,null,null,null,null,null,null,null,null,null,null,null,null,null,null,null,null,null,null,null,null,null,null,null,null,null,null,null,null,null,null,null,null,null,null,null,null,null,null,null,null,null,null,null,null,null,null,null,null,null,null,null,null,null,null,null,null,null,null,null,null,null,null,null,null,null,null,null,null,"RWFKENT AND CANTERBURY HOSPITAL","RWF27","KENT AND CANTERBURY HOSPITAL","RWF27","KENT AND CANTERBURY HOSPITAL","RWF",null,null,"BROOMFIELD HOSPITAL - RQ8L0","Rayne Ward"]
[null,null,null,null,null,null,null,null,null,null,null,null,null,null,null,null,null,null,null,null,null,null,null,null,null,null,null,null,null,null,null,null,null,null,null,null,null,null,null,null,null,null,null,null,null,null,null,null,null,null,null,null,null,null,null,null,null,null,null,null,null,null,null,null,null,null,null,null,null,"RWFTHE TUNBRIDGE WELLS HOSPITAL","RWFTW","THE TUNBRIDGE WELLS HOSPITAL","RWFTW","THE TUNBRIDGE WELLS HOSPITAL","RWF",null,null,"DEWSBURY AND DISTRICT HOSPITAL","Ward 2 Elderly Step Down"]
[null,null,null,null,null,null,null,null,null,null,null,null,null,null,null,null,null,null,null,null,null,null,null,null,null,null,null,null,null,null,null,null,null,null,null,null,null,null,null,null,null,null,null,null,null,null,null,null,null,null,null,null,null,null,null,null,null,null,null,null,null,null,null,null,null,null,null,null,null,"RWFVICTORIA HOSPITAL","RWF17","VICTORIA HOSPITAL","RWF17","VICTORIA HOSPITAL","RWF",null,null,"DEWSBURY AND DISTRICT HOSPITAL","Ward 9 DDH, ACE Assessment Unit"]
[null,null,null,null,null,null,null,null,null,null,null,null,null,null,null,null,null,null,null,null,null,null,null,null,null,null,null,null,null,null,null,null,null,null,null,null,null,null,null,null,null,null,null,null,null,null,null,null,null,null,null,null,null,null,null,null,null,null,null,null,null,null,null,null,null,null,null,null,null,"RWJBUXTON COTTAGE HOSPITAL","RWJ83","BUXTON COTTAGE HOSPITAL","RWJ83","BUXTON COTTAGE HOSPITAL","RWJ",null,null,"PINDERFIELDS GENERAL HOSPITAL","Gate 32 PGH, Diabetes & Endocrine"]
[null,null,null,null,null,null,null,null,null,null,null,null,null,null,null,null,null,null,null,null,null,null,null,null,null,null,null,null,null,null,null,null,null,null,null,null,null,null,null,null,null,null,null,null,null,null,null,null,null,null,null,null,null,null,null,null,null,null,null,null,null,null,null,null,null,null,null,null,null,"RWKBARFORD AVENUE RESOURCE CENTRE","RWK1M","BARFORD AVENUE RESOURCE CENTRE","RWK1M","BARFORD AVENUE RESOURCE CENTRE","RWK",null,null,"PINDERFIELDS GENERAL HOSPITAL","Gate 44 PGH, Gastroenterology"]
[null,null,null,null,null,null,null,null,null,null,null,null,null,null,null,null,null,null,null,null,null,null,null,null,null,null,null,null,null,null,null,null,null,null,null,null,null,null,null,null,null,null,null,null,null,null,null,null,null,null,null,null,null,null,null,null,null,null,null,null,null,null,null,null,null,null,null,null,null,"RWKLONDON ROAD REHABILITATION","RWK2W","LONDON ROAD REHABILITATION","RWK2W","LONDON ROAD REHABILITATION","RWK",null,null,"OLDER PEOPLE 10","Chatterley"]
[null,null,null,null,null,null,null,null,null,null,null,null,null,null,null,null,null,null,null,null,null,null,null,null,null,null,null,null,null,null,null,null,null,null,null,null,null,null,null,null,null,null,null,null,null,null,null,null,null,null,null,null,null,null,null,null,null,null,null,null,null,null,null,null,null,null,null,null,null,"RWKWOLFSON HOUSE","RWK85","WOLFSON HOUSE","RWK85","WOLFSON HOUSE","RWK",null,null,"ST GEORGE'S HOSPITAL","Radford House"]
[null,null,null,null,null,null,null,null,null,null,null,null,null,null,null,null,null,null,null,null,null,null,null,null,null,null,null,null,null,null,null,null,null,null,null,null,null,null,null,null,null,null,null,null,null,null,null,null,null,null,null,null,null,null,null,null,null,null,null,null,null,null,null,null,null,null,null,null,null,"RWNBEDFORD SSMS [HEALTHLINK]","RWN08","BEDFORD SSMS [HEALTHLINK]","RWN08","BEDFORD SSMS [HEALTHLINK]","RWN",null,null,"MILTON KEYNES HOSPITAL","AMU"]
[null,null,null,null,null,null,null,null,null,null,null,null,null,null,null,null,null,null,null,null,null,null,null,null,null,null,null,null,null,null,null,null,null,null,null,null,null,null,null,null,null,null,null,null,null,null,null,null,null,null,null,null,null,null,null,null,null,null,null,null,null,null,null,null,null,null,null,null,null,"RWNHERTS AND ESSEX HOSPITAL","RWNTG","HERTS AND ESSEX HOSPITAL","RWNTG","HERTS AND ESSEX HOSPITAL","RWN",null,null,"MILTON KEYNES HOSPITAL","Ward 22"]
[null,null,null,null,null,null,null,null,null,null,null,null,null,null,null,null,null,null,null,null,null,null,null,null,null,null,null,null,null,null,null,null,null,null,null,null,null,null,null,null,null,null,null,null,null,null,null,null,null,null,null,null,null,null,null,null,null,null,null,null,null,null,null,null,null,null,null,null,null,"RWNLUTON INTERMEDIATE ASSESSMENT UNIT","RWNL2","LUTON INTERMEDIATE ASSESSMENT UNIT","RWNL2","LUTON INTERMEDIATE ASSESSMENT UNIT","RWN",null,null,"MOORFIELDS AT ST GEORGE'S HOSPITAL - RP604","Duke Elder Ward"]
[null,null,null,null,null,null,null,null,null,null,null,null,null,null,null,null,null,null,null,null,null,null,null,null,null,null,null,null,null,null,null,null,null,null,null,null,null,null,null,null,null,null,null,null,null,null,null,null,null,null,null,null,null,null,null,null,null,null,null,null,null,null,null,null,null,null,null,null,null,"RWNOPMH IVEL VALLEY","RWN26","OPMH IVEL VALLEY","RWN26","OPMH IVEL VALLEY","RWN",null,null,"NORFOLK AND NORWICH UNIVERSITY HOSPITAL","Cley Gynaecology"]
[null,null,null,null,null,null,null,null,null,null,null,null,null,null,null,null,null,null,null,null,null,null,null,null,null,null,null,null,null,null,null,null,null,null,null,null,null,null,null,null,null,null,null,null,null,null,null,null,null,null,null,null,null,null,null,null,null,null,null,null,null,null,null,null,null,null,null,null,null,"RWNSOUTHEND CDAS","RWN93","SOUTHEND CDAS","RWN93","SOUTHEND CDAS","RWN",null,null,"NORFOLK AND NORWICH UNIVERSITY HOSPITAL","Elsing Ward"]
[null,null,null,null,null,null,null,null,null,null,null,null,null,null,null,null,null,null,null,null,null,null,null,null,null,null,null,null,null,null,null,null,null,null,null,null,null,null,null,null,null,null,null,null,null,null,null,null,null,null,null,null,null,null,null,null,null,null,null,null,null,null,null,null,null,null,null,null,null,"RWPKIDDERMINSTER TREATMENT CENTRE","RWPTC","KIDDERMINSTER TREATMENT CENTRE","RWPTC","KIDDERMINSTER TREATMENT CENTRE","RWP",null,null,"NORFOLK AND NORWICH UNIVERSITY HOSPITAL","Mulbarton Ward"]
[null,null,null,null,null,null,null,null,null,null,null,null,null,null,null,null,null,null,null,null,null,null,null,null,null,null,null,null,null,null,null,null,null,null,null,null,null,null,null,null,null,null,null,null,null,null,null,null,null,null,null,null,null,null,null,null,null,null,null,null,null,null,null,null,null,null,null,null,null,"RWRAPPLETREES & CHERRYTREES","RWR15","APPLETREES & CHERRYTREES","RWR15","APPLETREES & CHERRYTREES","RWR",null,null,"HELLESDON HOSPITAL","Waveney Ward"]
[null,null,null,null,null,null,null,null,null,null,null,null,null,null,null,null,null,null,null,null,null,null,null,null,null,null,null,null,null,null,null,null,null,null,null,null,null,null,null,null,null,null,null,null,null,null,null,null,null,null,null,null,null,null,null,null,null,null,null,null,null,null,null,null,null,null,null,null,null,"RWRLOGANDENE EMI UNIT","RWR32","LOGANDENE EMI UNIT","RWR32","LOGANDENE EMI UNIT","RWR",null,null,"Colman Hospital","Pine Cottage"]
[null,null,null,null,null,null,null,null,null,null,null,null,null,null,null,null,null,null,null,null,null,null,null,null,null,null,null,null,null,null,null,null,null,null,null,null,null,null,null,null,null,null,null,null,null,null,null,null,null,null,null,null,null,null,null,null,null,null,null,null,null,null,null,null,null,null,null,null,null,"RWRQE2 ADULT WELWYN WARD MENTAL HEALTH UNIT","RWRA7","QE2 ADULT WELWYN WARD MENTAL HEALTH UNIT","RWRA7","QE2 ADULT WELWYN WARD MENTAL HEALTH UNIT","RWR",null,null,"Squirrels (5 Mill Close)","Squirrels"]
[null,null,null,null,null,null,null,null,null,null,null,null,null,null,null,null,null,null,null,null,null,null,null,null,null,null,null,null,null,null,null,null,null,null,null,null,null,null,null,null,null,null,null,null,null,null,null,null,null,null,null,null,null,null,null,null,null,null,null,null,null,null,null,null,null,null,null,null,null,"RWRSHRODELLS UNIT","RWR74","SHRODELLS UNIT","RWR74","SHRODELLS UNIT","RWR",null,null,"SOUTHMEAD HOSPITAL","BBS_L2G25a"]
[null,null,null,null,null,null,null,null,null,null,null,null,null,null,null,null,null,null,null,null,null,null,null,null,null,null,null,null,null,null,null,null,null,null,null,null,null,null,null,null,null,null,null,null,null,null,null,null,null,null,null,null,null,null,null,null,null,null,null,null,null,null,null,null,null,null,null,null,null,"RWRTHE BEACON","RWRG9","THE BEACON","RWRG9","THE BEACON","RWR",null,null,"SOUTHMEAD HOSPITAL","BBS_L4G8a"]
[null,null,null,null,null,null,null,null,null,null,null,null,null,null,null,null,null,null,null,null,null,null,null,null,null,null,null,null,null,null,null,null,null,null,null,null,null,null,null,null,null,null,null,null,null,null,null,null,null,null,null,null,null,null,null,null,null,null,null,null,null,null,null,null,null,null,null,null,null,"RWVCRHT EXETER","RWVCR","CRHT EXETER","RWVCR","CRHT EXETER","RWV",null,null,"SOUTHMEAD HOSPITAL","MAT_NEOICU"]
[null,null,null,null,null,null,null,null,null,null,null,null,null,null,null,null,null,null,null,null,null,null,null,null,null,null,null,null,null,null,null,null,null,null,null,null,null,null,null,null,null,null,null,null,null,null,null,null,null,null,null,null,null,null,null,null,null,null,null,null,null,null,null,null,null,null,null,null,null,"RWVDEVON DRUG SV(NTH P/C)NMP","RWVN8","DEVON DRUG SV(NTH P/C)NMP","RWVN8","DEVON DRUG SV(NTH P/C)NMP","RWV",null,null,"CUMBERLAND INFIRMARY","ELM B"]
[null,null,null,null,null,null,null,null,null,null,null,null,null,null,null,null,null,null,null,null,null,null,null,null,null,null,null,null,null,null,null,null,null,null,null,null,null,null,null,null,null,null,null,null,null,null,null,null,null,null,null,null,null,null,null,null,null,null,null,null,null,null,null,null,null,null,null,null,null,"RWVNORTH DEVON DAS","RWV46","NORTH DEVON DAS","RWV46","NORTH DEVON DAS","RWV",null,null,"WEST CUMBERLAND HOSPITAL","CORONARY CARE"]
[null,null,null,null,null,null,null,null,null,null,null,null,null,null,null,null,null,null,null,null,null,null,null,null,null,null,null,null,null,null,null,null,null,null,null,null,null,null,null,null,null,null,null,null,null,null,null,null,null,null,null,null,null,null,null,null,null,null,null,null,null,null,null,null,null,null,null,null,null,"RWVOPMH (SIDMOUTH & SEATON)","RWVCP","OPMH (SIDMOUTH & SEATON)","RWVCP","OPMH (SIDMOUTH & SEATON)","RWV",null,null,"WEST CUMBERLAND HOSPITAL","SCBU"]
[null,null,null,null,null,null,null,null,null,null,null,null,null,null,null,null,null,null,null,null,null,null,null,null,null,null,null,null,null,null,null,null,null,null,null,null,null,null,null,null,null,null,null,null,null,null,null,null,null,null,null,null,null,null,null,null,null,null,null,null,null,null,null,null,null,null,null,null,null,"RWVTEIGNBRIDGE CRS (NMP)","RWVNN","TEIGNBRIDGE CRS (NMP)","RWVNN","TEIGNBRIDGE CRS (NMP)","RWV",null,null,"KING GEORGES HOSPITAL","Japonica"]
[null,null,null,null,null,null,null,null,null,null,null,null,null,null,null,null,null,null,null,null,null,null,null,null,null,null,null,null,null,null,null,null,null,null,null,null,null,null,null,null,null,null,null,null,null,null,null,null,null,null,null,null,null,null,null,null,null,null,null,null,null,null,null,null,null,null,null,null,null,"RWVTORBAY HOSPITAL","RWV55","TORBAY HOSPITAL","RWV55","TORBAY HOSPITAL","RWV",null,null,"NORTH MIDDLESEX HOSPITAL","Labour Ward"]
[null,null,null,null,null,null,null,null,null,null,null,null,null,null,null,null,null,null,null,null,null,null,null,null,null,null,null,null,null,null,null,null,null,null,null,null,null,null,null,null,null,null,null,null,null,null,null,null,null,null,null,null,null,null,null,null,null,null,null,null,null,null,null,null,null,null,null,null,null,"RWXBUTRITION & DIETETICS AT WOKINGHAM HOSPITAL","RWXMH","BUTRITION & DIETETICS AT WOKINGHAM HOSPITAL","RWXMH","BUTRITION & DIETETICS AT WOKINGHAM HOSPITAL","RWX",null,null,"NORTH MIDDLESEX HOSPITAL","T5 Medical Ward  - up to here"]
[null,null,null,null,null,null,null,null,null,null,null,null,null,null,null,null,null,null,null,null,null,null,null,null,null,null,null,null,null,null,null,null,null,null,null,null,null,null,null,null,null,null,null,null,null,null,null,null,null,null,null,null,null,null,null,null,null,null,null,null,null,null,null,null,null,null,null,null,null,"RWXFIRST WOOSEHILL SCOUT HUT","RWXJG","FIRST WOOSEHILL SCOUT HUT","RWXJG","FIRST WOOSEHILL SCOUT HUT","RWX",null,null,"HARPLANDS HOSPITAL","Ward 1"]
[null,null,null,null,null,null,null,null,null,null,null,null,null,null,null,null,null,null,null,null,null,null,null,null,null,null,null,null,null,null,null,null,null,null,null,null,null,null,null,null,null,null,null,null,null,null,null,null,null,null,null,null,null,null,null,null,null,null,null,null,null,null,null,null,null,null,null,null,null,"RWXKING EDWARD VII","RWX80","KING EDWARD VII","RWX80","KING EDWARD VII","RWX",null,null,"UNIVERSITY HOSPITAL OF HARTLEPOOL","Ward 3 (Holdforth Unit)"]
[null,null,null,null,null,null,null,null,null,null,null,null,null,null,null,null,null,null,null,null,null,null,null,null,null,null,null,null,null,null,null,null,null,null,null,null,null,null,null,null,null,null,null,null,null,null,null,null,null,null,null,null,null,null,null,null,null,null,null,null,null,null,null,null,null,null,null,null,null,"RWXST MARY THE VIRGIN HALL (READING)","RWXLC","ST MARY THE VIRGIN HALL (READING)","RWXLC","ST MARY THE VIRGIN HALL (READING)","RWX",null,null,"UNIVERSITY HOSPITAL OF NORTH TEES","Ward 33 (Orthopaedic & Spinal)"]
[null,null,null,null,null,null,null,null,null,null,null,null,null,null,null,null,null,null,null,null,null,null,null,null,null,null,null,null,null,null,null,null,null,null,null,null,null,null,null,null,null,null,null,null,null,null,null,null,null,null,null,null,null,null,null,null,null,null,null,null,null,null,null,null,null,null,null,null,null,"RWXT2, MAIDENHEAD","RWXAW","T2, MAIDENHEAD","RWXAW","T2, MAIDENHEAD","RWX",null,null,"UNIVERSITY HOSPITAL OF NORTH TEES","Ward 41 (Stroke Unit)"]
[null,null,null,null,null,null,null,null,null,null,null,null,null,null,null,null,null,null,null,null,null,null,null,null,null,null,null,null,null,null,null,null,null,null,null,null,null,null,null,null,null,null,null,null,null,null,null,null,null,null,null,null,null,null,null,null,null,null,null,null,null,null,null,null,null,null,null,null,null,"RWXWEXHAM PARK HOSPITAL","RWX87","WEXHAM PARK HOSPITAL","RWX87","WEXHAM PARK HOSPITAL","RWX",null,null,"HINCHINGBROOKE HOSPITAL","Walnut Ward"]
[null,null,null,null,null,null,null,null,null,null,null,null,null,null,null,null,null,null,null,null,null,null,null,null,null,null,null,null,null,null,null,null,null,null,null,null,null,null,null,null,null,null,null,null,null,null,null,null,null,null,null,null,null,null,null,null,null,null,null,null,null,null,null,null,null,null,null,null,null,"RX2B & H ATS WEST (RG)","RX21Y","B & H ATS WEST (RG)","RX21Y","B & H ATS WEST (RG)","RX2",null,null,"PETERBOROUGH CITY HOSPITAL","Ward B11"]
[null,null,null,null,null,null,null,null,null,null,null,null,null,null,null,null,null,null,null,null,null,null,null,null,null,null,null,null,null,null,null,null,null,null,null,null,null,null,null,null,null,null,null,null,null,null,null,null,null,null,null,null,null,null,null,null,null,null,null,null,null,null,null,null,null,null,null,null,null,"RX2B&H ATS WEST (PL)","RX22Y","B&H ATS WEST (PL)","RX22Y","B&H ATS WEST (PL)","RX2",null,null,"PETERBOROUGH CITY HOSPITAL","Ward B6"]
[null,null,null,null,null,null,null,null,null,null,null,null,null,null,null,null,null,null,null,null,null,null,null,null,null,null,null,null,null,null,null,null,null,null,null,null,null,null,null,null,null,null,null,null,null,null,null,null,null,null,null,null,null,null,null,null,null,null,null,null,null,null,null,null,null,null,null,null,null,"RX2CFOT WEST SUSSEX","RX29N","CFOT WEST SUSSEX","RX29N","CFOT WEST SUSSEX","RX2",null,null,"HOLLINS PARK","Sheridan"]
[null,null,null,null,null,null,null,null,null,null,null,null,null,null,null,null,null,null,null,null,null,null,null,null,null,null,null,null,null,null,null,null,null,null,null,null,null,null,null,null,null,null,null,null,null,null,null,null,null,null,null,null,null,null,null,null,null,null,null,null,null,null,null,null,null,null,null,null,null,"RX2CLERMONT","RX2M0","CLERMONT","RX2M0","CLERMONT","RX2",null,null,"NORTHAMPTON GENERAL HOSPITAL (ACUTE)","Althorp (T&O)"]
[null,null,null,null,null,null,null,null,null,null,null,null,null,null,null,null,null,null,null,null,null,null,null,null,null,null,null,null,null,null,null,null,null,null,null,null,null,null,null,null,null,null,null,null,null,null,null,null,null,null,null,null,null,null,null,null,null,null,null,null,null,null,null,null,null,null,null,null,null,"RX2CRI TONBRIDGE","RX2XH","CRI TONBRIDGE","RX2XH","CRI TONBRIDGE","RX2",null,null,"NORTHAMPTON GENERAL HOSPITAL (ACUTE)","Hawthorn & SAU"]
[null,null,null,null,null,null,null,null,null,null,null,null,null,null,null,null,null,null,null,null,null,null,null,null,null,null,null,null,null,null,null,null,null,null,null,null,null,null,null,null,null,null,null,null,null,null,null,null,null,null,null,null,null,null,null,null,null,null,null,null,null,null,null,null,null,null,null,null,null,"RX2DOVE WARD","RX298","DOVE WARD","RX298","DOVE WARD","RX2",null,null,"NORTHAMPTON GENERAL HOSPITAL (ACUTE)","Robert Watson"]
[null,null,null,null,null,null,null,null,null,null,null,null,null,null,null,null,null,null,null,null,null,null,null,null,null,null,null,null,null,null,null,null,null,null,null,null,null,null,null,null,null,null,null,null,null,null,null,null,null,null,null,null,null,null,null,null,null,null,null,null,null,null,null,null,null,null,null,null,null,"RX2FORT SOUTHWICK","RX2YX","FORT SOUTHWICK","RX2YX","FORT SOUTHWICK","RX2",null,null,"BERRYWOOD HOSPITAL","(B769) Riverside"]
[null,null,null,null,null,null,null,null,null,null,null,null,null,null,null,null,null,null,null,null,null,null,null,null,null,null,null,null,null,null,null,null,null,null,null,null,null,null,null,null,null,null,null,null,null,null,null,null,null,null,null,null,null,null,null,null,null,null,null,null,null,null,null,null,null,null,null,null,null,"RX2H & ROTHER SMHT (SV)","RX2CD","H & ROTHER SMHT (SV)","RX2CD","H & ROTHER SMHT (SV)","RX2",null,null,"MANFIELD HEALTH CAMPUS","Cynthia Spencer Hospice"]
[null,null,null,null,null,null,null,null,null,null,null,null,null,null,null,null,null,null,null,null,null,null,null,null,null,null,null,null,null,null,null,null,null,null,null,null,null,null,null,null,null,null,null,null,null,null,null,null,null,null,null,null,null,null,null,null,null,null,null,null,null,null,null,null,null,null,null,null,null,"RX2HW, L&H ATS FUNCTIONAL (SO)","RX25L","HW, L&H ATS FUNCTIONAL (SO)","RX25L","HW, L&H ATS FUNCTIONAL (SO)","RX2",null,null,"NORTH DEVON DISTRICT HOSPITAL","SCBU"]
[null,null,null,null,null,null,null,null,null,null,null,null,null,null,null,null,null,null,null,null,null,null,null,null,null,null,null,null,null,null,null,null,null,null,null,null,null,null,null,null,null,null,null,null,null,null,null,null,null,null,null,null,null,null,null,null,null,null,null,null,null,null,null,null,null,null,null,null,null,"RX2LILAC WARD","RX2E2","LILAC WARD","RX2E2","LILAC WARD","RX2",null,null,"DIANA, PRINCESS OF WALES HOSPITAL","HDU DPoW"]
[null,null,null,null,null,null,null,null,null,null,null,null,null,null,null,null,null,null,null,null,null,null,null,null,null,null,null,null,null,null,null,null,null,null,null,null,null,null,null,null,null,null,null,null,null,null,null,null,null,null,null,null,null,null,null,null,null,null,null,null,null,null,null,null,null,null,null,null,null,"RX2MILL VIEW HOSPITAL","RX213","MILL VIEW HOSPITAL","RX213","MILL VIEW HOSPITAL","RX2",null,null,"DIANA, PRINCESS OF WALES HOSPITAL","WARD C2"]
[null,null,null,null,null,null,null,null,null,null,null,null,null,null,null,null,null,null,null,null,null,null,null,null,null,null,null,null,null,null,null,null,null,null,null,null,null,null,null,null,null,null,null,null,null,null,null,null,null,null,null,null,null,null,null,null,null,null,null,null,null,null,null,null,null,null,null,null,null,"RX2NORTH WEST SUSSEX MAS","RX2CQ","NORTH WEST SUSSEX MAS","RX2CQ","NORTH WEST SUSSEX MAS","RX2",null,null,"SCUNTHORPE GENERAL HOSPITAL","ICU SGH"]
[null,null,null,null,null,null,null,null,null,null,null,null,null,null,null,null,null,null,null,null,null,null,null,null,null,null,null,null,null,null,null,null,null,null,null,null,null,null,null,null,null,null,null,null,null,null,null,null,null,null,null,null,null,null,null,null,null,null,null,null,null,null,null,null,null,null,null,null,null,"RX2PRIMROSE COTTAGES (1&2)","RX241","PRIMROSE COTTAGES (1&2)","RX241","PRIMROSE COTTAGES (1&2)","RX2",null,null,"SCUNTHORPE GENERAL HOSPITAL","WARD 28 SGH"]
[null,null,null,null,null,null,null,null,null,null,null,null,null,null,null,null,null,null,null,null,null,null,null,null,null,null,null,null,null,null,null,null,null,null,null,null,null,null,null,null,null,null,null,null,null,null,null,null,null,null,null,null,null,null,null,null,null,null,null,null,null,null,null,null,null,null,null,null,null,"RX2RYE MEMORIAL HOSPITAL","RX2C0","RYE MEMORIAL HOSPITAL","RX2C0","RYE MEMORIAL HOSPITAL","RX2",null,null,"HOPEWOOD PARK","LONGVIEW - EAST WILLOWS"]
[null,null,null,null,null,null,null,null,null,null,null,null,null,null,null,null,null,null,null,null,null,null,null,null,null,null,null,null,null,null,null,null,null,null,null,null,null,null,null,null,null,null,null,null,null,null,null,null,null,null,null,null,null,null,null,null,null,null,null,null,null,null,null,null,null,null,null,null,null,"RX2SMS E'BOURNE - CHAPEL ST","RX2AL","SMS E'BOURNE - CHAPEL ST","RX2AL","SMS E'BOURNE - CHAPEL ST","RX2",null,null,"MONKWEARMOUTH HOSPITAL","MOWBRAY"]
[null,null,null,null,null,null,null,null,null,null,null,null,null,null,null,null,null,null,null,null,null,null,null,null,null,null,null,null,null,null,null,null,null,null,null,null,null,null,null,null,null,null,null,null,null,null,null,null,null,null,null,null,null,null,null,null,null,null,null,null,null,null,null,null,null,null,null,null,null,"RX2ST PETERS PLACE","RX2M7","ST PETERS PLACE","RX2M7","ST PETERS PLACE","RX2",null,null,"ST GEORGES HOSPITAL SITE (MORPETH)","ALNMOUTH"]
[null,null,null,null,null,null,null,null,null,null,null,null,null,null,null,null,null,null,null,null,null,null,null,null,null,null,null,null,null,null,null,null,null,null,null,null,null,null,null,null,null,null,null,null,null,null,null,null,null,null,null,null,null,null,null,null,null,null,null,null,null,null,null,null,null,null,null,null,null,"RX2THE FIRS","RX2L5","THE FIRS","RX2L5","THE FIRS","RX2",null,null,"TRANWELL UNIT","LAMESLEY"]
[null,null,null,null,null,null,null,null,null,null,null,null,null,null,null,null,null,null,null,null,null,null,null,null,null,null,null,null,null,null,null,null,null,null,null,null,null,null,null,null,null,null,null,null,null,null,null,null,null,null,null,null,null,null,null,null,null,null,null,null,null,null,null,null,null,null,null,null,null,"RX2W. SUSSEX MAS SOUTH (GB)","RX2DG","W. SUSSEX MAS SOUTH (GB)","RX2DG","W. SUSSEX MAS SOUTH (GB)","RX2",null,null,"NORTH TYNESIDE GENERAL HOSPITAL - RTFFS","NTGH15"]
[null,null,null,null,null,null,null,null,null,null,null,null,null,null,null,null,null,null,null,null,null,null,null,null,null,null,null,null,null,null,null,null,null,null,null,null,null,null,null,null,null,null,null,null,null,null,null,null,null,null,null,null,null,null,null,null,null,null,null,null,null,null,null,null,null,null,null,null,null,"RX2WESTERN SUSSEX ATS (AC)","RX2DH","WESTERN SUSSEX ATS (AC)","RX2DH","WESTERN SUSSEX ATS (AC)","RX2",null,null,"NORTHUMBRIA SPECIALIST EMERGENCY CARE HOSPITAL","NSEC03"]
[null,null,null,null,null,null,null,null,null,null,null,null,null,null,null,null,null,null,null,null,null,null,null,null,null,null,null,null,null,null,null,null,null,null,null,null,null,null,null,null,null,null,null,null,null,null,null,null,null,null,null,null,null,null,null,null,null,null,null,null,null,null,null,null,null,null,null,null,null,"RX2WOODLANDS","RX2L6","WOODLANDS","RX2L6","WOODLANDS","RX2",null,null,"NORTHUMBRIA SPECIALIST EMERGENCY CARE HOSPITAL","NSECDEL"]
[null,null,null,null,null,null,null,null,null,null,null,null,null,null,null,null,null,null,null,null,null,null,null,null,null,null,null,null,null,null,null,null,null,null,null,null,null,null,null,null,null,null,null,null,null,null,null,null,null,null,null,null,null,null,null,null,null,null,null,null,null,null,null,null,null,null,null,null,null,"RX3AUCKLAND PARK HOSPITAL","RX3AT","AUCKLAND PARK HOSPITAL","RX3AT","AUCKLAND PARK HOSPITAL","RX3",null,null,"WANSBECK HOSPITAL - RTFED","WANSPCU"]
[null,null,null,null,null,null,null,null,null,null,null,null,null,null,null,null,null,null,null,null,null,null,null,null,null,null,null,null,null,null,null,null,null,null,null,null,null,null,null,null,null,null,null,null,null,null,null,null,null,null,null,null,null,null,null,null,null,null,null,null,null,null,null,null,null,null,null,null,null,"RX3C & YPS 2","RX354","C & YPS 2","RX354","C & YPS 2","RX3",null,null,"NOTTINGHAM UNIVERSITY HOSPITALS NHS TRUST - CITY CAMPUS","Cardiac Intensive Care Unit"]
[null,null,null,null,null,null,null,null,null,null,null,null,null,null,null,null,null,null,null,null,null,null,null,null,null,null,null,null,null,null,null,null,null,null,null,null,null,null,null,null,null,null,null,null,null,null,null,null,null,null,null,null,null,null,null,null,null,null,null,null,null,null,null,null,null,null,null,null,null,"RX3CROSS LANE HOSPITAL ROWAN LEA","RX3MV","CROSS LANE HOSPITAL ROWAN LEA","RX3MV","CROSS LANE HOSPITAL ROWAN LEA","RX3",null,null,"NOTTINGHAM UNIVERSITY HOSPITALS NHS TRUST - CITY CAMPUS","Gervis Pearson"]
[null,null,null,null,null,null,null,null,null,null,null,null,null,null,null,null,null,null,null,null,null,null,null,null,null,null,null,null,null,null,null,null,null,null,null,null,null,null,null,null,null,null,null,null,null,null,null,null,null,null,null,null,null,null,null,null,null,null,null,null,null,null,null,null,null,null,null,null,null,"RX3GEORGE HARDWICK FOUNDATION","RX30D","GEORGE HARDWICK FOUNDATION","RX30D","GEORGE HARDWICK FOUNDATION","RX3",null,null,"NOTTINGHAM UNIVERSITY HOSPITALS NHS TRUST - CITY CAMPUS","Nightingale 2"]
[null,null,null,null,null,null,null,null,null,null,null,null,null,null,null,null,null,null,null,null,null,null,null,null,null,null,null,null,null,null,null,null,null,null,null,null,null,null,null,null,null,null,null,null,null,null,null,null,null,null,null,null,null,null,null,null,null,null,null,null,null,null,null,null,null,null,null,null,null,"RX3LD NORTH (1)","RX388","LD NORTH (1)","RX388","LD NORTH (1)","RX3",null,null,"NOTTINGHAM UNIVERSITY HOSPITALS NHS TRUST - QUEEN'S MEDICAL CENTRE CAMPUS","AICU-Adult Critical Care"]
[null,null,null,null,null,null,null,null,null,null,null,null,null,null,null,null,null,null,null,null,null,null,null,null,null,null,null,null,null,null,null,null,null,null,null,null,null,null,null,null,null,null,null,null,null,null,null,null,null,null,null,null,null,null,null,null,null,null,null,null,null,null,null,null,null,null,null,null,null,"RX3NMP - FOXRUSH","RX3RQ","NMP - FOXRUSH","RX3RQ","NMP - FOXRUSH","RX3",null,null,"NOTTINGHAM UNIVERSITY HOSPITALS NHS TRUST - QUEEN'S MEDICAL CENTRE CAMPUS","D35"]
[null,null,null,null,null,null,null,null,null,null,null,null,null,null,null,null,null,null,null,null,null,null,null,null,null,null,null,null,null,null,null,null,null,null,null,null,null,null,null,null,null,null,null,null,null,null,null,null,null,null,null,null,null,null,null,null,null,null,null,null,null,null,null,null,null,null,null,null,null,"RX3NMP STOCKTON AFFECTIVE DISORDERS","RX31E","NMP STOCKTON AFFECTIVE DISORDERS","RX31E","NMP STOCKTON AFFECTIVE DISORDERS","RX3",null,null,"NOTTINGHAM UNIVERSITY HOSPITALS NHS TRUST - QUEEN'S MEDICAL CENTRE CAMPUS","E17"]
[null,null,null,null,null,null,null,null,null,null,null,null,null,null,null,null,null,null,null,null,null,null,null,null,null,null,null,null,null,null,null,null,null,null,null,null,null,null,null,null,null,null,null,null,null,null,null,null,null,null,null,null,null,null,null,null,null,null,null,null,null,null,null,null,null,null,null,null,null,"RX3PARKSIDE MIDDLESBROUGH","RX3FG","PARKSIDE MIDDLESBROUGH","RX3FG","PARKSIDE MIDDLESBROUGH","RX3",null,null,"NOTTINGHAM UNIVERSITY HOSPITALS NHS TRUST - QUEEN'S MEDICAL CENTRE CAMPUS","Paeds Neuro Ward"]
[null,null,null,null,null,null,null,null,null,null,null,null,null,null,null,null,null,null,null,null,null,null,null,null,null,null,null,null,null,null,null,null,null,null,null,null,null,null,null,null,null,null,null,null,null,null,null,null,null,null,null,null,null,null,null,null,null,null,null,null,null,null,null,null,null,null,null,null,null,"RX3RIPON COMMUNITY HOSPITAL","RX3YQ","RIPON COMMUNITY HOSPITAL","RX3YQ","RIPON COMMUNITY HOSPITAL","RX3",null,null,"HIGHBURY HOSPITAL","Rowan 1"]
[null,null,null,null,null,null,null,null,null,null,null,null,null,null,null,null,null,null,null,null,null,null,null,null,null,null,null,null,null,null,null,null,null,null,null,null,null,null,null,null,null,null,null,null,null,null,null,null,null,null,null,null,null,null,null,null,null,null,null,null,null,null,null,null,null,null,null,null,null,"RX3SHARROW VIEW","RX3YC","SHARROW VIEW","RX3YC","SHARROW VIEW","RX3",null,null,"HOPEWOOD","Green Haven"]
[null,null,null,null,null,null,null,null,null,null,null,null,null,null,null,null,null,null,null,null,null,null,null,null,null,null,null,null,null,null,null,null,null,null,null,null,null,null,null,null,null,null,null,null,null,null,null,null,null,null,null,null,null,null,null,null,null,null,null,null,null,null,null,null,null,null,null,null,null,"RX3TERTIARY PSYCHOSIS 2","RX386","TERTIARY PSYCHOSIS 2","RX386","TERTIARY PSYCHOSIS 2","RX3",null,null,"MANSFIELD COMMUNITY HOSPITAL","Bracken House"]
[null,null,null,null,null,null,null,null,null,null,null,null,null,null,null,null,null,null,null,null,null,null,null,null,null,null,null,null,null,null,null,null,null,null,null,null,null,null,null,null,null,null,null,null,null,null,null,null,null,null,null,null,null,null,null,null,null,null,null,null,null,null,null,null,null,null,null,null,null,"RX3WEST PARK HOSPITAL","RX3MM","WEST PARK HOSPITAL","RX3MM","WEST PARK HOSPITAL","RX3",null,null,"RAMPTON HOSPITAL","Grampian Ward"]
[null,null,null,null,null,null,null,null,null,null,null,null,null,null,null,null,null,null,null,null,null,null,null,null,null,null,null,null,null,null,null,null,null,null,null,null,null,null,null,null,null,null,null,null,null,null,null,null,null,null,null,null,null,null,null,null,null,null,null,null,null,null,null,null,null,null,null,null,null,"RX4AFFECTIVE DISORDERS - LEAZES WING","RX4DK","AFFECTIVE DISORDERS - LEAZES WING","RX4DK","AFFECTIVE DISORDERS - LEAZES WING","RX4",null,null,"THE WELLS ROAD CENTRE","Porchester"]
[null,null,null,null,null,null,null,null,null,null,null,null,null,null,null,null,null,null,null,null,null,null,null,null,null,null,null,null,null,null,null,null,null,null,null,null,null,null,null,null,null,null,null,null,null,null,null,null,null,null,null,null,null,null,null,null,null,null,null,null,null,null,null,null,null,null,null,null,null,"RX4BROOKE HOUSE","RX438 ","BROOKE HOUSE","RX438 ","BROOKE HOUSE","RX4",null,null,"LITTLEMORE MENTAL HEALTH CENTRE","Ashurst"]
[null,null,null,null,null,null,null,null,null,null,null,null,null,null,null,null,null,null,null,null,null,null,null,null,null,null,null,null,null,null,null,null,null,null,null,null,null,null,null,null,null,null,null,null,null,null,null,null,null,null,null,null,null,null,null,null,null,null,null,null,null,null,null,null,null,null,null,null,null,"RX4CHILD PSYCH TYNEDALE","RX4ED","CHILD PSYCH TYNEDALE","RX4ED","CHILD PSYCH TYNEDALE","RX4",null,null,"MARLBOROUGH HOUSE","Chaffron"]
[null,null,null,null,null,null,null,null,null,null,null,null,null,null,null,null,null,null,null,null,null,null,null,null,null,null,null,null,null,null,null,null,null,null,null,null,null,null,null,null,null,null,null,null,null,null,null,null,null,null,null,null,null,null,null,null,null,null,null,null,null,null,null,null,null,null,null,null,null,"RX4ELM HOUSE","RX461  ","ELM HOUSE","RX461  ","ELM HOUSE","RX4",null,null,"WARNEFORD HOSPITAL","Cotsworld House Oxford"]
[null,null,null,null,null,null,null,null,null,null,null,null,null,null,null,null,null,null,null,null,null,null,null,null,null,null,null,null,null,null,null,null,null,null,null,null,null,null,null,null,null,null,null,null,null,null,null,null,null,null,null,null,null,null,null,null,null,null,null,null,null,null,null,null,null,null,null,null,null,"RX4HOLMLEA","RX4J8","HOLMLEA","RX4J8","HOLMLEA","RX4",null,null,"Churchill Hospital - RTH02","C-WD Haem"]
[null,null,null,null,null,null,null,null,null,null,null,null,null,null,null,null,null,null,null,null,null,null,null,null,null,null,null,null,null,null,null,null,null,null,null,null,null,null,null,null,null,null,null,null,null,null,null,null,null,null,null,null,null,null,null,null,null,null,null,null,null,null,null,null,null,null,null,null,null,"RX4NEUROPSYCHIATRY","RX4EL","NEUROPSYCHIATRY","RX4EL","NEUROPSYCHIATRY","RX4",null,null,"Horton General Hospital","H-WD Crit Care"]
[null,null,null,null,null,null,null,null,null,null,null,null,null,null,null,null,null,null,null,null,null,null,null,null,null,null,null,null,null,null,null,null,null,null,null,null,null,null,null,null,null,null,null,null,null,null,null,null,null,null,null,null,null,null,null,null,null,null,null,null,null,null,null,null,null,null,null,null,null,"RX4OLD AGE PSYCHIATRY NEWCASTLE NORTH - GIBSIDE","RX4EP","OLD AGE PSYCHIATRY NEWCASTLE NORTH - GIBSIDE","RX4EP","OLD AGE PSYCHIATRY NEWCASTLE NORTH - GIBSIDE","RX4",null,null,"John Radcliffe Hospital","J-WD Bell-Dray"]
[null,null,null,null,null,null,null,null,null,null,null,null,null,null,null,null,null,null,null,null,null,null,null,null,null,null,null,null,null,null,null,null,null,null,null,null,null,null,null,null,null,null,null,null,null,null,null,null,null,null,null,null,null,null,null,null,null,null,null,null,null,null,null,null,null,null,null,null,null,"RX4SHIAN MENTAL HEALTH COMMUNITY UNIT","RX4T3","SHIAN MENTAL HEALTH COMMUNITY UNIT","RX4T3","SHIAN MENTAL HEALTH COMMUNITY UNIT","RX4",null,null,"John Radcliffe Hospital","J-WD Maty L5"]
[null,null,null,null,null,null,null,null,null,null,null,null,null,null,null,null,null,null,null,null,null,null,null,null,null,null,null,null,null,null,null,null,null,null,null,null,null,null,null,null,null,null,null,null,null,null,null,null,null,null,null,null,null,null,null,null,null,null,null,null,null,null,null,null,null,null,null,null,null,"RX4THE GRANGE","RX4A5","THE GRANGE","RX4A5","THE GRANGE","RX4",null,null,"John Radcliffe Hospital","J-WD Toms"]
[null,null,null,null,null,null,null,null,null,null,null,null,null,null,null,null,null,null,null,null,null,null,null,null,null,null,null,null,null,null,null,null,null,null,null,null,null,null,null,null,null,null,null,null,null,null,null,null,null,null,null,null,null,null,null,null,null,null,null,null,null,null,null,null,null,null,null,null,null,"RX4WOODLAND VIEW","RX4W6","WOODLAND VIEW","RX4W6","WOODLAND VIEW","RX4",null,null,"BRACTON","Danson"]
[null,null,null,null,null,null,null,null,null,null,null,null,null,null,null,null,null,null,null,null,null,null,null,null,null,null,null,null,null,null,null,null,null,null,null,null,null,null,null,null,null,null,null,null,null,null,null,null,null,null,null,null,null,null,null,null,null,null,null,null,null,null,null,null,null,null,null,null,null,"RXAEASTWAY INPATIENTS","RXA52","EASTWAY INPATIENTS","RXA52","EASTWAY INPATIENTS","RXA",null,null,"MEMORIAL HOSPITAL","Greenwood"]
[null,null,null,null,null,null,null,null,null,null,null,null,null,null,null,null,null,null,null,null,null,null,null,null,null,null,null,null,null,null,null,null,null,null,null,null,null,null,null,null,null,null,null,null,null,null,null,null,null,null,null,null,null,null,null,null,null,null,null,null,null,null,null,null,null,null,null,null,null,"RXAST CATHERINES HOSPITAL","RXA02","ST CATHERINES HOSPITAL","RXA02","ST CATHERINES HOSPITAL","RXA",null,null,"FAIRFIELD GENERAL HOSPITAL","Ward 10 (ITU/HDU)"]
[null,null,null,null,null,null,null,null,null,null,null,null,null,null,null,null,null,null,null,null,null,null,null,null,null,null,null,null,null,null,null,null,null,null,null,null,null,null,null,null,null,null,null,null,null,null,null,null,null,null,null,null,null,null,null,null,null,null,null,null,null,null,null,null,null,null,null,null,null,"RXCEASTBOURNE DISTRICT GENERAL HOSPITAL","RXC02","EASTBOURNE DISTRICT GENERAL HOSPITAL","RXC02","EASTBOURNE DISTRICT GENERAL HOSPITAL","RXC",null,null,"FAIRFIELD GENERAL HOSPITAL","Ward 5"]
[null,null,null,null,null,null,null,null,null,null,null,null,null,null,null,null,null,null,null,null,null,null,null,null,null,null,null,null,null,null,null,null,null,null,null,null,null,null,null,null,null,null,null,null,null,null,null,null,null,null,null,null,null,null,null,null,null,null,null,null,null,null,null,null,null,null,null,null,null,"RXENEW BEGINNINGS - DONCASTER","RXEX3","NEW BEGINNINGS - DONCASTER","RXEX3","NEW BEGINNINGS - DONCASTER","RXE",null,null,"NORTH MANCHESTER GENERAL HOSPITAL","PostNatal Ward"]
[null,null,null,null,null,null,null,null,null,null,null,null,null,null,null,null,null,null,null,null,null,null,null,null,null,null,null,null,null,null,null,null,null,null,null,null,null,null,null,null,null,null,null,null,null,null,null,null,null,null,null,null,null,null,null,null,null,null,null,null,null,null,null,null,null,null,null,null,null,"RXFCLAYTON HOSPITAL","RXF04","CLAYTON HOSPITAL","RXF04","CLAYTON HOSPITAL","RXF",null,null,"NORTH MANCHESTER GENERAL HOSPITAL","Ward H3"]
[null,null,null,null,null,null,null,null,null,null,null,null,null,null,null,null,null,null,null,null,null,null,null,null,null,null,null,null,null,null,null,null,null,null,null,null,null,null,null,null,null,null,null,null,null,null,null,null,null,null,null,null,null,null,null,null,null,null,null,null,null,null,null,null,null,null,null,null,null,"RXGFIELDHEAD HOSPITAL","RXG10","FIELDHEAD HOSPITAL","RXG10","FIELDHEAD HOSPITAL","RXG",null,null,"ROYAL OLDHAM HOSPITAL","Ward CCU"]
[null,null,null,null,null,null,null,null,null,null,null,null,null,null,null,null,null,null,null,null,null,null,null,null,null,null,null,null,null,null,null,null,null,null,null,null,null,null,null,null,null,null,null,null,null,null,null,null,null,null,null,null,null,null,null,null,null,null,null,null,null,null,null,null,null,null,null,null,null,"RXGST JOHN'S FLATS","RXG32","ST JOHN'S FLATS","RXG32","ST JOHN'S FLATS","RXG",null,null,"ROYAL OLDHAM HOSPITAL","Ward T6"]
[null,null,null,null,null,null,null,null,null,null,null,null,null,null,null,null,null,null,null,null,null,null,null,null,null,null,null,null,null,null,null,null,null,null,null,null,null,null,null,null,null,null,null,null,null,null,null,null,null,null,null,null,null,null,null,null,null,null,null,null,null,null,null,null,null,null,null,null,null,"RXHSUSSEX EYE HOSPITAL","RXH07","SUSSEX EYE HOSPITAL","RXH07","SUSSEX EYE HOSPITAL","RXH",null,null,"PENNINE CARE NHS TRUST","Prospect Place"]
[null,null,null,null,null,null,null,null,null,null,null,null,null,null,null,null,null,null,null,null,null,null,null,null,null,null,null,null,null,null,null,null,null,null,null,null,null,null,null,null,null,null,null,null,null,null,null,null,null,null,null,null,null,null,null,null,null,null,null,null,null,null,null,null,null,null,null,null,null,"RXLCLIFTON HOSPITAL","RXL06","CLIFTON HOSPITAL","RXL06","CLIFTON HOSPITAL","RXL",null,null,"PENNINE CARE NHS TRUST","Stockport - PICU - The Cobden Unit"]
[null,null,null,null,null,null,null,null,null,null,null,null,null,null,null,null,null,null,null,null,null,null,null,null,null,null,null,null,null,null,null,null,null,null,null,null,null,null,null,null,null,null,null,null,null,null,null,null,null,null,null,null,null,null,null,null,null,null,null,null,null,null,null,null,null,null,null,null,null,"RXMCLAY CROSS COMMUNITY HOSPITAL","RXM65","CLAY CROSS COMMUNITY HOSPITAL","RXM65","CLAY CROSS COMMUNITY HOSPITAL","RXM",null,null,"POOLE GENERAL HOSPITAL NHS TRUST HQ","A4 Arne"]
[null,null,null,null,null,null,null,null,null,null,null,null,null,null,null,null,null,null,null,null,null,null,null,null,null,null,null,null,null,null,null,null,null,null,null,null,null,null,null,null,null,null,null,null,null,null,null,null,null,null,null,null,null,null,null,null,null,null,null,null,null,null,null,null,null,null,null,null,null,"RXMFRIAR GATE FLATS","RXM17","FRIAR GATE FLATS","RXM17","FRIAR GATE FLATS","RXM",null,null,"POOLE GENERAL HOSPITAL NHS TRUST HQ","Child Health"]
[null,null,null,null,null,null,null,null,null,null,null,null,null,null,null,null,null,null,null,null,null,null,null,null,null,null,null,null,null,null,null,null,null,null,null,null,null,null,null,null,null,null,null,null,null,null,null,null,null,null,null,null,null,null,null,null,null,null,null,null,null,null,null,null,null,null,null,null,null,"RXMNEWHOLME HOSPITAL","RXM64","NEWHOLME HOSPITAL","RXM64","NEWHOLME HOSPITAL","RXM",null,null,"POOLE GENERAL HOSPITAL NHS TRUST HQ","Maternity Labour Ward"]
[null,null,null,null,null,null,null,null,null,null,null,null,null,null,null,null,null,null,null,null,null,null,null,null,null,null,null,null,null,null,null,null,null,null,null,null,null,null,null,null,null,null,null,null,null,null,null,null,null,null,null,null,null,null,null,null,null,null,null,null,null,null,null,null,null,null,null,null,null,"RXMWARD 32 THE PSYCHIATRIC UNIT","RXM68","WARD 32 THE PSYCHIATRIC UNIT","RXM68","WARD 32 THE PSYCHIATRIC UNIT","RXM",null,null,"QUEEN ALEXANDRA HOSPITAL","D6"]
[null,null,null,null,null,null,null,null,null,null,null,null,null,null,null,null,null,null,null,null,null,null,null,null,null,null,null,null,null,null,null,null,null,null,null,null,null,null,null,null,null,null,null,null,null,null,null,null,null,null,null,null,null,null,null,null,null,null,null,null,null,null,null,null,null,null,null,null,null,"RXMWARD 36, PSYCHIATRIC UNIT","RXM74","WARD 36, PSYCHIATRIC UNIT","RXM74","WARD 36, PSYCHIATRIC UNIT","RXM",null,null,"QUEEN ALEXANDRA HOSPITAL","E2"]
[null,null,null,null,null,null,null,null,null,null,null,null,null,null,null,null,null,null,null,null,null,null,null,null,null,null,null,null,null,null,null,null,null,null,null,null,null,null,null,null,null,null,null,null,null,null,null,null,null,null,null,null,null,null,null,null,null,null,null,null,null,null,null,null,null,null,null,null,null,"RXQAMERSHAM HEALTH CENTRE","RXQ81","AMERSHAM HEALTH CENTRE","RXQ81","AMERSHAM HEALTH CENTRE","RXQ",null,null,"QUEEN ALEXANDRA HOSPITAL","NICU"]
[null,null,null,null,null,null,null,null,null,null,null,null,null,null,null,null,null,null,null,null,null,null,null,null,null,null,null,null,null,null,null,null,null,null,null,null,null,null,null,null,null,null,null,null,null,null,null,null,null,null,null,null,null,null,null,null,null,null,null,null,null,null,null,null,null,null,null,null,null,"RXRBLACKBURN BIRTH CENTRE","RXR78","BLACKBURN BIRTH CENTRE","RXR78","BLACKBURN BIRTH CENTRE","RXR",null,null,"ROTHERHAM  EARLY INTERVENTION (SWALLOWNEST)","Osprey Ward"]
[null,null,null,null,null,null,null,null,null,null,null,null,null,null,null,null,null,null,null,null,null,null,null,null,null,null,null,null,null,null,null,null,null,null,null,null,null,null,null,null,null,null,null,null,null,null,null,null,null,null,null,null,null,null,null,null,null,null,null,null,null,null,null,null,null,null,null,null,null,"RXRCLITHEROE COMMUNITY HOSPITAL","RXR70","CLITHEROE COMMUNITY HOSPITAL","RXR70","CLITHEROE COMMUNITY HOSPITAL","RXR",null,null,"ST CATHERINE'S","Amber Lodge"]
[null,null,null,null,null,null,null,null,null,null,null,null,null,null,null,null,null,null,null,null,null,null,null,null,null,null,null,null,null,null,null,null,null,null,null,null,null,null,null,null,null,null,null,null,null,null,null,null,null,null,null,null,null,null,null,null,null,null,null,null,null,null,null,null,null,null,null,null,null,"RXTEXPRESS SIGNS","RXT20","EXPRESS SIGNS","RXT20","EXPRESS SIGNS","RXT",null,null,"ROYAL BERKSHIRE HOSPITAL","Buscot"]
[null,null,null,null,null,null,null,null,null,null,null,null,null,null,null,null,null,null,null,null,null,null,null,null,null,null,null,null,null,null,null,null,null,null,null,null,null,null,null,null,null,null,null,null,null,null,null,null,null,null,null,null,null,null,null,null,null,null,null,null,null,null,null,null,null,null,null,null,null,"RXTHILLIS LODGE","RXT29","HILLIS LODGE","RXT29","HILLIS LODGE","RXT",null,null,"ROYAL BERKSHIRE HOSPITAL","Hopkins"]
[null,null,null,null,null,null,null,null,null,null,null,null,null,null,null,null,null,null,null,null,null,null,null,null,null,null,null,null,null,null,null,null,null,null,null,null,null,null,null,null,null,null,null,null,null,null,null,null,null,null,null,null,null,null,null,null,null,null,null,null,null,null,null,null,null,null,null,null,null,"RXTLITTLE BROMWICH","RXT37","LITTLE BROMWICH","RXT37","LITTLE BROMWICH","RXT",null,null,"ROYAL BERKSHIRE HOSPITAL","Sidmouth"]
[null,null,null,null,null,null,null,null,null,null,null,null,null,null,null,null,null,null,null,null,null,null,null,null,null,null,null,null,null,null,null,null,null,null,null,null,null,null,null,null,null,null,null,null,null,null,null,null,null,null,null,null,null,null,null,null,null,null,null,null,null,null,null,null,null,null,null,null,null,"RXTNP KINGSTANDING AOR KGAR","RXTWJ","NP KINGSTANDING AOR KGAR","RXTWJ","NP KINGSTANDING AOR KGAR","RXT",null,null,"HAREFIELD HOSPITAL - RT301","Oak/Acorn"]
[null,null,null,null,null,null,null,null,null,null,null,null,null,null,null,null,null,null,null,null,null,null,null,null,null,null,null,null,null,null,null,null,null,null,null,null,null,null,null,null,null,null,null,null,null,null,null,null,null,null,null,null,null,null,null,null,null,null,null,null,null,null,null,null,null,null,null,null,null,"RXTQUEEN ELIZABETH PSYCHIATRIC HOSPITAL","RXT62","QUEEN ELIZABETH PSYCHIATRIC HOSPITAL","RXT62","QUEEN ELIZABETH PSYCHIATRIC HOSPITAL","RXT",null,null,"ROYAL BROMPTON HOSPITAL - RT302","Victoria Ward"]
[null,null,null,null,null,null,null,null,null,null,null,null,null,null,null,null,null,null,null,null,null,null,null,null,null,null,null,null,null,null,null,null,null,null,null,null,null,null,null,null,null,null,null,null,null,null,null,null,null,null,null,null,null,null,null,null,null,null,null,null,null,null,null,null,null,null,null,null,null,"RXTWEATHERDALE UNIT","RXT89","WEATHERDALE UNIT","RXT89","WEATHERDALE UNIT","RXT",null,null,"ROYAL CORNWALL HOSPITAL (TRELISKE)","Wellington Ward"]
[null,null,null,null,null,null,null,null,null,null,null,null,null,null,null,null,null,null,null,null,null,null,null,null,null,null,null,null,null,null,null,null,null,null,null,null,null,null,null,null,null,null,null,null,null,null,null,null,null,null,null,null,null,null,null,null,null,null,null,null,null,null,null,null,null,null,null,null,null,"RXVMEADOWBROOK HOSPITAL - SALFORD MH","RXV17","MEADOWBROOK HOSPITAL - SALFORD MH","RXV17","MEADOWBROOK HOSPITAL - SALFORD MH","RXV",null,null,"ROYAL DEVON AND EXETER HOSPITAL (WONFORD)","Bovey"]
[null,null,null,null,null,null,null,null,null,null,null,null,null,null,null,null,null,null,null,null,null,null,null,null,null,null,null,null,null,null,null,null,null,null,null,null,null,null,null,null,null,null,null,null,null,null,null,null,null,null,null,null,null,null,null,null,null,null,null,null,null,null,null,null,null,null,null,null,null,"RXVWHITEHAVEN","RXVD0","WHITEHAVEN","RXVD0","WHITEHAVEN","RXV",null,null,"ROYAL DEVON AND EXETER HOSPITAL (WONFORD)","Durbin"]
[null,null,null,null,null,null,null,null,null,null,null,null,null,null,null,null,null,null,null,null,null,null,null,null,null,null,null,null,null,null,null,null,null,null,null,null,null,null,null,null,null,null,null,null,null,null,null,null,null,null,null,null,null,null,null,null,null,null,null,null,null,null,null,null,null,null,null,null,null,"RXXALBERT WARD","RXXX2","ALBERT WARD","RXXX2","ALBERT WARD","RXX",null,null,"ROYAL DEVON AND EXETER HOSPITAL (WONFORD)","Otter"]
[null,null,null,null,null,null,null,null,null,null,null,null,null,null,null,null,null,null,null,null,null,null,null,null,null,null,null,null,null,null,null,null,null,null,null,null,null,null,null,null,null,null,null,null,null,null,null,null,null,null,null,null,null,null,null,null,null,null,null,null,null,null,null,null,null,null,null,null,null,"RXXCHERRYTREES RESIDENTIAL HOME","RXX33","CHERRYTREES RESIDENTIAL HOME","RXX33","CHERRYTREES RESIDENTIAL HOME","RXX",null,null,"TIVERTON AND DISTRICT HOSPITAL","Tiverton Inpatients"]
[null,null,null,null,null,null,null,null,null,null,null,null,null,null,null,null,null,null,null,null,null,null,null,null,null,null,null,null,null,null,null,null,null,null,null,null,null,null,null,null,null,null,null,null,null,null,null,null,null,null,null,null,null,null,null,null,null,null,null,null,null,null,null,null,null,null,null,null,null,"RXXFLEET HOSPITAL","RXX27","FLEET HOSPITAL","RXX27","FLEET HOSPITAL","RXX",null,null,"BARNET HOSPITAL","Palm Ward"]
[null,null,null,null,null,null,null,null,null,null,null,null,null,null,null,null,null,null,null,null,null,null,null,null,null,null,null,null,null,null,null,null,null,null,null,null,null,null,null,null,null,null,null,null,null,null,null,null,null,null,null,null,null,null,null,null,null,null,null,null,null,null,null,null,null,null,null,null,null,"RXXGRANDVIEW","RXXA8","GRANDVIEW","RXXA8","GRANDVIEW","RXX",null,null,"EDGWARE COMMUNITY HOSPITAL","Neuro Rehab"]
[null,null,null,null,null,null,null,null,null,null,null,null,null,null,null,null,null,null,null,null,null,null,null,null,null,null,null,null,null,null,null,null,null,null,null,null,null,null,null,null,null,null,null,null,null,null,null,null,null,null,null,null,null,null,null,null,null,null,null,null,null,null,null,null,null,null,null,null,null,"RXXLARKFIELD","RXXHL","LARKFIELD","RXXHL","LARKFIELD","RXX",null,null,"ROYAL FREE HOSPITAL","5 South"]
[null,null,null,null,null,null,null,null,null,null,null,null,null,null,null,null,null,null,null,null,null,null,null,null,null,null,null,null,null,null,null,null,null,null,null,null,null,null,null,null,null,null,null,null,null,null,null,null,null,null,null,null,null,null,null,null,null,null,null,null,null,null,null,null,null,null,null,null,null,"RXXNURSE T5","RXXT5","NURSE T5","RXXT5","NURSE T5","RXX",null,null,"ROYAL FREE HOSPITAL","RF AAU"]
[null,null,null,null,null,null,null,null,null,null,null,null,null,null,null,null,null,null,null,null,null,null,null,null,null,null,null,null,null,null,null,null,null,null,null,null,null,null,null,null,null,null,null,null,null,null,null,null,null,null,null,null,null,null,null,null,null,null,null,null,null,null,null,null,null,null,null,null,null,"RXXVICTORIA WARD","RXXX3","VICTORIA WARD","RXXX3","VICTORIA WARD","RXX",null,null,"THE ROYAL LIVERPOOL UNIVERSITY HOSPITAL - RQ617","2Y / SU"]
[null,null,null,null,null,null,null,null,null,null,null,null,null,null,null,null,null,null,null,null,null,null,null,null,null,null,null,null,null,null,null,null,null,null,null,null,null,null,null,null,null,null,null,null,null,null,null,null,null,null,null,null,null,null,null,null,null,null,null,null,null,null,null,null,null,null,null,null,null,"RXYARNDALE HOUSE","RXYA3","ARNDALE HOUSE","RXYA3","ARNDALE HOUSE","RXY",null,null,"THE ROYAL LIVERPOOL UNIVERSITY HOSPITAL - RQ617","6Y"]
[null,null,null,null,null,null,null,null,null,null,null,null,null,null,null,null,null,null,null,null,null,null,null,null,null,null,null,null,null,null,null,null,null,null,null,null,null,null,null,null,null,null,null,null,null,null,null,null,null,null,null,null,null,null,null,null,null,null,null,null,null,null,null,null,null,null,null,null,null,"RXYCOURT DRIVE","RXYCA","COURT DRIVE","RXYCA","COURT DRIVE","RXY",null,null,"THE ROYAL LIVERPOOL UNIVERSITY HOSPITAL - RQ617","AMU"]
[null,null,null,null,null,null,null,null,null,null,null,null,null,null,null,null,null,null,null,null,null,null,null,null,null,null,null,null,null,null,null,null,null,null,null,null,null,null,null,null,null,null,null,null,null,null,null,null,null,null,null,null,null,null,null,null,null,null,null,null,null,null,null,null,null,null,null,null,null,"RXYETHELBERT ROAD","RXY1A","ETHELBERT ROAD","RXY1A","ETHELBERT ROAD","RXY",null,null,"THE ROYAL NATIONAL ORTHOPAEDIC HOSPITAL (STANMORE)","London Irish Ward"]
[null,null,null,null,null,null,null,null,null,null,null,null,null,null,null,null,null,null,null,null,null,null,null,null,null,null,null,null,null,null,null,null,null,null,null,null,null,null,null,null,null,null,null,null,null,null,null,null,null,null,null,null,null,null,null,null,null,null,null,null,null,null,null,null,null,null,null,null,null,"RXYHADLOW ROAD","RXY14","HADLOW ROAD","RXY14","HADLOW ROAD","RXY",null,null,"ROYAL PAPWORTH HOSPITAL","CCA"]
[null,null,null,null,null,null,null,null,null,null,null,null,null,null,null,null,null,null,null,null,null,null,null,null,null,null,null,null,null,null,null,null,null,null,null,null,null,null,null,null,null,null,null,null,null,null,null,null,null,null,null,null,null,null,null,null,null,null,null,null,null,null,null,null,null,null,null,null,null,"RXYKINGSLEY HOUSE","RXYK3","KINGSLEY HOUSE","RXYK3","KINGSLEY HOUSE","RXY",null,null,"ROYAL SURREY COUNTY HOSPITAL","Haslemere Wards"]
[null,null,null,null,null,null,null,null,null,null,null,null,null,null,null,null,null,null,null,null,null,null,null,null,null,null,null,null,null,null,null,null,null,null,null,null,null,null,null,null,null,null,null,null,null,null,null,null,null,null,null,null,null,null,null,null,null,null,null,null,null,null,null,null,null,null,null,null,null,"RXYLONDON ROAD","RXY8E","LONDON ROAD","RXY8E","LONDON ROAD","RXY",null,null,"ROYAL SURREY COUNTY HOSPITAL","SSSU"]
[null,null,null,null,null,null,null,null,null,null,null,null,null,null,null,null,null,null,null,null,null,null,null,null,null,null,null,null,null,null,null,null,null,null,null,null,null,null,null,null,null,null,null,null,null,null,null,null,null,null,null,null,null,null,null,null,null,null,null,null,null,null,null,null,null,null,null,null,null,"RXYOAKWOOD M.H.","RXYP8","OAKWOOD M.H.","RXYP8","OAKWOOD M.H.","RXY",null,null,"ROYAL UNITED HOSPITAL","Coronary Care Unit"]
[null,null,null,null,null,null,null,null,null,null,null,null,null,null,null,null,null,null,null,null,null,null,null,null,null,null,null,null,null,null,null,null,null,null,null,null,null,null,null,null,null,null,null,null,null,null,null,null,null,null,null,null,null,null,null,null,null,null,null,null,null,null,null,null,null,null,null,null,null,"RXYOPMH MAIDSTONE SOUTH NMP","RXY95","OPMH MAIDSTONE SOUTH NMP","RXY95","OPMH MAIDSTONE SOUTH NMP","RXY",null,null,"ROYAL UNITED HOSPITAL","Phillip Yeoman Ward"]
[null,null,null,null,null,null,null,null,null,null,null,null,null,null,null,null,null,null,null,null,null,null,null,null,null,null,null,null,null,null,null,null,null,null,null,null,null,null,null,null,null,null,null,null,null,null,null,null,null,null,null,null,null,null,null,null,null,null,null,null,null,null,null,null,null,null,null,null,null,"RXYSHEERNESS HEALTH CENTRE","RXYRG","SHEERNESS HEALTH CENTRE","RXYRG","SHEERNESS HEALTH CENTRE","RXY",null,null,"SALFORD ROYAL","EAU"]
[null,null,null,null,null,null,null,null,null,null,null,null,null,null,null,null,null,null,null,null,null,null,null,null,null,null,null,null,null,null,null,null,null,null,null,null,null,null,null,null,null,null,null,null,null,null,null,null,null,null,null,null,null,null,null,null,null,null,null,null,null,null,null,null,null,null,null,null,null,"RXYSTAFF RESIDENCES","RXYRV","STAFF RESIDENCES","RXYRV","STAFF RESIDENCES","RXY",null,null,"SALFORD ROYAL","HH8"]
[null,null,null,null,null,null,null,null,null,null,null,null,null,null,null,null,null,null,null,null,null,null,null,null,null,null,null,null,null,null,null,null,null,null,null,null,null,null,null,null,null,null,null,null,null,null,null,null,null,null,null,null,null,null,null,null,null,null,null,null,null,null,null,null,null,null,null,null,null,"RXYTHE COURTYARD","RXYT5","THE COURTYARD","RXYT5","THE COURTYARD","RXY",null,null,"SALFORD ROYAL","L4"]
[null,null,null,null,null,null,null,null,null,null,null,null,null,null,null,null,null,null,null,null,null,null,null,null,null,null,null,null,null,null,null,null,null,null,null,null,null,null,null,null,null,null,null,null,null,null,null,null,null,null,null,null,null,null,null,null,null,null,null,null,null,null,null,null,null,null,null,null,null,"RY1ABACUS FAZAKERLEY","RY197","ABACUS FAZAKERLEY","RY197","ABACUS FAZAKERLEY","RY1",null,null,"SALISBURY DISTRICT HOSPITAL","Breamore"]
[null,null,null,null,null,null,null,null,null,null,null,null,null,null,null,null,null,null,null,null,null,null,null,null,null,null,null,null,null,null,null,null,null,null,null,null,null,null,null,null,null,null,null,null,null,null,null,null,null,null,null,null,null,null,null,null,null,null,null,null,null,null,null,null,null,null,null,null,null,"RY1NETHERTON FEELGOOD FACTORY","RY1C1","NETHERTON FEELGOOD FACTORY","RY1C1","NETHERTON FEELGOOD FACTORY","RY1",null,null,"SALISBURY DISTRICT HOSPITAL","Redlynch"]
[null,null,null,null,null,null,null,null,null,null,null,null,null,null,null,null,null,null,null,null,null,null,null,null,null,null,null,null,null,null,null,null,null,null,null,null,null,null,null,null,null,null,null,null,null,null,null,null,null,null,null,null,null,null,null,null,null,null,null,null,null,null,null,null,null,null,null,null,null,"RY1ST JAMES","RY118","ST JAMES","RY118","ST JAMES","RY1",null,null,"CITY HOSPITAL","City Surgical Unit (CSU)"]
[null,null,null,null,null,null,null,null,null,null,null,null,null,null,null,null,null,null,null,null,null,null,null,null,null,null,null,null,null,null,null,null,null,null,null,null,null,null,null,null,null,null,null,null,null,null,null,null,null,null,null,null,null,null,null,null,null,null,null,null,null,null,null,null,null,null,null,null,null,"RY2LEIGH LOCALITY BUILDING","RY2F9","LEIGH LOCALITY BUILDING","RY2F9","LEIGH LOCALITY BUILDING","RY2",null,null,"CITY HOSPITAL","Maternity 2 - City"]
[null,null,null,null,null,null,null,null,null,null,null,null,null,null,null,null,null,null,null,null,null,null,null,null,null,null,null,null,null,null,null,null,null,null,null,null,null,null,null,null,null,null,null,null,null,null,null,null,null,null,null,null,null,null,null,null,null,null,null,null,null,null,null,null,null,null,null,null,null,"RY3DEREHAM HOSPITAL","RY319","DEREHAM HOSPITAL","RY319","DEREHAM HOSPITAL","RY3",null,null,"SANDWELL GENERAL HOSPITAL","SAU - Sandwell"]
[null,null,null,null,null,null,null,null,null,null,null,null,null,null,null,null,null,null,null,null,null,null,null,null,null,null,null,null,null,null,null,null,null,null,null,null,null,null,null,null,null,null,null,null,null,null,null,null,null,null,null,null,null,null,null,null,null,null,null,null,null,null,null,null,null,null,null,null,null,"RY3NHS VOLUNTARY NORFOLK","RY37A","NHS VOLUNTARY NORFOLK","RY37A","NHS VOLUNTARY NORFOLK","RY3",null,null,"SHEFFIELD CHILDREN'S HOSPITAL","Ward 3"]
[null,null,null,null,null,null,null,null,null,null,null,null,null,null,null,null,null,null,null,null,null,null,null,null,null,null,null,null,null,null,null,null,null,null,null,null,null,null,null,null,null,null,null,null,null,null,null,null,null,null,null,null,null,null,null,null,null,null,null,null,null,null,null,null,null,null,null,null,null,"RY3THE GREEN","RY3N5","THE GREEN","RY3N5","THE GREEN","RY3",null,null,"MICHAEL CARLISLE CENTRE","Stanage"]
[null,null,null,null,null,null,null,null,null,null,null,null,null,null,null,null,null,null,null,null,null,null,null,null,null,null,null,null,null,null,null,null,null,null,null,null,null,null,null,null,null,null,null,null,null,null,null,null,null,null,null,null,null,null,null,null,null,null,null,null,null,null,null,null,null,null,null,null,null,"RY4CHESHUNT COMMUNITY HOSPITAL","RY424","CHESHUNT COMMUNITY HOSPITAL","RY424","CHESHUNT COMMUNITY HOSPITAL","RY4",null,null,"NORTHERN GENERAL HOSPITAL","Brearley 5 (Huntsman 4)"]
[null,null,null,null,null,null,null,null,null,null,null,null,null,null,null,null,null,null,null,null,null,null,null,null,null,null,null,null,null,null,null,null,null,null,null,null,null,null,null,null,null,null,null,null,null,null,null,null,null,null,null,null,null,null,null,null,null,null,null,null,null,null,null,null,null,null,null,null,null,"RY4LANGTON","RY403","LANGTON","RY403","LANGTON","RY4",null,null,"NORTHERN GENERAL HOSPITAL","Firth 3"]
[null,null,null,null,null,null,null,null,null,null,null,null,null,null,null,null,null,null,null,null,null,null,null,null,null,null,null,null,null,null,null,null,null,null,null,null,null,null,null,null,null,null,null,null,null,null,null,null,null,null,null,null,null,null,null,null,null,null,null,null,null,null,null,null,null,null,null,null,null,"RY4ST NICHOLAS","RY440","ST NICHOLAS","RY440","ST NICHOLAS","RY4",null,null,"NORTHERN GENERAL HOSPITAL","Huntsman 4 (RH 1 / 3)"]
[null,null,null,null,null,null,null,null,null,null,null,null,null,null,null,null,null,null,null,null,null,null,null,null,null,null,null,null,null,null,null,null,null,null,null,null,null,null,null,null,null,null,null,null,null,null,null,null,null,null,null,null,null,null,null,null,null,null,null,null,null,null,null,null,null,null,null,null,null,"RY6BEESTON HILL COMMUNITY HEALTH CENTRE","RY604","BEESTON HILL COMMUNITY HEALTH CENTRE","RY604","BEESTON HILL COMMUNITY HEALTH CENTRE","RY6",null,null,"NORTHERN GENERAL HOSPITAL","Progressive Care Unit - Cardiac"]
[null,null,null,null,null,null,null,null,null,null,null,null,null,null,null,null,null,null,null,null,null,null,null,null,null,null,null,null,null,null,null,null,null,null,null,null,null,null,null,null,null,null,null,null,null,null,null,null,null,null,null,null,null,null,null,null,null,null,null,null,null,null,null,null,null,null,null,null,null,"RY6GARFORTH CLINIC","RY617","GARFORTH CLINIC","RY617","GARFORTH CLINIC","RY6",null,null,"ROYAL HALLAMSHIRE HOSPITAL","Ward F2"]
[null,null,null,null,null,null,null,null,null,null,null,null,null,null,null,null,null,null,null,null,null,null,null,null,null,null,null,null,null,null,null,null,null,null,null,null,null,null,null,null,null,null,null,null,null,null,null,null,null,null,null,null,null,null,null,null,null,null,null,null,null,null,null,null,null,null,null,null,null,"RY6KIRKSTALL HEALTH CENTRE","RY629","KIRKSTALL HEALTH CENTRE","RY629","KIRKSTALL HEALTH CENTRE","RY6",null,null,"KING'S MILL HOSPITAL","NICU"]
[null,null,null,null,null,null,null,null,null,null,null,null,null,null,null,null,null,null,null,null,null,null,null,null,null,null,null,null,null,null,null,null,null,null,null,null,null,null,null,null,null,null,null,null,null,null,null,null,null,null,null,null,null,null,null,null,null,null,null,null,null,null,null,null,null,null,null,null,null,"RY6LITTLE WOODHOUSE HALL","RY632","LITTLE WOODHOUSE HALL","RY632","LITTLE WOODHOUSE HALL","RY6",null,null,"KING'S MILL HOSPITAL","Ward 24"]
[null,null,null,null,null,null,null,null,null,null,null,null,null,null,null,null,null,null,null,null,null,null,null,null,null,null,null,null,null,null,null,null,null,null,null,null,null,null,null,null,null,null,null,null,null,null,null,null,null,null,null,null,null,null,null,null,null,null,null,null,null,null,null,null,null,null,null,null,null,"RY6PARK EDGE PRACTICE","RY674","PARK EDGE PRACTICE","RY674","PARK EDGE PRACTICE","RY6",null,null,"MANSFIELD COMMUNITY HOSPITAL","Oakham Ward"]
[null,null,null,null,null,null,null,null,null,null,null,null,null,null,null,null,null,null,null,null,null,null,null,null,null,null,null,null,null,null,null,null,null,null,null,null,null,null,null,null,null,null,null,null,null,null,null,null,null,null,null,null,null,null,null,null,null,null,null,null,null,null,null,null,null,null,null,null,null,"RY6PRIORY VIEW MEDICAL CENTRE","RY683","PRIORY VIEW MEDICAL CENTRE","RY683","PRIORY VIEW MEDICAL CENTRE","RY6",null,null,"ROYAL SHREWSBURY HOSPITAL","27SD"]
[null,null,null,null,null,null,null,null,null,null,null,null,null,null,null,null,null,null,null,null,null,null,null,null,null,null,null,null,null,null,null,null,null,null,null,null,null,null,null,null,null,null,null,null,null,null,null,null,null,null,null,null,null,null,null,null,null,null,null,null,null,null,null,null,null,null,null,null,null,"RY6THORNTON MEDICAL CENTRE","RY654","THORNTON MEDICAL CENTRE","RY654","THORNTON MEDICAL CENTRE","RY6",null,null,"THE PRINCESS ROYAL HOSPITAL","Ward 14 Gynae"]
[null,null,null,null,null,null,null,null,null,null,null,null,null,null,null,null,null,null,null,null,null,null,null,null,null,null,null,null,null,null,null,null,null,null,null,null,null,null,null,null,null,null,null,null,null,null,null,null,null,null,null,null,null,null,null,null,null,null,null,null,null,null,null,null,null,null,null,null,null,"RY6WOODSLEY ROAD HEALTH CENTRE","RY660","WOODSLEY ROAD HEALTH CENTRE","RY660","WOODSLEY ROAD HEALTH CENTRE","RY6",null,null,"THE PRINCESS ROYAL HOSPITAL","Ward 6 CCU"]
[null,null,null,null,null,null,null,null,null,null,null,null,null,null,null,null,null,null,null,null,null,null,null,null,null,null,null,null,null,null,null,null,null,null,null,null,null,null,null,null,null,null,null,null,null,null,null,null,null,null,null,null,null,null,null,null,null,null,null,null,null,null,null,null,null,null,null,null,null,"RY8BABINGTON HOSPITAL","RY8DE","BABINGTON HOSPITAL","RY8DE","BABINGTON HOSPITAL","RY8",null,null,"BRIDGNORTH HOSPITAL","Agnes Campbell"]
[null,null,null,null,null,null,null,null,null,null,null,null,null,null,null,null,null,null,null,null,null,null,null,null,null,null,null,null,null,null,null,null,null,null,null,null,null,null,null,null,null,null,null,null,null,null,null,null,null,null,null,null,null,null,null,null,null,null,null,null,null,null,null,null,null,null,null,null,null,"RY8EAR NOSE & THROAT - ILKESTON","RY8FC","EAR NOSE & THROAT - ILKESTON","RY8FC","EAR NOSE & THROAT - ILKESTON","RY8",null,null,"BRIDGWATER COMMUNITY HOSPITAL","Waverley"]
[null,null,null,null,null,null,null,null,null,null,null,null,null,null,null,null,null,null,null,null,null,null,null,null,null,null,null,null,null,null,null,null,null,null,null,null,null,null,null,null,null,null,null,null,null,null,null,null,null,null,null,null,null,null,null,null,null,null,null,null,null,null,null,null,null,null,null,null,null,"RY8GYNAECOLOGY - RIPLEY","RY8EJ","GYNAECOLOGY - RIPLEY","RY8EJ","GYNAECOLOGY - RIPLEY","RY8",null,null,"Bethlem Royal Hospital","Acorn Lodge Childrens Unit"]
[null,null,null,null,null,null,null,null,null,null,null,null,null,null,null,null,null,null,null,null,null,null,null,null,null,null,null,null,null,null,null,null,null,null,null,null,null,null,null,null,null,null,null,null,null,null,null,null,null,null,null,null,null,null,null,null,null,null,null,null,null,null,null,null,null,null,null,null,null,"RY8HARBOROUGH OUT PATIENTS","RY8VW","HARBOROUGH OUT PATIENTS","RY8VW","HARBOROUGH OUT PATIENTS","RY8",null,null,"Bethlem Royal Hospital","Bethlem Adolescent PICU"]
[null,null,null,null,null,null,null,null,null,null,null,null,null,null,null,null,null,null,null,null,null,null,null,null,null,null,null,null,null,null,null,null,null,null,null,null,null,null,null,null,null,null,null,null,null,null,null,null,null,null,null,null,null,null,null,null,null,null,null,null,null,null,null,null,null,null,null,null,null,"RY8ORCHARD COTTAGES","RY8AM","ORCHARD COTTAGES","RY8AM","ORCHARD COTTAGES","RY8",null,null,"Maudsley Hospital","Aubrey Lewis 1 Ward (AL1)"]
[null,null,null,null,null,null,null,null,null,null,null,null,null,null,null,null,null,null,null,null,null,null,null,null,null,null,null,null,null,null,null,null,null,null,null,null,null,null,null,null,null,null,null,null,null,null,null,null,null,null,null,null,null,null,null,null,null,null,null,null,null,null,null,null,null,null,null,null,null,"RY8RESPIRATORY- LONG EATON","RY8HC","RESPIRATORY- LONG EATON","RY8HC","RESPIRATORY- LONG EATON","RY8",null,null,"MHOA GREENVALE NURSING HOME","Greenvale Specialist Care Unit"]
[null,null,null,null,null,null,null,null,null,null,null,null,null,null,null,null,null,null,null,null,null,null,null,null,null,null,null,null,null,null,null,null,null,null,null,null,null,null,null,null,null,null,null,null,null,null,null,null,null,null,null,null,null,null,null,null,null,null,null,null,null,null,null,null,null,null,null,null,null,"RY8ST MARY'S HOSPITAL","RY8CX","ST MARY'S HOSPITAL","RY8CX","ST MARY'S HOSPITAL","RY8",null,null,"The Lambeth Hospital","Rosa Parks Ward"]
[null,null,null,null,null,null,null,null,null,null,null,null,null,null,null,null,null,null,null,null,null,null,null,null,null,null,null,null,null,null,null,null,null,null,null,null,null,null,null,null,null,null,null,null,null,null,null,null,null,null,null,null,null,null,null,null,null,null,null,null,null,null,null,null,null,null,null,null,null,"RY8UROLOGY","RY8FM","UROLOGY","RY8FM","UROLOGY","RY8",null,null,"FRIARY HOSPITAL","Friary Community Hospital"]
[null,null,null,null,null,null,null,null,null,null,null,null,null,null,null,null,null,null,null,null,null,null,null,null,null,null,null,null,null,null,null,null,null,null,null,null,null,null,null,null,null,null,null,null,null,null,null,null,null,null,null,null,null,null,null,null,null,null,null,null,null,null,null,null,null,null,null,null,null,"RYGCANLEY HEALTH VISITORS BASE","RYGFL","CANLEY HEALTH VISITORS BASE","RYGFL","CANLEY HEALTH VISITORS BASE","RYG",null,null,"THE JAMES COOK UNIVERSITY HOSPITAL","JC24 (Ward 24)"]
[null,null,null,null,null,null,null,null,null,null,null,null,null,null,null,null,null,null,null,null,null,null,null,null,null,null,null,null,null,null,null,null,null,null,null,null,null,null,null,null,null,null,null,null,null,null,null,null,null,null,null,null,null,null,null,null,null,null,null,null,null,null,null,null,null,null,null,null,null,"RYGNEWFIELD ANNEXE","RYGGC","NEWFIELD ANNEXE","RYGGC","NEWFIELD ANNEXE","RYG",null,null,"THE JAMES COOK UNIVERSITY HOSPITAL","JC33 Specialty (merger of ward 18 and ward 27)"]
[null,null,null,null,null,null,null,null,null,null,null,null,null,null,null,null,null,null,null,null,null,null,null,null,null,null,null,null,null,null,null,null,null,null,null,null,null,null,null,null,null,null,null,null,null,null,null,null,null,null,null,null,null,null,null,null,null,null,null,null,null,null,null,null,null,null,null,null,null,"RYJST MARY'S HOSPITAL (HQ)","RYJ01","ST MARY'S HOSPITAL (HQ)","RYJ01","ST MARY'S HOSPITAL (HQ)","RYJ",null,null,"SOUTH TYNESIDE DISTRICT HOSPITAL","ITU / HDU"]
[null,null,null,null,null,null,null,null,null,null,null,null,null,null,null,null,null,null,null,null,null,null,null,null,null,null,null,null,null,null,null,null,null,null,null,null,null,null,null,null,null,null,null,null,null,null,null,null,null,null,null,null,null,null,null,null,null,null,null,null,null,null,null,null,null,null,null,null,null,"RYJWESTERN EYE HOSPITAL","RYJ07","WESTERN EYE HOSPITAL","RYJ07","WESTERN EYE HOSPITAL","RYJ",null,null,"SOUTH TYNESIDE DISTRICT HOSPITAL","PRIMROSE WARD"]
[null,null,null,null,null,null,null,null,null,null,null,null,null,null,null,null,null,null,null,null,null,null,null,null,null,null,null,null,null,null,null,null,null,null,null,null,null,null,null,null,null,null,null,null,null,null,null,null,null,null,null,null,null,null,null,null,null,null,null,null,null,null,null,null,null,null,null,null,null,"RYKBUSHEY FIELDS HOSPITAL 2","RYKC8","BUSHEY FIELDS HOSPITAL 2","RYKC8","BUSHEY FIELDS HOSPITAL 2","RYK",null,null,"SUNDERLAND ROYAL HOSPITAL","DGB21"]
[null,null,null,null,null,null,null,null,null,null,null,null,null,null,null,null,null,null,null,null,null,null,null,null,null,null,null,null,null,null,null,null,null,null,null,null,null,null,null,null,null,null,null,null,null,null,null,null,null,null,null,null,null,null,null,null,null,null,null,null,null,null,null,null,null,null,null,null,null,"RYKDAISY BANK COMMUNITY UNIT","RYK02","DAISY BANK COMMUNITY UNIT","RYK02","DAISY BANK COMMUNITY UNIT","RYK",null,null,"SUNDERLAND ROYAL HOSPITAL","DGDS"]
[null,null,null,null,null,null,null,null,null,null,null,null,null,null,null,null,null,null,null,null,null,null,null,null,null,null,null,null,null,null,null,null,null,null,null,null,null,null,null,null,null,null,null,null,null,null,null,null,null,null,null,null,null,null,null,null,null,null,null,null,null,null,null,null,null,null,null,null,null,"RYQERITH AND DISTRICT HOSPITAL","RYQ11","ERITH AND DISTRICT HOSPITAL","RYQ11","ERITH AND DISTRICT HOSPITAL","RYQ",null,null,"SUNDERLAND ROYAL HOSPITAL","DGICCU"]
[null,null,null,null,null,null,null,null,null,null,null,null,null,null,null,null,null,null,null,null,null,null,null,null,null,null,null,null,null,null,null,null,null,null,null,null,null,null,null,null,null,null,null,null,null,null,null,null,null,null,null,null,null,null,null,null,null,null,null,null,null,null,null,null,null,null,null,null,null,"RYRWORTHING HOSPITAL","RYR18","WORTHING HOSPITAL","RYR18","WORTHING HOSPITAL","RYR",null,null,"Warwick Hospital","Cardiology Unit"]
[null,null,null,null,null,null,null,null,null,null,null,null,null,null,null,null,null,null,null,null,null,null,null,null,null,null,null,null,null,null,null,null,null,null,null,null,null,null,null,null,null,null,null,null,null,null,null,null,null,null,null,null,null,null,null,null,null,null,null,null,null,null,null,null,null,null,null,null,null,"RYVTHE LUTON UNDERGROUND","RYV57","THE LUTON UNDERGROUND","RYV57","THE LUTON UNDERGROUND","RYV",null,null,"QUEEN MARY'S HOSPITAL","Rose Ward"]
[null,null,null,null,null,null,null,null,null,null,null,null,null,null,null,null,null,null,null,null,null,null,null,null,null,null,null,null,null,null,null,null,null,null,null,null,null,null,null,null,null,null,null,null,null,null,null,null,null,null,null,null,null,null,null,null,null,null,null,null,null,null,null,null,null,null,null,null,null,"RYWBCHC REHAB","RYWRH","BCHC REHAB","RYWRH","BCHC REHAB","RYW",null,null,"SPRINGFIELD UNIVERSITY HOSPITAL","Crocus Ward"]
[null,null,null,null,null,null,null,null,null,null,null,null,null,null,null,null,null,null,null,null,null,null,null,null,null,null,null,null,null,null,null,null,null,null,null,null,null,null,null,null,null,null,null,null,null,null,null,null,null,null,null,null,null,null,null,null,null,null,null,null,null,null,null,null,null,null,null,null,null,"RYXCHARING CROSS HOSPITAL","RYXC1","CHARING CROSS HOSPITAL","RYXC1","CHARING CROSS HOSPITAL","RYX",null,null,"FIELDHEAD HOSPITAL","Chippendale"]
[null,null,null,null,null,null,null,null,null,null,null,null,null,null,null,null,null,null,null,null,null,null,null,null,null,null,null,null,null,null,null,null,null,null,null,null,null,null,null,null,null,null,null,null,null,null,null,null,null,null,null,null,null,null,null,null,null,null,null,null,null,null,null,null,null,null,null,null,null,"RYXHEALTH AT THE STOWE","RYX10","HEALTH AT THE STOWE","RYX10","HEALTH AT THE STOWE","RYX",null,null,"FIELDHEAD HOSPITAL","Johnson"]
[null,null,null,null,null,null,null,null,null,null,null,null,null,null,null,null,null,null,null,null,null,null,null,null,null,null,null,null,null,null,null,null,null,null,null,null,null,null,null,null,null,null,null,null,null,null,null,null,null,null,null,null,null,null,null,null,null,null,null,null,null,null,null,null,null,null,null,null,null,"RYYFRIENDS WARD","RYYM5","FRIENDS WARD","RYYM5","FRIENDS WARD","RYY",null,null,"PRIESTLEY UNIT","Ward 18"]
[null,null,null,null,null,null,null,null,null,null,null,null,null,null,null,null,null,null,null,null,null,null,null,null,null,null,null,null,null,null,null,null,null,null,null,null,null,null,null,null,null,null,null,null,null,null,null,null,null,null,null,null,null,null,null,null,null,null,null,null,null,null,null,null,null,null,null,null,null,"RYYKENT & CANTERBURY HOSPITAL","RYYAR","KENT & CANTERBURY HOSPITAL","RYYAR","KENT & CANTERBURY HOSPITAL","RYY",null,null,"SOUTHEND HOSPITAL","Blenheim"]
[null,null,null,null,null,null,null,null,null,null,null,null,null,null,null,null,null,null,null,null,null,null,null,null,null,null,null,null,null,null,null,null,null,null,null,null,null,null,null,null,null,null,null,null,null,null,null,null,null,null,null,null,null,null,null,null,null,null,null,null,null,null,null,null,null,null,null,null,null,"RYYSITTINGBOURNE MEMORIAL HOSPITAL","RYYC8","SITTINGBOURNE MEMORIAL HOSPITAL","RYYC8","SITTINGBOURNE MEMORIAL HOSPITAL","RYY",null,null,"SOUTHEND HOSPITAL","Neptune"]
[null,null,null,null,null,null,null,null,null,null,null,null,null,null,null,null,null,null,null,null,null,null,null,null,null,null,null,null,null,null,null,null,null,null,null,null,null,null,null,null,null,null,null,null,null,null,null,null,null,null,null,null,null,null,null,null,null,null,null,null,null,null,null,null,null,null,null,null,null,"RYYWHITSTABLE & TANKERTON HOSPITAL","RYYCM","WHITSTABLE & TANKERTON HOSPITAL","RYYCM","WHITSTABLE & TANKERTON HOSPITAL","RYY",null,null,"FORDINGBRIDGE","Ford Ward"]
[null,null,null,null,null,null,null,null,null,null,null,null,null,null,null,null,null,null,null,null,null,null,null,null,null,null,null,null,null,null,null,null,null,null,null,null,null,null,null,null,null,null,null,null,null,null,null,null,null,null,null,null,null,null,null,null,null,null,null,null,null,null,null,null,null,null,null,null,null,"TADDAISY BANK","TAD15","DAISY BANK","TAD15","DAISY BANK","TAD",null,null,"LEIGH HOUSE","Leigh House"]
[null,null,null,null,null,null,null,null,null,null,null,null,null,null,null,null,null,null,null,null,null,null,null,null,null,null,null,null,null,null,null,null,null,null,null,null,null,null,null,null,null,null,null,null,null,null,null,null,null,null,null,null,null,null,null,null,null,null,null,null,null,null,null,null,null,null,null,null,null,"TADREDHILLS","TAD86","REDHILLS","TAD86","REDHILLS","TAD",null,null,"PARKLANDS HOSPITAL","Beechwood Ward"]
[null,null,null,null,null,null,null,null,null,null,null,null,null,null,null,null,null,null,null,null,null,null,null,null,null,null,null,null,null,null,null,null,null,null,null,null,null,null,null,null,null,null,null,null,null,null,null,null,null,null,null,null,null,null,null,null,null,null,null,null,null,null,null,null,null,null,null,null,null,"TAFFOCUS TEAM","TAF35","FOCUS TEAM","TAF35","FOCUS TEAM","TAF",null,null,"ORMSKIRK AND DISTRICT GENERAL HOSPITAL","Ward G"]
[null,null,null,null,null,null,null,null,null,null,null,null,null,null,null,null,null,null,null,null,null,null,null,null,null,null,null,null,null,null,null,null,null,null,null,null,null,null,null,null,null,null,null,null,null,null,null,null,null,null,null,null,null,null,null,null,null,null,null,null,null,null,null,null,null,null,null,null,null,"TAFHUNTER STREET HEALTH CENTRE","TAF44","HUNTER STREET HEALTH CENTRE","TAF44","HUNTER STREET HEALTH CENTRE","TAF",null,null,"SOUTHPORT AND FORMBY DISTRICT GENERAL HOSPITAL","Stroke Ward"]
[null,null,null,null,null,null,null,null,null,null,null,null,null,null,null,null,null,null,null,null,null,null,null,null,null,null,null,null,null,null,null,null,null,null,null,null,null,null,null,null,null,null,null,null,null,null,null,null,null,null,null,null,null,null,null,null,null,null,null,null,null,null,null,null,null,null,null,null,null,"TAFPECKWATER CENTRE","TAF58","PECKWATER CENTRE","TAF58","PECKWATER CENTRE","TAF",null,null,"ST GEORGE'S HOSPITAL (TOOTING)","Belgrave Ward AMW"]
[null,null,null,null,null,null,null,null,null,null,null,null,null,null,null,null,null,null,null,null,null,null,null,null,null,null,null,null,null,null,null,null,null,null,null,null,null,null,null,null,null,null,null,null,null,null,null,null,null,null,null,null,null,null,null,null,null,null,null,null,null,null,null,null,null,null,null,null,null,"TAFROYAL FREE HOSPITAL","TAF06","ROYAL FREE HOSPITAL","TAF06","ROYAL FREE HOSPITAL","TAF",null,null,"ST GEORGE'S HOSPITAL (TOOTING)","Coronary Care Unit"]
[null,null,null,null,null,null,null,null,null,null,null,null,null,null,null,null,null,null,null,null,null,null,null,null,null,null,null,null,null,null,null,null,null,null,null,null,null,null,null,null,null,null,null,null,null,null,null,null,null,null,null,null,null,null,null,null,null,null,null,null,null,null,null,null,null,null,null,null,null,"TAHBOLE HILL RESIDENTIAL HOME","TAH17","BOLE HILL RESIDENTIAL HOME","TAH17","BOLE HILL RESIDENTIAL HOME","TAH",null,null,"ST GEORGE'S HOSPITAL (TOOTING)","Keate Ward"]
[null,null,null,null,null,null,null,null,null,null,null,null,null,null,null,null,null,null,null,null,null,null,null,null,null,null,null,null,null,null,null,null,null,null,null,null,null,null,null,null,null,null,null,null,null,null,null,null,null,null,null,null,null,null,null,null,null,null,null,null,null,null,null,null,null,null,null,null,null,"TAHGREENACRES","TAH43","GREENACRES","TAH43","GREENACRES","TAH",null,null,"ST GEORGE'S HOSPITAL (TOOTING)","Nye Bevan Unit"]
[null,null,null,null,null,null,null,null,null,null,null,null,null,null,null,null,null,null,null,null,null,null,null,null,null,null,null,null,null,null,null,null,null,null,null,null,null,null,null,null,null,null,null,null,null,null,null,null,null,null,null,null,null,null,null,null,null,null,null,null,null,null,null,null,null,null,null,null,null,"TAHSHIRLE HILL","TAH78","SHIRLE HILL","TAH78","SHIRLE HILL","TAH",null,null,"ST HELENS HOSPITAL","Seddon"]
[null,null,null,null,null,null,null,null,null,null,null,null,null,null,null,null,null,null,null,null,null,null,null,null,null,null,null,null,null,null,null,null,null,null,null,null,null,null,null,null,null,null,null,null,null,null,null,null,null,null,null,null,null,null,null,null,null,null,null,null,null,null,null,null,null,null,null,null,null,"TAJEDWARD STREET HOSPITAL","TAJ07","EDWARD STREET HOSPITAL","TAJ07","EDWARD STREET HOSPITAL","TAJ",null,null,"WHISTON HOSPITAL","2C"]
[null,null,null,null,null,null,null,null,null,null,null,null,null,null,null,null,null,null,null,null,null,null,null,null,null,null,null,null,null,null,null,null,null,null,null,null,null,null,null,null,null,null,null,null,null,null,null,null,null,null,null,null,null,null,null,null,null,null,null,null,null,null,null,null,null,null,null,null,null,null,null,null,null,null,"",null,null,"WHISTON HOSPITAL","SCBU"]
[null,null,null,null,null,null,null,null,null,null,null,null,null,null,null,null,null,null,null,null,null,null,null,null,null,null,null,null,null,null,null,null,null,null,null,null,null,null,null,null,null,null,null,null,null,null,null,null,null,null,null,null,null,null,null,null,null,null,null,null,null,null,null,null,null,null,null,null,null,null,null,null,null,null,"",null,null,"STEPPING HILL HOSPITAL","A10"]
[null,null,null,null,null,null,null,null,null,null,null,null,null,null,null,null,null,null,null,null,null,null,null,null,null,null,null,null,null,null,null,null,null,null,null,null,null,null,null,null,null,null,null,null,null,null,null,null,null,null,null,null,null,null,null,null,null,null,null,null,null,null,null,null,null,null,null,null,null,null,null,null,null,null,"",null,null,"STEPPING HILL HOSPITAL","Delivery Suite"]
[null,null,null,null,null,null,null,null,null,null,null,null,null,null,null,null,null,null,null,null,null,null,null,null,null,null,null,null,null,null,null,null,null,null,null,null,null,null,null,null,null,null,null,null,null,null,null,null,null,null,null,null,null,null,null,null,null,null,null,null,null,null,null,null,null,null,null,null,null,null,null,null,null,null,"",null,null,"ABRAHAM COWLEY UNIT","Anderson"]
[null,null,null,null,null,null,null,null,null,null,null,null,null,null,null,null,null,null,null,null,null,null,null,null,null,null,null,null,null,null,null,null,null,null,null,null,null,null,null,null,null,null,null,null,null,null,null,null,null,null,null,null,null,null,null,null,null,null,null,null,null,null,null,null,null,null,null,null,null,null,null,null,null,null,"",null,null,"FARNHAM HOSPITAL","Juniper"]
[null,null,null,null,null,null,null,null,null,null,null,null,null,null,null,null,null,null,null,null,null,null,null,null,null,null,null,null,null,null,null,null,null,null,null,null,null,null,null,null,null,null,null,null,null,null,null,null,null,null,null,null,null,null,null,null,null,null,null,null,null,null,null,null,null,null,null,null,null,null,null,null,null,null,"",null,null,"EAST SURREY HOSPITAL","Buckland Ward"]
[null,null,null,null,null,null,null,null,null,null,null,null,null,null,null,null,null,null,null,null,null,null,null,null,null,null,null,null,null,null,null,null,null,null,null,null,null,null,null,null,null,null,null,null,null,null,null,null,null,null,null,null,null,null,null,null,null,null,null,null,null,null,null,null,null,null,null,null,null,null,null,null,null,null,"",null,null,"EAST SURREY HOSPITAL","ITU/HDU"]
[null,null,null,null,null,null,null,null,null,null,null,null,null,null,null,null,null,null,null,null,null,null,null,null,null,null,null,null,null,null,null,null,null,null,null,null,null,null,null,null,null,null,null,null,null,null,null,null,null,null,null,null,null,null,null,null,null,null,null,null,null,null,null,null,null,null,null,null,null,null,null,null,null,null,"",null,null,"EAST SURREY HOSPITAL","Tandridge Ward"]
[null,null,null,null,null,null,null,null,null,null,null,null,null,null,null,null,null,null,null,null,null,null,null,null,null,null,null,null,null,null,null,null,null,null,null,null,null,null,null,null,null,null,null,null,null,null,null,null,null,null,null,null,null,null,null,null,null,null,null,null,null,null,null,null,null,null,null,null,null,null,null,null,null,null,"",null,null,"BEECHWOOD UNIT","Beechwood"]
[null,null,null,null,null,null,null,null,null,null,null,null,null,null,null,null,null,null,null,null,null,null,null,null,null,null,null,null,null,null,null,null,null,null,null,null,null,null,null,null,null,null,null,null,null,null,null,null,null,null,null,null,null,null,null,null,null,null,null,null,null,null,null,null,null,null,null,null,null,null,null,null,null,null,"",null,null,"CHICHESTER CRT","Hazel Ward"]
[null,null,null,null,null,null,null,null,null,null,null,null,null,null,null,null,null,null,null,null,null,null,null,null,null,null,null,null,null,null,null,null,null,null,null,null,null,null,null,null,null,null,null,null,null,null,null,null,null,null,null,null,null,null,null,null,null,null,null,null,null,null,null,null,null,null,null,null,null,null,null,null,null,null,null,null,null,"MEADOWFIELD","Selden Centre"]
[null,null,null,null,null,null,null,null,null,null,null,null,null,null,null,null,null,null,null,null,null,null,null,null,null,null,null,null,null,null,null,null,null,null,null,null,null,null,null,null,null,null,null,null,null,null,null,null,null,null,null,null,null,null,null,null,null,null,null,null,null,null,null,null,null,null,null,null,null,null,null,null,null,null,null,null,null,"TAMESIDE GENERAL HOSPITAL","Acute Medical Unit"]
[null,null,null,null,null,null,null,null,null,null,null,null,null,null,null,null,null,null,null,null,null,null,null,null,null,null,null,null,null,null,null,null,null,null,null,null,null,null,null,null,null,null,null,null,null,null,null,null,null,null,null,null,null,null,null,null,null,null,null,null,null,null,null,null,null,null,null,null,null,null,null,null,null,null,null,null,null,"TAMESIDE GENERAL HOSPITAL","Stamford Unit 2nd Floor"]
[null,null,null,null,null,null,null,null,null,null,null,null,null,null,null,null,null,null,null,null,null,null,null,null,null,null,null,null,null,null,null,null,null,null,null,null,null,null,null,null,null,null,null,null,null,null,null,null,null,null,null,null,null,null,null,null,null,null,null,null,null,null,null,null,null,null,null,null,null,null,null,null,null,null,null,null,null,"TAMESIDE GENERAL HOSPITAL","Ward 45 Adult Medicine and Stroke Support"]
[null,null,null,null,null,null,null,null,null,null,null,null,null,null,null,null,null,null,null,null,null,null,null,null,null,null,null,null,null,null,null,null,null,null,null,null,null,null,null,null,null,null,null,null,null,null,null,null,null,null,null,null,null,null,null,null,null,null,null,null,null,null,null,null,null,null,null,null,null,null,null,null,null,null,null,null,null,"MUSGROVE PARK HOSPITAL","Fielding Ward"]
[null,null,null,null,null,null,null,null,null,null,null,null,null,null,null,null,null,null,null,null,null,null,null,null,null,null,null,null,null,null,null,null,null,null,null,null,null,null,null,null,null,null,null,null,null,null,null,null,null,null,null,null,null,null,null,null,null,null,null,null,null,null,null,null,null,null,null,null,null,null,null,null,null,null,null,null,null,"MUSGROVE PARK HOSPITAL","SAU Ward 2"]
[null,null,null,null,null,null,null,null,null,null,null,null,null,null,null,null,null,null,null,null,null,null,null,null,null,null,null,null,null,null,null,null,null,null,null,null,null,null,null,null,null,null,null,null,null,null,null,null,null,null,null,null,null,null,null,null,null,null,null,null,null,null,null,null,null,null,null,null,null,null,null,null,null,null,null,null,null,"CROSS LANE HOSPITAL AYCKBOURN","Ayckbourn Danby Ward"]
[null,null,null,null,null,null,null,null,null,null,null,null,null,null,null,null,null,null,null,null,null,null,null,null,null,null,null,null,null,null,null,null,null,null,null,null,null,null,null,null,null,null,null,null,null,null,null,null,null,null,null,null,null,null,null,null,null,null,null,null,null,null,null,null,null,null,null,null,null,null,null,null,null,null,null,null,null,"LUSTRUM VALE","Lustrum Vale"]
[null,null,null,null,null,null,null,null,null,null,null,null,null,null,null,null,null,null,null,null,null,null,null,null,null,null,null,null,null,null,null,null,null,null,null,null,null,null,null,null,null,null,null,null,null,null,null,null,null,null,null,null,null,null,null,null,null,null,null,null,null,null,null,null,null,null,null,null,null,null,null,null,null,null,null,null,null,"ROSEBERRY PARK HOSPITAL","Mandarin"]
[null,null,null,null,null,null,null,null,null,null,null,null,null,null,null,null,null,null,null,null,null,null,null,null,null,null,null,null,null,null,null,null,null,null,null,null,null,null,null,null,null,null,null,null,null,null,null,null,null,null,null,null,null,null,null,null,null,null,null,null,null,null,null,null,null,null,null,null,null,null,null,null,null,null,null,null,null,"ROSEBERRY PARK HOSPITAL","Thistle"]
[null,null,null,null,null,null,null,null,null,null,null,null,null,null,null,null,null,null,null,null,null,null,null,null,null,null,null,null,null,null,null,null,null,null,null,null,null,null,null,null,null,null,null,null,null,null,null,null,null,null,null,null,null,null,null,null,null,null,null,null,null,null,null,null,null,null,null,null,null,null,null,null,null,null,null,null,null,"WEST PARK HOSPITAL","Elm Ward"]
[null,null,null,null,null,null,null,null,null,null,null,null,null,null,null,null,null,null,null,null,null,null,null,null,null,null,null,null,null,null,null,null,null,null,null,null,null,null,null,null,null,null,null,null,null,null,null,null,null,null,null,null,null,null,null,null,null,null,null,null,null,null,null,null,null,null,null,null,null,null,null,null,null,null,null,null,null,"THE CHRISTIE","Ward 11"]
[null,null,null,null,null,null,null,null,null,null,null,null,null,null,null,null,null,null,null,null,null,null,null,null,null,null,null,null,null,null,null,null,null,null,null,null,null,null,null,null,null,null,null,null,null,null,null,null,null,null,null,null,null,null,null,null,null,null,null,null,null,null,null,null,null,null,null,null,null,null,null,null,null,null,null,null,null,"RUSSELLS HALL HOSPITAL","B5"]
[null,null,null,null,null,null,null,null,null,null,null,null,null,null,null,null,null,null,null,null,null,null,null,null,null,null,null,null,null,null,null,null,null,null,null,null,null,null,null,null,null,null,null,null,null,null,null,null,null,null,null,null,null,null,null,null,null,null,null,null,null,null,null,null,null,null,null,null,null,null,null,null,null,null,null,null,null,"RUSSELLS HALL HOSPITAL","C8"]
[null,null,null,null,null,null,null,null,null,null,null,null,null,null,null,null,null,null,null,null,null,null,null,null,null,null,null,null,null,null,null,null,null,null,null,null,null,null,null,null,null,null,null,null,null,null,null,null,null,null,null,null,null,null,null,null,null,null,null,null,null,null,null,null,null,null,null,null,null,null,null,null,null,null,null,null,null,"HILLINGDON HOSPITAL","CORONARY CARE UNIT"]
[null,null,null,null,null,null,null,null,null,null,null,null,null,null,null,null,null,null,null,null,null,null,null,null,null,null,null,null,null,null,null,null,null,null,null,null,null,null,null,null,null,null,null,null,null,null,null,null,null,null,null,null,null,null,null,null,null,null,null,null,null,null,null,null,null,null,null,null,null,null,null,null,null,null,null,null,null,"HILLINGDON HOSPITAL","KENNEDY"]
[null,null,null,null,null,null,null,null,null,null,null,null,null,null,null,null,null,null,null,null,null,null,null,null,null,null,null,null,null,null,null,null,null,null,null,null,null,null,null,null,null,null,null,null,null,null,null,null,null,null,null,null,null,null,null,null,null,null,null,null,null,null,null,null,null,null,null,null,null,null,null,null,null,null,null,null,null,"FREEMAN HOSPITAL - RTD01","FH16"]
[null,null,null,null,null,null,null,null,null,null,null,null,null,null,null,null,null,null,null,null,null,null,null,null,null,null,null,null,null,null,null,null,null,null,null,null,null,null,null,null,null,null,null,null,null,null,null,null,null,null,null,null,null,null,null,null,null,null,null,null,null,null,null,null,null,null,null,null,null,null,null,null,null,null,null,null,null,"FREEMAN HOSPITAL - RTD01","FH19"]
[null,null,null,null,null,null,null,null,null,null,null,null,null,null,null,null,null,null,null,null,null,null,null,null,null,null,null,null,null,null,null,null,null,null,null,null,null,null,null,null,null,null,null,null,null,null,null,null,null,null,null,null,null,null,null,null,null,null,null,null,null,null,null,null,null,null,null,null,null,null,null,null,null,null,null,null,null,"THE ROYAL VICTORIA INFIRMARY - RTD02","RV02"]
[null,null,null,null,null,null,null,null,null,null,null,null,null,null,null,null,null,null,null,null,null,null,null,null,null,null,null,null,null,null,null,null,null,null,null,null,null,null,null,null,null,null,null,null,null,null,null,null,null,null,null,null,null,null,null,null,null,null,null,null,null,null,null,null,null,null,null,null,null,null,null,null,null,null,null,null,null,"THE ROYAL VICTORIA INFIRMARY - RTD02","RV16"]
[null,null,null,null,null,null,null,null,null,null,null,null,null,null,null,null,null,null,null,null,null,null,null,null,null,null,null,null,null,null,null,null,null,null,null,null,null,null,null,null,null,null,null,null,null,null,null,null,null,null,null,null,null,null,null,null,null,null,null,null,null,null,null,null,null,null,null,null,null,null,null,null,null,null,null,null,null,"THE ROYAL VICTORIA INFIRMARY - RTD02","RV40"]
[null,null,null,null,null,null,null,null,null,null,null,null,null,null,null,null,null,null,null,null,null,null,null,null,null,null,null,null,null,null,null,null,null,null,null,null,null,null,null,null,null,null,null,null,null,null,null,null,null,null,null,null,null,null,null,null,null,null,null,null,null,null,null,null,null,null,null,null,null,null,null,null,null,null,null,null,null,"THE ROYAL VICTORIA INFIRMARY - RTD02","RVNBC"]
[null,null,null,null,null,null,null,null,null,null,null,null,null,null,null,null,null,null,null,null,null,null,null,null,null,null,null,null,null,null,null,null,null,null,null,null,null,null,null,null,null,null,null,null,null,null,null,null,null,null,null,null,null,null,null,null,null,null,null,null,null,null,null,null,null,null,null,null,null,null,null,null,null,null,null,null,null,"PRINCESS ALEXANDRA HOSPITAL - RQWG0","Gibberd Ward"]
[null,null,null,null,null,null,null,null,null,null,null,null,null,null,null,null,null,null,null,null,null,null,null,null,null,null,null,null,null,null,null,null,null,null,null,null,null,null,null,null,null,null,null,null,null,null,null,null,null,null,null,null,null,null,null,null,null,null,null,null,null,null,null,null,null,null,null,null,null,null,null,null,null,null,null,null,null,"PRINCESS ALEXANDRA HOSPITAL - RQWG0","Locke Ward"]
[null,null,null,null,null,null,null,null,null,null,null,null,null,null,null,null,null,null,null,null,null,null,null,null,null,null,null,null,null,null,null,null,null,null,null,null,null,null,null,null,null,null,null,null,null,null,null,null,null,null,null,null,null,null,null,null,null,null,null,null,null,null,null,null,null,null,null,null,null,null,null,null,null,null,null,null,null,"THE QUEEN ELIZABETH HOSPITAL","Oxborough"]
[null,null,null,null,null,null,null,null,null,null,null,null,null,null,null,null,null,null,null,null,null,null,null,null,null,null,null,null,null,null,null,null,null,null,null,null,null,null,null,null,null,null,null,null,null,null,null,null,null,null,null,null,null,null,null,null,null,null,null,null,null,null,null,null,null,null,null,null,null,null,null,null,null,null,null,null,null,"THE QUEEN ELIZABETH HOSPITAL","Windsor"]
[null,null,null,null,null,null,null,null,null,null,null,null,null,null,null,null,null,null,null,null,null,null,null,null,null,null,null,null,null,null,null,null,null,null,null,null,null,null,null,null,null,null,null,null,null,null,null,null,null,null,null,null,null,null,null,null,null,null,null,null,null,null,null,null,null,null,null,null,null,null,null,null,null,null,null,null,null,"ROTHERHAM DISTRICT GENERAL HOSPITAL","A3"]
[null,null,null,null,null,null,null,null,null,null,null,null,null,null,null,null,null,null,null,null,null,null,null,null,null,null,null,null,null,null,null,null,null,null,null,null,null,null,null,null,null,null,null,null,null,null,null,null,null,null,null,null,null,null,null,null,null,null,null,null,null,null,null,null,null,null,null,null,null,null,null,null,null,null,null,null,null,"ROTHERHAM DISTRICT GENERAL HOSPITAL","Community Unit"]
[null,null,null,null,null,null,null,null,null,null,null,null,null,null,null,null,null,null,null,null,null,null,null,null,null,null,null,null,null,null,null,null,null,null,null,null,null,null,null,null,null,null,null,null,null,null,null,null,null,null,null,null,null,null,null,null,null,null,null,null,null,null,null,null,null,null,null,null,null,null,null,null,null,null,null,null,null,"ROYAL BOURNEMOUTH GENERAL HOSPITAL","RB03"]
[null,null,null,null,null,null,null,null,null,null,null,null,null,null,null,null,null,null,null,null,null,null,null,null,null,null,null,null,null,null,null,null,null,null,null,null,null,null,null,null,null,null,null,null,null,null,null,null,null,null,null,null,null,null,null,null,null,null,null,null,null,null,null,null,null,null,null,null,null,null,null,null,null,null,null,null,null,"ROYAL BOURNEMOUTH GENERAL HOSPITAL","RB15"]
[null,null,null,null,null,null,null,null,null,null,null,null,null,null,null,null,null,null,null,null,null,null,null,null,null,null,null,null,null,null,null,null,null,null,null,null,null,null,null,null,null,null,null,null,null,null,null,null,null,null,null,null,null,null,null,null,null,null,null,null,null,null,null,null,null,null,null,null,null,null,null,null,null,null,null,null,null,"ROYAL BOURNEMOUTH GENERAL HOSPITAL","RBMAT"]
[null,null,null,null,null,null,null,null,null,null,null,null,null,null,null,null,null,null,null,null,null,null,null,null,null,null,null,null,null,null,null,null,null,null,null,null,null,null,null,null,null,null,null,null,null,null,null,null,null,null,null,null,null,null,null,null,null,null,null,null,null,null,null,null,null,null,null,null,null,null,null,null,null,null,null,null,null,"THE ROYAL MARSDEN HOSPITAL (LONDON) - RPY01","Granard House 3"]
[null,null,null,null,null,null,null,null,null,null,null,null,null,null,null,null,null,null,null,null,null,null,null,null,null,null,null,null,null,null,null,null,null,null,null,null,null,null,null,null,null,null,null,null,null,null,null,null,null,null,null,null,null,null,null,null,null,null,null,null,null,null,null,null,null,null,null,null,null,null,null,null,null,null,null,null,null,"THE ROYAL MARSDEN HOSPITAL (SURREY) - RPY02","Wiltshaw Ward"]
[null,null,null,null,null,null,null,null,null,null,null,null,null,null,null,null,null,null,null,null,null,null,null,null,null,null,null,null,null,null,null,null,null,null,null,null,null,null,null,null,null,null,null,null,null,null,null,null,null,null,null,null,null,null,null,null,null,null,null,null,null,null,null,null,null,null,null,null,null,null,null,null,null,null,null,null,null,"NEW CROSS HOSPITAL","B8"]
[null,null,null,null,null,null,null,null,null,null,null,null,null,null,null,null,null,null,null,null,null,null,null,null,null,null,null,null,null,null,null,null,null,null,null,null,null,null,null,null,null,null,null,null,null,null,null,null,null,null,null,null,null,null,null,null,null,null,null,null,null,null,null,null,null,null,null,null,null,null,null,null,null,null,null,null,null,"NEW CROSS HOSPITAL","C25"]
[null,null,null,null,null,null,null,null,null,null,null,null,null,null,null,null,null,null,null,null,null,null,null,null,null,null,null,null,null,null,null,null,null,null,null,null,null,null,null,null,null,null,null,null,null,null,null,null,null,null,null,null,null,null,null,null,null,null,null,null,null,null,null,null,null,null,null,null,null,null,null,null,null,null,null,null,null,"THE WALTON CENTRE FOR NEUROLOGY AND NEUROSURGERY NHS TRUST","Chavasse"]
[null,null,null,null,null,null,null,null,null,null,null,null,null,null,null,null,null,null,null,null,null,null,null,null,null,null,null,null,null,null,null,null,null,null,null,null,null,null,null,null,null,null,null,null,null,null,null,null,null,null,null,null,null,null,null,null,null,null,null,null,null,null,null,null,null,null,null,null,null,null,null,null,null,null,null,null,null,"TORBAY HOSPITAL","Cromie"]
[null,null,null,null,null,null,null,null,null,null,null,null,null,null,null,null,null,null,null,null,null,null,null,null,null,null,null,null,null,null,null,null,null,null,null,null,null,null,null,null,null,null,null,null,null,null,null,null,null,null,null,null,null,null,null,null,null,null,null,null,null,null,null,null,null,null,null,null,null,null,null,null,null,null,null,null,null,"TORBAY HOSPITAL","EAU4"]
[null,null,null,null,null,null,null,null,null,null,null,null,null,null,null,null,null,null,null,null,null,null,null,null,null,null,null,null,null,null,null,null,null,null,null,null,null,null,null,null,null,null,null,null,null,null,null,null,null,null,null,null,null,null,null,null,null,null,null,null,null,null,null,null,null,null,null,null,null,null,null,null,null,null,null,null,null,"GRANTHAM AND DISTRICT HOSPITAL","Emergency Assessment Unit"]
[null,null,null,null,null,null,null,null,null,null,null,null,null,null,null,null,null,null,null,null,null,null,null,null,null,null,null,null,null,null,null,null,null,null,null,null,null,null,null,null,null,null,null,null,null,null,null,null,null,null,null,null,null,null,null,null,null,null,null,null,null,null,null,null,null,null,null,null,null,null,null,null,null,null,null,null,null,"LINCOLN COUNTY HOSPITAL","Clayton"]
[null,null,null,null,null,null,null,null,null,null,null,null,null,null,null,null,null,null,null,null,null,null,null,null,null,null,null,null,null,null,null,null,null,null,null,null,null,null,null,null,null,null,null,null,null,null,null,null,null,null,null,null,null,null,null,null,null,null,null,null,null,null,null,null,null,null,null,null,null,null,null,null,null,null,null,null,null,"LINCOLN COUNTY HOSPITAL","Stroke Unit"]
[null,null,null,null,null,null,null,null,null,null,null,null,null,null,null,null,null,null,null,null,null,null,null,null,null,null,null,null,null,null,null,null,null,null,null,null,null,null,null,null,null,null,null,null,null,null,null,null,null,null,null,null,null,null,null,null,null,null,null,null,null,null,null,null,null,null,null,null,null,null,null,null,null,null,null,null,null,"PILGRIM HOSPITAL","Ward 6A"]
[null,null,null,null,null,null,null,null,null,null,null,null,null,null,null,null,null,null,null,null,null,null,null,null,null,null,null,null,null,null,null,null,null,null,null,null,null,null,null,null,null,null,null,null,null,null,null,null,null,null,null,null,null,null,null,null,null,null,null,null,null,null,null,null,null,null,null,null,null,null,null,null,null,null,null,null,null,"NATIONAL HOSPITAL FOR NEUROLOGY AND NEUROSURGERY, QUEEN SQUARE - RRVNQ","Lady Anne Allerton"]
[null,null,null,null,null,null,null,null,null,null,null,null,null,null,null,null,null,null,null,null,null,null,null,null,null,null,null,null,null,null,null,null,null,null,null,null,null,null,null,null,null,null,null,null,null,null,null,null,null,null,null,null,null,null,null,null,null,null,null,null,null,null,null,null,null,null,null,null,null,null,null,null,null,null,null,null,null,"UNIVERSITY COLLEGE HOSPITAL - RRV03","T03 Critical Care"]
[null,null,null,null,null,null,null,null,null,null,null,null,null,null,null,null,null,null,null,null,null,null,null,null,null,null,null,null,null,null,null,null,null,null,null,null,null,null,null,null,null,null,null,null,null,null,null,null,null,null,null,null,null,null,null,null,null,null,null,null,null,null,null,null,null,null,null,null,null,null,null,null,null,null,null,null,null,"UNIVERSITY COLLEGE HOSPITAL - RRV03","T14 South Haematology"]
[null,null,null,null,null,null,null,null,null,null,null,null,null,null,null,null,null,null,null,null,null,null,null,null,null,null,null,null,null,null,null,null,null,null,null,null,null,null,null,null,null,null,null,null,null,null,null,null,null,null,null,null,null,null,null,null,null,null,null,null,null,null,null,null,null,null,null,null,null,null,null,null,null,null,null,null,null,"UNIVERSITY COLLEGE HOSPITAL - RRV03","UCH Tower 1st Floor / AMU"]
[null,null,null,null,null,null,null,null,null,null,null,null,null,null,null,null,null,null,null,null,null,null,null,null,null,null,null,null,null,null,null,null,null,null,null,null,null,null,null,null,null,null,null,null,null,null,null,null,null,null,null,null,null,null,null,null,null,null,null,null,null,null,null,null,null,null,null,null,null,null,null,null,null,null,null,null,null,"SOUTHAMPTON GENERAL HOSPITAL","188 CAN C4 Solent Ward Clinical Oncology"]
[null,null,null,null,null,null,null,null,null,null,null,null,null,null,null,null,null,null,null,null,null,null,null,null,null,null,null,null,null,null,null,null,null,null,null,null,null,null,null,null,null,null,null,null,null,null,null,null,null,null,null,null,null,null,null,null,null,null,null,null,null,null,null,null,null,null,null,null,null,null,null,null,null,null,null,null,null,"SOUTHAMPTON GENERAL HOSPITAL","188 CC Cardiac Intensive Care"]
[null,null,null,null,null,null,null,null,null,null,null,null,null,null,null,null,null,null,null,null,null,null,null,null,null,null,null,null,null,null,null,null,null,null,null,null,null,null,null,null,null,null,null,null,null,null,null,null,null,null,null,null,null,null,null,null,null,null,null,null,null,null,null,null,null,null,null,null,null,null,null,null,null,null,null,null,null,"SOUTHAMPTON GENERAL HOSPITAL","188 CHI Piam Brown Unit"]
[null,null,null,null,null,null,null,null,null,null,null,null,null,null,null,null,null,null,null,null,null,null,null,null,null,null,null,null,null,null,null,null,null,null,null,null,null,null,null,null,null,null,null,null,null,null,null,null,null,null,null,null,null,null,null,null,null,null,null,null,null,null,null,null,null,null,null,null,null,null,null,null,null,null,null,null,null,"SOUTHAMPTON GENERAL HOSPITAL","188 NEU hasu"]
[null,null,null,null,null,null,null,null,null,null,null,null,null,null,null,null,null,null,null,null,null,null,null,null,null,null,null,null,null,null,null,null,null,null,null,null,null,null,null,null,null,null,null,null,null,null,null,null,null,null,null,null,null,null,null,null,null,null,null,null,null,null,null,null,null,null,null,null,null,null,null,null,null,null,null,null,null,"SOUTHAMPTON GENERAL HOSPITAL","188 SUR E8 HPB/Urology"]
[null,null,null,null,null,null,null,null,null,null,null,null,null,null,null,null,null,null,null,null,null,null,null,null,null,null,null,null,null,null,null,null,null,null,null,null,null,null,null,null,null,null,null,null,null,null,null,null,null,null,null,null,null,null,null,null,null,null,null,null,null,null,null,null,null,null,null,null,null,null,null,null,null,null,null,null,null,"SOUTHAMPTON GENERAL HOSPITAL","188 T&O Ward F4"]
[null,null,null,null,null,null,null,null,null,null,null,null,null,null,null,null,null,null,null,null,null,null,null,null,null,null,null,null,null,null,null,null,null,null,null,null,null,null,null,null,null,null,null,null,null,null,null,null,null,null,null,null,null,null,null,null,null,null,null,null,null,null,null,null,null,null,null,null,null,null,null,null,null,null,null,null,null,"GOOD HOPE HOSPITAL","Ward 16 GHH"]
[null,null,null,null,null,null,null,null,null,null,null,null,null,null,null,null,null,null,null,null,null,null,null,null,null,null,null,null,null,null,null,null,null,null,null,null,null,null,null,null,null,null,null,null,null,null,null,null,null,null,null,null,null,null,null,null,null,null,null,null,null,null,null,null,null,null,null,null,null,null,null,null,null,null,null,null,null,"GOOD HOPE HOSPITAL","Ward 9 GHH"]
[null,null,null,null,null,null,null,null,null,null,null,null,null,null,null,null,null,null,null,null,null,null,null,null,null,null,null,null,null,null,null,null,null,null,null,null,null,null,null,null,null,null,null,null,null,null,null,null,null,null,null,null,null,null,null,null,null,null,null,null,null,null,null,null,null,null,null,null,null,null,null,null,null,null,null,null,null,"HEARTLANDS HOSPITAL","Ward 10 BHH"]
[null,null,null,null,null,null,null,null,null,null,null,null,null,null,null,null,null,null,null,null,null,null,null,null,null,null,null,null,null,null,null,null,null,null,null,null,null,null,null,null,null,null,null,null,null,null,null,null,null,null,null,null,null,null,null,null,null,null,null,null,null,null,null,null,null,null,null,null,null,null,null,null,null,null,null,null,null,"QUEEN ELIZABETH HOSPITAL - RRK02","Edgbaston"]
[null,null,null,null,null,null,null,null,null,null,null,null,null,null,null,null,null,null,null,null,null,null,null,null,null,null,null,null,null,null,null,null,null,null,null,null,null,null,null,null,null,null,null,null,null,null,null,null,null,null,null,null,null,null,null,null,null,null,null,null,null,null,null,null,null,null,null,null,null,null,null,null,null,null,null,null,null,"QUEEN ELIZABETH HOSPITAL - RRK02","W303"]
[null,null,null,null,null,null,null,null,null,null,null,null,null,null,null,null,null,null,null,null,null,null,null,null,null,null,null,null,null,null,null,null,null,null,null,null,null,null,null,null,null,null,null,null,null,null,null,null,null,null,null,null,null,null,null,null,null,null,null,null,null,null,null,null,null,null,null,null,null,null,null,null,null,null,null,null,null,"QUEEN ELIZABETH HOSPITAL - RRK02","W726"]
[null,null,null,null,null,null,null,null,null,null,null,null,null,null,null,null,null,null,null,null,null,null,null,null,null,null,null,null,null,null,null,null,null,null,null,null,null,null,null,null,null,null,null,null,null,null,null,null,null,null,null,null,null,null,null,null,null,null,null,null,null,null,null,null,null,null,null,null,null,null,null,null,null,null,null,null,null,"QUEEN ELIZABETH HOSPITAL - RRK02","WW1"]
[null,null,null,null,null,null,null,null,null,null,null,null,null,null,null,null,null,null,null,null,null,null,null,null,null,null,null,null,null,null,null,null,null,null,null,null,null,null,null,null,null,null,null,null,null,null,null,null,null,null,null,null,null,null,null,null,null,null,null,null,null,null,null,null,null,null,null,null,null,null,null,null,null,null,null,null,null,"Bristol Haematology and Oncology Centre","D703"]
[null,null,null,null,null,null,null,null,null,null,null,null,null,null,null,null,null,null,null,null,null,null,null,null,null,null,null,null,null,null,null,null,null,null,null,null,null,null,null,null,null,null,null,null,null,null,null,null,null,null,null,null,null,null,null,null,null,null,null,null,null,null,null,null,null,null,null,null,null,null,null,null,null,null,null,null,null,"Bristol Royal Hospital For Children","E600"]
[null,null,null,null,null,null,null,null,null,null,null,null,null,null,null,null,null,null,null,null,null,null,null,null,null,null,null,null,null,null,null,null,null,null,null,null,null,null,null,null,null,null,null,null,null,null,null,null,null,null,null,null,null,null,null,null,null,null,null,null,null,null,null,null,null,null,null,null,null,null,null,null,null,null,null,null,null,"Bristol Royal Infirmary","A524"]
[null,null,null,null,null,null,null,null,null,null,null,null,null,null,null,null,null,null,null,null,null,null,null,null,null,null,null,null,null,null,null,null,null,null,null,null,null,null,null,null,null,null,null,null,null,null,null,null,null,null,null,null,null,null,null,null,null,null,null,null,null,null,null,null,null,null,null,null,null,null,null,null,null,null,null,null,null,"St Michael's Hospital","75"]
[null,null,null,null,null,null,null,null,null,null,null,null,null,null,null,null,null,null,null,null,null,null,null,null,null,null,null,null,null,null,null,null,null,null,null,null,null,null,null,null,null,null,null,null,null,null,null,null,null,null,null,null,null,null,null,null,null,null,null,null,null,null,null,null,null,null,null,null,null,null,null,null,null,null,null,null,null,"St Michael's Hospital","78"]
[null,null,null,null,null,null,null,null,null,null,null,null,null,null,null,null,null,null,null,null,null,null,null,null,null,null,null,null,null,null,null,null,null,null,null,null,null,null,null,null,null,null,null,null,null,null,null,null,null,null,null,null,null,null,null,null,null,null,null,null,null,null,null,null,null,null,null,null,null,null,null,null,null,null,null,null,null,"UNIVERSITY HOSPITAL (COVENTRY)","NeoNatal Unit"]
[null,null,null,null,null,null,null,null,null,null,null,null,null,null,null,null,null,null,null,null,null,null,null,null,null,null,null,null,null,null,null,null,null,null,null,null,null,null,null,null,null,null,null,null,null,null,null,null,null,null,null,null,null,null,null,null,null,null,null,null,null,null,null,null,null,null,null,null,null,null,null,null,null,null,null,null,null,"UNIVERSITY HOSPITAL (COVENTRY)","Ward 32"]
[null,null,null,null,null,null,null,null,null,null,null,null,null,null,null,null,null,null,null,null,null,null,null,null,null,null,null,null,null,null,null,null,null,null,null,null,null,null,null,null,null,null,null,null,null,null,null,null,null,null,null,null,null,null,null,null,null,null,null,null,null,null,null,null,null,null,null,null,null,null,null,null,null,null,null,null,null,"UNIVERSITY HOSPITAL (COVENTRY)","Ward 35"]
[null,null,null,null,null,null,null,null,null,null,null,null,null,null,null,null,null,null,null,null,null,null,null,null,null,null,null,null,null,null,null,null,null,null,null,null,null,null,null,null,null,null,null,null,null,null,null,null,null,null,null,null,null,null,null,null,null,null,null,null,null,null,null,null,null,null,null,null,null,null,null,null,null,null,null,null,null,"BURTON HOSPITAL - RTG02","Ward 16"]
[null,null,null,null,null,null,null,null,null,null,null,null,null,null,null,null,null,null,null,null,null,null,null,null,null,null,null,null,null,null,null,null,null,null,null,null,null,null,null,null,null,null,null,null,null,null,null,null,null,null,null,null,null,null,null,null,null,null,null,null,null,null,null,null,null,null,null,null,null,null,null,null,null,null,null,null,null,"BURTON HOSPITAL - RTG02","Ward 8"]
[null,null,null,null,null,null,null,null,null,null,null,null,null,null,null,null,null,null,null,null,null,null,null,null,null,null,null,null,null,null,null,null,null,null,null,null,null,null,null,null,null,null,null,null,null,null,null,null,null,null,null,null,null,null,null,null,null,null,null,null,null,null,null,null,null,null,null,null,null,null,null,null,null,null,null,null,null,"ROYAL DERBY HOSPITAL - RTGFG","301"]
[null,null,null,null,null,null,null,null,null,null,null,null,null,null,null,null,null,null,null,null,null,null,null,null,null,null,null,null,null,null,null,null,null,null,null,null,null,null,null,null,null,null,null,null,null,null,null,null,null,null,null,null,null,null,null,null,null,null,null,null,null,null,null,null,null,null,null,null,null,null,null,null,null,null,null,null,null,"ROYAL DERBY HOSPITAL - RTGFG","309"]
[null,null,null,null,null,null,null,null,null,null,null,null,null,null,null,null,null,null,null,null,null,null,null,null,null,null,null,null,null,null,null,null,null,null,null,null,null,null,null,null,null,null,null,null,null,null,null,null,null,null,null,null,null,null,null,null,null,null,null,null,null,null,null,null,null,null,null,null,null,null,null,null,null,null,null,null,null,"ROYAL DERBY HOSPITAL - RTGFG","403"]
[null,null,null,null,null,null,null,null,null,null,null,null,null,null,null,null,null,null,null,null,null,null,null,null,null,null,null,null,null,null,null,null,null,null,null,null,null,null,null,null,null,null,null,null,null,null,null,null,null,null,null,null,null,null,null,null,null,null,null,null,null,null,null,null,null,null,null,null,null,null,null,null,null,null,null,null,null,"ROYAL DERBY HOSPITAL - RTGFG","LAB"]
[null,null,null,null,null,null,null,null,null,null,null,null,null,null,null,null,null,null,null,null,null,null,null,null,null,null,null,null,null,null,null,null,null,null,null,null,null,null,null,null,null,null,null,null,null,null,null,null,null,null,null,null,null,null,null,null,null,null,null,null,null,null,null,null,null,null,null,null,null,null,null,null,null,null,null,null,null,"GLENFIELD HOSPITAL","GH-Wd 29 Respiratory"]
[null,null,null,null,null,null,null,null,null,null,null,null,null,null,null,null,null,null,null,null,null,null,null,null,null,null,null,null,null,null,null,null,null,null,null,null,null,null,null,null,null,null,null,null,null,null,null,null,null,null,null,null,null,null,null,null,null,null,null,null,null,null,null,null,null,null,null,null,null,null,null,null,null,null,null,null,null,"LEICESTER GENERAL HOSPITAL","LGH-NRU Neuro Rehab"]
[null,null,null,null,null,null,null,null,null,null,null,null,null,null,null,null,null,null,null,null,null,null,null,null,null,null,null,null,null,null,null,null,null,null,null,null,null,null,null,null,null,null,null,null,null,null,null,null,null,null,null,null,null,null,null,null,null,null,null,null,null,null,null,null,null,null,null,null,null,null,null,null,null,null,null,null,null,"LEICESTER GENERAL HOSPITAL","LGH-Wd 28 Surgery/Urology Admission"]
[null,null,null,null,null,null,null,null,null,null,null,null,null,null,null,null,null,null,null,null,null,null,null,null,null,null,null,null,null,null,null,null,null,null,null,null,null,null,null,null,null,null,null,null,null,null,null,null,null,null,null,null,null,null,null,null,null,null,null,null,null,null,null,null,null,null,null,null,null,null,null,null,null,null,null,null,null,"LEICESTER ROYAL INFIRMARY","LRI-ITU (Gen.Surgery,Haematology,Med,Max.Facial)"]
[null,null,null,null,null,null,null,null,null,null,null,null,null,null,null,null,null,null,null,null,null,null,null,null,null,null,null,null,null,null,null,null,null,null,null,null,null,null,null,null,null,null,null,null,null,null,null,null,null,null,null,null,null,null,null,null,null,null,null,null,null,null,null,null,null,null,null,null,null,null,null,null,null,null,null,null,null,"LEICESTER ROYAL INFIRMARY","LRI-Wd 24 Specialist Med"]
[null,null,null,null,null,null,null,null,null,null,null,null,null,null,null,null,null,null,null,null,null,null,null,null,null,null,null,null,null,null,null,null,null,null,null,null,null,null,null,null,null,null,null,null,null,null,null,null,null,null,null,null,null,null,null,null,null,null,null,null,null,null,null,null,null,null,null,null,null,null,null,null,null,null,null,null,null,"LEICESTER ROYAL INFIRMARY","LRI-Wd 43 Gastro Med/Hepat"]
[null,null,null,null,null,null,null,null,null,null,null,null,null,null,null,null,null,null,null,null,null,null,null,null,null,null,null,null,null,null,null,null,null,null,null,null,null,null,null,null,null,null,null,null,null,null,null,null,null,null,null,null,null,null,null,null,null,null,null,null,null,null,null,null,null,null,null,null,null,null,null,null,null,null,null,null,null,"FURNESS GENERAL HOSPITAL","FGH Complex and Coronary Care Unit"]
[null,null,null,null,null,null,null,null,null,null,null,null,null,null,null,null,null,null,null,null,null,null,null,null,null,null,null,null,null,null,null,null,null,null,null,null,null,null,null,null,null,null,null,null,null,null,null,null,null,null,null,null,null,null,null,null,null,null,null,null,null,null,null,null,null,null,null,null,null,null,null,null,null,null,null,null,null,"FURNESS GENERAL HOSPITAL","FGH Ward 9 Dept"]
[null,null,null,null,null,null,null,null,null,null,null,null,null,null,null,null,null,null,null,null,null,null,null,null,null,null,null,null,null,null,null,null,null,null,null,null,null,null,null,null,null,null,null,null,null,null,null,null,null,null,null,null,null,null,null,null,null,null,null,null,null,null,null,null,null,null,null,null,null,null,null,null,null,null,null,null,null,"ROYAL LANCASTER INFIRMARY","RLI Ward 35 - Orthopaedics Dept"]
[null,null,null,null,null,null,null,null,null,null,null,null,null,null,null,null,null,null,null,null,null,null,null,null,null,null,null,null,null,null,null,null,null,null,null,null,null,null,null,null,null,null,null,null,null,null,null,null,null,null,null,null,null,null,null,null,null,null,null,null,null,null,null,null,null,null,null,null,null,null,null,null,null,null,null,null,null,"COUNTY HOSPITAL","Ward 12"]
[null,null,null,null,null,null,null,null,null,null,null,null,null,null,null,null,null,null,null,null,null,null,null,null,null,null,null,null,null,null,null,null,null,null,null,null,null,null,null,null,null,null,null,null,null,null,null,null,null,null,null,null,null,null,null,null,null,null,null,null,null,null,null,null,null,null,null,null,null,null,null,null,null,null,null,null,null,"ROYAL STOKE UNIVERSITY HOSPITAL","Ward 103"]
[null,null,null,null,null,null,null,null,null,null,null,null,null,null,null,null,null,null,null,null,null,null,null,null,null,null,null,null,null,null,null,null,null,null,null,null,null,null,null,null,null,null,null,null,null,null,null,null,null,null,null,null,null,null,null,null,null,null,null,null,null,null,null,null,null,null,null,null,null,null,null,null,null,null,null,null,null,"ROYAL STOKE UNIVERSITY HOSPITAL","Ward 123 SSU"]
[null,null,null,null,null,null,null,null,null,null,null,null,null,null,null,null,null,null,null,null,null,null,null,null,null,null,null,null,null,null,null,null,null,null,null,null,null,null,null,null,null,null,null,null,null,null,null,null,null,null,null,null,null,null,null,null,null,null,null,null,null,null,null,null,null,null,null,null,null,null,null,null,null,null,null,null,null,"ROYAL STOKE UNIVERSITY HOSPITAL","Ward 222"]
[null,null,null,null,null,null,null,null,null,null,null,null,null,null,null,null,null,null,null,null,null,null,null,null,null,null,null,null,null,null,null,null,null,null,null,null,null,null,null,null,null,null,null,null,null,null,null,null,null,null,null,null,null,null,null,null,null,null,null,null,null,null,null,null,null,null,null,null,null,null,null,null,null,null,null,null,null,"ROYAL STOKE UNIVERSITY HOSPITAL","Ward 232"]
[null,null,null,null,null,null,null,null,null,null,null,null,null,null,null,null,null,null,null,null,null,null,null,null,null,null,null,null,null,null,null,null,null,null,null,null,null,null,null,null,null,null,null,null,null,null,null,null,null,null,null,null,null,null,null,null,null,null,null,null,null,null,null,null,null,null,null,null,null,null,null,null,null,null,null,null,null,"DERRIFORD HOSPITAL","Bickleigh Ward"]
[null,null,null,null,null,null,null,null,null,null,null,null,null,null,null,null,null,null,null,null,null,null,null,null,null,null,null,null,null,null,null,null,null,null,null,null,null,null,null,null,null,null,null,null,null,null,null,null,null,null,null,null,null,null,null,null,null,null,null,null,null,null,null,null,null,null,null,null,null,null,null,null,null,null,null,null,null,"DERRIFORD HOSPITAL","Marlborough (Hound) Ward"]
[null,null,null,null,null,null,null,null,null,null,null,null,null,null,null,null,null,null,null,null,null,null,null,null,null,null,null,null,null,null,null,null,null,null,null,null,null,null,null,null,null,null,null,null,null,null,null,null,null,null,null,null,null,null,null,null,null,null,null,null,null,null,null,null,null,null,null,null,null,null,null,null,null,null,null,null,null,"DERRIFORD HOSPITAL","Sharp Ward"]
[null,null,null,null,null,null,null,null,null,null,null,null,null,null,null,null,null,null,null,null,null,null,null,null,null,null,null,null,null,null,null,null,null,null,null,null,null,null,null,null,null,null,null,null,null,null,null,null,null,null,null,null,null,null,null,null,null,null,null,null,null,null,null,null,null,null,null,null,null,null,null,null,null,null,null,null,null,"MANOR HOSPITAL","Ward 03"]
[null,null,null,null,null,null,null,null,null,null,null,null,null,null,null,null,null,null,null,null,null,null,null,null,null,null,null,null,null,null,null,null,null,null,null,null,null,null,null,null,null,null,null,null,null,null,null,null,null,null,null,null,null,null,null,null,null,null,null,null,null,null,null,null,null,null,null,null,null,null,null,null,null,null,null,null,null,"MANOR HOSPITAL","Ward 20B/20C"]
[null,null,null,null,null,null,null,null,null,null,null,null,null,null,null,null,null,null,null,null,null,null,null,null,null,null,null,null,null,null,null,null,null,null,null,null,null,null,null,null,null,null,null,null,null,null,null,null,null,null,null,null,null,null,null,null,null,null,null,null,null,null,null,null,null,null,null,null,null,null,null,null,null,null,null,null,null,"WARRINGTON HOSPITAL","SAU"]
[null,null,null,null,null,null,null,null,null,null,null,null,null,null,null,null,null,null,null,null,null,null,null,null,null,null,null,null,null,null,null,null,null,null,null,null,null,null,null,null,null,null,null,null,null,null,null,null,null,null,null,null,null,null,null,null,null,null,null,null,null,null,null,null,null,null,null,null,null,null,null,null,null,null,null,null,null,"WARRINGTON HOSPITAL","W-A8 - Ward A8"]
[null,null,null,null,null,null,null,null,null,null,null,null,null,null,null,null,null,null,null,null,null,null,null,null,null,null,null,null,null,null,null,null,null,null,null,null,null,null,null,null,null,null,null,null,null,null,null,null,null,null,null,null,null,null,null,null,null,null,null,null,null,null,null,null,null,null,null,null,null,null,null,null,null,null,null,null,null,"WATFORD GENERAL HOSPITAL","AAU Blue & Yellow Level 3"]
[null,null,null,null,null,null,null,null,null,null,null,null,null,null,null,null,null,null,null,null,null,null,null,null,null,null,null,null,null,null,null,null,null,null,null,null,null,null,null,null,null,null,null,null,null,null,null,null,null,null,null,null,null,null,null,null,null,null,null,null,null,null,null,null,null,null,null,null,null,null,null,null,null,null,null,null,null,"WATFORD GENERAL HOSPITAL","Bluebell"]
[null,null,null,null,null,null,null,null,null,null,null,null,null,null,null,null,null,null,null,null,null,null,null,null,null,null,null,null,null,null,null,null,null,null,null,null,null,null,null,null,null,null,null,null,null,null,null,null,null,null,null,null,null,null,null,null,null,null,null,null,null,null,null,null,null,null,null,null,null,null,null,null,null,null,null,null,null,"WATFORD GENERAL HOSPITAL","Oxhey"]
[null,null,null,null,null,null,null,null,null,null,null,null,null,null,null,null,null,null,null,null,null,null,null,null,null,null,null,null,null,null,null,null,null,null,null,null,null,null,null,null,null,null,null,null,null,null,null,null,null,null,null,null,null,null,null,null,null,null,null,null,null,null,null,null,null,null,null,null,null,null,null,null,null,null,null,null,null,"BROADMOOR HOSPITAL","WLB NEWMARKET"]
[null,null,null,null,null,null,null,null,null,null,null,null,null,null,null,null,null,null,null,null,null,null,null,null,null,null,null,null,null,null,null,null,null,null,null,null,null,null,null,null,null,null,null,null,null,null,null,null,null,null,null,null,null,null,null,null,null,null,null,null,null,null,null,null,null,null,null,null,null,null,null,null,null,null,null,null,null,"LAKESIDE UNIT","HOU FINCH WARD"]
[null,null,null,null,null,null,null,null,null,null,null,null,null,null,null,null,null,null,null,null,null,null,null,null,null,null,null,null,null,null,null,null,null,null,null,null,null,null,null,null,null,null,null,null,null,null,null,null,null,null,null,null,null,null,null,null,null,null,null,null,null,null,null,null,null,null,null,null,null,null,null,null,null,null,null,null,null,"MEDWAY LODGE","MSU BOURNE "]
[null,null,null,null,null,null,null,null,null,null,null,null,null,null,null,null,null,null,null,null,null,null,null,null,null,null,null,null,null,null,null,null,null,null,null,null,null,null,null,null,null,null,null,null,null,null,null,null,null,null,null,null,null,null,null,null,null,null,null,null,null,null,null,null,null,null,null,null,null,null,null,null,null,null,null,null,null,"THAMES LODGE","MSU LEA"]
[null,null,null,null,null,null,null,null,null,null,null,null,null,null,null,null,null,null,null,null,null,null,null,null,null,null,null,null,null,null,null,null,null,null,null,null,null,null,null,null,null,null,null,null,null,null,null,null,null,null,null,null,null,null,null,null,null,null,null,null,null,null,null,null,null,null,null,null,null,null,null,null,null,null,null,null,null,"WEST SUFFOLK HOSPITAL","Cardiac Centre"]
[null,null,null,null,null,null,null,null,null,null,null,null,null,null,null,null,null,null,null,null,null,null,null,null,null,null,null,null,null,null,null,null,null,null,null,null,null,null,null,null,null,null,null,null,null,null,null,null,null,null,null,null,null,null,null,null,null,null,null,null,null,null,null,null,null,null,null,null,null,null,null,null,null,null,null,null,null,"WEST SUFFOLK HOSPITAL","F6"]
[null,null,null,null,null,null,null,null,null,null,null,null,null,null,null,null,null,null,null,null,null,null,null,null,null,null,null,null,null,null,null,null,null,null,null,null,null,null,null,null,null,null,null,null,null,null,null,null,null,null,null,null,null,null,null,null,null,null,null,null,null,null,null,null,null,null,null,null,null,null,null,null,null,null,null,null,null,"ST RICHARD'S HOSPITAL","Acute Cardiac Unit M036 C"]
[null,null,null,null,null,null,null,null,null,null,null,null,null,null,null,null,null,null,null,null,null,null,null,null,null,null,null,null,null,null,null,null,null,null,null,null,null,null,null,null,null,null,null,null,null,null,null,null,null,null,null,null,null,null,null,null,null,null,null,null,null,null,null,null,null,null,null,null,null,null,null,null,null,null,null,null,null,"ST RICHARD'S HOSPITAL","Lavant Ward M111 C"]
[null,null,null,null,null,null,null,null,null,null,null,null,null,null,null,null,null,null,null,null,null,null,null,null,null,null,null,null,null,null,null,null,null,null,null,null,null,null,null,null,null,null,null,null,null,null,null,null,null,null,null,null,null,null,null,null,null,null,null,null,null,null,null,null,null,null,null,null,null,null,null,null,null,null,null,null,null,"WORTHING HOSPITAL","Chiltington Ward S609 W"]
[null,null,null,null,null,null,null,null,null,null,null,null,null,null,null,null,null,null,null,null,null,null,null,null,null,null,null,null,null,null,null,null,null,null,null,null,null,null,null,null,null,null,null,null,null,null,null,null,null,null,null,null,null,null,null,null,null,null,null,null,null,null,null,null,null,null,null,null,null,null,null,null,null,null,null,null,null,"WESTON GENERAL HOSPITAL","Cheddar Ward"]
[null,null,null,null,null,null,null,null,null,null,null,null,null,null,null,null,null,null,null,null,null,null,null,null,null,null,null,null,null,null,null,null,null,null,null,null,null,null,null,null,null,null,null,null,null,null,null,null,null,null,null,null,null,null,null,null,null,null,null,null,null,null,null,null,null,null,null,null,null,null,null,null,null,null,null,null,null,"WESTON GENERAL HOSPITAL","Stroke Unit"]
[null,null,null,null,null,null,null,null,null,null,null,null,null,null,null,null,null,null,null,null,null,null,null,null,null,null,null,null,null,null,null,null,null,null,null,null,null,null,null,null,null,null,null,null,null,null,null,null,null,null,null,null,null,null,null,null,null,null,null,null,null,null,null,null,null,null,null,null,null,null,null,null,null,null,null,null,null,"THE WHITTINGTON HOSPITAL","Cloudesley"]
[null,null,null,null,null,null,null,null,null,null,null,null,null,null,null,null,null,null,null,null,null,null,null,null,null,null,null,null,null,null,null,null,null,null,null,null,null,null,null,null,null,null,null,null,null,null,null,null,null,null,null,null,null,null,null,null,null,null,null,null,null,null,null,null,null,null,null,null,null,null,null,null,null,null,null,null,null,"WILTSHIRE HEALTH & CARE (CHIPPENHAM COMMUNITY HOSPITAL)","Mulberry"]
[null,null,null,null,null,null,null,null,null,null,null,null,null,null,null,null,null,null,null,null,null,null,null,null,null,null,null,null,null,null,null,null,null,null,null,null,null,null,null,null,null,null,null,null,null,null,null,null,null,null,null,null,null,null,null,null,null,null,null,null,null,null,null,null,null,null,null,null,null,null,null,null,null,null,null,null,null,"ARROWE PARK HOSPITAL","23"]
[null,null,null,null,null,null,null,null,null,null,null,null,null,null,null,null,null,null,null,null,null,null,null,null,null,null,null,null,null,null,null,null,null,null,null,null,null,null,null,null,null,null,null,null,null,null,null,null,null,null,null,null,null,null,null,null,null,null,null,null,null,null,null,null,null,null,null,null,null,null,null,null,null,null,null,null,null,"ARROWE PARK HOSPITAL","AMU"]
[null,null,null,null,null,null,null,null,null,null,null,null,null,null,null,null,null,null,null,null,null,null,null,null,null,null,null,null,null,null,null,null,null,null,null,null,null,null,null,null,null,null,null,null,null,null,null,null,null,null,null,null,null,null,null,null,null,null,null,null,null,null,null,null,null,null,null,null,null,null,null,null,null,null,null,null,null,"ALEXANDRA HOSPITAL","ICCU - Alex"]
[null,null,null,null,null,null,null,null,null,null,null,null,null,null,null,null,null,null,null,null,null,null,null,null,null,null,null,null,null,null,null,null,null,null,null,null,null,null,null,null,null,null,null,null,null,null,null,null,null,null,null,null,null,null,null,null,null,null,null,null,null,null,null,null,null,null,null,null,null,null,null,null,null,null,null,null,null,"ALEXANDRA HOSPITAL","Ward 4"]
[null,null,null,null,null,null,null,null,null,null,null,null,null,null,null,null,null,null,null,null,null,null,null,null,null,null,null,null,null,null,null,null,null,null,null,null,null,null,null,null,null,null,null,null,null,null,null,null,null,null,null,null,null,null,null,null,null,null,null,null,null,null,null,null,null,null,null,null,null,null,null,null,null,null,null,null,null,"WORCESTERSHIRE ROYAL HOSPITAL","Evergreen 1"]
[null,null,null,null,null,null,null,null,null,null,null,null,null,null,null,null,null,null,null,null,null,null,null,null,null,null,null,null,null,null,null,null,null,null,null,null,null,null,null,null,null,null,null,null,null,null,null,null,null,null,null,null,null,null,null,null,null,null,null,null,null,null,null,null,null,null,null,null,null,null,null,null,null,null,null,null,null,"WORCESTERSHIRE ROYAL HOSPITAL","NICU- Paeds"]
[null,null,null,null,null,null,null,null,null,null,null,null,null,null,null,null,null,null,null,null,null,null,null,null,null,null,null,null,null,null,null,null,null,null,null,null,null,null,null,null,null,null,null,null,null,null,null,null,null,null,null,null,null,null,null,null,null,null,null,null,null,null,null,null,null,null,null,null,null,null,null,null,null,null,null,null,null,"WORCESTERSHIRE ROYAL HOSPITAL","Trauma & Orthopaedic A Ward - WRH"]
[null,null,null,null,null,null,null,null,null,null,null,null,null,null,null,null,null,null,null,null,null,null,null,null,null,null,null,null,null,null,null,null,null,null,null,null,null,null,null,null,null,null,null,null,null,null,null,null,null,null,null,null,null,null,null,null,null,null,null,null,null,null,null,null,null,null,null,null,null,null,null,null,null,null,null,null,null,"WORCESTERSHIRE ROYAL HOSPITAL","Vascular Unit & VHCU"]
[null,null,null,null,null,null,null,null,null,null,null,null,null,null,null,null,null,null,null,null,null,null,null,null,null,null,null,null,null,null,null,null,null,null,null,null,null,null,null,null,null,null,null,null,null,null,null,null,null,null,null,null,null,null,null,null,null,null,null,null,null,null,null,null,null,null,null,null,null,null,null,null,null,null,null,null,null,"CHURCHVIEW HOUSE","CHURCHVIEW HOUSE"]
[null,null,null,null,null,null,null,null,null,null,null,null,null,null,null,null,null,null,null,null,null,null,null,null,null,null,null,null,null,null,null,null,null,null,null,null,null,null,null,null,null,null,null,null,null,null,null,null,null,null,null,null,null,null,null,null,null,null,null,null,null,null,null,null,null,null,null,null,null,null,null,null,null,null,null,null,null,"COMM HOSP WARDS (EVESHAM)","ABBOTT WARD"]
[null,null,null,null,null,null,null,null,null,null,null,null,null,null,null,null,null,null,null,null,null,null,null,null,null,null,null,null,null,null,null,null,null,null,null,null,null,null,null,null,null,null,null,null,null,null,null,null,null,null,null,null,null,null,null,null,null,null,null,null,null,null,null,null,null,null,null,null,null,null,null,null,null,null,null,null,null,"COMM HOSP WARDS (EVESHAM)","IZOD WARD"]
[null,null,null,null,null,null,null,null,null,null,null,null,null,null,null,null,null,null,null,null,null,null,null,null,null,null,null,null,null,null,null,null,null,null,null,null,null,null,null,null,null,null,null,null,null,null,null,null,null,null,null,null,null,null,null,null,null,null,null,null,null,null,null,null,null,null,null,null,null,null,null,null,null,null,null,null,null,"COMM HOSP WARDS (EVESHAM)","WA ORTHOPAEDIC REHABILITATION UNIT"]
[null,null,null,null,null,null,null,null,null,null,null,null,null,null,null,null,null,null,null,null,null,null,null,null,null,null,null,null,null,null,null,null,null,null,null,null,null,null,null,null,null,null,null,null,null,null,null,null,null,null,null,null,null,null,null,null,null,null,null,null,null,null,null,null,null,null,null,null,null,null,null,null,null,null,null,null,null,"COMM HOSP WARDS (EVESHAM)","WILLOWS STROKE WARD"]
[null,null,null,null,null,null,null,null,null,null,null,null,null,null,null,null,null,null,null,null,null,null,null,null,null,null,null,null,null,null,null,null,null,null,null,null,null,null,null,null,null,null,null,null,null,null,null,null,null,null,null,null,null,null,null,null,null,null,null,null,null,null,null,null,null,null,null,null,null,null,null,null,null,null,null,null,null,"COMM HOSP WARDS (MALVERN)","MALVERN COMMUNITY HOSPITAL"]
[null,null,null,null,null,null,null,null,null,null,null,null,null,null,null,null,null,null,null,null,null,null,null,null,null,null,null,null,null,null,null,null,null,null,null,null,null,null,null,null,null,null,null,null,null,null,null,null,null,null,null,null,null,null,null,null,null,null,null,null,null,null,null,null,null,null,null,null,null,null,null,null,null,null,null,null,null,"COMM HOSP WARDS (PERSHORE)","PERSHORE COMMUNITY HOSPITAL"]
[null,null,null,null,null,null,null,null,null,null,null,null,null,null,null,null,null,null,null,null,null,null,null,null,null,null,null,null,null,null,null,null,null,null,null,null,null,null,null,null,null,null,null,null,null,null,null,null,null,null,null,null,null,null,null,null,null,null,null,null,null,null,null,null,null,null,null,null,null,null,null,null,null,null,null,null,null,"COMM HOSP WARDS (TENBURY)","TENBURY COMMUNITY HOSPITAL"]
[null,null,null,null,null,null,null,null,null,null,null,null,null,null,null,null,null,null,null,null,null,null,null,null,null,null,null,null,null,null,null,null,null,null,null,null,null,null,null,null,null,null,null,null,null,null,null,null,null,null,null,null,null,null,null,null,null,null,null,null,null,null,null,null,null,null,null,null,null,null,null,null,null,null,null,null,null,"COMMUNITY HOSP WARDS (POWCH)","COTTAGE WARD"]
[null,null,null,null,null,null,null,null,null,null,null,null,null,null,null,null,null,null,null,null,null,null,null,null,null,null,null,null,null,null,null,null,null,null,null,null,null,null,null,null,null,null,null,null,null,null,null,null,null,null,null,null,null,null,null,null,null,null,null,null,null,null,null,null,null,null,null,null,null,null,null,null,null,null,null,null,null,"COMMUNITY HOSP WARDS (POWCH)","LICKEY WARD"]
[null,null,null,null,null,null,null,null,null,null,null,null,null,null,null,null,null,null,null,null,null,null,null,null,null,null,null,null,null,null,null,null,null,null,null,null,null,null,null,null,null,null,null,null,null,null,null,null,null,null,null,null,null,null,null,null,null,null,null,null,null,null,null,null,null,null,null,null,null,null,null,null,null,null,null,null,null,"COMMUNITY HOSP WARDS (POWCH)","PRIMROSE UNIT"]
[null,null,null,null,null,null,null,null,null,null,null,null,null,null,null,null,null,null,null,null,null,null,null,null,null,null,null,null,null,null,null,null,null,null,null,null,null,null,null,null,null,null,null,null,null,null,null,null,null,null,null,null,null,null,null,null,null,null,null,null,null,null,null,null,null,null,null,null,null,null,null,null,null,null,null,null,null,"COMMUNITY HOSP WARDS (POWCH)","WYRE FOREST WARD"]
[null,null,null,null,null,null,null,null,null,null,null,null,null,null,null,null,null,null,null,null,null,null,null,null,null,null,null,null,null,null,null,null,null,null,null,null,null,null,null,null,null,null,null,null,null,null,null,null,null,null,null,null,null,null,null,null,null,null,null,null,null,null,null,null,null,null,null,null,null,null,null,null,null,null,null,null,null,"CROMWELL HOUSE","CROMWELL HOUSE"]
[null,null,null,null,null,null,null,null,null,null,null,null,null,null,null,null,null,null,null,null,null,null,null,null,null,null,null,null,null,null,null,null,null,null,null,null,null,null,null,null,null,null,null,null,null,null,null,null,null,null,null,null,null,null,null,null,null,null,null,null,null,null,null,null,null,null,null,null,null,null,null,null,null,null,null,null,null,"HILL CREST MENTAL HEALTH UNIT","HILL CREST WARD"]
[null,null,null,null,null,null,null,null,null,null,null,null,null,null,null,null,null,null,null,null,null,null,null,null,null,null,null,null,null,null,null,null,null,null,null,null,null,null,null,null,null,null,null,null,null,null,null,null,null,null,null,null,null,null,null,null,null,null,null,null,null,null,null,null,null,null,null,null,null,null,null,null,null,null,null,null,null,"KEITH WINTER CLOSE MENTAL HEALTH UNIT","KEITH WINTER CLOSE"]
[null,null,null,null,null,null,null,null,null,null,null,null,null,null,null,null,null,null,null,null,null,null,null,null,null,null,null,null,null,null,null,null,null,null,null,null,null,null,null,null,null,null,null,null,null,null,null,null,null,null,null,null,null,null,null,null,null,null,null,null,null,null,null,null,null,null,null,null,null,null,null,null,null,null,null,null,null,"LUDLOW ROAD","LUDLOW ROAD"]
[null,null,null,null,null,null,null,null,null,null,null,null,null,null,null,null,null,null,null,null,null,null,null,null,null,null,null,null,null,null,null,null,null,null,null,null,null,null,null,null,null,null,null,null,null,null,null,null,null,null,null,null,null,null,null,null,null,null,null,null,null,null,null,null,null,null,null,null,null,null,null,null,null,null,null,null,null,"NEW HAVEN (MENTAL HEALTH UNIT)","MEADOW WARD (NEW HAVEN)"]
[null,null,null,null,null,null,null,null,null,null,null,null,null,null,null,null,null,null,null,null,null,null,null,null,null,null,null,null,null,null,null,null,null,null,null,null,null,null,null,null,null,null,null,null,null,null,null,null,null,null,null,null,null,null,null,null,null,null,null,null,null,null,null,null,null,null,null,null,null,null,null,null,null,null,null,null,null,"NEW HAVEN (MENTAL HEALTH UNIT)","WOODLAND WARD (NEW HAVEN)"]
[null,null,null,null,null,null,null,null,null,null,null,null,null,null,null,null,null,null,null,null,null,null,null,null,null,null,null,null,null,null,null,null,null,null,null,null,null,null,null,null,null,null,null,null,null,null,null,null,null,null,null,null,null,null,null,null,null,null,null,null,null,null,null,null,null,null,null,null,null,null,null,null,null,null,null,null,null,"NEWTOWN HOSPITAL","ATHELON WARD"]
[null,null,null,null,null,null,null,null,null,null,null,null,null,null,null,null,null,null,null,null,null,null,null,null,null,null,null,null,null,null,null,null,null,null,null,null,null,null,null,null,null,null,null,null,null,null,null,null,null,null,null,null,null,null,null,null,null,null,null,null,null,null,null,null,null,null,null,null,null,null,null,null,null,null,null,null,null,"NEWTOWN HOSPITAL","HADLEY UNIT (PICU)"]
[null,null,null,null,null,null,null,null,null,null,null,null,null,null,null,null,null,null,null,null,null,null,null,null,null,null,null,null,null,null,null,null,null,null,null,null,null,null,null,null,null,null,null,null,null,null,null,null,null,null,null,null,null,null,null,null,null,null,null,null,null,null,null,null,null,null,null,null,null,null,null,null,null,null,null,null,null,"NEWTOWN HOSPITAL","HOLT WARD"]
[null,null,null,null,null,null,null,null,null,null,null,null,null,null,null,null,null,null,null,null,null,null,null,null,null,null,null,null,null,null,null,null,null,null,null,null,null,null,null,null,null,null,null,null,null,null,null,null,null,null,null,null,null,null,null,null,null,null,null,null,null,null,null,null,null,null,null,null,null,null,null,null,null,null,null,null,null,"OSBORNE COURT","OSBORNE COURT"]
[null,null,null,null,null,null,null,null,null,null,null,null,null,null,null,null,null,null,null,null,null,null,null,null,null,null,null,null,null,null,null,null,null,null,null,null,null,null,null,null,null,null,null,null,null,null,null,null,null,null,null,null,null,null,null,null,null,null,null,null,null,null,null,null,null,null,null,null,null,null,null,null,null,null,null,null,null,"TIMBERDINE HOME RESIDENTIAL CARE","APPLE ORCHARD WARD"]
[null,null,null,null,null,null,null,null,null,null,null,null,null,null,null,null,null,null,null,null,null,null,null,null,null,null,null,null,null,null,null,null,null,null,null,null,null,null,null,null,null,null,null,null,null,null,null,null,null,null,null,null,null,null,null,null,null,null,null,null,null,null,null,null,null,null,null,null,null,null,null,null,null,null,null,null,null,"TIMBERDINE HOME RESIDENTIAL CARE","CHERRY ORCHARD WARD"]
[null,null,null,null,null,null,null,null,null,null,null,null,null,null,null,null,null,null,null,null,null,null,null,null,null,null,null,null,null,null,null,null,null,null,null,null,null,null,null,null,null,null,null,null,null,null,null,null,null,null,null,null,null,null,null,null,null,null,null,null,null,null,null,null,null,null,null,null,null,null,null,null,null,null,null,null,null,"ROYAL ALBERT EDWARD INFIRMARY - RRF02","Acute Stroke Unit"]
[null,null,null,null,null,null,null,null,null,null,null,null,null,null,null,null,null,null,null,null,null,null,null,null,null,null,null,null,null,null,null,null,null,null,null,null,null,null,null,null,null,null,null,null,null,null,null,null,null,null,null,null,null,null,null,null,null,null,null,null,null,null,null,null,null,null,null,null,null,null,null,null,null,null,null,null,null,"ROYAL ALBERT EDWARD INFIRMARY - RRF02","Aspull"]
[null,null,null,null,null,null,null,null,null,null,null,null,null,null,null,null,null,null,null,null,null,null,null,null,null,null,null,null,null,null,null,null,null,null,null,null,null,null,null,null,null,null,null,null,null,null,null,null,null,null,null,null,null,null,null,null,null,null,null,null,null,null,null,null,null,null,null,null,null,null,null,null,null,null,null,null,null,"ROYAL ALBERT EDWARD INFIRMARY - RRF02","Cardio and Respiratory"]
[null,null,null,null,null,null,null,null,null,null,null,null,null,null,null,null,null,null,null,null,null,null,null,null,null,null,null,null,null,null,null,null,null,null,null,null,null,null,null,null,null,null,null,null,null,null,null,null,null,null,null,null,null,null,null,null,null,null,null,null,null,null,null,null,null,null,null,null,null,null,null,null,null,null,null,null,null,"ROYAL ALBERT EDWARD INFIRMARY - RRF02","Coronary Care Unit"]
[null,null,null,null,null,null,null,null,null,null,null,null,null,null,null,null,null,null,null,null,null,null,null,null,null,null,null,null,null,null,null,null,null,null,null,null,null,null,null,null,null,null,null,null,null,null,null,null,null,null,null,null,null,null,null,null,null,null,null,null,null,null,null,null,null,null,null,null,null,null,null,null,null,null,null,null,null,"ROYAL ALBERT EDWARD INFIRMARY - RRF02","Elderly Care Unit"]
[null,null,null,null,null,null,null,null,null,null,null,null,null,null,null,null,null,null,null,null,null,null,null,null,null,null,null,null,null,null,null,null,null,null,null,null,null,null,null,null,null,null,null,null,null,null,null,null,null,null,null,null,null,null,null,null,null,null,null,null,null,null,null,null,null,null,null,null,null,null,null,null,null,null,null,null,null,"ROYAL ALBERT EDWARD INFIRMARY - RRF02","Highfield"]
[null,null,null,null,null,null,null,null,null,null,null,null,null,null,null,null,null,null,null,null,null,null,null,null,null,null,null,null,null,null,null,null,null,null,null,null,null,null,null,null,null,null,null,null,null,null,null,null,null,null,null,null,null,null,null,null,null,null,null,null,null,null,null,null,null,null,null,null,null,null,null,null,null,null,null,null,null,"ROYAL ALBERT EDWARD INFIRMARY - RRF02","Intensive Care Unit/ High Dependancy Unit"]
[null,null,null,null,null,null,null,null,null,null,null,null,null,null,null,null,null,null,null,null,null,null,null,null,null,null,null,null,null,null,null,null,null,null,null,null,null,null,null,null,null,null,null,null,null,null,null,null,null,null,null,null,null,null,null,null,null,null,null,null,null,null,null,null,null,null,null,null,null,null,null,null,null,null,null,null,null,"ROYAL ALBERT EDWARD INFIRMARY - RRF02","Langtree"]
[null,null,null,null,null,null,null,null,null,null,null,null,null,null,null,null,null,null,null,null,null,null,null,null,null,null,null,null,null,null,null,null,null,null,null,null,null,null,null,null,null,null,null,null,null,null,null,null,null,null,null,null,null,null,null,null,null,null,null,null,null,null,null,null,null,null,null,null,null,null,null,null,null,null,null,null,null,"ROYAL ALBERT EDWARD INFIRMARY - RRF02","Maternity unit"]
[null,null,null,null,null,null,null,null,null,null,null,null,null,null,null,null,null,null,null,null,null,null,null,null,null,null,null,null,null,null,null,null,null,null,null,null,null,null,null,null,null,null,null,null,null,null,null,null,null,null,null,null,null,null,null,null,null,null,null,null,null,null,null,null,null,null,null,null,null,null,null,null,null,null,null,null,null,"ROYAL ALBERT EDWARD INFIRMARY - RRF02","Neonatal Unit"]
[null,null,null,null,null,null,null,null,null,null,null,null,null,null,null,null,null,null,null,null,null,null,null,null,null,null,null,null,null,null,null,null,null,null,null,null,null,null,null,null,null,null,null,null,null,null,null,null,null,null,null,null,null,null,null,null,null,null,null,null,null,null,null,null,null,null,null,null,null,null,null,null,null,null,null,null,null,"ROYAL ALBERT EDWARD INFIRMARY - RRF02","Orrell"]
[null,null,null,null,null,null,null,null,null,null,null,null,null,null,null,null,null,null,null,null,null,null,null,null,null,null,null,null,null,null,null,null,null,null,null,null,null,null,null,null,null,null,null,null,null,null,null,null,null,null,null,null,null,null,null,null,null,null,null,null,null,null,null,null,null,null,null,null,null,null,null,null,null,null,null,null,null,"ROYAL ALBERT EDWARD INFIRMARY - RRF02","Pemberton"]
[null,null,null,null,null,null,null,null,null,null,null,null,null,null,null,null,null,null,null,null,null,null,null,null,null,null,null,null,null,null,null,null,null,null,null,null,null,null,null,null,null,null,null,null,null,null,null,null,null,null,null,null,null,null,null,null,null,null,null,null,null,null,null,null,null,null,null,null,null,null,null,null,null,null,null,null,null,"ROYAL ALBERT EDWARD INFIRMARY - RRF02","Rainbow"]
[null,null,null,null,null,null,null,null,null,null,null,null,null,null,null,null,null,null,null,null,null,null,null,null,null,null,null,null,null,null,null,null,null,null,null,null,null,null,null,null,null,null,null,null,null,null,null,null,null,null,null,null,null,null,null,null,null,null,null,null,null,null,null,null,null,null,null,null,null,null,null,null,null,null,null,null,null,"ROYAL ALBERT EDWARD INFIRMARY - RRF02","Shevington"]
[null,null,null,null,null,null,null,null,null,null,null,null,null,null,null,null,null,null,null,null,null,null,null,null,null,null,null,null,null,null,null,null,null,null,null,null,null,null,null,null,null,null,null,null,null,null,null,null,null,null,null,null,null,null,null,null,null,null,null,null,null,null,null,null,null,null,null,null,null,null,null,null,null,null,null,null,null,"ROYAL ALBERT EDWARD INFIRMARY - RRF02","Swinley"]
[null,null,null,null,null,null,null,null,null,null,null,null,null,null,null,null,null,null,null,null,null,null,null,null,null,null,null,null,null,null,null,null,null,null,null,null,null,null,null,null,null,null,null,null,null,null,null,null,null,null,null,null,null,null,null,null,null,null,null,null,null,null,null,null,null,null,null,null,null,null,null,null,null,null,null,null,null,"WRIGHTINGTON HOSPITAL - RRF53","John Charnley"]
[null,null,null,null,null,null,null,null,null,null,null,null,null,null,null,null,null,null,null,null,null,null,null,null,null,null,null,null,null,null,null,null,null,null,null,null,null,null,null,null,null,null,null,null,null,null,null,null,null,null,null,null,null,null,null,null,null,null,null,null,null,null,null,null,null,null,null,null,null,null,null,null,null,null,null,null,null,"WRIGHTINGTON HOSPITAL - RRF53","Ward A"]
[null,null,null,null,null,null,null,null,null,null,null,null,null,null,null,null,null,null,null,null,null,null,null,null,null,null,null,null,null,null,null,null,null,null,null,null,null,null,null,null,null,null,null,null,null,null,null,null,null,null,null,null,null,null,null,null,null,null,null,null,null,null,null,null,null,null,null,null,null,null,null,null,null,null,null,null,null,"WRIGHTINGTON HOSPITAL - RRF53","Ward B"]
[null,null,null,null,null,null,null,null,null,null,null,null,null,null,null,null,null,null,null,null,null,null,null,null,null,null,null,null,null,null,null,null,null,null,null,null,null,null,null,null,null,null,null,null,null,null,null,null,null,null,null,null,null,null,null,null,null,null,null,null,null,null,null,null,null,null,null,null,null,null,null,null,null,null,null,null,null,"HEREFORD COUNTY HOSPITAL","Acute Medical Unit"]
[null,null,null,null,null,null,null,null,null,null,null,null,null,null,null,null,null,null,null,null,null,null,null,null,null,null,null,null,null,null,null,null,null,null,null,null,null,null,null,null,null,null,null,null,null,null,null,null,null,null,null,null,null,null,null,null,null,null,null,null,null,null,null,null,null,null,null,null,null,null,null,null,null,null,null,null,null,"HEREFORD COUNTY HOSPITAL","Arrow Ward"]
[null,null,null,null,null,null,null,null,null,null,null,null,null,null,null,null,null,null,null,null,null,null,null,null,null,null,null,null,null,null,null,null,null,null,null,null,null,null,null,null,null,null,null,null,null,null,null,null,null,null,null,null,null,null,null,null,null,null,null,null,null,null,null,null,null,null,null,null,null,null,null,null,null,null,null,null,null,"HEREFORD COUNTY HOSPITAL","Bromyard Community Hospital"]
[null,null,null,null,null,null,null,null,null,null,null,null,null,null,null,null,null,null,null,null,null,null,null,null,null,null,null,null,null,null,null,null,null,null,null,null,null,null,null,null,null,null,null,null,null,null,null,null,null,null,null,null,null,null,null,null,null,null,null,null,null,null,null,null,null,null,null,null,null,null,null,null,null,null,null,null,null,"HEREFORD COUNTY HOSPITAL","Cardiac Care Unit"]
[null,null,null,null,null,null,null,null,null,null,null,null,null,null,null,null,null,null,null,null,null,null,null,null,null,null,null,null,null,null,null,null,null,null,null,null,null,null,null,null,null,null,null,null,null,null,null,null,null,null,null,null,null,null,null,null,null,null,null,null,null,null,null,null,null,null,null,null,null,null,null,null,null,null,null,null,null,"HEREFORD COUNTY HOSPITAL","Childrens Ward"]
[null,null,null,null,null,null,null,null,null,null,null,null,null,null,null,null,null,null,null,null,null,null,null,null,null,null,null,null,null,null,null,null,null,null,null,null,null,null,null,null,null,null,null,null,null,null,null,null,null,null,null,null,null,null,null,null,null,null,null,null,null,null,null,null,null,null,null,null,null,null,null,null,null,null,null,null,null,"HEREFORD COUNTY HOSPITAL","Frome Ward"]
[null,null,null,null,null,null,null,null,null,null,null,null,null,null,null,null,null,null,null,null,null,null,null,null,null,null,null,null,null,null,null,null,null,null,null,null,null,null,null,null,null,null,null,null,null,null,null,null,null,null,null,null,null,null,null,null,null,null,null,null,null,null,null,null,null,null,null,null,null,null,null,null,null,null,null,null,null,"HEREFORD COUNTY HOSPITAL","Gilwern Assessment Unit"]
[null,null,null,null,null,null,null,null,null,null,null,null,null,null,null,null,null,null,null,null,null,null,null,null,null,null,null,null,null,null,null,null,null,null,null,null,null,null,null,null,null,null,null,null,null,null,null,null,null,null,null,null,null,null,null,null,null,null,null,null,null,null,null,null,null,null,null,null,null,null,null,null,null,null,null,null,null,"HEREFORD COUNTY HOSPITAL","Intensive Care Unit"]
[null,null,null,null,null,null,null,null,null,null,null,null,null,null,null,null,null,null,null,null,null,null,null,null,null,null,null,null,null,null,null,null,null,null,null,null,null,null,null,null,null,null,null,null,null,null,null,null,null,null,null,null,null,null,null,null,null,null,null,null,null,null,null,null,null,null,null,null,null,null,null,null,null,null,null,null,null,"HEREFORD COUNTY HOSPITAL","Leadon Ward"]
[null,null,null,null,null,null,null,null,null,null,null,null,null,null,null,null,null,null,null,null,null,null,null,null,null,null,null,null,null,null,null,null,null,null,null,null,null,null,null,null,null,null,null,null,null,null,null,null,null,null,null,null,null,null,null,null,null,null,null,null,null,null,null,null,null,null,null,null,null,null,null,null,null,null,null,null,null,"HEREFORD COUNTY HOSPITAL","Leominster Community Hospital"]
[null,null,null,null,null,null,null,null,null,null,null,null,null,null,null,null,null,null,null,null,null,null,null,null,null,null,null,null,null,null,null,null,null,null,null,null,null,null,null,null,null,null,null,null,null,null,null,null,null,null,null,null,null,null,null,null,null,null,null,null,null,null,null,null,null,null,null,null,null,null,null,null,null,null,null,null,null,"HEREFORD COUNTY HOSPITAL","Lugg Ward"]
[null,null,null,null,null,null,null,null,null,null,null,null,null,null,null,null,null,null,null,null,null,null,null,null,null,null,null,null,null,null,null,null,null,null,null,null,null,null,null,null,null,null,null,null,null,null,null,null,null,null,null,null,null,null,null,null,null,null,null,null,null,null,null,null,null,null,null,null,null,null,null,null,null,null,null,null,null,"HEREFORD COUNTY HOSPITAL","Maternity Ward"]
[null,null,null,null,null,null,null,null,null,null,null,null,null,null,null,null,null,null,null,null,null,null,null,null,null,null,null,null,null,null,null,null,null,null,null,null,null,null,null,null,null,null,null,null,null,null,null,null,null,null,null,null,null,null,null,null,null,null,null,null,null,null,null,null,null,null,null,null,null,null,null,null,null,null,null,null,null,"HEREFORD COUNTY HOSPITAL","Monnow Ward"]
[null,null,null,null,null,null,null,null,null,null,null,null,null,null,null,null,null,null,null,null,null,null,null,null,null,null,null,null,null,null,null,null,null,null,null,null,null,null,null,null,null,null,null,null,null,null,null,null,null,null,null,null,null,null,null,null,null,null,null,null,null,null,null,null,null,null,null,null,null,null,null,null,null,null,null,null,null,"HEREFORD COUNTY HOSPITAL","Redbrook Ward"]
[null,null,null,null,null,null,null,null,null,null,null,null,null,null,null,null,null,null,null,null,null,null,null,null,null,null,null,null,null,null,null,null,null,null,null,null,null,null,null,null,null,null,null,null,null,null,null,null,null,null,null,null,null,null,null,null,null,null,null,null,null,null,null,null,null,null,null,null,null,null,null,null,null,null,null,null,null,"HEREFORD COUNTY HOSPITAL","Ross Community Hospital"]
[null,null,null,null,null,null,null,null,null,null,null,null,null,null,null,null,null,null,null,null,null,null,null,null,null,null,null,null,null,null,null,null,null,null,null,null,null,null,null,null,null,null,null,null,null,null,null,null,null,null,null,null,null,null,null,null,null,null,null,null,null,null,null,null,null,null,null,null,null,null,null,null,null,null,null,null,null,"HEREFORD COUNTY HOSPITAL","Special Baby Care Unit"]
[null,null,null,null,null,null,null,null,null,null,null,null,null,null,null,null,null,null,null,null,null,null,null,null,null,null,null,null,null,null,null,null,null,null,null,null,null,null,null,null,null,null,null,null,null,null,null,null,null,null,null,null,null,null,null,null,null,null,null,null,null,null,null,null,null,null,null,null,null,null,null,null,null,null,null,null,null,"HEREFORD COUNTY HOSPITAL","Teme Ward"]
[null,null,null,null,null,null,null,null,null,null,null,null,null,null,null,null,null,null,null,null,null,null,null,null,null,null,null,null,null,null,null,null,null,null,null,null,null,null,null,null,null,null,null,null,null,null,null,null,null,null,null,null,null,null,null,null,null,null,null,null,null,null,null,null,null,null,null,null,null,null,null,null,null,null,null,null,null,"HEREFORD COUNTY HOSPITAL","Womens Health"]
[null,null,null,null,null,null,null,null,null,null,null,null,null,null,null,null,null,null,null,null,null,null,null,null,null,null,null,null,null,null,null,null,null,null,null,null,null,null,null,null,null,null,null,null,null,null,null,null,null,null,null,null,null,null,null,null,null,null,null,null,null,null,null,null,null,null,null,null,null,null,null,null,null,null,null,null,null,"HEREFORD COUNTY HOSPITAL","Wye Ward"]
[null,null,null,null,null,null,null,null,null,null,null,null,null,null,null,null,null,null,null,null,null,null,null,null,null,null,null,null,null,null,null,null,null,null,null,null,null,null,null,null,null,null,null,null,null,null,null,null,null,null,null,null,null,null,null,null,null,null,null,null,null,null,null,null,null,null,null,null,null,null,null,null,null,null,null,null,null,"YEOVIL DISTRICT HOSPITAL","6A (Elective)"]
[null,null,null,null,null,null,null,null,null,null,null,null,null,null,null,null,null,null,null,null,null,null,null,null,null,null,null,null,null,null,null,null,null,null,null,null,null,null,null,null,null,null,null,null,null,null,null,null,null,null,null,null,null,null,null,null,null,null,null,null,null,null,null,null,null,null,null,null,null,null,null,null,null,null,null,null,null,"YEOVIL DISTRICT HOSPITAL","6B"]
[null,null,null,null,null,null,null,null,null,null,null,null,null,null,null,null,null,null,null,null,null,null,null,null,null,null,null,null,null,null,null,null,null,null,null,null,null,null,null,null,null,null,null,null,null,null,null,null,null,null,null,null,null,null,null,null,null,null,null,null,null,null,null,null,null,null,null,null,null,null,null,null,null,null,null,null,null,"YEOVIL DISTRICT HOSPITAL","7A"]
[null,null,null,null,null,null,null,null,null,null,null,null,null,null,null,null,null,null,null,null,null,null,null,null,null,null,null,null,null,null,null,null,null,null,null,null,null,null,null,null,null,null,null,null,null,null,null,null,null,null,null,null,null,null,null,null,null,null,null,null,null,null,null,null,null,null,null,null,null,null,null,null,null,null,null,null,null,"YEOVIL DISTRICT HOSPITAL","7B (MFFD)"]
[null,null,null,null,null,null,null,null,null,null,null,null,null,null,null,null,null,null,null,null,null,null,null,null,null,null,null,null,null,null,null,null,null,null,null,null,null,null,null,null,null,null,null,null,null,null,null,null,null,null,null,null,null,null,null,null,null,null,null,null,null,null,null,null,null,null,null,null,null,null,null,null,null,null,null,null,null,"YEOVIL DISTRICT HOSPITAL","8A"]
[null,null,null,null,null,null,null,null,null,null,null,null,null,null,null,null,null,null,null,null,null,null,null,null,null,null,null,null,null,null,null,null,null,null,null,null,null,null,null,null,null,null,null,null,null,null,null,null,null,null,null,null,null,null,null,null,null,null,null,null,null,null,null,null,null,null,null,null,null,null,null,null,null,null,null,null,null,"YEOVIL DISTRICT HOSPITAL","8B"]
[null,null,null,null,null,null,null,null,null,null,null,null,null,null,null,null,null,null,null,null,null,null,null,null,null,null,null,null,null,null,null,null,null,null,null,null,null,null,null,null,null,null,null,null,null,null,null,null,null,null,null,null,null,null,null,null,null,null,null,null,null,null,null,null,null,null,null,null,null,null,null,null,null,null,null,null,null,"YEOVIL DISTRICT HOSPITAL","9A"]
[null,null,null,null,null,null,null,null,null,null,null,null,null,null,null,null,null,null,null,null,null,null,null,null,null,null,null,null,null,null,null,null,null,null,null,null,null,null,null,null,null,null,null,null,null,null,null,null,null,null,null,null,null,null,null,null,null,null,null,null,null,null,null,null,null,null,null,null,null,null,null,null,null,null,null,null,null,"YEOVIL DISTRICT HOSPITAL","9B"]
[null,null,null,null,null,null,null,null,null,null,null,null,null,null,null,null,null,null,null,null,null,null,null,null,null,null,null,null,null,null,null,null,null,null,null,null,null,null,null,null,null,null,null,null,null,null,null,null,null,null,null,null,null,null,null,null,null,null,null,null,null,null,null,null,null,null,null,null,null,null,null,null,null,null,null,null,null,"YEOVIL DISTRICT HOSPITAL","ACCU"]
[null,null,null,null,null,null,null,null,null,null,null,null,null,null,null,null,null,null,null,null,null,null,null,null,null,null,null,null,null,null,null,null,null,null,null,null,null,null,null,null,null,null,null,null,null,null,null,null,null,null,null,null,null,null,null,null,null,null,null,null,null,null,null,null,null,null,null,null,null,null,null,null,null,null,null,null,null,"YEOVIL DISTRICT HOSPITAL","EAU"]
[null,null,null,null,null,null,null,null,null,null,null,null,null,null,null,null,null,null,null,null,null,null,null,null,null,null,null,null,null,null,null,null,null,null,null,null,null,null,null,null,null,null,null,null,null,null,null,null,null,null,null,null,null,null,null,null,null,null,null,null,null,null,null,null,null,null,null,null,null,null,null,null,null,null,null,null,null,"YEOVIL DISTRICT HOSPITAL","ICU"]
[null,null,null,null,null,null,null,null,null,null,null,null,null,null,null,null,null,null,null,null,null,null,null,null,null,null,null,null,null,null,null,null,null,null,null,null,null,null,null,null,null,null,null,null,null,null,null,null,null,null,null,null,null,null,null,null,null,null,null,null,null,null,null,null,null,null,null,null,null,null,null,null,null,null,null,null,null,"YEOVIL DISTRICT HOSPITAL","KW"]
[null,null,null,null,null,null,null,null,null,null,null,null,null,null,null,null,null,null,null,null,null,null,null,null,null,null,null,null,null,null,null,null,null,null,null,null,null,null,null,null,null,null,null,null,null,null,null,null,null,null,null,null,null,null,null,null,null,null,null,null,null,null,null,null,null,null,null,null,null,null,null,null,null,null,null,null,null,"YEOVIL DISTRICT HOSPITAL","Maternity"]
[null,null,null,null,null,null,null,null,null,null,null,null,null,null,null,null,null,null,null,null,null,null,null,null,null,null,null,null,null,null,null,null,null,null,null,null,null,null,null,null,null,null,null,null,null,null,null,null,null,null,null,null,null,null,null,null,null,null,null,null,null,null,null,null,null,null,null,null,null,null,null,null,null,null,null,null,null,"YEOVIL DISTRICT HOSPITAL","SCBU"]
[null,null,null,null,null,null,null,null,null,null,null,null,null,null,null,null,null,null,null,null,null,null,null,null,null,null,null,null,null,null,null,null,null,null,null,null,null,null,null,null,null,null,null,null,null,null,null,null,null,null,null,null,null,null,null,null,null,null,null,null,null,null,null,null,null,null,null,null,null,null,null,null,null,null,null,null,null,"YEOVIL DISTRICT HOSPITAL","Ward 10"]
[null,null,null,null,null,null,null,null,null,null,null,null,null,null,null,null,null,null,null,null,null,null,null,null,null,null,null,null,null,null,null,null,null,null,null,null,null,null,null,null,null,null,null,null,null,null,null,null,null,null,null,null,null,null,null,null,null,null,null,null,null,null,null,null,null,null,null,null,null,null,null,null,null,null,null,null,null,"BRIDLINGTON AND DISTRICT HOSPITAL","Johnson"]
[null,null,null,null,null,null,null,null,null,null,null,null,null,null,null,null,null,null,null,null,null,null,null,null,null,null,null,null,null,null,null,null,null,null,null,null,null,null,null,null,null,null,null,null,null,null,null,null,null,null,null,null,null,null,null,null,null,null,null,null,null,null,null,null,null,null,null,null,null,null,null,null,null,null,null,null,null,"BRIDLINGTON AND DISTRICT HOSPITAL","Kent"]
[null,null,null,null,null,null,null,null,null,null,null,null,null,null,null,null,null,null,null,null,null,null,null,null,null,null,null,null,null,null,null,null,null,null,null,null,null,null,null,null,null,null,null,null,null,null,null,null,null,null,null,null,null,null,null,null,null,null,null,null,null,null,null,null,null,null,null,null,null,null,null,null,null,null,null,null,null,"BRIDLINGTON AND DISTRICT HOSPITAL","Lloyd"]
[null,null,null,null,null,null,null,null,null,null,null,null,null,null,null,null,null,null,null,null,null,null,null,null,null,null,null,null,null,null,null,null,null,null,null,null,null,null,null,null,null,null,null,null,null,null,null,null,null,null,null,null,null,null,null,null,null,null,null,null,null,null,null,null,null,null,null,null,null,null,null,null,null,null,null,null,null,"SCARBOROUGH GENERAL HOSPITAL","Ann Wright"]
[null,null,null,null,null,null,null,null,null,null,null,null,null,null,null,null,null,null,null,null,null,null,null,null,null,null,null,null,null,null,null,null,null,null,null,null,null,null,null,null,null,null,null,null,null,null,null,null,null,null,null,null,null,null,null,null,null,null,null,null,null,null,null,null,null,null,null,null,null,null,null,null,null,null,null,null,null,"SCARBOROUGH GENERAL HOSPITAL","Ash"]
[null,null,null,null,null,null,null,null,null,null,null,null,null,null,null,null,null,null,null,null,null,null,null,null,null,null,null,null,null,null,null,null,null,null,null,null,null,null,null,null,null,null,null,null,null,null,null,null,null,null,null,null,null,null,null,null,null,null,null,null,null,null,null,null,null,null,null,null,null,null,null,null,null,null,null,null,null,"SCARBOROUGH GENERAL HOSPITAL","Beech"]
[null,null,null,null,null,null,null,null,null,null,null,null,null,null,null,null,null,null,null,null,null,null,null,null,null,null,null,null,null,null,null,null,null,null,null,null,null,null,null,null,null,null,null,null,null,null,null,null,null,null,null,null,null,null,null,null,null,null,null,null,null,null,null,null,null,null,null,null,null,null,null,null,null,null,null,null,null,"SCARBOROUGH GENERAL HOSPITAL","Cherry"]
[null,null,null,null,null,null,null,null,null,null,null,null,null,null,null,null,null,null,null,null,null,null,null,null,null,null,null,null,null,null,null,null,null,null,null,null,null,null,null,null,null,null,null,null,null,null,null,null,null,null,null,null,null,null,null,null,null,null,null,null,null,null,null,null,null,null,null,null,null,null,null,null,null,null,null,null,null,"SCARBOROUGH GENERAL HOSPITAL","Chestnut"]
[null,null,null,null,null,null,null,null,null,null,null,null,null,null,null,null,null,null,null,null,null,null,null,null,null,null,null,null,null,null,null,null,null,null,null,null,null,null,null,null,null,null,null,null,null,null,null,null,null,null,null,null,null,null,null,null,null,null,null,null,null,null,null,null,null,null,null,null,null,null,null,null,null,null,null,null,null,"SCARBOROUGH GENERAL HOSPITAL","Coronary Care Unit"]
[null,null,null,null,null,null,null,null,null,null,null,null,null,null,null,null,null,null,null,null,null,null,null,null,null,null,null,null,null,null,null,null,null,null,null,null,null,null,null,null,null,null,null,null,null,null,null,null,null,null,null,null,null,null,null,null,null,null,null,null,null,null,null,null,null,null,null,null,null,null,null,null,null,null,null,null,null,"SCARBOROUGH GENERAL HOSPITAL","Duke of Kent"]
[null,null,null,null,null,null,null,null,null,null,null,null,null,null,null,null,null,null,null,null,null,null,null,null,null,null,null,null,null,null,null,null,null,null,null,null,null,null,null,null,null,null,null,null,null,null,null,null,null,null,null,null,null,null,null,null,null,null,null,null,null,null,null,null,null,null,null,null,null,null,null,null,null,null,null,null,null,"SCARBOROUGH GENERAL HOSPITAL","Graham"]
[null,null,null,null,null,null,null,null,null,null,null,null,null,null,null,null,null,null,null,null,null,null,null,null,null,null,null,null,null,null,null,null,null,null,null,null,null,null,null,null,null,null,null,null,null,null,null,null,null,null,null,null,null,null,null,null,null,null,null,null,null,null,null,null,null,null,null,null,null,null,null,null,null,null,null,null,null,"SCARBOROUGH GENERAL HOSPITAL","Hawthorn"]
[null,null,null,null,null,null,null,null,null,null,null,null,null,null,null,null,null,null,null,null,null,null,null,null,null,null,null,null,null,null,null,null,null,null,null,null,null,null,null,null,null,null,null,null,null,null,null,null,null,null,null,null,null,null,null,null,null,null,null,null,null,null,null,null,null,null,null,null,null,null,null,null,null,null,null,null,null,"SCARBOROUGH GENERAL HOSPITAL","Holly"]
[null,null,null,null,null,null,null,null,null,null,null,null,null,null,null,null,null,null,null,null,null,null,null,null,null,null,null,null,null,null,null,null,null,null,null,null,null,null,null,null,null,null,null,null,null,null,null,null,null,null,null,null,null,null,null,null,null,null,null,null,null,null,null,null,null,null,null,null,null,null,null,null,null,null,null,null,null,"SCARBOROUGH GENERAL HOSPITAL","Intensive Therapy Unit"]
[null,null,null,null,null,null,null,null,null,null,null,null,null,null,null,null,null,null,null,null,null,null,null,null,null,null,null,null,null,null,null,null,null,null,null,null,null,null,null,null,null,null,null,null,null,null,null,null,null,null,null,null,null,null,null,null,null,null,null,null,null,null,null,null,null,null,null,null,null,null,null,null,null,null,null,null,null,"SCARBOROUGH GENERAL HOSPITAL","Lilac"]
[null,null,null,null,null,null,null,null,null,null,null,null,null,null,null,null,null,null,null,null,null,null,null,null,null,null,null,null,null,null,null,null,null,null,null,null,null,null,null,null,null,null,null,null,null,null,null,null,null,null,null,null,null,null,null,null,null,null,null,null,null,null,null,null,null,null,null,null,null,null,null,null,null,null,null,null,null,"SCARBOROUGH GENERAL HOSPITAL","Maple"]
[null,null,null,null,null,null,null,null,null,null,null,null,null,null,null,null,null,null,null,null,null,null,null,null,null,null,null,null,null,null,null,null,null,null,null,null,null,null,null,null,null,null,null,null,null,null,null,null,null,null,null,null,null,null,null,null,null,null,null,null,null,null,null,null,null,null,null,null,null,null,null,null,null,null,null,null,null,"SCARBOROUGH GENERAL HOSPITAL","Oak"]
[null,null,null,null,null,null,null,null,null,null,null,null,null,null,null,null,null,null,null,null,null,null,null,null,null,null,null,null,null,null,null,null,null,null,null,null,null,null,null,null,null,null,null,null,null,null,null,null,null,null,null,null,null,null,null,null,null,null,null,null,null,null,null,null,null,null,null,null,null,null,null,null,null,null,null,null,null,"SCARBOROUGH GENERAL HOSPITAL","Stroke"]
[null,null,null,null,null,null,null,null,null,null,null,null,null,null,null,null,null,null,null,null,null,null,null,null,null,null,null,null,null,null,null,null,null,null,null,null,null,null,null,null,null,null,null,null,null,null,null,null,null,null,null,null,null,null,null,null,null,null,null,null,null,null,null,null,null,null,null,null,null,null,null,null,null,null,null,null,null,"SELBY AND DISTRICT WAR MEMORIAL HOSPITAL","Inpatient Unit"]
[null,null,null,null,null,null,null,null,null,null,null,null,null,null,null,null,null,null,null,null,null,null,null,null,null,null,null,null,null,null,null,null,null,null,null,null,null,null,null,null,null,null,null,null,null,null,null,null,null,null,null,null,null,null,null,null,null,null,null,null,null,null,null,null,null,null,null,null,null,null,null,null,null,null,null,null,null,"ST HELENS REHABILITATION HOSPITAL","St Helens"]
[null,null,null,null,null,null,null,null,null,null,null,null,null,null,null,null,null,null,null,null,null,null,null,null,null,null,null,null,null,null,null,null,null,null,null,null,null,null,null,null,null,null,null,null,null,null,null,null,null,null,null,null,null,null,null,null,null,null,null,null,null,null,null,null,null,null,null,null,null,null,null,null,null,null,null,null,null,"ST MONICAS HOSPITAL","St Monicas"]
[null,null,null,null,null,null,null,null,null,null,null,null,null,null,null,null,null,null,null,null,null,null,null,null,null,null,null,null,null,null,null,null,null,null,null,null,null,null,null,null,null,null,null,null,null,null,null,null,null,null,null,null,null,null,null,null,null,null,null,null,null,null,null,null,null,null,null,null,null,null,null,null,null,null,null,null,null,"WHITE CROSS REHABILITATION HOSPITAL","Whitecross Court"]
[null,null,null,null,null,null,null,null,null,null,null,null,null,null,null,null,null,null,null,null,null,null,null,null,null,null,null,null,null,null,null,null,null,null,null,null,null,null,null,null,null,null,null,null,null,null,null,null,null,null,null,null,null,null,null,null,null,null,null,null,null,null,null,null,null,null,null,null,null,null,null,null,null,null,null,null,null,"YORK HOSPITAL","11"]
[null,null,null,null,null,null,null,null,null,null,null,null,null,null,null,null,null,null,null,null,null,null,null,null,null,null,null,null,null,null,null,null,null,null,null,null,null,null,null,null,null,null,null,null,null,null,null,null,null,null,null,null,null,null,null,null,null,null,null,null,null,null,null,null,null,null,null,null,null,null,null,null,null,null,null,null,null,"YORK HOSPITAL","14"]
[null,null,null,null,null,null,null,null,null,null,null,null,null,null,null,null,null,null,null,null,null,null,null,null,null,null,null,null,null,null,null,null,null,null,null,null,null,null,null,null,null,null,null,null,null,null,null,null,null,null,null,null,null,null,null,null,null,null,null,null,null,null,null,null,null,null,null,null,null,null,null,null,null,null,null,null,null,"YORK HOSPITAL","16"]
[null,null,null,null,null,null,null,null,null,null,null,null,null,null,null,null,null,null,null,null,null,null,null,null,null,null,null,null,null,null,null,null,null,null,null,null,null,null,null,null,null,null,null,null,null,null,null,null,null,null,null,null,null,null,null,null,null,null,null,null,null,null,null,null,null,null,null,null,null,null,null,null,null,null,null,null,null,"YORK HOSPITAL","17"]
[null,null,null,null,null,null,null,null,null,null,null,null,null,null,null,null,null,null,null,null,null,null,null,null,null,null,null,null,null,null,null,null,null,null,null,null,null,null,null,null,null,null,null,null,null,null,null,null,null,null,null,null,null,null,null,null,null,null,null,null,null,null,null,null,null,null,null,null,null,null,null,null,null,null,null,null,null,"YORK HOSPITAL","23"]
[null,null,null,null,null,null,null,null,null,null,null,null,null,null,null,null,null,null,null,null,null,null,null,null,null,null,null,null,null,null,null,null,null,null,null,null,null,null,null,null,null,null,null,null,null,null,null,null,null,null,null,null,null,null,null,null,null,null,null,null,null,null,null,null,null,null,null,null,null,null,null,null,null,null,null,null,null,"YORK HOSPITAL","25"]
[null,null,null,null,null,null,null,null,null,null,null,null,null,null,null,null,null,null,null,null,null,null,null,null,null,null,null,null,null,null,null,null,null,null,null,null,null,null,null,null,null,null,null,null,null,null,null,null,null,null,null,null,null,null,null,null,null,null,null,null,null,null,null,null,null,null,null,null,null,null,null,null,null,null,null,null,null,"YORK HOSPITAL","26"]
[null,null,null,null,null,null,null,null,null,null,null,null,null,null,null,null,null,null,null,null,null,null,null,null,null,null,null,null,null,null,null,null,null,null,null,null,null,null,null,null,null,null,null,null,null,null,null,null,null,null,null,null,null,null,null,null,null,null,null,null,null,null,null,null,null,null,null,null,null,null,null,null,null,null,null,null,null,"YORK HOSPITAL","28"]
[null,null,null,null,null,null,null,null,null,null,null,null,null,null,null,null,null,null,null,null,null,null,null,null,null,null,null,null,null,null,null,null,null,null,null,null,null,null,null,null,null,null,null,null,null,null,null,null,null,null,null,null,null,null,null,null,null,null,null,null,null,null,null,null,null,null,null,null,null,null,null,null,null,null,null,null,null,"YORK HOSPITAL","29"]
[null,null,null,null,null,null,null,null,null,null,null,null,null,null,null,null,null,null,null,null,null,null,null,null,null,null,null,null,null,null,null,null,null,null,null,null,null,null,null,null,null,null,null,null,null,null,null,null,null,null,null,null,null,null,null,null,null,null,null,null,null,null,null,null,null,null,null,null,null,null,null,null,null,null,null,null,null,"YORK HOSPITAL","31"]
[null,null,null,null,null,null,null,null,null,null,null,null,null,null,null,null,null,null,null,null,null,null,null,null,null,null,null,null,null,null,null,null,null,null,null,null,null,null,null,null,null,null,null,null,null,null,null,null,null,null,null,null,null,null,null,null,null,null,null,null,null,null,null,null,null,null,null,null,null,null,null,null,null,null,null,null,null,"YORK HOSPITAL","32"]
[null,null,null,null,null,null,null,null,null,null,null,null,null,null,null,null,null,null,null,null,null,null,null,null,null,null,null,null,null,null,null,null,null,null,null,null,null,null,null,null,null,null,null,null,null,null,null,null,null,null,null,null,null,null,null,null,null,null,null,null,null,null,null,null,null,null,null,null,null,null,null,null,null,null,null,null,null,"YORK HOSPITAL","33"]
[null,null,null,null,null,null,null,null,null,null,null,null,null,null,null,null,null,null,null,null,null,null,null,null,null,null,null,null,null,null,null,null,null,null,null,null,null,null,null,null,null,null,null,null,null,null,null,null,null,null,null,null,null,null,null,null,null,null,null,null,null,null,null,null,null,null,null,null,null,null,null,null,null,null,null,null,null,"YORK HOSPITAL","34"]
[null,null,null,null,null,null,null,null,null,null,null,null,null,null,null,null,null,null,null,null,null,null,null,null,null,null,null,null,null,null,null,null,null,null,null,null,null,null,null,null,null,null,null,null,null,null,null,null,null,null,null,null,null,null,null,null,null,null,null,null,null,null,null,null,null,null,null,null,null,null,null,null,null,null,null,null,null,"YORK HOSPITAL","35"]
[null,null,null,null,null,null,null,null,null,null,null,null,null,null,null,null,null,null,null,null,null,null,null,null,null,null,null,null,null,null,null,null,null,null,null,null,null,null,null,null,null,null,null,null,null,null,null,null,null,null,null,null,null,null,null,null,null,null,null,null,null,null,null,null,null,null,null,null,null,null,null,null,null,null,null,null,null,"YORK HOSPITAL","37"]
[null,null,null,null,null,null,null,null,null,null,null,null,null,null,null,null,null,null,null,null,null,null,null,null,null,null,null,null,null,null,null,null,null,null,null,null,null,null,null,null,null,null,null,null,null,null,null,null,null,null,null,null,null,null,null,null,null,null,null,null,null,null,null,null,null,null,null,null,null,null,null,null,null,null,null,null,null,"YORK HOSPITAL","39"]
[null,null,null,null,null,null,null,null,null,null,null,null,null,null,null,null,null,null,null,null,null,null,null,null,null,null,null,null,null,null,null,null,null,null,null,null,null,null,null,null,null,null,null,null,null,null,null,null,null,null,null,null,null,null,null,null,null,null,null,null,null,null,null,null,null,null,null,null,null,null,null,null,null,null,null,null,null,"YORK HOSPITAL","36 - Acute Stroke Unit"]
[null,null,null,null,null,null,null,null,null,null,null,null,null,null,null,null,null,null,null,null,null,null,null,null,null,null,null,null,null,null,null,null,null,null,null,null,null,null,null,null,null,null,null,null,null,null,null,null,null,null,null,null,null,null,null,null,null,null,null,null,null,null,null,null,null,null,null,null,null,null,null,null,null,null,null,null,null,"YORK HOSPITAL","Acute Medical Unit"]
[null,null,null,null,null,null,null,null,null,null,null,null,null,null,null,null,null,null,null,null,null,null,null,null,null,null,null,null,null,null,null,null,null,null,null,null,null,null,null,null,null,null,null,null,null,null,null,null,null,null,null,null,null,null,null,null,null,null,null,null,null,null,null,null,null,null,null,null,null,null,null,null,null,null,null,null,null,"YORK HOSPITAL","Coronary Care Unit"]
[null,null,null,null,null,null,null,null,null,null,null,null,null,null,null,null,null,null,null,null,null,null,null,null,null,null,null,null,null,null,null,null,null,null,null,null,null,null,null,null,null,null,null,null,null,null,null,null,null,null,null,null,null,null,null,null,null,null,null,null,null,null,null,null,null,null,null,null,null,null,null,null,null,null,null,null,null,"YORK HOSPITAL","Extended Stay Area"]
[null,null,null,null,null,null,null,null,null,null,null,null,null,null,null,null,null,null,null,null,null,null,null,null,null,null,null,null,null,null,null,null,null,null,null,null,null,null,null,null,null,null,null,null,null,null,null,null,null,null,null,null,null,null,null,null,null,null,null,null,null,null,null,null,null,null,null,null,null,null,null,null,null,null,null,null,null,"YORK HOSPITAL","Frailty Unit"]
[null,null,null,null,null,null,null,null,null,null,null,null,null,null,null,null,null,null,null,null,null,null,null,null,null,null,null,null,null,null,null,null,null,null,null,null,null,null,null,null,null,null,null,null,null,null,null,null,null,null,null,null,null,null,null,null,null,null,null,null,null,null,null,null,null,null,null,null,null,null,null,null,null,null,null,null,null,"YORK HOSPITAL","G1"]
[null,null,null,null,null,null,null,null,null,null,null,null,null,null,null,null,null,null,null,null,null,null,null,null,null,null,null,null,null,null,null,null,null,null,null,null,null,null,null,null,null,null,null,null,null,null,null,null,null,null,null,null,null,null,null,null,null,null,null,null,null,null,null,null,null,null,null,null,null,null,null,null,null,null,null,null,null,"YORK HOSPITAL","G2"]
[null,null,null,null,null,null,null,null,null,null,null,null,null,null,null,null,null,null,null,null,null,null,null,null,null,null,null,null,null,null,null,null,null,null,null,null,null,null,null,null,null,null,null,null,null,null,null,null,null,null,null,null,null,null,null,null,null,null,null,null,null,null,null,null,null,null,null,null,null,null,null,null,null,null,null,null,null,"YORK HOSPITAL","G3"]
[null,null,null,null,null,null,null,null,null,null,null,null,null,null,null,null,null,null,null,null,null,null,null,null,null,null,null,null,null,null,null,null,null,null,null,null,null,null,null,null,null,null,null,null,null,null,null,null,null,null,null,null,null,null,null,null,null,null,null,null,null,null,null,null,null,null,null,null,null,null,null,null,null,null,null,null,null,"YORK HOSPITAL","Intensive Care Unit"]

{"sheet":"Sheet2","index":1,"n_rows":0,"n_cols":0,"rows_kept":0,"cut":false,"hidden":false,"merged":[]}

{"sheet":"Sheet3","index":2,"n_rows":0,"n_cols":0,"rows_kept":0,"cut":false,"hidden":false,"merged":[]}